BEGIN:VCALENDAR
VERSION:2.0
PRODID:-//KTEX 106.1 - ECPv6.15.20//NONSGML v1.0//EN
CALSCALE:GREGORIAN
METHOD:PUBLISH
X-WR-CALNAME:KTEX 106.1
X-ORIGINAL-URL:https://ktex.com
X-WR-CALDESC:Events for KTEX 106.1
REFRESH-INTERVAL;VALUE=DURATION:PT1H
X-Robots-Tag:noindex
X-PUBLISHED-TTL:PT1H
BEGIN:VTIMEZONE
TZID:America/Chicago
BEGIN:DAYLIGHT
TZOFFSETFROM:-0600
TZOFFSETTO:-0500
TZNAME:CDT
DTSTART:20250309T080000
END:DAYLIGHT
BEGIN:STANDARD
TZOFFSETFROM:-0500
TZOFFSETTO:-0600
TZNAME:CST
DTSTART:20251102T070000
END:STANDARD
BEGIN:DAYLIGHT
TZOFFSETFROM:-0600
TZOFFSETTO:-0500
TZNAME:CDT
DTSTART:20260308T080000
END:DAYLIGHT
BEGIN:STANDARD
TZOFFSETFROM:-0500
TZOFFSETTO:-0600
TZNAME:CST
DTSTART:20261101T070000
END:STANDARD
BEGIN:DAYLIGHT
TZOFFSETFROM:-0600
TZOFFSETTO:-0500
TZNAME:CDT
DTSTART:20270314T080000
END:DAYLIGHT
BEGIN:STANDARD
TZOFFSETFROM:-0500
TZOFFSETTO:-0600
TZNAME:CST
DTSTART:20271107T070000
END:STANDARD
END:VTIMEZONE
BEGIN:VEVENT
DTSTART;TZID=America/Chicago:20260423T163000
DTEND;TZID=America/Chicago:20260423T180000
DTSTAMP:20260421T164432
CREATED:20260330T202239Z
LAST-MODIFIED:20260330T202239Z
UID:58770-1776961800-1776967200@ktex.com
SUMMARY:St. Peter's Lutheran Church of Gay Hill Drive-Thru Meal Fundraiser (Brenham)
DESCRIPTION:
URL:https://ktex.com/event/st-peters-lutheran-church-of-gay-hill-drive-thru-meal-fundraiser-brenham/
LOCATION:St. Peter’s Lutheran Church (Gay Hill)\, 8201 Old Gay Hill Rd.\, Brenham\, TX\, 77833\, United States
CATEGORIES:Community Events
ATTACH;FMTTYPE=image/png:https://ktex.com/wp-content/uploads/2026/03/st-peters-fundraiser-apr-23.png
END:VEVENT
BEGIN:VEVENT
DTSTART;VALUE=DATE:20260423
DTEND;VALUE=DATE:20260424
DTSTAMP:20260421T164432
CREATED:20260407T192256Z
LAST-MODIFIED:20260407T192256Z
UID:58898-1776902400-1776988799@ktex.com
SUMMARY:CCA Brenham Chapter Banquet
DESCRIPTION:
URL:https://ktex.com/event/cca-brenham-chapter-banquet/
LOCATION:Silver Wings Ballroom\, 4100 State Highway 105\, Brenham\, TX\, 77833\, United States
CATEGORIES:Community Events
ATTACH;FMTTYPE=image/jpeg:https://ktex.com/wp-content/uploads/2026/04/cca-banquet-apr-23.jpg
END:VEVENT
BEGIN:VEVENT
DTSTART;TZID=America/Chicago:20260422T160000
DTEND;TZID=America/Chicago:20260422T180000
DTSTAMP:20260421T164432
CREATED:20260318T132927Z
LAST-MODIFIED:20260318T132927Z
UID:58567-1776873600-1776880800@ktex.com
SUMMARY:FREE Community Event Recognizing Child Abuse Prevention Month (Brenham)
DESCRIPTION:
URL:https://ktex.com/event/free-community-event-recognizing-child-abuse-prevention-month-brenham/
LOCATION:City of Brenham Fireman’s Park\, 901 N. Park Street\, Brenham\, TX\, 77833\, United States
CATEGORIES:Community Events
ATTACH;FMTTYPE=image/png:https://ktex.com/wp-content/uploads/2026/03/community-event-apr-22.png
END:VEVENT
BEGIN:VEVENT
DTSTART;VALUE=DATE:20260422
DTEND;VALUE=DATE:20260423
DTSTAMP:20260421T164432
CREATED:20260407T194244Z
LAST-MODIFIED:20260407T194244Z
UID:58925-1776816000-1776902399@ktex.com
SUMMARY:WCFFA presents Emergency Services Candidate Forum (Brenham)
DESCRIPTION:
URL:https://ktex.com/event/wcffa-presents-emergency-services-candidate-forum-brenham/
LOCATION:Brenham Fire Department Training Center\, 1101 Hwy 290 West\, Brenham\, TX\, 77833\, United States
CATEGORIES:Community Events
ATTACH;FMTTYPE=image/jpeg:https://ktex.com/wp-content/uploads/2026/04/wcffa-forum-apr-22.jpg
END:VEVENT
BEGIN:VEVENT
DTSTART;TZID=America/Chicago:20260421T173000
DTEND;TZID=America/Chicago:20260421T193000
DTSTAMP:20260421T164432
CREATED:20260225T205944Z
LAST-MODIFIED:20260225T205944Z
UID:58242-1776792600-1776799800@ktex.com
SUMMARY:Gather & Grace hosting Tuesday Night Dinner (Bellville)
DESCRIPTION:
URL:https://ktex.com/event/gather-grace-hosting-tuesday-night-dinner-bellville-2/
LOCATION:Margaret Chesley Memorial Park\, 417 N Bell Street\, Bellville\, TX\, 77418\, United States
CATEGORIES:Community Events
ATTACH;FMTTYPE=image/jpeg:https://ktex.com/wp-content/uploads/2026/02/gather-n-grace-bellville-end-may-19.jpg
END:VEVENT
BEGIN:VEVENT
DTSTART;TZID=America/Chicago:20260421T130000
DTEND;TZID=America/Chicago:20260421T190000
DTSTAMP:20260421T164432
CREATED:20260406T203647Z
LAST-MODIFIED:20260406T203647Z
UID:58871-1776776400-1776798000@ktex.com
SUMMARY:Blood Drive at Bellville Police Department training room
DESCRIPTION:
URL:https://ktex.com/event/blood-drive-at-bellville-police-department-training-room/
LOCATION:Bellville Police Department (training room)\, 162 N Chesley\, Bellville\, TX\, 77418\, United States
CATEGORIES:Community Events
ATTACH;FMTTYPE=image/jpeg:https://ktex.com/wp-content/uploads/2026/04/blood-drive-apr-21.jpg
END:VEVENT
BEGIN:VEVENT
DTSTART;VALUE=DATE:20260421
DTEND;VALUE=DATE:20260429
DTSTAMP:20260421T164432
CREATED:20260421T185330Z
LAST-MODIFIED:20260421T185330Z
UID:59147-1776729600-1777420799@ktex.com
SUMMARY:Washington County Photo Call
DESCRIPTION:Washington County is looking to residents for their help in sharing what makes the community special.  The county is working on a new website and invites citizens to submit photos to be featured on the website.  From scenic views and local events to historic landmarks and everyday life\, the county says it wants to showcase its unique beauty\, people and moments. \nPhotos can be sent by email to countyjudge@washingtoncountytx.gov\, or posted in the comments of the county’s social media post announcing the initiative.  Photos are due by Tuesday\, April 28th. \nGuidelines for capturing photos include: \n\nMinimum photo width: 2200 pixels\nFile size: approximately 1 MB or larger\nResolution: 72 dpi or higher\nFile types: JPEG\, JPG\, TIFF\, PSD\, or PNG\nColor mode: RGB or CMYK
URL:https://ktex.com/event/washington-county-photo-call/
CATEGORIES:Community Events
ATTACH;FMTTYPE=image/jpeg:https://ktex.com/wp-content/uploads/2026/04/photo-call-end-apr-28.jpg
END:VEVENT
BEGIN:VEVENT
DTSTART;VALUE=DATE:20260421
DTEND;VALUE=DATE:20260422
DTSTAMP:20260421T164432
CREATED:20260415T154558Z
LAST-MODIFIED:20260415T154558Z
UID:59020-1776729600-1776815999@ktex.com
SUMMARY:Jury Trial Canceled (Brenham)
DESCRIPTION:The Jury trial scheduled for Tuesday\, April 21\, 2026 at 9:00 a.m. for Judge Douglas Zwiener’s Court has been canceled.  Appearance is no longer required.
URL:https://ktex.com/event/jury-trial-canceled-brenham-5/
CATEGORIES:Community Events
ATTACH;FMTTYPE=image/jpeg:https://ktex.com/wp-content/uploads/2026/04/jurytrialcanceledFEATURE.jpg
END:VEVENT
BEGIN:VEVENT
DTSTART;VALUE=DATE:20260421
DTEND;VALUE=DATE:20260422
DTSTAMP:20260421T164432
CREATED:20260206T220936Z
LAST-MODIFIED:20260206T220936Z
UID:57930-1776729600-1776815999@ktex.com
SUMMARY:Austin County Lunch N Learn Series-Spring (Bellville)
DESCRIPTION:
URL:https://ktex.com/event/austin-county-lunch-n-learn-series-spring-bellville-3/
LOCATION:Austin County AgriLife Extension Office\, 20 S Holland St. \, Bellville\, TX\, 77418\, United States
CATEGORIES:Community Events
ATTACH;FMTTYPE=image/jpeg:https://ktex.com/wp-content/uploads/2026/02/lunch-n-learn-series-spring-end-may-19.jpg
END:VEVENT
BEGIN:VEVENT
DTSTART;VALUE=DATE:20260420
DTEND;VALUE=DATE:20260421
DTSTAMP:20260421T164432
CREATED:20260410T141405Z
LAST-MODIFIED:20260410T141405Z
UID:58997-1776643200-1776729599@ktex.com
SUMMARY:A&M Consolidated HS PTO Painted Parking Spot Info
DESCRIPTION:
URL:https://ktex.com/event/am-consolidated-hs-pto-painted-parking-spot-info-3/
CATEGORIES:Community Events
ATTACH;FMTTYPE=image/jpeg:https://ktex.com/wp-content/uploads/2026/04/painted-parking-spot-end-apr-24.jpg
END:VEVENT
BEGIN:VEVENT
DTSTART;VALUE=DATE:20260420
DTEND;VALUE=DATE:20260421
DTSTAMP:20260421T164432
CREATED:20260406T193756Z
LAST-MODIFIED:20260406T193756Z
UID:58851-1776643200-1776729599@ktex.com
SUMMARY:Austin County Fair Livestock Calendar (Bellville)
DESCRIPTION:BUCKET CALF MEETING
URL:https://ktex.com/event/austin-county-fair-livestock-calendar-bellville-3/
CATEGORIES:Community Events
ATTACH;FMTTYPE=image/jpeg:https://ktex.com/wp-content/uploads/2026/04/acf-livestock-calendar-apr.jpg
END:VEVENT
BEGIN:VEVENT
DTSTART;TZID=America/Chicago:20260419T120000
DTEND;TZID=America/Chicago:20260419T200000
DTSTAMP:20260421T164432
CREATED:20260317T142011Z
LAST-MODIFIED:20260317T142011Z
UID:58532-1776600000-1776628800@ktex.com
SUMMARY:Texas Birthday Bash (Navasota)
DESCRIPTION:GATES OPEN AT 12 PM\n12:15 – 1:15 PAYTON HOWIE\n1:15 – 2:45 GANNON FREMIN & CCREV\n3:15 – 4:15 JON WOLFE\n4:45 – 6:00 STONEY LaRUE\n6:30 – 7:45 NEAL McCOY
URL:https://ktex.com/event/texas-birthday-bash-navasota-3/
LOCATION:August Horst Park\, Navasota\, TX\, 77868\, United States
CATEGORIES:Community Events
ATTACH;FMTTYPE=image/jpeg:https://ktex.com/wp-content/uploads/2026/03/texas-birthday-bash-apr-19.jpg
END:VEVENT
BEGIN:VEVENT
DTSTART;TZID=America/Chicago:20260419T080000
DTEND;TZID=America/Chicago:20260419T123000
DTSTAMP:20260421T164432
CREATED:20260330T202529Z
LAST-MODIFIED:20260330T202529Z
UID:58773-1776585600-1776601800@ktex.com
SUMMARY:Blood Drive at Cowboy Church of Brenham
DESCRIPTION:
URL:https://ktex.com/event/blood-drive-at-cowboy-church-of-brenham-4/
LOCATION:Cowboy Church of Brenham (The Feedlot)\, 4400 TX-105\, Brenham\, TX\, 77833\, United States
CATEGORIES:Community Events
ATTACH;FMTTYPE=image/png:https://ktex.com/wp-content/uploads/2026/03/blood-dr-apr-19.png
END:VEVENT
BEGIN:VEVENT
DTSTART;VALUE=DATE:20260419
DTEND;VALUE=DATE:20260420
DTSTAMP:20260421T164432
CREATED:20260402T202149Z
LAST-MODIFIED:20260402T202149Z
UID:58813-1776556800-1776643199@ktex.com
SUMMARY:Women in Red Worship Service at Allwise MBC (Chappell Hill)
DESCRIPTION:Allwise Missionary Baptist Church hosting its “Women in Red” worship service on Sunday\, April 19\, starting at 3 PM … The guest speaker will be Pastor Henry Fields of the Little Union Missionary Baptist Church in Houston.  Rev. Garry W. Jones\, host Pastor.
URL:https://ktex.com/event/women-in-red-worship-service-at-allwise-mbc-chappell-hill/
LOCATION:Allwise Missionary Baptist Church (Chappell Hill)\, 885 All Wise Road\, Chappell Hill\, TX\, 77426\, United States
CATEGORIES:Community Events
ATTACH;FMTTYPE=image/jpeg:https://ktex.com/wp-content/uploads/2026/04/allwise-mbc-chappell-hill.jpg
END:VEVENT
BEGIN:VEVENT
DTSTART;TZID=America/Chicago:20260418T170000
DTEND;TZID=America/Chicago:20260418T190000
DTSTAMP:20260421T164432
CREATED:20260309T185449Z
LAST-MODIFIED:20260309T185449Z
UID:58367-1776531600-1776538800@ktex.com
SUMMARY:String Fling (Bryan)
DESCRIPTION:
URL:https://ktex.com/event/string-fling-bryan/
LOCATION:Boys & Girls Club of the Brazos Valley\, 1910 Beck Street\, Bryan\, TX\, 77803\, United States
CATEGORIES:Community Events
ATTACH;FMTTYPE=image/jpeg:https://ktex.com/wp-content/uploads/2026/03/string-fling.jpg
END:VEVENT
BEGIN:VEVENT
DTSTART;TZID=America/Chicago:20260418T160000
DTEND;TZID=America/Chicago:20260418T220000
DTSTAMP:20260421T164432
CREATED:20260105T161945Z
LAST-MODIFIED:20260105T161945Z
UID:57152-1776528000-1776549600@ktex.com
SUMMARY:Relay For Life Brazos Valley (College Station)
DESCRIPTION:
URL:https://ktex.com/event/relay-for-life-brazos-valley-college-station/
LOCATION:A&M Consolidated Middle School\, 105 Holik Street\, College Station\, TX\, 77840\, United States
CATEGORIES:Community Events
ATTACH;FMTTYPE=image/jpeg:https://ktex.com/wp-content/uploads/2026/01/rfl-bv-apr-18.jpg
END:VEVENT
BEGIN:VEVENT
DTSTART;TZID=America/Chicago:20260418T110000
DTEND;TZID=America/Chicago:20260418T170000
DTSTAMP:20260421T164432
CREATED:20260407T213412Z
LAST-MODIFIED:20260407T213412Z
UID:58934-1776510000-1776531600@ktex.com
SUMMARY:Texas Burger Bash-Burger Cook-Off (LaGrange)
DESCRIPTION:
URL:https://ktex.com/event/texas-burger-bash-burger-cook-off-lagrange/
LOCATION:Downtown La Grange\, 78945
CATEGORIES:Community Events
ATTACH;FMTTYPE=image/jpeg:https://ktex.com/wp-content/uploads/2026/04/TBB-One-Pager-2026.jpg
END:VEVENT
BEGIN:VEVENT
DTSTART;TZID=America/Chicago:20260418T100000
DTEND;TZID=America/Chicago:20260418T180000
DTSTAMP:20260421T164432
CREATED:20260126T194624Z
LAST-MODIFIED:20260331T140859Z
UID:57693-1776506400-1776535200@ktex.com
SUMMARY:Burton Cotton Gin Festival
DESCRIPTION:Events & entertainment schedule (subject to change) \n10:00am                  cotton gin festival parade\n11:00am                  antique engine/tractor show\narts/crafts/food vendors\,  Blacksmithing\, spoon carving\, butter                                          churning\, classic car display\, farmer for a day area\n11:00am-1:00pm     music by Robert & Casey Zientek\n11:00am-2:00pm     gin tours\n11:00am                  tractor pull\n12:15-2:00pm          bubble gum blowing\, cotton seed pulling contest\, pie-eating contest\n1:00-2:30pm            music by Bayou City Groove Band\n2:30-4:00pm            music by Ella B & Robert Herridge\n3:00pm                    ginning of historic cotton bales at the 112 er old Burton Farmers Gin\n4:00-6:00pm            music by Brown Sugar Band
URL:https://ktex.com/event/burton-cotton-gin-festival-3/
LOCATION:Downtown Burton\, 507 N Railroad St\, Burton\, TX\, 77835\, United States
CATEGORIES:Community Events
ATTACH;FMTTYPE=image/png:https://ktex.com/wp-content/uploads/2026/01/burton-cotton-gin-fest-apr-18-NEW.png
END:VEVENT
BEGIN:VEVENT
DTSTART;TZID=America/Chicago:20260418T100000
DTEND;TZID=America/Chicago:20260418T140000
DTSTAMP:20260421T164432
CREATED:20260417T142342Z
LAST-MODIFIED:20260417T142342Z
UID:59101-1776506400-1776520800@ktex.com
SUMMARY:Paws in the Park (Bryan)
DESCRIPTION:
URL:https://ktex.com/event/paws-in-the-park-bryan/
LOCATION:Tiffany Park\, Bryan\, TX\, 77802\, United States
CATEGORIES:Community Events
ATTACH;FMTTYPE=image/jpeg:https://ktex.com/wp-content/uploads/2026/04/paws-in-the-park-apr-18.jpg
END:VEVENT
BEGIN:VEVENT
DTSTART;TZID=America/Chicago:20260418T090000
DTEND;TZID=America/Chicago:20260418T130000
DTSTAMP:20260421T164432
CREATED:20260406T153547Z
LAST-MODIFIED:20260406T153547Z
UID:58819-1776502800-1776517200@ktex.com
SUMMARY:Chappell Hill Farmers Market
DESCRIPTION:
URL:https://ktex.com/event/chappell-hill-farmers-market-3/
LOCATION:Downtown Chappell Hill
CATEGORIES:Community Events
ATTACH;FMTTYPE=image/jpeg:https://ktex.com/wp-content/uploads/2026/04/ch-farmers-apr-18-may-16.jpg
END:VEVENT
BEGIN:VEVENT
DTSTART;TZID=America/Chicago:20260418T080000
DTEND;TZID=America/Chicago:20260418T160000
DTSTAMP:20260421T164432
CREATED:20260326T200639Z
LAST-MODIFIED:20260326T200639Z
UID:58697-1776499200-1776528000@ktex.com
SUMMARY:Texas Czech Genealogical Society presents Exploring Czech Ancestry (Caldwell)
DESCRIPTION:
URL:https://ktex.com/event/texas-czech-genealogical-society-presents-exploring-czech-ancestry-caldwell/
LOCATION:Caldwell Civic Center\, 103 Hwy Texas 21 W.\, Caldwell\, TX\, 77836\, United States
CATEGORIES:Community Events
ATTACH;FMTTYPE=image/jpeg:https://ktex.com/wp-content/uploads/2026/03/TCGS-04-18-26-Event-Flyer-Registration-form-002.jpg
END:VEVENT
BEGIN:VEVENT
DTSTART;TZID=America/Chicago:20260418T080000
DTEND;TZID=America/Chicago:20260418T110000
DTSTAMP:20260421T164432
CREATED:20260406T203134Z
LAST-MODIFIED:20260406T203216Z
UID:58867-1776499200-1776510000@ktex.com
SUMMARY:Shred Day at ACS Bank (Bellville & Sealy)
DESCRIPTION:
URL:https://ktex.com/event/shred-day-at-acs-bank-bellville/
CATEGORIES:Community Events
ATTACH;FMTTYPE=image/jpeg:https://ktex.com/wp-content/uploads/2026/04/shred-day-apr-18.jpg
END:VEVENT
BEGIN:VEVENT
DTSTART;TZID=America/Chicago:20260418T070000
DTEND;TZID=America/Chicago:20260418T140000
DTSTAMP:20260421T164432
CREATED:20260417T142718Z
LAST-MODIFIED:20260417T142718Z
UID:59108-1776495600-1776520800@ktex.com
SUMMARY:Household Hazardous Waste Collection (College Station)
DESCRIPTION:
URL:https://ktex.com/event/household-hazardous-waste-collection-college-station/
LOCATION:TAMU University Services Building\, 3380 University Drive East\, College Station\, TX\, 77845\, United States
CATEGORIES:Community Events
ATTACH;FMTTYPE=image/jpeg:https://ktex.com/wp-content/uploads/2026/04/hhw-apr-18.jpg
END:VEVENT
BEGIN:VEVENT
DTSTART;VALUE=DATE:20260418
DTEND;VALUE=DATE:20260419
DTSTAMP:20260421T164432
CREATED:20260417T153911Z
LAST-MODIFIED:20260417T153911Z
UID:59119-1776470400-1776556799@ktex.com
SUMMARY:Bellville Parks Project Community Work Day
DESCRIPTION:
URL:https://ktex.com/event/bellville-parks-project-community-work-day/
LOCATION:Margaret Chesley Memorial Park\, 417 N Bell Street\, Bellville\, TX\, 77418\, United States
CATEGORIES:Community Events
ATTACH;FMTTYPE=image/jpeg:https://ktex.com/wp-content/uploads/2026/04/parks-project-apr-18.jpg
END:VEVENT
BEGIN:VEVENT
DTSTART;VALUE=DATE:20260418
DTEND;VALUE=DATE:20260419
DTSTAMP:20260421T164432
CREATED:20260406T205655Z
LAST-MODIFIED:20260406T205655Z
UID:58885-1776470400-1776556799@ktex.com
SUMMARY:New Hope Community Church presents Women Conference (Brenham)
DESCRIPTION:
URL:https://ktex.com/event/new-hope-community-church-presents-women-conference-brenham/
LOCATION:New Hope Community Church (Brenham)\, 12221 FM 390 E\, Brenham\, TX\, 77833\, United States
CATEGORIES:Community Events
ATTACH;FMTTYPE=image/jpeg:https://ktex.com/wp-content/uploads/2026/04/womens-conf-apr-18.jpg
END:VEVENT
BEGIN:VEVENT
DTSTART;VALUE=DATE:20260418
DTEND;VALUE=DATE:20260419
DTSTAMP:20260421T164432
CREATED:20260401T135903Z
LAST-MODIFIED:20260401T135903Z
UID:58796-1776470400-1776556799@ktex.com
SUMMARY:Ebenezer MBC Choir Musical (Chappell Hill)
DESCRIPTION:
URL:https://ktex.com/event/ebenezer-mbc-choir-musical-chappell-hill/
LOCATION:Ebenezer Missionary Baptist Church (Chappell Hill)\, 3670 Nicholson Lake Road\, Chappell Hill\, TX\, 77426\, United States
CATEGORIES:Community Events
ATTACH;FMTTYPE=image/jpeg:https://ktex.com/wp-content/uploads/2026/04/ebenezer-apr-18.jpg
END:VEVENT
BEGIN:VEVENT
DTSTART;TZID=America/Chicago:20260417T090000
DTEND;TZID=America/Chicago:20260417T120000
DTSTAMP:20260421T164432
CREATED:20260407T194030Z
LAST-MODIFIED:20260407T194030Z
UID:58922-1776416400-1776427200@ktex.com
SUMMARY:Drone Fest (Brenham)
DESCRIPTION:
URL:https://ktex.com/event/drone-fest-brenham/
LOCATION:Blinn College – Brenham Campus\,  902 College Ave\, Brenham\, TX\, 77833
CATEGORIES:Community Events
ATTACH;FMTTYPE=image/jpeg:https://ktex.com/wp-content/uploads/2026/04/drone-fest-apr-17.jpg
END:VEVENT
BEGIN:VEVENT
DTSTART;VALUE=DATE:20260417
DTEND;VALUE=DATE:20260420
DTSTAMP:20260421T164432
CREATED:20260406T202923Z
LAST-MODIFIED:20260406T202923Z
UID:58864-1776384000-1776643199@ktex.com
SUMMARY:Dinner & a Play presented by First Baptist Bellville Youth Ministry & Drama Team
DESCRIPTION:PRODUCTION:  \nIF THE GOOD LORD’S WILLING AND THE CREEK DON’T RISE
URL:https://ktex.com/event/dinner-a-play-presented-by-first-baptist-bellville-youth-ministry-drama-team/
LOCATION:First Baptist Church (Bellville)\, 504 E Strauss St.\, Bellville\, TX\, 77418\, United States
CATEGORIES:Community Events
ATTACH;FMTTYPE=image/jpeg:https://ktex.com/wp-content/uploads/2026/04/if-the-good-lord-willing-end-apr-19.jpg
END:VEVENT
BEGIN:VEVENT
DTSTART;VALUE=DATE:20260417
DTEND;VALUE=DATE:20260419
DTSTAMP:20260421T164432
CREATED:20260225T204203Z
LAST-MODIFIED:20260225T204203Z
UID:58212-1776384000-1776556799@ktex.com
SUMMARY:Fayette County Sheriff's Posse RAM RODEO (LaGrange)
DESCRIPTION:
URL:https://ktex.com/event/fayette-county-sheriffs-posse-ram-rodeo-lagrange/
CATEGORIES:Community Events
ATTACH;FMTTYPE=image/jpeg:https://ktex.com/wp-content/uploads/2026/02/ram-rodeo-apr-17-18.jpg
END:VEVENT
BEGIN:VEVENT
DTSTART;VALUE=DATE:20260417
DTEND;VALUE=DATE:20260418
DTSTAMP:20260421T164432
CREATED:20260410T141324Z
LAST-MODIFIED:20260410T141324Z
UID:58995-1776384000-1776470399@ktex.com
SUMMARY:A&M Consolidated HS PTO Painted Parking Spot Info
DESCRIPTION:
URL:https://ktex.com/event/am-consolidated-hs-pto-painted-parking-spot-info-2/
CATEGORIES:Community Events
ATTACH;FMTTYPE=image/jpeg:https://ktex.com/wp-content/uploads/2026/04/painted-parking-spot-end-apr-24.jpg
END:VEVENT
END:VCALENDAR