BEGIN:VCALENDAR
VERSION:2.0
PRODID:-//KTEX 106.1 - ECPv6.15.20//NONSGML v1.0//EN
CALSCALE:GREGORIAN
METHOD:PUBLISH
X-WR-CALNAME:KTEX 106.1
X-ORIGINAL-URL:https://ktex.com
X-WR-CALDESC:Events for KTEX 106.1
REFRESH-INTERVAL;VALUE=DURATION:PT1H
X-Robots-Tag:noindex
X-PUBLISHED-TTL:PT1H
BEGIN:VTIMEZONE
TZID:America/Chicago
BEGIN:DAYLIGHT
TZOFFSETFROM:-0600
TZOFFSETTO:-0500
TZNAME:CDT
DTSTART:20250309T080000
END:DAYLIGHT
BEGIN:STANDARD
TZOFFSETFROM:-0500
TZOFFSETTO:-0600
TZNAME:CST
DTSTART:20251102T070000
END:STANDARD
BEGIN:DAYLIGHT
TZOFFSETFROM:-0600
TZOFFSETTO:-0500
TZNAME:CDT
DTSTART:20260308T080000
END:DAYLIGHT
BEGIN:STANDARD
TZOFFSETFROM:-0500
TZOFFSETTO:-0600
TZNAME:CST
DTSTART:20261101T070000
END:STANDARD
BEGIN:DAYLIGHT
TZOFFSETFROM:-0600
TZOFFSETTO:-0500
TZNAME:CDT
DTSTART:20270314T080000
END:DAYLIGHT
BEGIN:STANDARD
TZOFFSETFROM:-0500
TZOFFSETTO:-0600
TZNAME:CST
DTSTART:20271107T070000
END:STANDARD
END:VTIMEZONE
BEGIN:VEVENT
DTSTART;VALUE=DATE:20260604
DTEND;VALUE=DATE:20260605
DTSTAMP:20260423T153408
CREATED:20260326T144421Z
LAST-MODIFIED:20260326T144421Z
UID:58695-1780531200-1780617599@ktex.com
SUMMARY:American Legion Quade-Werchan Post #338 and Auxiliary Meeting (Round Top)
DESCRIPTION:American Legion Quade-Werchan Post #338 and Auxiliary meeting; Thursday\, June 4\, 6 PM fellowship\, 6:30 meeting\, at the post hall in Round Top.
URL:https://ktex.com/event/american-legion-quade-werchan-post-338-and-auxiliary-meeting-round-top-5/
LOCATION:American Legion Hall Round Top\, 1503 N. State Hwy. 237\, Round Top\, TX\, 78954\, United States
CATEGORIES:Community Events
ATTACH;FMTTYPE=image/png:https://ktex.com/wp-content/uploads/2026/03/american-legion-post-auxiliary-logos.png
END:VEVENT
BEGIN:VEVENT
DTSTART;TZID=America/Chicago:20260602T130000
DTEND;TZID=America/Chicago:20260602T160000
DTSTAMP:20260423T153408
CREATED:20260112T214026Z
LAST-MODIFIED:20260112T214026Z
UID:57405-1780405200-1780416000@ktex.com
SUMMARY:Fun & Fellowship at Bellville Methodist Church
DESCRIPTION:
URL:https://ktex.com/event/fun-fellowship-at-bellville-methodist-church-5/
LOCATION:Bellville Methodist Church\, 234 South Masonic\, Bellville\, TX\, 77418\, United States
CATEGORIES:Community Events
ATTACH;FMTTYPE=image/png:https://ktex.com/wp-content/uploads/2026/01/fun-fellowship-end-june-2-2.png
END:VEVENT
BEGIN:VEVENT
DTSTART;TZID=America/Chicago:20260602T120000
DTEND;TZID=America/Chicago:20260602T130000
DTSTAMP:20260423T153408
CREATED:20260106T145928Z
LAST-MODIFIED:20260106T145928Z
UID:57192-1780401600-1780405200@ktex.com
SUMMARY:Walk With A Doc (Brenham)
DESCRIPTION:Register online before your first walk. Our chapter number is 3612 \nContact Information:\nTammy Jaster\n979-337-7246\ntjaster@cityofbrenham.org
URL:https://ktex.com/event/walk-with-a-doc-brenham-9/
LOCATION:Blinn College Kruse Recreation Center\, 208 Blinn Blvd\, Brenham\, TX\, 77833\, United States
CATEGORIES:Community Events
ATTACH;FMTTYPE=image/jpeg:https://ktex.com/wp-content/uploads/2026/01/wwad-2026.jpg
END:VEVENT
BEGIN:VEVENT
DTSTART;VALUE=DATE:20260601
DTEND;VALUE=DATE:20260711
DTSTAMP:20260423T153408
CREATED:20260423T200643Z
LAST-MODIFIED:20260423T200643Z
UID:59226-1780272000-1783727999@ktex.com
SUMMARY:JAM Meal Train (Brenham)
DESCRIPTION:Throughout JAM\, our Missionary Counselors are faithfully serving kids and families in our community each weekday. \nFrom June 1st–July 10th\, we are asking for help to provide lunches to support them as they pour into our kids! \nThank you for helping fuel the college students who have committed their summer to serving through JAM! \nVisit here to donate or volunteer: \nhttps://www.mealtrain.com/trains/ee30yo
URL:https://ktex.com/event/jam-meal-train-brenham/
LOCATION:TX
CATEGORIES:Community Events
ATTACH;FMTTYPE=image/jpeg:https://ktex.com/wp-content/uploads/2026/04/jam-meal-train-end-july-10.jpg
END:VEVENT
BEGIN:VEVENT
DTSTART;VALUE=DATE:20260601
DTEND;VALUE=DATE:20260602
DTSTAMP:20260423T153408
CREATED:20260406T194319Z
LAST-MODIFIED:20260406T194319Z
UID:58856-1780272000-1780358399@ktex.com
SUMMARY:Austin County Fair Rabbit Project Meetings (Bellville)
DESCRIPTION:
URL:https://ktex.com/event/austin-county-fair-rabbit-project-meetings-bellville-2/
LOCATION:Austin County Convention and Expo Center\, 1076 East Hill\, Bellville\, 77418
CATEGORIES:Community Events
ATTACH;FMTTYPE=image/jpeg:https://ktex.com/wp-content/uploads/2026/04/acf-rabbit-meetings-end-sept-14.jpg
END:VEVENT
BEGIN:VEVENT
DTSTART;TZID=America/Chicago:20260523T100000
DTEND;TZID=America/Chicago:20260523T140000
DTSTAMP:20260423T153408
CREATED:20260407T193725Z
LAST-MODIFIED:20260407T193725Z
UID:58916-1779530400-1779544800@ktex.com
SUMMARY:Boots\, Bibles & Bling (Brenham)
DESCRIPTION:
URL:https://ktex.com/event/boots-bibles-bling-brenham/
LOCATION:New Beginning Missionary Baptist Church\, 2105 FM 2935\, Brenham\, TX\, 77833\, United States
CATEGORIES:Community Events
ATTACH;FMTTYPE=image/jpeg:https://ktex.com/wp-content/uploads/2026/04/boots-bible-bling-may-23.jpg
END:VEVENT
BEGIN:VEVENT
DTSTART;VALUE=DATE:20260523
DTEND;VALUE=DATE:20260524
DTSTAMP:20260423T153408
CREATED:20260318T211205Z
LAST-MODIFIED:20260318T211217Z
UID:58601-1779494400-1779580799@ktex.com
SUMMARY:Bryan ISD 2026 Graduation
DESCRIPTION:RUDDER HIGH SCHOOL GRADUATION CEREMONY
URL:https://ktex.com/event/bryan-isd-2026-graduation-4/
LOCATION:TX
CATEGORIES:Community Events
ATTACH;FMTTYPE=image/jpeg:https://ktex.com/wp-content/uploads/2026/03/bryan-isd-graduation-end-may-23.jpg
END:VEVENT
BEGIN:VEVENT
DTSTART;VALUE=DATE:20260523
DTEND;VALUE=DATE:20260524
DTSTAMP:20260423T153408
CREATED:20260318T210822Z
LAST-MODIFIED:20260318T210822Z
UID:58599-1779494400-1779580799@ktex.com
SUMMARY:Bryan ISD 2026 Graduation
DESCRIPTION:BRYAN HIGH SCHOOL GRADUATION CEREMONY
URL:https://ktex.com/event/bryan-isd-2026-graduation-3/
LOCATION:Texas A&M Reed Arena\, 730 Olsen Blvd.\, College Station\, TX\, 77843\, United States
CATEGORIES:Community Events
ATTACH;FMTTYPE=image/jpeg:https://ktex.com/wp-content/uploads/2026/03/bryan-isd-graduation-end-may-23.jpg
END:VEVENT
BEGIN:VEVENT
DTSTART;VALUE=DATE:20260522
DTEND;VALUE=DATE:20260523
DTSTAMP:20260423T153408
CREATED:20260318T210452Z
LAST-MODIFIED:20260318T210452Z
UID:58596-1779408000-1779494399@ktex.com
SUMMARY:Bryan ISD 2026 Graduation
DESCRIPTION:BYRAN COLLEGIATE GRADUATION CEREMONY
URL:https://ktex.com/event/bryan-isd-2026-graduation-2/
LOCATION:Texas A&M Rudder Auditorium\, 401 Joe Routte Blvd.\, College Station\, TX\, 77840\, United States
CATEGORIES:Community Events
ATTACH;FMTTYPE=image/jpeg:https://ktex.com/wp-content/uploads/2026/03/bryan-isd-graduation-end-may-23.jpg
END:VEVENT
BEGIN:VEVENT
DTSTART;TZID=America/Chicago:20260521T193000
DTEND;TZID=America/Chicago:20260521T210000
DTSTAMP:20260423T153408
CREATED:20260409T201516Z
LAST-MODIFIED:20260409T201516Z
UID:58975-1779391800-1779397200@ktex.com
SUMMARY:Snook High School Class of 2026-Senior Sunset Dinner
DESCRIPTION:
URL:https://ktex.com/event/snook-high-school-class-of-2026-senior-sunset-dinner/
LOCATION:Bluejay Stadium\, 10110 FM2155\, Snook\, 77878
CATEGORIES:Community Events
ATTACH;FMTTYPE=image/jpeg:https://ktex.com/wp-content/uploads/2026/04/senior-sundet-may-21.jpg
END:VEVENT
BEGIN:VEVENT
DTSTART;VALUE=DATE:20260521
DTEND;VALUE=DATE:20260522
DTSTAMP:20260423T153408
CREATED:20260420T135124Z
LAST-MODIFIED:20260420T135124Z
UID:59134-1779321600-1779407999@ktex.com
SUMMARY:Friends of Bluebonnet Opry Polka Show (Brenham)
DESCRIPTION:
URL:https://ktex.com/event/friends-of-bluebonnet-opry-polka-show-brenham/
LOCATION:Silver Wings Ballroom\, 4100 State Highway 105\, Brenham\, TX\, 77833\, United States
CATEGORIES:Community Events
ATTACH;FMTTYPE=image/webp:https://ktex.com/wp-content/uploads/2026/04/OpryPoster-May_2.webp
END:VEVENT
BEGIN:VEVENT
DTSTART;VALUE=DATE:20260521
DTEND;VALUE=DATE:20260522
DTSTAMP:20260423T153408
CREATED:20260318T210029Z
LAST-MODIFIED:20260318T210029Z
UID:58593-1779321600-1779407999@ktex.com
SUMMARY:Bryan ISD 2026 Graduation
DESCRIPTION:MC HARRIS GRADUATION CEREMONY
URL:https://ktex.com/event/bryan-isd-2026-graduation/
LOCATION:Bryan ISD Performing Arts Center\, 800 S Coulter Dr.\, Bryan\, TX\, 77803\, United States
CATEGORIES:Community Events
ATTACH;FMTTYPE=image/jpeg:https://ktex.com/wp-content/uploads/2026/03/bryan-isd-graduation-end-may-23.jpg
END:VEVENT
BEGIN:VEVENT
DTSTART;TZID=America/Chicago:20260519T173000
DTEND;TZID=America/Chicago:20260519T193000
DTSTAMP:20260423T153408
CREATED:20260225T210044Z
LAST-MODIFIED:20260225T210044Z
UID:58244-1779211800-1779219000@ktex.com
SUMMARY:Gather & Grace hosting Tuesday Night Dinner (Bellville)
DESCRIPTION:
URL:https://ktex.com/event/gather-grace-hosting-tuesday-night-dinner-bellville-3/
LOCATION:Margaret Chesley Memorial Park\, 417 N Bell Street\, Bellville\, TX\, 77418\, United States
CATEGORIES:Community Events
ATTACH;FMTTYPE=image/jpeg:https://ktex.com/wp-content/uploads/2026/02/gather-n-grace-bellville-end-may-19.jpg
END:VEVENT
BEGIN:VEVENT
DTSTART;VALUE=DATE:20260519
DTEND;VALUE=DATE:20260521
DTSTAMP:20260423T153408
CREATED:20260410T141623Z
LAST-MODIFIED:20260410T141725Z
UID:59001-1779148800-1779321599@ktex.com
SUMMARY:Hearne Elementary Awards Ceremony & Graduation
DESCRIPTION:
URL:https://ktex.com/event/hearne-elementary-awards-ceremony-graduation/
LOCATION:Hearne Elementary School\, Hearne\, TX\, 77859\, United States
CATEGORIES:Community Events
ATTACH;FMTTYPE=image/jpeg:https://ktex.com/wp-content/uploads/2026/04/hearne-ele-awards-may-19.jpg
END:VEVENT
BEGIN:VEVENT
DTSTART;VALUE=DATE:20260519
DTEND;VALUE=DATE:20260520
DTSTAMP:20260423T153408
CREATED:20260206T221054Z
LAST-MODIFIED:20260206T221054Z
UID:57932-1779148800-1779235199@ktex.com
SUMMARY:Austin County Lunch N Learn Series-Spring (Bellville)
DESCRIPTION:
URL:https://ktex.com/event/austin-county-lunch-n-learn-series-spring-bellville-4/
LOCATION:Austin County AgriLife Extension Office\, 20 S Holland St. \, Bellville\, TX\, 77418\, United States
CATEGORIES:Community Events
ATTACH;FMTTYPE=image/jpeg:https://ktex.com/wp-content/uploads/2026/02/lunch-n-learn-series-spring-end-may-19.jpg
END:VEVENT
BEGIN:VEVENT
DTSTART;TZID=America/Chicago:20260518T160000
DTEND;TZID=America/Chicago:20260518T180000
DTSTAMP:20260423T153408
CREATED:20260406T155049Z
LAST-MODIFIED:20260406T155049Z
UID:58837-1779120000-1779127200@ktex.com
SUMMARY:Navasota ISD PK & Kindergarten Roundup
DESCRIPTION:
URL:https://ktex.com/event/navasota-isd-pk-kindergarten-roundup/
LOCATION:Navasota Elementary Campuses\, Navasota\, TX\, 77868\, United States
CATEGORIES:Community Events
ATTACH;FMTTYPE=image/png:https://ktex.com/wp-content/uploads/2026/04/nisd-round-up-may-18-july-27.png
END:VEVENT
BEGIN:VEVENT
DTSTART;VALUE=DATE:20260517
DTEND;VALUE=DATE:20260518
DTSTAMP:20260423T153408
CREATED:20260409T194504Z
LAST-MODIFIED:20260409T194504Z
UID:58972-1778976000-1779062399@ktex.com
SUMMARY:Bleiblerville VFD Fish Fry
DESCRIPTION:
URL:https://ktex.com/event/bleiblerville-vfd-fish-fry-2/
LOCATION:Bleiblerville Fire Station\, 3342 FM 2502\, Bellville\, TX\, 77418\, United States
CATEGORIES:Community Events
ATTACH;FMTTYPE=image/png:https://ktex.com/wp-content/uploads/2026/04/bleiblerville-fish-fry-may-17.png
END:VEVENT
BEGIN:VEVENT
DTSTART;TZID=America/Chicago:20260516T193000
DTEND;TZID=America/Chicago:20260516T213000
DTSTAMP:20260423T153408
CREATED:20260225T204944Z
LAST-MODIFIED:20260225T204944Z
UID:58225-1778959800-1778967000@ktex.com
SUMMARY:Sounds of Navasota
DESCRIPTION:
URL:https://ktex.com/event/sounds-of-navasota/
LOCATION:TX
CATEGORIES:Community Events
ATTACH;FMTTYPE=image/jpeg:https://ktex.com/wp-content/uploads/2026/02/sounds-of-nava-end-aug-15.jpg
END:VEVENT
BEGIN:VEVENT
DTSTART;TZID=America/Chicago:20260516T113000
DTEND;TZID=America/Chicago:20260516T133000
DTSTAMP:20260423T153408
CREATED:20260408T202056Z
LAST-MODIFIED:20260408T202056Z
UID:58962-1778931000-1778938200@ktex.com
SUMMARY:First UMC College Station Manna Market
DESCRIPTION:
URL:https://ktex.com/event/first-umc-college-station-manna-market-2/
LOCATION:First United Methodist Church (College Station)\, 1125 Wellborn Road\, College Station\, TX\, 77840\, United States
CATEGORIES:Community Events
ATTACH;FMTTYPE=image/jpeg:https://ktex.com/wp-content/uploads/2026/04/manna-market-end-july-11.jpg
END:VEVENT
BEGIN:VEVENT
DTSTART;TZID=America/Chicago:20260516T090000
DTEND;TZID=America/Chicago:20260516T130000
DTSTAMP:20260423T153408
CREATED:20260406T153648Z
LAST-MODIFIED:20260406T153648Z
UID:58822-1778922000-1778936400@ktex.com
SUMMARY:Chappell Hill Farmers Market
DESCRIPTION:
URL:https://ktex.com/event/chappell-hill-farmers-market-4/
LOCATION:Downtown Chappell Hill
CATEGORIES:Community Events
ATTACH;FMTTYPE=image/jpeg:https://ktex.com/wp-content/uploads/2026/04/ch-farmers-apr-18-may-16.jpg
END:VEVENT
BEGIN:VEVENT
DTSTART;VALUE=DATE:20260516
DTEND;VALUE=DATE:20260517
DTSTAMP:20260423T153408
CREATED:20260421T190141Z
LAST-MODIFIED:20260421T190141Z
UID:59153-1778889600-1778975999@ktex.com
SUMMARY:Cruise-In & Grand Opening-Top Floor Cars (Brenham)
DESCRIPTION:
URL:https://ktex.com/event/cruise-in-grand-opening-top-floor-cars-brenham/
LOCATION:Top Floor Cars\, 3100 William B. Travis Lane\, Brenham\, TX\, 77833\, United States
CATEGORIES:Community Events
ATTACH;FMTTYPE=image/jpeg:https://ktex.com/wp-content/uploads/2026/04/cruise-in-grand-opening-may-16.jpg
END:VEVENT
BEGIN:VEVENT
DTSTART;VALUE=DATE:20260516
DTEND;VALUE=DATE:20260517
DTSTAMP:20260423T153408
CREATED:20260401T140041Z
LAST-MODIFIED:20260401T140041Z
UID:58800-1778889600-1778975999@ktex.com
SUMMARY:Broadway Dreams presented by Brenham Children's Chorus
DESCRIPTION:
URL:https://ktex.com/event/broadway-dreams-presented-by-brenham-childrens-chorus/
LOCATION:Dr. W.W. O’Donnell Performing Arts Center\, 600 Blinn Blvd\, Brenham\, TX\, 77833\, United States
CATEGORIES:Community Events
ATTACH;FMTTYPE=image/jpeg:https://ktex.com/wp-content/uploads/2026/04/broadway-dreams-may-16.jpg
END:VEVENT
BEGIN:VEVENT
DTSTART;VALUE=DATE:20260516
DTEND;VALUE=DATE:20260517
DTSTAMP:20260423T153408
CREATED:20260218T181717Z
LAST-MODIFIED:20260218T181717Z
UID:58123-1778889600-1778975999@ktex.com
SUMMARY:First Aid & CPR Training Dates (Bellville)
DESCRIPTION:
URL:https://ktex.com/event/first-aid-cpr-training-dates-bellville-2/
LOCATION:TX
CATEGORIES:Community Events
ATTACH;FMTTYPE=image/jpeg:https://ktex.com/wp-content/uploads/2026/02/first-aid-training-end-nov-21.jpg
END:VEVENT
BEGIN:VEVENT
DTSTART;VALUE=DATE:20260515
DTEND;VALUE=DATE:20260517
DTSTAMP:20260423T153408
CREATED:20260422T192640Z
LAST-MODIFIED:20260422T192640Z
UID:59197-1778803200-1778975999@ktex.com
SUMMARY:Magnolia Days Festival (Columbus)
DESCRIPTION:
URL:https://ktex.com/event/magnolia-days-festival-columbus-2/
LOCATION:Downtown Columbus\, Columbus\, TX\, 78934\, United States
CATEGORIES:Community Events
ATTACH;FMTTYPE=image/png:https://ktex.com/wp-content/uploads/2026/04/magnolia-days-may-15-16.png
END:VEVENT
BEGIN:VEVENT
DTSTART;TZID=America/Chicago:20260514T100000
DTEND;TZID=America/Chicago:20260514T113000
DTSTAMP:20260423T153408
CREATED:20251211T220001Z
LAST-MODIFIED:20251211T220001Z
UID:56892-1778752800-1778758200@ktex.com
SUMMARY:Grimes Mobile Pantry (Navasota)
DESCRIPTION:
URL:https://ktex.com/event/grimes-mobile-pantry-navasota-5/
LOCATION:Grimes County Expo Center\, 5220 FM 3455\, Navasota\, TX\, 77868\, United States
CATEGORIES:Community Events
ATTACH;FMTTYPE=image/jpeg:https://ktex.com/wp-content/uploads/2025/12/grimes-mobil-pantry-2026.jpg
END:VEVENT
BEGIN:VEVENT
DTSTART;VALUE=DATE:20260514
DTEND;VALUE=DATE:20260517
DTSTAMP:20260423T153408
CREATED:20260422T190934Z
LAST-MODIFIED:20260422T190934Z
UID:59178-1778716800-1778975999@ktex.com
SUMMARY:Lee County Fair (Giddings)
DESCRIPTION:2026 Lee County Fair Schedule Highlights\n\nThursday\, May 14: Gates open at 4:30 PM\, featuring entertainment from Dustin De La Garza.\nFriday\, May 15: Gates open at 10:00 AM\, featuring:\n\nSenior Day Bingo & BBQ Lunch (10:30 AM – 1:30 PM).\nELVIS Tribute by Mike Elliott (12:30 PM).\nJackpot Events (Beans\, Margarita\, Salsa\, and Cocktail contests).\nMighty Thomas Carnival (5:00 PM – 11:00 PM).\nLive Concert: Bombshell (9:30 PM).\n\n\nSaturday\, May 16: Gates open at 9:00 AM\, featuring:\n\nParade & Armed Forces Day Ceremony.\nCharcoal Challenge BBQ Cookoff.\nClassic Car Show.\nLive Concert: Aaron Watson (9:30 PM 
URL:https://ktex.com/event/lee-county-fair-giddings-2/
LOCATION:Lee County Fairgrounds\, 289 W Railroad Road\, Giddings\, TX\, 78942\, United States
CATEGORIES:Community Events
ATTACH;FMTTYPE=image/jpeg:https://ktex.com/wp-content/uploads/2026/04/lee-co-fair-may-14-15-16.jpg
END:VEVENT
BEGIN:VEVENT
DTSTART;TZID=America/Chicago:20260512T163000
DTEND;TZID=America/Chicago:20260512T183000
DTSTAMP:20260423T153408
CREATED:20260326T134250Z
LAST-MODIFIED:20260326T134250Z
UID:58686-1778603400-1778610600@ktex.com
SUMMARY:Brenham JH 7th Grade Cheerleaders Fundraiser Dinner
DESCRIPTION:
URL:https://ktex.com/event/brenham-jh-7th-grade-cheerleaders-fundraiser-dinner/
LOCATION:Brenham Junior High School bus ramp\, 1200 Carlee Street\, Brenham\, TX\, 77833\, United States
CATEGORIES:Community Events
ATTACH;FMTTYPE=image/jpeg:https://ktex.com/wp-content/uploads/2026/03/drive-thru-dinner-may-12.jpg
END:VEVENT
BEGIN:VEVENT
DTSTART;VALUE=DATE:20260512
DTEND;VALUE=DATE:20260515
DTSTAMP:20260423T153408
CREATED:20260415T195145Z
LAST-MODIFIED:20260415T195145Z
UID:59057-1778544000-1778803199@ktex.com
SUMMARY:Annual Revival at Harris Spring AME Church (Brenham)
DESCRIPTION:
URL:https://ktex.com/event/annual-revival-at-harris-spring-ame-church-brenham/
LOCATION:Harris Spring A.M.E. Church\, 3507 Harris Spring Lane\, Brenham\, TX\, 77833\, United States
CATEGORIES:Community Events
ATTACH;FMTTYPE=image/png:https://ktex.com/wp-content/uploads/2026/04/revival-may-12-14.png
END:VEVENT
BEGIN:VEVENT
DTSTART;VALUE=DATE:20260511
DTEND;VALUE=DATE:20260512
DTSTAMP:20260423T153408
CREATED:20260415T195820Z
LAST-MODIFIED:20260415T195820Z
UID:59063-1778457600-1778543999@ktex.com
SUMMARY:BCFA Floral Design & Miniscapes Mandatory Meeting (Caldwell)
DESCRIPTION:
URL:https://ktex.com/event/bcfa-floral-design-miniscapes-mandatory-meeting-caldwell/
LOCATION:Burleson County Fair Association Expo Center\, 905 TX-36\, Caldwell\, TX\, 77836\, United States
CATEGORIES:Community Events
ATTACH;FMTTYPE=image/jpeg:https://ktex.com/wp-content/uploads/2026/04/bcfa-foral-design-may-11.jpg
END:VEVENT
BEGIN:VEVENT
DTSTART;VALUE=DATE:20260510
DTEND;VALUE=DATE:20260511
DTSTAMP:20260423T153408
CREATED:20260106T214953Z
LAST-MODIFIED:20260106T214953Z
UID:57238-1778371200-1778457599@ktex.com
SUMMARY:See a Child Riding Unrestrained? Help us Keep Kids Safe!
DESCRIPTION:
URL:https://ktex.com/event/see-a-child-riding-unrestrained-help-us-keep-kids-safe-3/
LOCATION:TX
CATEGORIES:Community Events
ATTACH;FMTTYPE=image/jpeg:https://ktex.com/wp-content/uploads/2026/01/see-a-child-end-dec-2026.jpg
END:VEVENT
END:VCALENDAR