BEGIN:VCALENDAR
VERSION:2.0
PRODID:-//KTEX 106.1 - ECPv6.15.20//NONSGML v1.0//EN
CALSCALE:GREGORIAN
METHOD:PUBLISH
X-WR-CALNAME:KTEX 106.1
X-ORIGINAL-URL:https://ktex.com
X-WR-CALDESC:Events for KTEX 106.1
REFRESH-INTERVAL;VALUE=DURATION:PT1H
X-Robots-Tag:noindex
X-PUBLISHED-TTL:PT1H
BEGIN:VTIMEZONE
TZID:America/Chicago
BEGIN:DAYLIGHT
TZOFFSETFROM:-0600
TZOFFSETTO:-0500
TZNAME:CDT
DTSTART:20220313T080000
END:DAYLIGHT
BEGIN:STANDARD
TZOFFSETFROM:-0500
TZOFFSETTO:-0600
TZNAME:CST
DTSTART:20221106T070000
END:STANDARD
BEGIN:DAYLIGHT
TZOFFSETFROM:-0600
TZOFFSETTO:-0500
TZNAME:CDT
DTSTART:20230312T080000
END:DAYLIGHT
BEGIN:STANDARD
TZOFFSETFROM:-0500
TZOFFSETTO:-0600
TZNAME:CST
DTSTART:20231105T070000
END:STANDARD
BEGIN:DAYLIGHT
TZOFFSETFROM:-0600
TZOFFSETTO:-0500
TZNAME:CDT
DTSTART:20240310T080000
END:DAYLIGHT
BEGIN:STANDARD
TZOFFSETFROM:-0500
TZOFFSETTO:-0600
TZNAME:CST
DTSTART:20241103T070000
END:STANDARD
END:VTIMEZONE
BEGIN:VEVENT
DTSTART;VALUE=DATE:20230717
DTEND;VALUE=DATE:20230721
DTSTAMP:20260425T064953
CREATED:20230518T144246Z
LAST-MODIFIED:20230606T202351Z
UID:34667-1689552000-1689897599@ktex.com
SUMMARY:Brenham ISD Summer Meals for Children
DESCRIPTION:This summer\, Brenham ISD will connect children 18 and younger\, as well as\, enrolled students with disabilities up to 21 years old with healthy\, no cost summer meals.  The meals will be served Monday-Thursday at Krause Elementary School\, June 5 through July 27.  They are going to have breakfast available from 7am-8am\, and lunch from noon-1pm.  To find a meal site anywhere across the state of Texas\, families can call 2-1-1 and speak to a live operator\, visit their website at www.SummerFood.org\, or Text FOOD to 304-304.
URL:https://ktex.com/event/brenham-isd-summer-meals-for-children-4/
LOCATION:Krause Elementary School\, 2201 E Stone St\, Brenham\, TX\, 77833\, United States
CATEGORIES:Community Events
ATTACH;FMTTYPE=image/jpeg:https://ktex.com/wp-content/uploads/2023/05/free-summer-meals.jpg
END:VEVENT
BEGIN:VEVENT
DTSTART;VALUE=DATE:20230717
DTEND;VALUE=DATE:20230720
DTSTAMP:20260425T064953
CREATED:20230608T150756Z
LAST-MODIFIED:20230608T150756Z
UID:35219-1689552000-1689811199@ktex.com
SUMMARY:Brenham Summer Sports Camp Schedule
DESCRIPTION:
URL:https://ktex.com/event/brenham-summer-sports-camp-schedule-4/
LOCATION:Brenham High School\, 525 A H Ehrig Drive\, Brenham\, TX\, 77833\, United States
CATEGORIES:Community Events
ATTACH;FMTTYPE=image/png:https://ktex.com/wp-content/uploads/2023/06/BISD-summer-sports-camp.png
END:VEVENT
BEGIN:VEVENT
DTSTART;TZID=America/Chicago:20230716T173000
DTEND;TZID=America/Chicago:20230716T230000
DTSTAMP:20260425T064953
CREATED:20230601T162822Z
LAST-MODIFIED:20230601T162822Z
UID:35036-1689528600-1689548400@ktex.com
SUMMARY:Winton Cook at The Kenney Store
DESCRIPTION:
URL:https://ktex.com/event/winton-cook-at-the-kenney-store/
LOCATION:The Kenney Store
ATTACH;FMTTYPE=image/png:https://ktex.com/wp-content/uploads/2023/06/Screenshot-2023-06-01-112722.png
END:VEVENT
BEGIN:VEVENT
DTSTART;TZID=America/Chicago:20230716T133000
DTEND;TZID=America/Chicago:20230716T163000
DTSTAMP:20260425T064953
CREATED:20230531T161427Z
LAST-MODIFIED:20230531T161427Z
UID:34988-1689514200-1689525000@ktex.com
SUMMARY:Tonya Toree & The Tunes at HSF Biergarten
DESCRIPTION:
URL:https://ktex.com/event/tonya-toree-the-tunes-at-hsf-biergarten/
LOCATION:HSF Biergarten\, 307 South Park Street\, Brenham\, TX\, 77833\, United States
ATTACH;FMTTYPE=image/webp:https://ktex.com/wp-content/uploads/2023/05/Screenshot-2023-04-11-at-1.02.29-PM_1683051754.webp
END:VEVENT
BEGIN:VEVENT
DTSTART;TZID=America/Chicago:20230715T203000
DTEND;TZID=America/Chicago:20230715T233000
DTSTAMP:20260425T064953
CREATED:20230531T161327Z
LAST-MODIFIED:20230531T161327Z
UID:34986-1689453000-1689463800@ktex.com
SUMMARY:Jake Waylon at HSF Biergarten
DESCRIPTION:
URL:https://ktex.com/event/jake-waylon-at-hsf-biergarten-2/
LOCATION:HSF Biergarten\, 307 South Park Street\, Brenham\, TX\, 77833\, United States
ATTACH;FMTTYPE=image/webp:https://ktex.com/wp-content/uploads/2023/05/Jake-Waylon-copy_1680623123.webp
END:VEVENT
BEGIN:VEVENT
DTSTART;TZID=America/Chicago:20230715T190000
DTEND;TZID=America/Chicago:20230715T233000
DTSTAMP:20260425T064953
CREATED:20230531T153656Z
LAST-MODIFIED:20230531T153656Z
UID:34913-1689447600-1689463800@ktex.com
SUMMARY:Hot Nights\, Cool Tunes with a performance by "Skyrocket"
DESCRIPTION:The last 4 Saturdays in July are made for Hot Nights\, Cool Tunes! Bring your lawn chair to the Courthouse Square in Downtown Brenham and enjoy some great live music with the community! There will also be food and beverage vendors available throughout the event and a Classic Car Cruise-in by the Stray Katz Car Club. This event is free to the public and begins at 7:00 pm!
URL:https://ktex.com/event/hot-nights-cool-tunes-with-a-performance-by-skyrocket/
LOCATION:Downtown Brenham
ATTACH;FMTTYPE=image/png:https://ktex.com/wp-content/uploads/2023/05/hot-nights-cool-tunes-logo.png
END:VEVENT
BEGIN:VEVENT
DTSTART;TZID=America/Chicago:20230715T173000
DTEND;TZID=America/Chicago:20230715T220000
DTSTAMP:20260425T064953
CREATED:20230601T164507Z
LAST-MODIFIED:20230601T164507Z
UID:35074-1689442200-1689458400@ktex.com
SUMMARY:Matt Castillo at The Kenney Store
DESCRIPTION:
URL:https://ktex.com/event/matt-castillo-at-the-kenney-store/
LOCATION:TX
ATTACH;FMTTYPE=image/png:https://ktex.com/wp-content/uploads/2023/06/Screenshot-2023-06-01-114423.png
END:VEVENT
BEGIN:VEVENT
DTSTART;TZID=America/Chicago:20230715T170000
DTEND;TZID=America/Chicago:20230715T183000
DTSTAMP:20260425T064953
CREATED:20230609T195159Z
LAST-MODIFIED:20230609T195159Z
UID:35271-1689440400-1689445800@ktex.com
SUMMARY:Summer Showcase Local Musicians (Brenham)
DESCRIPTION:
URL:https://ktex.com/event/summer-showcase-local-musicians-brenham/
LOCATION:Alamo Alley\, W. Alamo Street\, Brenham\, TX\, 77833\, United States
CATEGORIES:Community Events
ATTACH;FMTTYPE=image/png:https://ktex.com/wp-content/uploads/2023/06/summer-showcase.png
END:VEVENT
END:VCALENDAR