BEGIN:VCALENDAR
VERSION:2.0
PRODID:-//KTEX 106.1 - ECPv6.15.20//NONSGML v1.0//EN
CALSCALE:GREGORIAN
METHOD:PUBLISH
X-WR-CALNAME:KTEX 106.1
X-ORIGINAL-URL:https://ktex.com
X-WR-CALDESC:Events for KTEX 106.1
REFRESH-INTERVAL;VALUE=DURATION:PT1H
X-Robots-Tag:noindex
X-PUBLISHED-TTL:PT1H
BEGIN:VTIMEZONE
TZID:America/Chicago
BEGIN:DAYLIGHT
TZOFFSETFROM:-0600
TZOFFSETTO:-0500
TZNAME:CDT
DTSTART:20230312T080000
END:DAYLIGHT
BEGIN:STANDARD
TZOFFSETFROM:-0500
TZOFFSETTO:-0600
TZNAME:CST
DTSTART:20231105T070000
END:STANDARD
BEGIN:DAYLIGHT
TZOFFSETFROM:-0600
TZOFFSETTO:-0500
TZNAME:CDT
DTSTART:20240310T080000
END:DAYLIGHT
BEGIN:STANDARD
TZOFFSETFROM:-0500
TZOFFSETTO:-0600
TZNAME:CST
DTSTART:20241103T070000
END:STANDARD
BEGIN:DAYLIGHT
TZOFFSETFROM:-0600
TZOFFSETTO:-0500
TZNAME:CDT
DTSTART:20250309T080000
END:DAYLIGHT
BEGIN:STANDARD
TZOFFSETFROM:-0500
TZOFFSETTO:-0600
TZNAME:CST
DTSTART:20251102T070000
END:STANDARD
END:VTIMEZONE
BEGIN:VEVENT
DTSTART;TZID=America/Chicago:20240929T110000
DTEND;TZID=America/Chicago:20240929T130000
DTSTAMP:20260421T181354
CREATED:20240924T140215Z
LAST-MODIFIED:20240924T140215Z
UID:49549-1727607600-1727614800@ktex.com
SUMMARY:St. Paul's Annual Block Party (Brenham)
DESCRIPTION:Volunteers needed! https://signup.com/go/ToePqtY
URL:https://ktex.com/event/st-pauls-annual-block-party-brenham/
LOCATION:St. Paul’s Evangelical Lutheran Church (Brenham)\, 305 W. 3rd Street\, Brenham\, TX\, 77833\, United States
CATEGORIES:Community Events
ATTACH;FMTTYPE=image/jpeg:https://ktex.com/wp-content/uploads/2024/09/st-pauls-block-party-sept.jpg
END:VEVENT
BEGIN:VEVENT
DTSTART;VALUE=DATE:20240929
DTEND;VALUE=DATE:20240930
DTSTAMP:20260421T181354
CREATED:20240924T212450Z
LAST-MODIFIED:20240924T212450Z
UID:49581-1727568000-1727654399@ktex.com
SUMMARY:St. Philip the Apostle Catholic Church Picnic (El Campo)
DESCRIPTION:
URL:https://ktex.com/event/st-philip-the-apostle-catholic-church-picnic-el-campo/
LOCATION:Knights of Columbus 2490\, 1458 CR 406\, El Campo\, TX\, 77437\, United States
CATEGORIES:Community Events
ATTACH;FMTTYPE=image/jpeg:https://ktex.com/wp-content/uploads/2024/09/st-philip-sept-29.jpg
END:VEVENT
BEGIN:VEVENT
DTSTART;VALUE=DATE:20240929
DTEND;VALUE=DATE:20240930
DTSTAMP:20260421T181354
CREATED:20240920T203854Z
LAST-MODIFIED:20240920T203854Z
UID:49450-1727568000-1727654399@ktex.com
SUMMARY:Immaculate Conception Catholic Church Bazaar & Homecoming (Sealy)
DESCRIPTION:Live auction * homemade Mexican food (cakes\, pies\, & kolaches) * Music by Kovanda’s Czech Band * Kiddie games * Cornhole tournament * tamale contest * prize drawing * auction items
URL:https://ktex.com/event/immaculate-conception-catholic-church-bazaar-homecoming-sealy/
LOCATION:Sealy Columbus Club Hall\, 1310 US Hwy 90 West\, Sealy\, TX\, 77474\, United States
CATEGORIES:Community Events
ATTACH;FMTTYPE=image/jpeg:https://ktex.com/wp-content/uploads/2024/09/bazaar-and-homecoming-sept-29.jpg
END:VEVENT
BEGIN:VEVENT
DTSTART;VALUE=DATE:20240929
DTEND;VALUE=DATE:20240930
DTSTAMP:20260421T181354
CREATED:20240909T201432Z
LAST-MODIFIED:20240909T201432Z
UID:49172-1727568000-1727654399@ktex.com
SUMMARY:St. Mary's Baptist Church seeking Senior Pastor (Ledbetter)
DESCRIPTION:The deadline for applications is October 31\, 2024. If additional information is needed you can reach the Pulpit Search Committee at pulpitcommittee@smbctx.com. \nSee application:  https://smbctx.com/
URL:https://ktex.com/event/st-marys-baptist-church-seeking-senior-pastor-ledbetter-2/
LOCATION:TX
CATEGORIES:Community Events
ATTACH;FMTTYPE=image/png:https://ktex.com/wp-content/uploads/2024/09/st-marys-baptist-church-seek-pastor.png
END:VEVENT
BEGIN:VEVENT
DTSTART;TZID=America/Chicago:20240928T130000
DTEND;TZID=America/Chicago:20240928T190000
DTSTAMP:20260421T181354
CREATED:20240731T175149Z
LAST-MODIFIED:20240731T175149Z
UID:48488-1727528400-1727550000@ktex.com
SUMMARY:Community-Wide Fall Festival (Brenham)
DESCRIPTION:
URL:https://ktex.com/event/community-wide-fall-festival-brenham/
LOCATION:Dr. Bobbie M. Dietrich Memorial Amphitheatre\, 2425 North Park Street\, Brenham\, TX\, 77833\, United States
CATEGORIES:Community Events
ATTACH;FMTTYPE=image/jpeg:https://ktex.com/wp-content/uploads/2024/07/community-wide-fall-festival-sept.jpg
END:VEVENT
BEGIN:VEVENT
DTSTART;TZID=America/Chicago:20240928T100000
DTEND;TZID=America/Chicago:20240928T140000
DTSTAMP:20260421T181354
CREATED:20240911T163910Z
LAST-MODIFIED:20240911T163910Z
UID:49208-1727517600-1727532000@ktex.com
SUMMARY:Classics for Kids Car & Truck Show (Carmine)
DESCRIPTION:
URL:https://ktex.com/event/classics-for-kids-car-truck-show-carmine/
LOCATION:Carmine Hall\, 300 N. Hauptstrausse\, 78932
CATEGORIES:Community Events
ATTACH;FMTTYPE=image/jpeg:https://ktex.com/wp-content/uploads/2024/09/classics-for-kids-sept.jpg
END:VEVENT
BEGIN:VEVENT
DTSTART;TZID=America/Chicago:20240928T100000
DTEND;TZID=America/Chicago:20240928T120000
DTSTAMP:20260421T181354
CREATED:20240826T211019Z
LAST-MODIFIED:20240826T211019Z
UID:48878-1727517600-1727524800@ktex.com
SUMMARY:Classic Car Show (Welcome)
DESCRIPTION:
URL:https://ktex.com/event/classic-car-show-welcome/
LOCATION:Welcome Texas General Store\, 12528 FM 109\, Industry\, TX\, 78944\, United States
CATEGORIES:Community Events
ATTACH;FMTTYPE=image/jpeg:https://ktex.com/wp-content/uploads/2024/08/classic-car-show.jpg
END:VEVENT
BEGIN:VEVENT
DTSTART;TZID=America/Chicago:20240928T083000
DTEND;TZID=America/Chicago:20240928T113000
DTSTAMP:20260421T181354
CREATED:20240911T153629Z
LAST-MODIFIED:20240911T153629Z
UID:49196-1727512200-1727523000@ktex.com
SUMMARY:Gone Fishin' at the BBAC (Brenham)
DESCRIPTION:18th Annual Kid’s Gone Fishin’ is coming up September\, 28th at the Blue Bell Aquatic Center | 8:30 am – 11:30 am | Free
URL:https://ktex.com/event/gone-fishin-at-the-bbac-brenham/
LOCATION:Blue Bell Aquatic Center\, 1800 E Tom Green St\, Brenham\, TX\, 77833\, United States
CATEGORIES:Community Events
ATTACH;FMTTYPE=image/jpeg:https://ktex.com/wp-content/uploads/2024/09/gone-fishin-sept.jpg
END:VEVENT
BEGIN:VEVENT
DTSTART;TZID=America/Chicago:20240928T080000
DTEND;TZID=America/Chicago:20240928T110000
DTSTAMP:20260421T181354
CREATED:20240924T191858Z
LAST-MODIFIED:20240924T191858Z
UID:49566-1727510400-1727521200@ktex.com
SUMMARY:Kids Gone Fishin'
DESCRIPTION:Cowboy Dave is trying to reel in the big ones at Kid’s Gone Fishin this year! The BBAC is welcoming everyone of all ages to come out and fish in the leisure pool where they’ve filled it with a ton of catfish! Try your hand at it\, totally free!
URL:https://ktex.com/event/kids-gone-fishin-2/
LOCATION:Blue Bell Aquatic Center\, 1800 E Tom Green St\, Brenham\, TX\, 77833\, United States
CATEGORIES:KTEX on the Road
END:VEVENT
BEGIN:VEVENT
DTSTART;VALUE=DATE:20240928
DTEND;VALUE=DATE:20240929
DTSTAMP:20260421T181354
CREATED:20240926T141451Z
LAST-MODIFIED:20240926T141451Z
UID:49614-1727481600-1727567999@ktex.com
SUMMARY:Asco presents Touch-A-Truck Event (College Station)
DESCRIPTION:
URL:https://ktex.com/event/asco-presents-touch-a-truck-event-college-station/
LOCATION:Post Oak Mall (southeast parking lot)\, 1500 Harvey Rd.\, College Station\, TX\, 77840\, United States
CATEGORIES:Community Events
ATTACH;FMTTYPE=image/jpeg:https://ktex.com/wp-content/uploads/2024/09/touch-a-truck-sept.jpg
END:VEVENT
BEGIN:VEVENT
DTSTART;VALUE=DATE:20240928
DTEND;VALUE=DATE:20240929
DTSTAMP:20260421T181354
CREATED:20240925T165603Z
LAST-MODIFIED:20240925T165603Z
UID:49597-1727481600-1727567999@ktex.com
SUMMARY:Washington County A&M Club Watch Party
DESCRIPTION:
URL:https://ktex.com/event/washington-county-am-club-watch-party/
LOCATION:30 North Gastropub\, 302 E Alamo Street\, Brenham\, TX\, 77833\, United States
CATEGORIES:Community Events
ATTACH;FMTTYPE=image/png:https://ktex.com/wp-content/uploads/2024/09/watch-party-sept-28.png
END:VEVENT
BEGIN:VEVENT
DTSTART;VALUE=DATE:20240928
DTEND;VALUE=DATE:20240929
DTSTAMP:20260421T181354
CREATED:20240911T131658Z
LAST-MODIFIED:20240911T131658Z
UID:49185-1727481600-1727567999@ktex.com
SUMMARY:Project Walk Fun Run & Roll Fundraiser (Sugarland)
DESCRIPTION:Donate to help Strength4smith raise money for Project Walk Fun Run & Roll’s fundraising campaign\, on September 28th \n100% of donations on Collin Smith’s behalf will go straight to his therapy costs.  Use the link to donate\, or join us in person\, or leave a note of encouragement here\, prayers and post shares are always welcome!  \nDetails- Sept. 28th\, 8:00 am @ Brazos River Park\, Sugarland\, TX \nhttps://www.facebook.com/share/p/1MHhtNwGsCFQz8bp/?mibextid=WC7FNe
URL:https://ktex.com/event/project-walk-fun-run-roll-fundraiser-sugarland/
LOCATION:Brazos River Park\, 18427 Southwest Fwy.\, Sugarland\, TX\, 77479\, United States
CATEGORIES:Community Events
ATTACH;FMTTYPE=image/png:https://ktex.com/wp-content/uploads/2024/09/fun-run-roll-sept-1.png
END:VEVENT
BEGIN:VEVENT
DTSTART;VALUE=DATE:20240928
DTEND;VALUE=DATE:20240929
DTSTAMP:20260421T181354
CREATED:20240830T214513Z
LAST-MODIFIED:20240830T215049Z
UID:49009-1727481600-1727567999@ktex.com
SUMMARY:Republican Club of Washington Co. Picnic & Candidate Forum
DESCRIPTION:
URL:https://ktex.com/event/republican-club-of-washington-co-picnic-candidate-forum/
LOCATION:City of Brenham Fireman’s Park\, 901 N. Park Street\, Brenham\, TX\, 77833\, United States
CATEGORIES:Community Events
ATTACH;FMTTYPE=image/png:https://ktex.com/wp-content/uploads/2024/08/rep-club-sept-28.png
END:VEVENT
BEGIN:VEVENT
DTSTART;VALUE=DATE:20240928
DTEND;VALUE=DATE:20240929
DTSTAMP:20260421T181354
CREATED:20240826T210658Z
LAST-MODIFIED:20240826T210720Z
UID:48875-1727481600-1727567999@ktex.com
SUMMARY:Fedor V.F.D. Fish Fry
DESCRIPTION:
URL:https://ktex.com/event/fedor-v-f-d-fish-fry/
LOCATION:Old Fedor Picnic Grounds\, 4270 FM 1624\, Lincoln\, TX\, 78948\, United States
CATEGORIES:Community Events
ATTACH;FMTTYPE=image/jpeg:https://ktex.com/wp-content/uploads/2024/08/fedor-fish-fry-sept.jpg
END:VEVENT
BEGIN:VEVENT
DTSTART;TZID=America/Chicago:20240927T193000
DTEND;TZID=America/Chicago:20240927T210000
DTSTAMP:20260421T181354
CREATED:20240924T191604Z
LAST-MODIFIED:20240924T191604Z
UID:49564-1727465400-1727470800@ktex.com
SUMMARY:Friday Face-Off: LaGrange vs Navasota
DESCRIPTION:Eilish will be in the KTEX Country Cruiser in Leopard Country as they take on the Navasota Rattlers! Thanks to our sponsors Alpha One Ford!
URL:https://ktex.com/event/friday-face-off-lagrange-vs-navasota/
LOCATION:La Grange Leopard Stadium\, 820 S. Vail St.\, La Grange \, 78945
CATEGORIES:KTEX on the Road
END:VEVENT
BEGIN:VEVENT
DTSTART;VALUE=DATE:20240927
DTEND;VALUE=DATE:20240929
DTSTAMP:20260421T181354
CREATED:20240829T210201Z
LAST-MODIFIED:20240829T210201Z
UID:48992-1727395200-1727567999@ktex.com
SUMMARY:Community Wide Marriage Conference (Brenham)
DESCRIPTION:
URL:https://ktex.com/event/community-wide-marriage-conference-brenham/
LOCATION:Cowboy Church of Brenham\, 4400 HWY 105\, Brenham\, TX\, 77833\, United States
CATEGORIES:Community Events
ATTACH;FMTTYPE=image/png:https://ktex.com/wp-content/uploads/2024/08/marriage-conf-sept.png
END:VEVENT
BEGIN:VEVENT
DTSTART;VALUE=DATE:20240927
DTEND;VALUE=DATE:20240928
DTSTAMP:20260421T181354
CREATED:20240916T184918Z
LAST-MODIFIED:20240916T184918Z
UID:49263-1727395200-1727481599@ktex.com
SUMMARY:Brenham FFA Parent & Alumni Association Big Buck Contest
DESCRIPTION:
URL:https://ktex.com/event/brenham-ffa-parent-alumni-association-big-buck-contest/
LOCATION:TX
CATEGORIES:Community Events
ATTACH;FMTTYPE=image/jpeg:https://ktex.com/wp-content/uploads/2024/09/br-ffa-big-buck-contest.jpg
END:VEVENT
BEGIN:VEVENT
DTSTART;VALUE=DATE:20240927
DTEND;VALUE=DATE:20240928
DTSTAMP:20260421T181354
CREATED:20240610T205643Z
LAST-MODIFIED:20240610T205643Z
UID:47668-1727395200-1727481599@ktex.com
SUMMARY:Brenham Cubs Football Schedule
DESCRIPTION:
URL:https://ktex.com/event/brenham-cubs-football-schedule/
LOCATION:TX
CATEGORIES:Community Events
ATTACH;FMTTYPE=image/jpeg:https://ktex.com/wp-content/uploads/2024/06/brenham-cub-football-2024-schedule.jpg
END:VEVENT
BEGIN:VEVENT
DTSTART;TZID=America/Chicago:20240926T080000
DTEND;TZID=America/Chicago:20240926T140000
DTSTAMP:20260421T181354
CREATED:20240923T195938Z
LAST-MODIFIED:20240923T195938Z
UID:49529-1727337600-1727359200@ktex.com
SUMMARY:Blood Drive (Bellville)
DESCRIPTION:
URL:https://ktex.com/event/blood-drive-bellville-6/
LOCATION:Bellville High School\, 850 Schumann Rd\, Bellville\, TX\, 77418\, United States
CATEGORIES:Community Events
ATTACH;FMTTYPE=image/jpeg:https://ktex.com/wp-content/uploads/2024/09/blood-drive-sept-26.jpg
END:VEVENT
BEGIN:VEVENT
DTSTART;VALUE=DATE:20240926
DTEND;VALUE=DATE:20240929
DTSTAMP:20260421T181354
CREATED:20240925T173918Z
LAST-MODIFIED:20240925T173918Z
UID:49600-1727308800-1727567999@ktex.com
SUMMARY:Burleson County Fair Lineup
DESCRIPTION:
URL:https://ktex.com/event/burleson-county-fair-lineup/
LOCATION:Burleson County Fairgounds\, 905 TX-36\, Caldwell\, TX\, 77836\, United States
CATEGORIES:Community Events
ATTACH;FMTTYPE=image/png:https://ktex.com/wp-content/uploads/2024/09/burleson-co-fair-2024.png
END:VEVENT
BEGIN:VEVENT
DTSTART;VALUE=DATE:20240926
DTEND;VALUE=DATE:20240927
DTSTAMP:20260421T181354
CREATED:20240925T200324Z
LAST-MODIFIED:20240925T200324Z
UID:49606-1727308800-1727395199@ktex.com
SUMMARY:Merchant Mixer in Downtown Brenham
DESCRIPTION:
URL:https://ktex.com/event/merchant-mixer-in-downtown-brenham/
LOCATION:The 101 Brenham\, 101 E. Main Street\, Brenham\, TX\, 77833\, United States
CATEGORIES:Community Events
ATTACH;FMTTYPE=image/png:https://ktex.com/wp-content/uploads/2024/09/merchant-mixer.png
END:VEVENT
BEGIN:VEVENT
DTSTART;VALUE=DATE:20240925
DTEND;VALUE=DATE:20240926
DTSTAMP:20260421T181354
CREATED:20240916T135702Z
LAST-MODIFIED:20240916T135702Z
UID:49253-1727222400-1727308799@ktex.com
SUMMARY:Community Discussion Living with Parkinson's Disease (Brenham)
DESCRIPTION:
URL:https://ktex.com/event/community-discussion-living-with-parkinsons-disease-brenham/
LOCATION:Nancy Carol Roberts Memorial Library\, 100 Martin Luther King Jr. Parkway\, Brenham\, Texas\, 77833
CATEGORIES:Community Events
ATTACH;FMTTYPE=image/png:https://ktex.com/wp-content/uploads/2024/09/parkinson-disease-mtg-sept.png
END:VEVENT
BEGIN:VEVENT
DTSTART;VALUE=DATE:20240925
DTEND;VALUE=DATE:20240926
DTSTAMP:20260421T181354
CREATED:20240311T182406Z
LAST-MODIFIED:20240311T182406Z
UID:46059-1727222400-1727308799@ktex.com
SUMMARY:Mental Health First Aid
DESCRIPTION:
URL:https://ktex.com/event/mental-health-first-aid-4/
LOCATION:Brazos County Health District\, 201 North Texas Ave\, Bryan\, TX\, 77803\, United States
CATEGORIES:Community Events
ATTACH;FMTTYPE=image/jpeg:https://ktex.com/wp-content/uploads/2024/03/mental-health-first-aid.jpg
END:VEVENT
BEGIN:VEVENT
DTSTART;TZID=America/Chicago:20240924T180000
DTEND;TZID=America/Chicago:20240924T203000
DTSTAMP:20260421T181354
CREATED:20240920T195244Z
LAST-MODIFIED:20240920T195332Z
UID:49440-1727200800-1727209800@ktex.com
SUMMARY:Paint Night at Brenham High School
DESCRIPTION:BRENHAM HIGH SCHOOL RM. 169
URL:https://ktex.com/event/paint-night-at-brenham-high-school/
LOCATION:Brenham High School\, 525 A H Ehrig Drive\, Brenham\, TX\, 77833\, United States
CATEGORIES:Community Events
ATTACH;FMTTYPE=image/png:https://ktex.com/wp-content/uploads/2024/09/bhs-paint-night-sept.png
END:VEVENT
BEGIN:VEVENT
DTSTART;TZID=America/Chicago:20240924T100000
DTEND;TZID=America/Chicago:20240924T130000
DTSTAMP:20260421T181354
CREATED:20240826T210529Z
LAST-MODIFIED:20240826T210529Z
UID:48871-1727172000-1727182800@ktex.com
SUMMARY:Health & Wellness Fair (Bellville)
DESCRIPTION:
URL:https://ktex.com/event/health-wellness-fair-bellville/
LOCATION:Bellville Methodist Church Gym\, 234 S. Masonic St.\, Bellville\, TX\, 77418\, United States
CATEGORIES:Community Events
ATTACH;FMTTYPE=image/jpeg:https://ktex.com/wp-content/uploads/2024/08/health-wellness-fair-sept.jpg
END:VEVENT
BEGIN:VEVENT
DTSTART;VALUE=DATE:20240924
DTEND;VALUE=DATE:20240925
DTSTAMP:20260421T181354
CREATED:20240917T135759Z
LAST-MODIFIED:20240917T135759Z
UID:49305-1727136000-1727222399@ktex.com
SUMMARY:Winedale Online Talk
DESCRIPTION:Winedale Online Talk “Confederates and Comancheros: Skullduggery and Double Dealing in the Texas-New Mexico Borderlands”. On Tuesday\, September 24 at noon\, author and historian James Bailey Blackshear will discuss via zoom his book “Confederates and Comancheros”. Focusing on the Texas-New Mexico borderlands in the 1860s and 1870s\, his talk will illustrate how central these contested borderlands were to the history of the American West. E-mail tricia.blakistone@austin.utexas.edu  for a link to this zoom talk.
URL:https://ktex.com/event/winedale-online-talk/
LOCATION:TX
CATEGORIES:Community Events
ATTACH;FMTTYPE=image/jpeg:https://ktex.com/wp-content/uploads/2024/09/confederates-comancheros.jpg
END:VEVENT
BEGIN:VEVENT
DTSTART;VALUE=DATE:20240923
DTEND;VALUE=DATE:20241007
DTSTAMP:20260421T181354
CREATED:20240923T195405Z
LAST-MODIFIED:20240923T195405Z
UID:49517-1727049600-1728259199@ktex.com
SUMMARY:Animal Friends Paws and Pumpkins Drawing
DESCRIPTION:Support Animal Friends and Win Big in Our Paws and Pumpkins Drawing. We’re offering incredible prizes\, and only * 600 tickets are available * Drawing Date: October 6\, 2024 \nPrizes Include: \n\nWine & Food Tasting for 8 at Brossa’s Cibo e Vino\nMeat Lovers Package – $550 in gift certificates from four local meat markets\nDeer Processing at Eckermann’s Meat Market (A $325 Value)\nCountry Getaway – Enjoy 2 nights in a beautifully renovated 100-year-old Brenham farmhouse\, plus $450 in gift certificates for lunch\, dinner\, ice cream\, sweets\, and snacks (total value $950)\n\nTicket Prices: \n\n$25 per ticket\n5 tickets for $100
URL:https://ktex.com/event/animal-friends-paws-and-pumpkins-drawing/
LOCATION:TX
CATEGORIES:Community Events
ATTACH;FMTTYPE=image/png:https://ktex.com/wp-content/uploads/2024/09/paws-pumpkins-oct.png
END:VEVENT
BEGIN:VEVENT
DTSTART;VALUE=DATE:20240923
DTEND;VALUE=DATE:20240924
DTSTAMP:20260421T181354
CREATED:20240923T134641Z
LAST-MODIFIED:20240923T134641Z
UID:49460-1727049600-1727135999@ktex.com
SUMMARY:Navasota ISD Fall Choir Concert & Parent Meeting
DESCRIPTION:
URL:https://ktex.com/event/navasota-isd-fall-choir-concert-parent-meeting/
LOCATION:Brosig Performing Arts Center\, 105 Brosig Ave.\, Navasota\, TX\, 77868\, United States
CATEGORIES:Community Events
ATTACH;FMTTYPE=image/png:https://ktex.com/wp-content/uploads/2024/09/nisd-choir-concert.png
END:VEVENT
BEGIN:VEVENT
DTSTART;TZID=America/Chicago:20240922T100000
DTEND;TZID=America/Chicago:20240922T170000
DTSTAMP:20260421T181354
CREATED:20240829T195246Z
LAST-MODIFIED:20240829T195246Z
UID:48969-1726999200-1727024400@ktex.com
SUMMARY:Wendish Fest (Giddings)
DESCRIPTION:The Texas Wendish Heritage Society invites you to join us at the 36th Annual Wendish Fest on Sunday\, September 22\, 2024. Wendish Fest is an annual day of celebrating Wendish history and culture through folklife exhibits\, unique cultural activities\, delicious food\, demonstrations\, and live music.
URL:https://ktex.com/event/wendish-fest-giddings/
LOCATION:TX
CATEGORIES:Community Events
ATTACH;FMTTYPE=image/jpeg:https://ktex.com/wp-content/uploads/2024/08/wendish-fest-sept.jpg
END:VEVENT
BEGIN:VEVENT
DTSTART;VALUE=DATE:20240922
DTEND;VALUE=DATE:20240923
DTSTAMP:20260421T181354
CREATED:20240830T135303Z
LAST-MODIFIED:20240830T135303Z
UID:49006-1726963200-1727049599@ktex.com
SUMMARY:Kulhanek Family Reunion (Fayetteville)
DESCRIPTION:The Annual Kulhanek Family Reunion will be held on Sunday\, September 22.  The day begins with a 10am Memorial Mass at St. John the Baptist Catholic Church in Fayetteville.  After mass\, gather at Heh\, Remember When located at 3031 FM-1291\, Ste 200\, Fayetteville\, TX for lunch and fellowship.  Bring your favorite dish to share for a potluck luncheon at 12:30pm.  Bread\, tea\, and fruit punch will be provided. Cash bar will also be available.  Planned activities include the Traditional Guessing Game\, Door Prizes\, Silent Auction.  We encourage and appreciate monetary gifts and donations for all activities.  For more information\, please contact Karen Kulhanek at karenk8013@gmail.com.
URL:https://ktex.com/event/kulhanek-family-reunion-fayetteville/
LOCATION:TX
CATEGORIES:Community Events
ATTACH;FMTTYPE=image/png:https://ktex.com/wp-content/uploads/2024/08/psa.png
END:VEVENT
END:VCALENDAR