BEGIN:VCALENDAR
VERSION:2.0
PRODID:-//KTEX 106.1 - ECPv6.15.20//NONSGML v1.0//EN
CALSCALE:GREGORIAN
METHOD:PUBLISH
X-ORIGINAL-URL:https://ktex.com
X-WR-CALDESC:Events for KTEX 106.1
REFRESH-INTERVAL;VALUE=DURATION:PT1H
X-Robots-Tag:noindex
X-PUBLISHED-TTL:PT1H
BEGIN:VTIMEZONE
TZID:America/Chicago
BEGIN:DAYLIGHT
TZOFFSETFROM:-0600
TZOFFSETTO:-0500
TZNAME:CDT
DTSTART:20230312T080000
END:DAYLIGHT
BEGIN:STANDARD
TZOFFSETFROM:-0500
TZOFFSETTO:-0600
TZNAME:CST
DTSTART:20231105T070000
END:STANDARD
BEGIN:DAYLIGHT
TZOFFSETFROM:-0600
TZOFFSETTO:-0500
TZNAME:CDT
DTSTART:20240310T080000
END:DAYLIGHT
BEGIN:STANDARD
TZOFFSETFROM:-0500
TZOFFSETTO:-0600
TZNAME:CST
DTSTART:20241103T070000
END:STANDARD
BEGIN:DAYLIGHT
TZOFFSETFROM:-0600
TZOFFSETTO:-0500
TZNAME:CDT
DTSTART:20250309T080000
END:DAYLIGHT
BEGIN:STANDARD
TZOFFSETFROM:-0500
TZOFFSETTO:-0600
TZNAME:CST
DTSTART:20251102T070000
END:STANDARD
END:VTIMEZONE
BEGIN:VEVENT
DTSTART;TZID=America/Chicago:20240803T073000
DTEND;TZID=America/Chicago:20240803T130000
DTSTAMP:20260421T205854
CREATED:20240709T141425Z
LAST-MODIFIED:20240709T141425Z
UID:48067-1722670200-1722690000@ktex.com
SUMMARY:FREE Clothing Giveaway
DESCRIPTION:
URL:https://ktex.com/event/free-clothing-giveaway/
LOCATION:TX
CATEGORIES:Community Events
ATTACH;FMTTYPE=image/jpeg:https://ktex.com/wp-content/uploads/2024/07/clothing-give-a-way.jpg
END:VEVENT
BEGIN:VEVENT
DTSTART;TZID=America/Chicago:20240803T090000
DTEND;TZID=America/Chicago:20240803T120000
DTSTAMP:20260421T205854
CREATED:20240513T201936Z
LAST-MODIFIED:20240513T201936Z
UID:47209-1722675600-1722686400@ktex.com
SUMMARY:Bellville Farmers Market
DESCRIPTION:
URL:https://ktex.com/event/bellville-farmers-market-3/
LOCATION:Jim Bishop Pavilion (Bellville)\, 100 E. Palm Street\, Bellville\, TX\, 77418\, United States
CATEGORIES:Community Events
ATTACH;FMTTYPE=image/png:https://ktex.com/wp-content/uploads/2024/05/bellville-farmers-market-jun-jul-aug.png
END:VEVENT
BEGIN:VEVENT
DTSTART;TZID=America/Chicago:20240803T110000
DTEND;TZID=America/Chicago:20240803T130000
DTSTAMP:20260421T205854
CREATED:20240730T191423Z
LAST-MODIFIED:20240730T191423Z
UID:48458-1722682800-1722690000@ktex.com
SUMMARY:Kindergarten Round Up-Vaccine Event (Bryan)
DESCRIPTION:
URL:https://ktex.com/event/kindergarten-round-up-vaccine-event-bryan/
LOCATION:Brazos County Health District\, 201 North Texas Ave\, Bryan\, TX\, 77803\, United States
CATEGORIES:Community Events
ATTACH;FMTTYPE=image/jpeg:https://ktex.com/wp-content/uploads/2024/07/school-vaccine-event.jpg
END:VEVENT
BEGIN:VEVENT
DTSTART;TZID=America/Chicago:20240803T130000
DTEND;TZID=America/Chicago:20240803T160000
DTSTAMP:20260421T205854
CREATED:20240726T172117Z
LAST-MODIFIED:20240726T172117Z
UID:48389-1722690000-1722700800@ktex.com
SUMMARY:Community Art Day (College Station)
DESCRIPTION:For questions\, comments\, or concerns please contact the Arts Council at info@acbv.org
URL:https://ktex.com/event/community-art-day-college-station/
LOCATION:Arts Council of Brazos Valley\, 4180 Hwy 6 South\, College Station\, TX\, 77845\, United States
CATEGORIES:Community Events
ATTACH;FMTTYPE=image/png:https://ktex.com/wp-content/uploads/2024/07/community-art-day-aug.png
END:VEVENT
BEGIN:VEVENT
DTSTART;TZID=America/Chicago:20240803T193000
DTEND;TZID=America/Chicago:20240803T230000
DTSTAMP:20260421T205854
CREATED:20240718T134710Z
LAST-MODIFIED:20240718T134710Z
UID:48256-1722713400-1722726000@ktex.com
SUMMARY:Washington Co. Fair Volunteer Appreciation Night (Brenham)
DESCRIPTION:Join us for an evening of live music and dancing from the Risky Liver Band. The 2024 Queen candidates and entertainment lineup will be announced! \nAll current volunteers at the Washington County Fair are invited to attend! Please RSVP using this link   \nhttps://www.washingtoncofair.com/p/thefair/volunteer-appreciation-party
URL:https://ktex.com/event/washington-co-fair-volunteer-appreciation-night-brenham/
LOCATION:Silver Wings Ballroom\, 4100 State Highway 105\, Brenham\, TX\, 77833\, United States
CATEGORIES:Community Events
ATTACH;FMTTYPE=image/jpeg:https://ktex.com/wp-content/uploads/2024/07/volunteer-app-night-aug.jpg
END:VEVENT
BEGIN:VEVENT
DTSTART;VALUE=DATE:20240804
DTEND;VALUE=DATE:20240805
DTSTAMP:20260421T205854
CREATED:20240730T191834Z
LAST-MODIFIED:20240730T191834Z
UID:48465-1722729600-1722815999@ktex.com
SUMMARY:Washington Co. Fair Commercial Steer Exhibitor Meeting
DESCRIPTION:
URL:https://ktex.com/event/washington-co-fair-commercial-steer-exhibitor-meeting/
LOCATION:Washington County Expo VIP Building\, 1305 E. Blue Bell Rd.\, Brenham\, TX\, 77833\, United States
CATEGORIES:Community Events
ATTACH;FMTTYPE=image/jpeg:https://ktex.com/wp-content/uploads/2024/07/comm-steer-mtg-aug.jpg
END:VEVENT
BEGIN:VEVENT
DTSTART;TZID=America/Chicago:20240804T080000
DTEND;TZID=America/Chicago:20240804T120000
DTSTAMP:20260421T205854
CREATED:20240708T183214Z
LAST-MODIFIED:20240708T183214Z
UID:48015-1722758400-1722772800@ktex.com
SUMMARY:Somerville Farmers' Market
DESCRIPTION:
URL:https://ktex.com/event/somerville-farmers-market/
LOCATION:TX
CATEGORIES:Community Events
ATTACH;FMTTYPE=image/jpeg:https://ktex.com/wp-content/uploads/2024/07/somerville-farmers-mkt.jpg
END:VEVENT
BEGIN:VEVENT
DTSTART;TZID=America/Chicago:20240804T080000
DTEND;TZID=America/Chicago:20240804T123000
DTSTAMP:20260421T205854
CREATED:20240715T213354Z
LAST-MODIFIED:20240715T213354Z
UID:48188-1722758400-1722774600@ktex.com
SUMMARY:Blood Drive (Brenham)
DESCRIPTION:
URL:https://ktex.com/event/blood-drive-brenham-3/
LOCATION:Cowboy Church of Brenham\, 4400 HWY 105\, Brenham\, TX\, 77833\, United States
CATEGORIES:Community Events
ATTACH;FMTTYPE=image/png:https://ktex.com/wp-content/uploads/2024/07/blood-drive-aug-4.png
END:VEVENT
BEGIN:VEVENT
DTSTART;TZID=America/Chicago:20240804T120000
DTEND;TZID=America/Chicago:20240804T160000
DTSTAMP:20260421T205854
CREATED:20240710T152522Z
LAST-MODIFIED:20240710T152522Z
UID:48101-1722772800-1722787200@ktex.com
SUMMARY:WABV Fall Wedding Show
DESCRIPTION:Planning a wedding? The WABV has all the best vendors in the Brazos Valley in one spot! Eilish will be there to help you find your wedding dream team!
URL:https://ktex.com/event/wabv-fall-wedding-show/
LOCATION:Brazos Center\, 3232 Briarcrest Dr.\, Bryan\, TX\, 77802\, United States
CATEGORIES:KTEX on the Road
END:VEVENT
BEGIN:VEVENT
DTSTART;VALUE=DATE:20240805
DTEND;VALUE=DATE:20240806
DTSTAMP:20260421T205854
CREATED:20240703T194523Z
LAST-MODIFIED:20240703T194523Z
UID:47980-1722816000-1722902399@ktex.com
SUMMARY:Burton Storytime Calendar of Events
DESCRIPTION:
URL:https://ktex.com/event/burton-storytime-calendar-of-events-2/
LOCATION:Burton Food Pantry\, Burton\, TX\, 77835\, United States
CATEGORIES:Community Events
ATTACH;FMTTYPE=image/jpeg:https://ktex.com/wp-content/uploads/2024/07/burton-storytime.jpg
END:VEVENT
BEGIN:VEVENT
DTSTART;VALUE=DATE:20240805
DTEND;VALUE=DATE:20240806
DTSTAMP:20260421T205854
CREATED:20240724T211257Z
LAST-MODIFIED:20240724T211257Z
UID:48365-1722816000-1722902399@ktex.com
SUMMARY:Brenham ISD Convocation Celebration
DESCRIPTION:
URL:https://ktex.com/event/brenham-isd-convocation-celebration/
LOCATION:Brenham High School\, 525 A H Ehrig Drive\, Brenham\, TX\, 77833\, United States
CATEGORIES:Community Events
ATTACH;FMTTYPE=image/jpeg:https://ktex.com/wp-content/uploads/2024/07/convocation-celebration-aug.jpg
END:VEVENT
BEGIN:VEVENT
DTSTART;VALUE=DATE:20240805
DTEND;VALUE=DATE:20240806
DTSTAMP:20260421T205854
CREATED:20240729T191647Z
LAST-MODIFIED:20240729T191647Z
UID:48441-1722816000-1722902399@ktex.com
SUMMARY:Ribbon Cutting-Texas Premier Boat & RV Storage (Sealy)
DESCRIPTION:
URL:https://ktex.com/event/ribbon-cutting-texas-premier-boat-rv-storage-sealy/
LOCATION:Texas Premier Boat & RV Storage\, 7311 TX-36\, Sealy\, TX\, 77474\, United States
CATEGORIES:Community Events
ATTACH;FMTTYPE=image/png:https://ktex.com/wp-content/uploads/2024/07/ribbon-cut-aug-5.png
END:VEVENT
BEGIN:VEVENT
DTSTART;VALUE=DATE:20240805
DTEND;VALUE=DATE:20240806
DTSTAMP:20260421T205854
CREATED:20240802T142628Z
LAST-MODIFIED:20240802T142628Z
UID:48507-1722816000-1722902399@ktex.com
SUMMARY:Jury Trial Canceled (Brenham)
DESCRIPTION:The Jury Trial scheduled for Monday\, August 5\, 2024 in the Washington County District Court in Brenham\, before Judge Reva Towslee Corbett has canceled. For anyone summoned to appear\, their services are no longer needed.
URL:https://ktex.com/event/jury-trial-canceled-brenham/
LOCATION:TX
CATEGORIES:Community Events
ATTACH;FMTTYPE=image/jpeg:https://ktex.com/wp-content/uploads/2024/07/jurytrialcanceledFEATURE-1.jpg
END:VEVENT
BEGIN:VEVENT
DTSTART;VALUE=DATE:20240805
DTEND;VALUE=DATE:20240810
DTSTAMP:20260421T205854
CREATED:20240730T135656Z
LAST-MODIFIED:20240730T140915Z
UID:48453-1722816000-1723247999@ktex.com
SUMMARY:Free Lunch for Kids (Brenham)
DESCRIPTION:
URL:https://ktex.com/event/free-lunch-for-kids-brenham-2/
LOCATION:City of Brenham Henderson Park\, 804 Old N. Market St.\, Brenham\, Texas\, 77833
CATEGORIES:Community Events
ATTACH;FMTTYPE=image/jpeg:https://ktex.com/wp-content/uploads/2024/07/free-lunch-for-kids.jpg
END:VEVENT
BEGIN:VEVENT
DTSTART;TZID=America/Chicago:20240805T110000
DTEND;TZID=America/Chicago:20240805T180000
DTSTAMP:20260421T205854
CREATED:20240730T191656Z
LAST-MODIFIED:20240730T191656Z
UID:48461-1722855600-1722880800@ktex.com
SUMMARY:Davila Middle School Schedule Pickup (Bryan)
DESCRIPTION:
URL:https://ktex.com/event/davila-middle-school-schedule-pickup-bryan/
LOCATION:Davila Middle School (Bryan)\, 2751 N. Earl Rudder Fwy.\, Bryan\, TX\, 77803\, United States
CATEGORIES:Community Events
ATTACH;FMTTYPE=image/jpeg:https://ktex.com/wp-content/uploads/2024/07/davila-middle-school.jpg
END:VEVENT
BEGIN:VEVENT
DTSTART;TZID=America/Chicago:20240805T160000
DTEND;TZID=America/Chicago:20240805T173000
DTSTAMP:20260421T205854
CREATED:20240801T172359Z
LAST-MODIFIED:20240801T172359Z
UID:48499-1722873600-1722879000@ktex.com
SUMMARY:Brenham Children's Chorus Enrollment
DESCRIPTION:
URL:https://ktex.com/event/brenham-childrens-chorus-enrollment/
LOCATION:Brenham Presbyterian Church\, 900 S Jackson St\, Brenham\, TX\, 77833\, United States
CATEGORIES:Community Events
ATTACH;FMTTYPE=image/png:https://ktex.com/wp-content/uploads/2024/08/bcc-enrollments.png
END:VEVENT
BEGIN:VEVENT
DTSTART;TZID=America/Chicago:20240805T170000
DTEND;TZID=America/Chicago:20240805T190000
DTSTAMP:20260421T205854
CREATED:20240802T172523Z
LAST-MODIFIED:20240802T172523Z
UID:48523-1722877200-1722884400@ktex.com
SUMMARY:College Application Workshop (Bryan)
DESCRIPTION:
URL:https://ktex.com/event/college-application-workshop-bryan/
LOCATION:Bryan Collegiate High School\, 1901 Villa Maria Rd.\, Bryan\, TX\, 77802\, United States
CATEGORIES:Community Events
ATTACH;FMTTYPE=image/jpeg:https://ktex.com/wp-content/uploads/2024/08/college-application-workshop.jpg
END:VEVENT
BEGIN:VEVENT
DTSTART;VALUE=DATE:20240806
DTEND;VALUE=DATE:20240807
DTSTAMP:20260421T205854
CREATED:20240708T183845Z
LAST-MODIFIED:20240708T183845Z
UID:48026-1722902400-1722988799@ktex.com
SUMMARY:High Blood Pressure Program
DESCRIPTION:
URL:https://ktex.com/event/high-blood-pressure-program/
LOCATION:Washington County Expo Event Center\, 1305 E. Blue Bell Rd.\, Brenham\, TX\, 77833\, United States
CATEGORIES:Community Events
ATTACH;FMTTYPE=image/jpeg:https://ktex.com/wp-content/uploads/2024/07/high-bp-program.jpg
END:VEVENT
BEGIN:VEVENT
DTSTART;VALUE=DATE:20240806
DTEND;VALUE=DATE:20240807
DTSTAMP:20260421T205854
CREATED:20240729T190204Z
LAST-MODIFIED:20240729T190204Z
UID:48427-1722902400-1722988799@ktex.com
SUMMARY:Swine Skillathon Contest (Bellville)
DESCRIPTION:
URL:https://ktex.com/event/swine-skillathon-contest-bellville/
LOCATION:Austin County AgriLife Extension Office\, 20 S Holland St. \, Bellville\, TX\, 77418\, United States
CATEGORIES:Community Events
ATTACH;FMTTYPE=image/jpeg:https://ktex.com/wp-content/uploads/2024/07/swine-skillathon.jpg
END:VEVENT
BEGIN:VEVENT
DTSTART;TZID=America/Chicago:20240806T080000
DTEND;TZID=America/Chicago:20240806T113000
DTSTAMP:20260421T205854
CREATED:20240726T172608Z
LAST-MODIFIED:20240726T172608Z
UID:48396-1722931200-1722943800@ktex.com
SUMMARY:Navasota Rattler Fish Camp
DESCRIPTION:Fish Camp Link to Register: https://rb.gy/wcxrbr
URL:https://ktex.com/event/navasota-rattler-fish-camp/
LOCATION:Navasota High School\, 1 Rattler Drive\, Navasota\, TX\, 77868\, United States
CATEGORIES:Community Events
ATTACH;FMTTYPE=image/png:https://ktex.com/wp-content/uploads/2024/07/rattler-fish-camp.png
END:VEVENT
BEGIN:VEVENT
DTSTART;TZID=America/Chicago:20240806T083000
DTEND;TZID=America/Chicago:20240806T110000
DTSTAMP:20260421T205854
CREATED:20240726T172825Z
LAST-MODIFIED:20240726T172825Z
UID:48399-1722933000-1722942000@ktex.com
SUMMARY:Navasota Fang Camp
DESCRIPTION:Fang Camp Link to Register: https://forms.gle/foFbwqbxKdUBJNnB6
URL:https://ktex.com/event/navasota-fang-camp/
LOCATION:Navasota Junior High School\, 9038 State Highway 90 South\, Navasota\, TX\, 77868\, United States
CATEGORIES:Community Events
ATTACH;FMTTYPE=image/jpeg:https://ktex.com/wp-content/uploads/2024/07/fang-camp.jpg
END:VEVENT
BEGIN:VEVENT
DTSTART;TZID=America/Chicago:20240806T100000
DTEND;TZID=America/Chicago:20240806T130000
DTSTAMP:20260421T205854
CREATED:20240723T142559Z
LAST-MODIFIED:20240723T142559Z
UID:48322-1722938400-1722949200@ktex.com
SUMMARY:Grimes County Back to School Supply Drive
DESCRIPTION:
URL:https://ktex.com/event/grimes-county-back-to-school-supply-drive/
LOCATION:Grimes County Fair & Expo\, 5220 FM RD 3455\, Navasota\, TX\, 77868\, United States
CATEGORIES:Community Events
ATTACH;FMTTYPE=image/jpeg:https://ktex.com/wp-content/uploads/2024/07/grimes-co-supply-drive.jpg
END:VEVENT
BEGIN:VEVENT
DTSTART;TZID=America/Chicago:20240806T180000
DTEND;TZID=America/Chicago:20240806T190000
DTSTAMP:20260421T205854
CREATED:20240726T173707Z
LAST-MODIFIED:20240726T173707Z
UID:48412-1722967200-1722970800@ktex.com
SUMMARY:Summer Parent Learning Series
DESCRIPTION:Join the Parent and Family Engagement Statewide Initiative and the CoolSpeak team for the first ever Parent Summer Learning Series. There will be 3 FREE online training sessions so that you can gain valuable parenting experience in the comfort of your own home or even backyard. Space is limited so get registered early for these events. \nhttps://pfetexas.net/summerparent
URL:https://ktex.com/event/summer-parent-learning-series/
LOCATION:TX
CATEGORIES:Community Events
ATTACH;FMTTYPE=image/jpeg:https://ktex.com/wp-content/uploads/2024/07/summer-parent-learning-aug.jpg
END:VEVENT
BEGIN:VEVENT
DTSTART;VALUE=DATE:20240807
DTEND;VALUE=DATE:20240808
DTSTAMP:20260421T205854
CREATED:20240710T210444Z
LAST-MODIFIED:20240710T210444Z
UID:48124-1722988800-1723075199@ktex.com
SUMMARY:4-H Sewing for a Cause
DESCRIPTION:
URL:https://ktex.com/event/4-h-sewing-for-a-cause/
LOCATION:Washington County Expo Gathering Place\, 1305 East Blue Bell Road\, Brenham\, TX\, 77833\, United States
CATEGORIES:Community Events
ATTACH;FMTTYPE=image/png:https://ktex.com/wp-content/uploads/2024/07/4-h-sewing-for-a-cause.png
END:VEVENT
BEGIN:VEVENT
DTSTART;VALUE=DATE:20240807
DTEND;VALUE=DATE:20240809
DTSTAMP:20260421T205854
CREATED:20240528T210402Z
LAST-MODIFIED:20240528T210402Z
UID:47414-1722988800-1723161599@ktex.com
SUMMARY:Brenham ISD Back 2 School Events
DESCRIPTION:
URL:https://ktex.com/event/brenham-isd-back-2-school-events/
LOCATION:TX
CATEGORIES:Community Events
ATTACH;FMTTYPE=image/jpeg:https://ktex.com/wp-content/uploads/2024/05/bisd-back-to-school-august-24.jpg
END:VEVENT
BEGIN:VEVENT
DTSTART;TZID=America/Chicago:20240807T101500
DTEND;TZID=America/Chicago:20240807T160000
DTSTAMP:20260421T205854
CREATED:20240709T140857Z
LAST-MODIFIED:20240709T140857Z
UID:48065-1723025700-1723046400@ktex.com
SUMMARY:Calling All Incoming 9th Graders to BHS & RHS
DESCRIPTION:
URL:https://ktex.com/event/calling-all-incoming-9th-graders-to-bhs-rhs-2/
LOCATION:TX
CATEGORIES:Community Events
ATTACH;FMTTYPE=image/jpeg:https://ktex.com/wp-content/uploads/2024/07/rudder-rookies.jpg
END:VEVENT
BEGIN:VEVENT
DTSTART;TZID=America/Chicago:20240807T110000
DTEND;TZID=America/Chicago:20240807T130000
DTSTAMP:20260421T205854
CREATED:20231227T150442Z
LAST-MODIFIED:20231227T150442Z
UID:44705-1723028400-1723035600@ktex.com
SUMMARY:Cards Club
DESCRIPTION:
URL:https://ktex.com/event/cards-club-8/
LOCATION:Blue Bell Aquatic Center\, 1800 E Tom Green St\, Brenham\, TX\, 77833\, United States
CATEGORIES:Community Events
ATTACH;FMTTYPE=image/jpeg:https://ktex.com/wp-content/uploads/2023/12/cards-club.jpg
END:VEVENT
BEGIN:VEVENT
DTSTART;TZID=America/Chicago:20240807T110000
DTEND;TZID=America/Chicago:20240807T130000
DTSTAMP:20260421T205854
CREATED:20240805T135200Z
LAST-MODIFIED:20240805T135200Z
UID:48536-1723028400-1723035600@ktex.com
SUMMARY:Back to School Bash (Bryan)
DESCRIPTION:
URL:https://ktex.com/event/back-to-school-bash-bryan/
LOCATION:Lampstand Nursing & Rehab\, 2001 E 29th Street\, Bryan\, TX\, 77802\, United States
CATEGORIES:Community Events
ATTACH;FMTTYPE=image/jpeg:https://ktex.com/wp-content/uploads/2024/08/back-to-sch-bash-aug-7.jpg
END:VEVENT
BEGIN:VEVENT
DTSTART;TZID=America/Chicago:20240807T160000
DTEND;TZID=America/Chicago:20240807T170000
DTSTAMP:20260421T205854
CREATED:20240702T192324Z
LAST-MODIFIED:20240702T192324Z
UID:47932-1723046400-1723050000@ktex.com
SUMMARY:LEGO Club Meeting
DESCRIPTION:
URL:https://ktex.com/event/lego-club-meeting-2/
LOCATION:White Horse Tavern\, 400 N. Main Street\, Burton\, TX\, 77835\, United States
CATEGORIES:Community Events
ATTACH;FMTTYPE=image/jpeg:https://ktex.com/wp-content/uploads/2024/07/LEGO-club.jpg
END:VEVENT
BEGIN:VEVENT
DTSTART;TZID=America/Chicago:20240807T160000
DTEND;TZID=America/Chicago:20240807T173000
DTSTAMP:20260421T205854
CREATED:20240729T190947Z
LAST-MODIFIED:20240729T193701Z
UID:48432-1723046400-1723051800@ktex.com
SUMMARY:Meet & Greet with the Brahma Cheerleaders (Bellville)
DESCRIPTION:
URL:https://ktex.com/event/meet-greet-with-the-brahma-cheerleaders-bellville/
LOCATION:Old 300 Title\, 20 S Holland St.\, Bellville\, TX\, 77418\, United States
CATEGORIES:Community Events
ATTACH;FMTTYPE=image/png:https://ktex.com/wp-content/uploads/2024/07/meet-the-brahma-aug-7.png
END:VEVENT
END:VCALENDAR