BEGIN:VCALENDAR
VERSION:2.0
PRODID:-//KTEX 106.1 - ECPv6.15.20//NONSGML v1.0//EN
CALSCALE:GREGORIAN
METHOD:PUBLISH
X-WR-CALNAME:KTEX 106.1
X-ORIGINAL-URL:https://ktex.com
X-WR-CALDESC:Events for KTEX 106.1
REFRESH-INTERVAL;VALUE=DURATION:PT1H
X-Robots-Tag:noindex
X-PUBLISHED-TTL:PT1H
BEGIN:VTIMEZONE
TZID:America/Chicago
BEGIN:DAYLIGHT
TZOFFSETFROM:-0600
TZOFFSETTO:-0500
TZNAME:CDT
DTSTART:20230312T080000
END:DAYLIGHT
BEGIN:STANDARD
TZOFFSETFROM:-0500
TZOFFSETTO:-0600
TZNAME:CST
DTSTART:20231105T070000
END:STANDARD
BEGIN:DAYLIGHT
TZOFFSETFROM:-0600
TZOFFSETTO:-0500
TZNAME:CDT
DTSTART:20240310T080000
END:DAYLIGHT
BEGIN:STANDARD
TZOFFSETFROM:-0500
TZOFFSETTO:-0600
TZNAME:CST
DTSTART:20241103T070000
END:STANDARD
BEGIN:DAYLIGHT
TZOFFSETFROM:-0600
TZOFFSETTO:-0500
TZNAME:CDT
DTSTART:20250309T080000
END:DAYLIGHT
BEGIN:STANDARD
TZOFFSETFROM:-0500
TZOFFSETTO:-0600
TZNAME:CST
DTSTART:20251102T070000
END:STANDARD
END:VTIMEZONE
BEGIN:VEVENT
DTSTART;TZID=America/Chicago:20240727T090000
DTEND;TZID=America/Chicago:20240727T150000
DTSTAMP:20260421T205607
CREATED:20240715T204059Z
LAST-MODIFIED:20240715T204059Z
UID:48181-1722070800-1722092400@ktex.com
SUMMARY:Christmas in July-Sip & Shop
DESCRIPTION:
URL:https://ktex.com/event/christmas-in-july-sip-shop/
LOCATION:The Silos on 77\, 1031 CR 223\, Giddings\, TX\, 78942\, United States
CATEGORIES:Community Events
ATTACH;FMTTYPE=image/jpeg:https://ktex.com/wp-content/uploads/2024/07/christmas-in-july-sip-shop-july-27.jpg
END:VEVENT
BEGIN:VEVENT
DTSTART;TZID=America/Chicago:20240727T100000
DTEND;TZID=America/Chicago:20240727T113000
DTSTAMP:20260421T205607
CREATED:20240709T141605Z
LAST-MODIFIED:20240709T141605Z
UID:48071-1722074400-1722079800@ktex.com
SUMMARY:FREE Diapers & Fun
DESCRIPTION:
URL:https://ktex.com/event/free-diapers-fun/
LOCATION:Central Park College Station\, 1000 Krenek Tap Road\, College Station \, Texas
CATEGORIES:Community Events
ATTACH;FMTTYPE=image/jpeg:https://ktex.com/wp-content/uploads/2024/07/diapers-give-a-way.jpg
END:VEVENT
BEGIN:VEVENT
DTSTART;TZID=America/Chicago:20240727T100000
DTEND;TZID=America/Chicago:20240727T130000
DTSTAMP:20260421T205607
CREATED:20240715T214023Z
LAST-MODIFIED:20240715T214023Z
UID:48195-1722074400-1722085200@ktex.com
SUMMARY:Backpacks for Brighter Futures (Bryan)
DESCRIPTION:
URL:https://ktex.com/event/backpacks-for-brighter-futures-bryan/
LOCATION:Family Resource Center\, 1400 Beck Street\, Bryan\, TX\, 77803\, United States
CATEGORIES:Community Events
ATTACH;FMTTYPE=image/jpeg:https://ktex.com/wp-content/uploads/2024/07/backpacks-for-brighter-futures.jpg
END:VEVENT
BEGIN:VEVENT
DTSTART;TZID=America/Chicago:20240727T180000
DTEND;TZID=America/Chicago:20240727T210000
DTSTAMP:20260421T205607
CREATED:20240722T193823Z
LAST-MODIFIED:20240722T193823Z
UID:48296-1722103200-1722114000@ktex.com
SUMMARY:Cold Brews at Ant Street Inn-Craft Beer Tasting (Brenham)
DESCRIPTION:The Zythological Society of North America\, Texas Chapter will be hosting the 2024 Hot Nights Cold Brews beer tasting\, during the Hot Nights Cool Tunes concert on Saturday\, July 27th at Ant Street Inn.  The craft beer tasting will be held from 6-9PM and tickets will be $20 per person\, which will include (20) twenty tastings.  Tickets can be purchased at the event\, or online at www.zythological.com.  There will over 20 different craft beers available to sample during the event. 
URL:https://ktex.com/event/cold-brews-at-ant-street-inn-craft-beer-tasting-brenham/
LOCATION:Ant Street Inn\, 107 W. Commerce Street\, Brenham\, TX\, 77833\, United States
CATEGORIES:Community Events
ATTACH;FMTTYPE=image/jpeg:https://ktex.com/wp-content/uploads/2024/07/zyth-new-logo.jpg
END:VEVENT
BEGIN:VEVENT
DTSTART;TZID=America/Chicago:20240728T143000
DTEND;TZID=America/Chicago:20240728T160000
DTSTAMP:20260421T205607
CREATED:20240723T201249Z
LAST-MODIFIED:20240723T201249Z
UID:48335-1722177000-1722182400@ktex.com
SUMMARY:Family and Friends Day Worship Service at Souls Chapel (Washington)
DESCRIPTION:Rev. Patricia R. Graves and the members of the Souls Chapel AME Church in Washington are hosting Family and Friends Day worship service on Sunday\, July 28\, 2:30PM start time.  Reverend Dr. John D. Harris of Mt. Rose Missionary Baptist Church and congregation are the special guests
URL:https://ktex.com/event/family-and-friends-day-worship-service-at-souls-chapel-washington/
LOCATION:Souls Chapel A.M.E. Church (Washington)\, 13579 Whitman Road\, Washington\, TX\, 77880\, United States
CATEGORIES:Community Events
ATTACH;FMTTYPE=image/jpeg:https://ktex.com/wp-content/uploads/2024/07/souls-chapel-amec-Washington-SIGN.jpg
END:VEVENT
BEGIN:VEVENT
DTSTART;TZID=America/Chicago:20240728T143000
DTEND;TZID=America/Chicago:20240728T160000
DTSTAMP:20260421T205607
CREATED:20240724T151755Z
LAST-MODIFIED:20240724T151755Z
UID:48350-1722177000-1722182400@ktex.com
SUMMARY:Women's Day Celebrated at New Hope MBC (Brenham)
DESCRIPTION:
URL:https://ktex.com/event/womens-day-celebrated-at-new-hope-mbc-brenham/
LOCATION:New Hope Missionary Baptist Church (Brenham)\, 704 W. Jefferson St.\, Brenham\, TX\, 77833\, United States
CATEGORIES:Community Events
ATTACH;FMTTYPE=image/png:https://ktex.com/wp-content/uploads/2024/07/new-hope-womens-day-july.png
END:VEVENT
BEGIN:VEVENT
DTSTART;TZID=America/Chicago:20240728T150000
DTEND;TZID=America/Chicago:20240728T163000
DTSTAMP:20260421T205607
CREATED:20240717T134026Z
LAST-MODIFIED:20240717T134026Z
UID:48218-1722178800-1722184200@ktex.com
SUMMARY:Homecoming and Family & Friends Day at Sauney Chapel (Chappell Hill)
DESCRIPTION:
URL:https://ktex.com/event/homecoming-and-family-friends-day-at-sauney-chapel-chappell-hill/
LOCATION:Sauney Chapel African Methodist Episcopal Church (Chappell Hill)\, 13601 FM 1371\, Chappell Hill\, TX\, 77426\, United States
CATEGORIES:Community Events
ATTACH;FMTTYPE=image/jpeg:https://ktex.com/wp-content/uploads/2024/07/sauney-chapel-july-28.jpg
END:VEVENT
BEGIN:VEVENT
DTSTART;VALUE=DATE:20240729
DTEND;VALUE=DATE:20240801
DTSTAMP:20260421T205607
CREATED:20240430T152236Z
LAST-MODIFIED:20240430T152236Z
UID:47028-1722211200-1722470399@ktex.com
SUMMARY:Brenham Volleyball Camp 2024
DESCRIPTION:
URL:https://ktex.com/event/brenham-volleyball-camp-2024/
LOCATION:TX
CATEGORIES:Community Events
ATTACH;FMTTYPE=image/jpeg:https://ktex.com/wp-content/uploads/2024/04/vb-camp-july.jpg
END:VEVENT
BEGIN:VEVENT
DTSTART;VALUE=DATE:20240729
DTEND;VALUE=DATE:20240802
DTSTAMP:20260421T205607
CREATED:20240311T185141Z
LAST-MODIFIED:20240311T185141Z
UID:46091-1722211200-1722556799@ktex.com
SUMMARY:Bellville ISD Summer Football Camp
DESCRIPTION:
URL:https://ktex.com/event/bellville-isd-summer-football-camp/
LOCATION:Bellville High School\, 850 Schumann Rd\, Bellville\, TX\, 77418\, United States
CATEGORIES:Community Events
ATTACH;FMTTYPE=image/jpeg:https://ktex.com/wp-content/uploads/2024/03/bellville-isd-summer-camps.jpg
END:VEVENT
BEGIN:VEVENT
DTSTART;VALUE=DATE:20240729
DTEND;VALUE=DATE:20240802
DTSTAMP:20260421T205607
CREATED:20240717T210504Z
LAST-MODIFIED:20240717T210504Z
UID:48250-1722211200-1722556799@ktex.com
SUMMARY:Mt. Olive District Annual Session (Brenham)
DESCRIPTION:
URL:https://ktex.com/event/mt-olive-district-annual-session-brenham/
LOCATION:Mt. Olive District Association Campus\, 1502 Mount Olive Street\, Brenham\, TX\, 77833\, United States
CATEGORIES:Community Events
ATTACH;FMTTYPE=image/jpeg:https://ktex.com/wp-content/uploads/2024/07/mt-olive-session-july-29.jpg
END:VEVENT
BEGIN:VEVENT
DTSTART;VALUE=DATE:20240729
DTEND;VALUE=DATE:20240803
DTSTAMP:20260421T205607
CREATED:20240726T134633Z
LAST-MODIFIED:20240726T134633Z
UID:48383-1722211200-1722643199@ktex.com
SUMMARY:Shark Week at Blue Bell Aquatic Center
DESCRIPTION:
URL:https://ktex.com/event/shark-week-at-blue-bell-aquatic-center/
LOCATION:Blue Bell Aquatic Center\, 1800 E Tom Green St\, Brenham\, TX\, 77833\, United States
CATEGORIES:Community Events
ATTACH;FMTTYPE=image/jpeg:https://ktex.com/wp-content/uploads/2024/07/shark-week-bbac.jpg
END:VEVENT
BEGIN:VEVENT
DTSTART;TZID=America/Chicago:20240729T080000
DTEND;TZID=America/Chicago:20240729T160000
DTSTAMP:20260421T205607
CREATED:20240726T172320Z
LAST-MODIFIED:20240726T172320Z
UID:48393-1722240000-1722268800@ktex.com
SUMMARY:Navasota ISD Pre-K and Kindergarten Registration
DESCRIPTION:
URL:https://ktex.com/event/navasota-isd-pre-k-and-kindergarten-registration/
LOCATION:TX
CATEGORIES:Community Events
ATTACH;FMTTYPE=image/png:https://ktex.com/wp-content/uploads/2024/07/nisd-registration-july-29.png
END:VEVENT
BEGIN:VEVENT
DTSTART;TZID=America/Chicago:20240729T090000
DTEND;TZID=America/Chicago:20240729T150000
DTSTAMP:20260421T205607
CREATED:20240724T210448Z
LAST-MODIFIED:20240724T210448Z
UID:48358-1722243600-1722265200@ktex.com
SUMMARY:Back to School Vaccines (Brenham)
DESCRIPTION:
URL:https://ktex.com/event/back-to-school-vaccines-brenham/
LOCATION:Brenham Middle School Cafeteria\, 1600 South Blue Bell Rd.\, Brenham\, 77833
CATEGORIES:Community Events
ATTACH;FMTTYPE=image/jpeg:https://ktex.com/wp-content/uploads/2024/07/back-to-school-vaccines-aug.jpg
END:VEVENT
BEGIN:VEVENT
DTSTART;TZID=America/Chicago:20240729T170000
DTEND;TZID=America/Chicago:20240729T190000
DTSTAMP:20260421T205607
CREATED:20240709T142239Z
LAST-MODIFIED:20240709T142239Z
UID:48078-1722272400-1722279600@ktex.com
SUMMARY:Back-to-School Blast (Caldwell)
DESCRIPTION:
URL:https://ktex.com/event/back-to-school-blast-caldwell/
LOCATION:Burleson County Expo Center\, Located on Fair Grounds\, Hwy 36S\, Caldwell\, Caldwell\, TX\, 77879\, United States
CATEGORIES:Community Events
ATTACH;FMTTYPE=image/jpeg:https://ktex.com/wp-content/uploads/2024/07/back-to-school-blast-burl-co.jpg
END:VEVENT
BEGIN:VEVENT
DTSTART;VALUE=DATE:20240730
DTEND;VALUE=DATE:20240803
DTSTAMP:20260421T205607
CREATED:20240730T135513Z
LAST-MODIFIED:20240730T140843Z
UID:48449-1722297600-1722643199@ktex.com
SUMMARY:Free Lunch for Kids (Brenham)
DESCRIPTION:
URL:https://ktex.com/event/free-lunch-for-kids-brenham/
LOCATION:City of Brenham Henderson Park\, 804 Old N. Market St.\, Brenham\, Texas\, 77833
CATEGORIES:Community Events
ATTACH;FMTTYPE=image/jpeg:https://ktex.com/wp-content/uploads/2024/07/free-lunch-for-kids.jpg
END:VEVENT
BEGIN:VEVENT
DTSTART;TZID=America/Chicago:20240730T110000
DTEND;TZID=America/Chicago:20240730T153000
DTSTAMP:20260421T205607
CREATED:20240701T201658Z
LAST-MODIFIED:20240701T201736Z
UID:47909-1722337200-1722353400@ktex.com
SUMMARY:Blood Drive (Brenham)
DESCRIPTION:
URL:https://ktex.com/event/blood-drive-2/
LOCATION:Washington County Expo Event Center\, 1305 E. Blue Bell Rd.\, Brenham\, TX\, 77833\, United States
CATEGORIES:Community Events
ATTACH;FMTTYPE=image/png:https://ktex.com/wp-content/uploads/2024/07/blood-drive-july-30.png
END:VEVENT
BEGIN:VEVENT
DTSTART;TZID=America/Chicago:20240730T173000
DTEND;TZID=America/Chicago:20240730T190000
DTSTAMP:20260421T205607
CREATED:20240711T195428Z
LAST-MODIFIED:20240711T195428Z
UID:48142-1722360600-1722366000@ktex.com
SUMMARY:Ice Cream Social & School Supply Drive (Burton)
DESCRIPTION:
URL:https://ktex.com/event/ice-cream-social-school-supply-drive-burton/
LOCATION:TX
CATEGORIES:Community Events
ATTACH;FMTTYPE=image/png:https://ktex.com/wp-content/uploads/2024/07/ice-cream-social-school-supply-drive-july.png
END:VEVENT
BEGIN:VEVENT
DTSTART;VALUE=DATE:20240731
DTEND;VALUE=DATE:20240801
DTSTAMP:20260421T205607
CREATED:20240311T182307Z
LAST-MODIFIED:20240311T182307Z
UID:46057-1722384000-1722470399@ktex.com
SUMMARY:Mental Health First Aid
DESCRIPTION:
URL:https://ktex.com/event/mental-health-first-aid-3/
LOCATION:Brazos County Health District\, 201 North Texas Ave\, Bryan\, TX\, 77803\, United States
CATEGORIES:Community Events
ATTACH;FMTTYPE=image/jpeg:https://ktex.com/wp-content/uploads/2024/03/mental-health-first-aid.jpg
END:VEVENT
BEGIN:VEVENT
DTSTART;VALUE=DATE:20240731
DTEND;VALUE=DATE:20240815
DTSTAMP:20260421T205607
CREATED:20240723T144700Z
LAST-MODIFIED:20240723T144700Z
UID:48329-1722384000-1723679999@ktex.com
SUMMARY:Bryan ISD Football Season Ticket Sales
DESCRIPTION:
URL:https://ktex.com/event/bryan-isd-football-season-ticket-sales/
LOCATION:TX
CATEGORIES:Community Events
ATTACH;FMTTYPE=image/jpeg:https://ktex.com/wp-content/uploads/2024/07/bryan-isd-athletics.jpg
END:VEVENT
BEGIN:VEVENT
DTSTART;VALUE=DATE:20240731
DTEND;VALUE=DATE:20240821
DTSTAMP:20260421T205607
CREATED:20240731T145159Z
LAST-MODIFIED:20240731T145159Z
UID:48480-1722384000-1724198399@ktex.com
SUMMARY:Brenham Flag Football League-Registration is Now Open
DESCRIPTION:
URL:https://ktex.com/event/brenham-flag-football-league-registration-is-now-open/
LOCATION:TX
CATEGORIES:Community Events
ATTACH;FMTTYPE=image/jpeg:https://ktex.com/wp-content/uploads/2024/07/br-flag-football-league.jpg
END:VEVENT
BEGIN:VEVENT
DTSTART;VALUE=DATE:20240801
DTEND;VALUE=DATE:20240802
DTSTAMP:20260421T205607
CREATED:20231227T205242Z
LAST-MODIFIED:20231227T205242Z
UID:44724-1722470400-1722556799@ktex.com
SUMMARY:Giddings Chamber of Commerce Events
DESCRIPTION:
URL:https://ktex.com/event/giddings-chamber-of-commerce-events-5/
LOCATION:TX
CATEGORIES:Community Events
ATTACH;FMTTYPE=image/jpeg:https://ktex.com/wp-content/uploads/2023/12/lee-county-chamber-events.jpg
END:VEVENT
BEGIN:VEVENT
DTSTART;VALUE=DATE:20240801
DTEND;VALUE=DATE:20240804
DTSTAMP:20260421T205607
CREATED:20240801T172101Z
LAST-MODIFIED:20240801T172101Z
UID:48493-1722470400-1722729599@ktex.com
SUMMARY:School Supply Donations Drop Off (Burton)
DESCRIPTION:
URL:https://ktex.com/event/school-supply-donations-drop-off-burton/
LOCATION:Texas Cotton Gin Museum\, 307 North Main St.\, Burton\, TX\, 77835\, United States
CATEGORIES:Community Events
ATTACH;FMTTYPE=image/jpeg:https://ktex.com/wp-content/uploads/2024/08/school-supply-donations.jpg
END:VEVENT
BEGIN:VEVENT
DTSTART;VALUE=DATE:20240801
DTEND;VALUE=DATE:20240805
DTSTAMP:20260421T205607
CREATED:20240729T212406Z
LAST-MODIFIED:20240729T212406Z
UID:48446-1722470400-1722815999@ktex.com
SUMMARY:Schulenburg Festival
DESCRIPTION:
URL:https://ktex.com/event/schulenburg-festival/
LOCATION:Wolters Park\, Schulenburg\, TX\, 78956
CATEGORIES:Community Events
ATTACH;FMTTYPE=image/jpeg:https://ktex.com/wp-content/uploads/2024/07/schulenburg-fest-aug.jpg
END:VEVENT
BEGIN:VEVENT
DTSTART;VALUE=DATE:20240801
DTEND;VALUE=DATE:20240816
DTSTAMP:20260421T205607
CREATED:20240711T134906Z
LAST-MODIFIED:20240711T134906Z
UID:48131-1722470400-1723766399@ktex.com
SUMMARY:FREE Breakfast & Lunch for All Bryan ISD Students
DESCRIPTION:
URL:https://ktex.com/event/free-breakfast-lunch-for-all-bryan-isd-students/
LOCATION:TX
CATEGORIES:Community Events
ATTACH;FMTTYPE=image/jpeg:https://ktex.com/wp-content/uploads/2024/07/bryan-isd-free-lunches.jpg
END:VEVENT
BEGIN:VEVENT
DTSTART;TZID=America/Chicago:20240801T074500
DTEND;TZID=America/Chicago:20240801T090000
DTSTAMP:20260421T205607
CREATED:20240724T163939Z
LAST-MODIFIED:20240724T163939Z
UID:48353-1722498300-1722502800@ktex.com
SUMMARY:Wake Up\, Washington County Networking Breakfast
DESCRIPTION:
URL:https://ktex.com/event/wake-up-washington-county-networking-breakfast-4/
LOCATION:Citadel Christian School (Brenham)\, 2111 South Blue Bell Rd.\, Brenham\, TX\, 77833\, United States
CATEGORIES:Community Events
ATTACH;FMTTYPE=image/jpeg:https://ktex.com/wp-content/uploads/2024/07/wake-up-aug-1.jpg
END:VEVENT
BEGIN:VEVENT
DTSTART;TZID=America/Chicago:20240801T100000
DTEND;TZID=America/Chicago:20240801T143000
DTSTAMP:20260421T205607
CREATED:20240724T142038Z
LAST-MODIFIED:20240724T142038Z
UID:48344-1722506400-1722522600@ktex.com
SUMMARY:Blood Drive at First Presbyterian (Bryan)
DESCRIPTION:
URL:https://ktex.com/event/blood-drive-at-first-presbyterian-bryan/
LOCATION:First Presbyterian Church (Bryan)\, 1100 Carter Creek Pkwy.\, Bryan\, TX\, 77802\, United States
CATEGORIES:Community Events
ATTACH;FMTTYPE=image/jpeg:https://ktex.com/wp-content/uploads/2024/07/blood-drive-aug-1.jpg
END:VEVENT
BEGIN:VEVENT
DTSTART;TZID=America/Chicago:20240801T153000
DTEND;TZID=America/Chicago:20240801T170000
DTSTAMP:20260421T205607
CREATED:20240801T172244Z
LAST-MODIFIED:20240801T172244Z
UID:48496-1722526200-1722531600@ktex.com
SUMMARY:Brenham Children's Chorus Enrollments
DESCRIPTION:
URL:https://ktex.com/event/brenham-childrens-chorus-enrollments/
LOCATION:Brenham Presbyterian Church\, 900 S Jackson St\, Brenham\, TX\, 77833\, United States
CATEGORIES:Community Events
ATTACH;FMTTYPE=image/png:https://ktex.com/wp-content/uploads/2024/08/bcc-enrollments.png
END:VEVENT
BEGIN:VEVENT
DTSTART;TZID=America/Chicago:20240801T183000
DTEND;TZID=America/Chicago:20240801T200000
DTSTAMP:20260421T205607
CREATED:20231221T151940Z
LAST-MODIFIED:20231221T151940Z
UID:44636-1722537000-1722542400@ktex.com
SUMMARY:NAMI Connection Recovery Support Group Meetings
DESCRIPTION:Weekly meeting on Thursdays\, 6:30 – 8:00 pm CST at St. Peters Episcopal Church in Brenham\n\nNAMI-Brazos Valley serves a seven-county area (Brazos Valley):  Brazos\, Burleson\, Grimes\, Leon\, Madison\, Roberts\, and Washington Counties\nWebsite:  NamiBV.org\nPhone:  979 774-4713
URL:https://ktex.com/event/nami-connection-recovery-support-group-meetings-7/
LOCATION:St. Peter’s Episcopal Church (Brenham)\, 2310 Airline Dr.\, Brenham\, TX\, 77833\, United States
CATEGORIES:Community Events
ATTACH;FMTTYPE=image/png:https://ktex.com/wp-content/uploads/2023/12/nami-connection-recovery-supp-gr.png
END:VEVENT
BEGIN:VEVENT
DTSTART;TZID=America/Chicago:20240801T193000
DTEND;TZID=America/Chicago:20240801T230000
DTSTAMP:20260421T205607
CREATED:20240710T152756Z
LAST-MODIFIED:20240710T152756Z
UID:48103-1722540600-1722553200@ktex.com
SUMMARY:Washington County Fair Volunteer Appreciation Night
DESCRIPTION:If you’re a volunteer for the Washington County Fair\, this night is all for you! Ryan Stone and Courtney Cartwright will be there to celebrate you and to announce the lineup for the 2024 Fair!
URL:https://ktex.com/event/washington-county-fair-volunteer-appreciation-night/
LOCATION:Silver Wings Ballroom\, 4100 State Highway 105\, Brenham\, TX\, 77833\, United States
CATEGORIES:KTEX on the Road
END:VEVENT
BEGIN:VEVENT
DTSTART;VALUE=DATE:20240802
DTEND;VALUE=DATE:20240803
DTSTAMP:20260421T205607
CREATED:20240328T201823Z
LAST-MODIFIED:20240328T201823Z
UID:46511-1722556800-1722643199@ktex.com
SUMMARY:Downtown Brenham Farmer & Artisan Market
DESCRIPTION:First Fridays Farmers & Artisan Market is an open-air market with local artisan/craft\, cottage food\, farm-to-market\, small business\, and retail vendors. Each month we offer live musical performances located in Historic Downtown Brenham. We try to create a unique shopping experience for everyone by offering a mix of vendors that complement one another and the surrounding Downtown businesses.
URL:https://ktex.com/event/downtown-brenham-farmer-artisan-market-5/
LOCATION:Downtown Brenham
CATEGORIES:Community Events
ATTACH;FMTTYPE=image/png:https://ktex.com/wp-content/uploads/2024/03/farmer-and-artisan-market-april-sept.png
END:VEVENT
END:VCALENDAR