BEGIN:VCALENDAR
VERSION:2.0
PRODID:-//KTEX 106.1 - ECPv6.15.20//NONSGML v1.0//EN
CALSCALE:GREGORIAN
METHOD:PUBLISH
X-ORIGINAL-URL:https://ktex.com
X-WR-CALDESC:Events for KTEX 106.1
REFRESH-INTERVAL;VALUE=DURATION:PT1H
X-Robots-Tag:noindex
X-PUBLISHED-TTL:PT1H
BEGIN:VTIMEZONE
TZID:America/Chicago
BEGIN:DAYLIGHT
TZOFFSETFROM:-0600
TZOFFSETTO:-0500
TZNAME:CDT
DTSTART:20230312T080000
END:DAYLIGHT
BEGIN:STANDARD
TZOFFSETFROM:-0500
TZOFFSETTO:-0600
TZNAME:CST
DTSTART:20231105T070000
END:STANDARD
BEGIN:DAYLIGHT
TZOFFSETFROM:-0600
TZOFFSETTO:-0500
TZNAME:CDT
DTSTART:20240310T080000
END:DAYLIGHT
BEGIN:STANDARD
TZOFFSETFROM:-0500
TZOFFSETTO:-0600
TZNAME:CST
DTSTART:20241103T070000
END:STANDARD
BEGIN:DAYLIGHT
TZOFFSETFROM:-0600
TZOFFSETTO:-0500
TZNAME:CDT
DTSTART:20250309T080000
END:DAYLIGHT
BEGIN:STANDARD
TZOFFSETFROM:-0500
TZOFFSETTO:-0600
TZNAME:CST
DTSTART:20251102T070000
END:STANDARD
END:VTIMEZONE
BEGIN:VEVENT
DTSTART;TZID=America/Chicago:20240817T103000
DTEND;TZID=America/Chicago:20240817T143000
DTSTAMP:20260422T175020
CREATED:20240813T211618Z
LAST-MODIFIED:20240813T212055Z
UID:48710-1723890600-1723905000@ktex.com
SUMMARY:Blood Drive (Navasota)
DESCRIPTION:
URL:https://ktex.com/event/blood-drive-navasota/
LOCATION:St. Paul’s Episcopal Church (Navasota)\, 414 McAlpine Street\, Navasota\, TX\, 77868\, United States
CATEGORIES:Community Events
ATTACH;FMTTYPE=image/jpeg:https://ktex.com/wp-content/uploads/2024/08/blood-drive-aug-17.jpg
END:VEVENT
BEGIN:VEVENT
DTSTART;TZID=America/Chicago:20240817T173000
DTEND;TZID=America/Chicago:20240817T233000
DTSTAMP:20260422T175020
CREATED:20231114T190755Z
LAST-MODIFIED:20231114T190755Z
UID:44086-1723915800-1723937400@ktex.com
SUMMARY:It's a 70's Thing-BHS Class Reunion
DESCRIPTION:Brenham High School Students\n1970-1979 Class Reunion\nFB:  Brenham High School 70’s Reunion
URL:https://ktex.com/event/its-a-70s-thing-bhs-class-reunion/
LOCATION:Brenham Fire Department Training Center\, 1101 Hwy 290 West\, Brenham\, TX\, 77833\, United States
CATEGORIES:Community Events
ATTACH;FMTTYPE=image/jpeg:https://ktex.com/wp-content/uploads/2023/11/bhs-class-reunion-70s.jpg
END:VEVENT
BEGIN:VEVENT
DTSTART;VALUE=DATE:20240818
DTEND;VALUE=DATE:20240819
DTSTAMP:20260422T175020
CREATED:20240812T210124Z
LAST-MODIFIED:20240812T210124Z
UID:48654-1723939200-1724025599@ktex.com
SUMMARY:VOLUNTEERS NEEDED Community Service Clean Up Day (Austin County)
DESCRIPTION:
URL:https://ktex.com/event/volunteers-needed-community-service-clean-up-day-austin-county/
LOCATION:Austin County Fairgrounds\, 1076 East Hill\, Bellville\, TX\, 77418\, United States
CATEGORIES:Community Events
ATTACH;FMTTYPE=image/jpeg:https://ktex.com/wp-content/uploads/2024/08/volunteers-needed-ac-fairgrounds.jpg
END:VEVENT
BEGIN:VEVENT
DTSTART;VALUE=DATE:20240819
DTEND;VALUE=DATE:20240820
DTSTAMP:20260422T175020
CREATED:20240802T172136Z
LAST-MODIFIED:20240802T172136Z
UID:48519-1724025600-1724111999@ktex.com
SUMMARY:Meet the Buffs (Giddings)
DESCRIPTION:
URL:https://ktex.com/event/meet-the-buffs-giddings/
LOCATION:Giddings Buffalo Stadium\, 2335 N. Main Street\, Giddings\, TX\, 78942\, United States
CATEGORIES:Community Events
ATTACH;FMTTYPE=image/jpeg:https://ktex.com/wp-content/uploads/2024/08/meet-the-buffs.jpg
END:VEVENT
BEGIN:VEVENT
DTSTART;VALUE=DATE:20240819
DTEND;VALUE=DATE:20240820
DTSTAMP:20260422T175020
CREATED:20240806T191445Z
LAST-MODIFIED:20240806T191445Z
UID:48587-1724025600-1724111999@ktex.com
SUMMARY:Physical Day for Brenham ISD UIL Participants/Athletes
DESCRIPTION:
URL:https://ktex.com/event/physical-day-for-brenham-isd-uil-participants-athletes/
LOCATION:Kruse Field House\, 525 A H Ehrig Drive\, Brenham\, TX\, 77833\, United States
CATEGORIES:Community Events
ATTACH;FMTTYPE=image/jpeg:https://ktex.com/wp-content/uploads/2024/08/bisd-physical-day-aug.jpg
END:VEVENT
BEGIN:VEVENT
DTSTART;VALUE=DATE:20240820
DTEND;VALUE=DATE:20240821
DTSTAMP:20260422T175020
CREATED:20240814T133842Z
LAST-MODIFIED:20240814T133842Z
UID:48715-1724112000-1724198399@ktex.com
SUMMARY:Student Ice Cream Social/Parent Meeting for Theatre Students (Brenham)
DESCRIPTION:
URL:https://ktex.com/event/student-ice-cream-social-parent-meeting-for-theatre-students-brenham/
LOCATION:Brenham High School Auditorium\, 525 A H Ehrig Drive\, Brenham\, TX\, 77833\, United States
CATEGORIES:Community Events
ATTACH;FMTTYPE=image/jpeg:https://ktex.com/wp-content/uploads/2024/08/ice-cream-social-aug-20.jpg
END:VEVENT
BEGIN:VEVENT
DTSTART;VALUE=DATE:20240821
DTEND;VALUE=DATE:20240822
DTSTAMP:20260422T175020
CREATED:20240808T133509Z
LAST-MODIFIED:20240808T133509Z
UID:48624-1724198400-1724284799@ktex.com
SUMMARY:Meet the Cubs (Brenham)
DESCRIPTION:
URL:https://ktex.com/event/meet-the-cubs-brenham/
LOCATION:Cub Stadium\, 1600 
CATEGORIES:Community Events
ATTACH;FMTTYPE=image/jpeg:https://ktex.com/wp-content/uploads/2024/08/meet-the-cubs.jpg
END:VEVENT
BEGIN:VEVENT
DTSTART;VALUE=DATE:20240821
DTEND;VALUE=DATE:20240822
DTSTAMP:20260422T175020
CREATED:20240808T135406Z
LAST-MODIFIED:20240808T135406Z
UID:48628-1724198400-1724284799@ktex.com
SUMMARY:Informational Meeting for Educational Trip to Italy\, France (Brenham)
DESCRIPTION:Washington County students and families eager to travel abroad are encouraged to attend an informational meeting later this month about a trip next summer to Italy and France.  To RSVP for the meeting\, contact Taylor at etaylor@brenhamk-12.net or sign up through the link here.  \nLocal businesses or organizations that wish to help sponsor student travelers or assist with fundraising to cover trip expenses can reach out by contacting Taylor.
URL:https://ktex.com/event/informational-meeting-for-educational-trip-to-italy-france-brenham/
LOCATION:Brenham High School Cafeteria\, 525 A H Ehrig Drive\, Brenham\, TX\, 77833\, United States
CATEGORIES:Community Events
ATTACH;FMTTYPE=image/jpeg:https://ktex.com/wp-content/uploads/2024/08/ITALY.jpg
END:VEVENT
BEGIN:VEVENT
DTSTART;VALUE=DATE:20240821
DTEND;VALUE=DATE:20240828
DTSTAMP:20260422T175020
CREATED:20240821T143500Z
LAST-MODIFIED:20240821T143500Z
UID:48790-1724198400-1724803199@ktex.com
SUMMARY:Snook Youth Football Registration-Now Open
DESCRIPTION:
URL:https://ktex.com/event/snook-youth-football-registration-now-open/
LOCATION:TX
CATEGORIES:Community Events
ATTACH;FMTTYPE=image/jpeg:https://ktex.com/wp-content/uploads/2024/08/snook-yth-football-register.jpg
END:VEVENT
BEGIN:VEVENT
DTSTART;TZID=America/Chicago:20240821T190000
DTEND;TZID=America/Chicago:20240821T203000
DTSTAMP:20260422T175020
CREATED:20240729T190326Z
LAST-MODIFIED:20240729T190326Z
UID:48429-1724266800-1724272200@ktex.com
SUMMARY:Meet the Cubs
DESCRIPTION:Show your Cub pride at Meet the Cubs! Head to Cub Stadium with Courtney Cartwright and meet the bright new faces of the 2024 Cub season!
URL:https://ktex.com/event/meet-the-cubs-2/
LOCATION:Cub Stadium\, 1600 
CATEGORIES:KTEX on the Road
END:VEVENT
BEGIN:VEVENT
DTSTART;VALUE=DATE:20240822
DTEND;VALUE=DATE:20240823
DTSTAMP:20260422T175020
CREATED:20240806T192214Z
LAST-MODIFIED:20240806T192214Z
UID:48597-1724284800-1724371199@ktex.com
SUMMARY:South Central Texas AG Conference (Brenham)
DESCRIPTION:
URL:https://ktex.com/event/south-central-texas-ag-conference-brenham/
LOCATION:Washington County Expo\, 1305 E. Blue Bell Rd.\, Brenham\, TX\, 77833\, United States
CATEGORIES:Community Events
ATTACH;FMTTYPE=image/png:https://ktex.com/wp-content/uploads/2024/08/sth-cen-tx-ag-conferenc.png
END:VEVENT
BEGIN:VEVENT
DTSTART;VALUE=DATE:20240822
DTEND;VALUE=DATE:20240823
DTSTAMP:20260422T175020
CREATED:20240822T150803Z
LAST-MODIFIED:20240822T150803Z
UID:48819-1724284800-1724371199@ktex.com
SUMMARY:POSTPONED-BV Gives Burleson County Non-Profits Info Meeting & Business After Hours
DESCRIPTION:POSTPONED
URL:https://ktex.com/event/postponed-bv-gives-burleson-county-non-profits-info-meeting-business-after-hours/
LOCATION:TX
CATEGORIES:Community Events
ATTACH;FMTTYPE=image/png:https://ktex.com/wp-content/uploads/2024/08/burl-co-bv-gives.png
END:VEVENT
BEGIN:VEVENT
DTSTART;TZID=America/Chicago:20240822T170000
DTEND;TZID=America/Chicago:20240822T190000
DTSTAMP:20260422T175020
CREATED:20240802T171424Z
LAST-MODIFIED:20240802T171424Z
UID:48515-1724346000-1724353200@ktex.com
SUMMARY:The Bridge Ministries Food Pantry School Supplies Giveaway (Bryan)
DESCRIPTION:
URL:https://ktex.com/event/the-bridge-ministries-food-pantry-school-supplies-giveaway-bryan-2/
LOCATION:The Bridge Ministries Food Panty\, 408 E. 24th Street\, Bryan\, TX\, 77803\, United States
CATEGORIES:Community Events
ATTACH;FMTTYPE=image/jpeg:https://ktex.com/wp-content/uploads/2024/08/the-bridge-ministries.jpg
END:VEVENT
BEGIN:VEVENT
DTSTART;VALUE=DATE:20240823
DTEND;VALUE=DATE:20240824
DTSTAMP:20260422T175020
CREATED:20240701T203949Z
LAST-MODIFIED:20240701T203949Z
UID:47914-1724371200-1724457599@ktex.com
SUMMARY:Bluebonnet Master Gardener Fruit & Citrus Tree Sale (Sealy)
DESCRIPTION:
URL:https://ktex.com/event/bluebonnet-master-gardener-fruit-citrus-tree-sale-sealy/
LOCATION:American Legion Post #442 (Sealy)\, 1630 Meyer St.\, Sealy\, TX\, 77474\, United States
CATEGORIES:Community Events
ATTACH;FMTTYPE=image/png:https://ktex.com/wp-content/uploads/2024/07/fruit-and-citrus-tree-sale.png
END:VEVENT
BEGIN:VEVENT
DTSTART;VALUE=DATE:20240823
DTEND;VALUE=DATE:20240824
DTSTAMP:20260422T175020
CREATED:20240708T211426Z
LAST-MODIFIED:20240708T211426Z
UID:48041-1724371200-1724457599@ktex.com
SUMMARY:Brazos Valley Gives - Registration is Open
DESCRIPTION:The Community Foundation of the Brazos Valley’s 6th annual Brazos Valley Gives is officially set for Tuesday\, October 15\, 2024 when nonprofits from throughout the 7-county region will engage donors to “give where you live.”  \nRegistration is now open for all Brazos Valley 501(c)(3) nonprofits to register to participate in Brazos Valley Gives— brazosvalleygives.org. The deadline to register is Friday\, September 6. Nonprofits pay a $150 registration fee; nonprofits that have an endowment at the Community Foundation are eligible for a discounted fee of $50. This registration fee is used for administrative-related giving day expenses to include the marketing/promotion of the event regionally. Register at brazosvalleygives.org. Nonprofits that register by Friday noon\, August 2\, will be eligible for a $500 Early Bird Registration Prize.
URL:https://ktex.com/event/brazos-valley-gives-registration-is-open-4/
LOCATION:TX
CATEGORIES:Community Events
ATTACH;FMTTYPE=image/jpeg:https://ktex.com/wp-content/uploads/2024/07/BrazosValleyGives24SaveTheDate.jpg
END:VEVENT
BEGIN:VEVENT
DTSTART;VALUE=DATE:20240824
DTEND;VALUE=DATE:20240825
DTSTAMP:20260422T175020
CREATED:20240802T195217Z
LAST-MODIFIED:20240802T195217Z
UID:48530-1724457600-1724543999@ktex.com
SUMMARY:Hospice Brazos Valley-Hog Splash (Snook)
DESCRIPTION:
URL:https://ktex.com/event/hospice-brazos-valley-hog-splash-snook/
LOCATION:TX
CATEGORIES:Community Events
ATTACH;FMTTYPE=image/jpeg:https://ktex.com/wp-content/uploads/2024/08/hog-splash.jpg
END:VEVENT
BEGIN:VEVENT
DTSTART;VALUE=DATE:20240826
DTEND;VALUE=DATE:20240827
DTSTAMP:20260422T175020
CREATED:20240816T171655Z
LAST-MODIFIED:20240816T171655Z
UID:48738-1724630400-1724716799@ktex.com
SUMMARY:Washington Co. Ladies Lions Club Meeting
DESCRIPTION:The Washington County Ladies Lions Club will meet Monday\, August 26 at noon at the Cannery Kitchen. Texas Lions Camp directors:  Past Dist Governor Lion Vance Elliott of Columbus and Sheriff Lion Wayne Dickey of Bryan will present five Jack Weisch Fellowships to members of the club.  These JWF awards are following the Clubs donation of $5\,000 recently to the TLC. The club sponsored a camper to TLC this year as well.  The JWF acknowledges donations in support of the camp facility improvements\, programs and general needs. Presentations include an inscribed plaque and lapel pin.  Guest speaker is Teresa Rosales\, The City of Brenham Economic and Community Development Director.  RSVP is not required\, lunch is available.
URL:https://ktex.com/event/washington-co-ladies-lions-club-meeting-2/
LOCATION:Cannery Kitchen\, 314 East Alamo Street\, Brenham\, TX\, 77833\, United States
CATEGORIES:Community Events
ATTACH;FMTTYPE=image/jpeg:https://ktex.com/wp-content/uploads/2024/06/wc-ladies-lions-banner-1.jpg
END:VEVENT
BEGIN:VEVENT
DTSTART;VALUE=DATE:20240826
DTEND;VALUE=DATE:20240831
DTSTAMP:20260422T175020
CREATED:20240809T142833Z
LAST-MODIFIED:20240809T142833Z
UID:48632-1724630400-1725062399@ktex.com
SUMMARY:A Night of Salvation (Brenham)
DESCRIPTION:
URL:https://ktex.com/event/a-night-of-salvation-brenham/
LOCATION:Post Oak Missionary Baptist Church (Brenham)\, 906 Booker Street\, Brenham\, TX\, 77833\, United States
CATEGORIES:Community Events
ATTACH;FMTTYPE=image/jpeg:https://ktex.com/wp-content/uploads/2024/08/salvation.jpg
END:VEVENT
BEGIN:VEVENT
DTSTART;VALUE=DATE:20240826
DTEND;VALUE=DATE:20240831
DTSTAMP:20260422T175020
CREATED:20240819T143840Z
LAST-MODIFIED:20240819T143840Z
UID:48765-1724630400-1725062399@ktex.com
SUMMARY:Church Revival (Navasota)
DESCRIPTION:
URL:https://ktex.com/event/church-revival-navasota/
LOCATION:Christ to the Nations (Navasota)\, 902 W. Washington\, Navasota\, TX\, 77868\, United States
CATEGORIES:Community Events
ATTACH;FMTTYPE=image/jpeg:https://ktex.com/wp-content/uploads/2024/08/church-revival-navasota-aug.jpg
END:VEVENT
BEGIN:VEVENT
DTSTART;VALUE=DATE:20240827
DTEND;VALUE=DATE:20240828
DTSTAMP:20260422T175020
CREATED:20240826T142634Z
LAST-MODIFIED:20240826T142634Z
UID:48856-1724716800-1724803199@ktex.com
SUMMARY:Court at Law Jury Trial-CANCELLED (Washington County)
DESCRIPTION:The jury trial scheduled for Tuesday\, August 27 at 9 a.m. in the Washington County Court at Law courtroom for Judge Eric Berg has been cancelled. \nAnyone who has been summoned for jury duty no longer needs to appear.
URL:https://ktex.com/event/court-at-law-jury-trial-cancelled-washington-county/
LOCATION:TX
CATEGORIES:Community Events
ATTACH;FMTTYPE=image/jpeg:https://ktex.com/wp-content/uploads/2024/07/jurytrialcanceledFEATURE-1.jpg
END:VEVENT
BEGIN:VEVENT
DTSTART;VALUE=DATE:20240827
DTEND;VALUE=DATE:20240914
DTSTAMP:20260422T175020
CREATED:20240827T190823Z
LAST-MODIFIED:20240827T190823Z
UID:48941-1724716800-1726271999@ktex.com
SUMMARY:Main Street Brenham Scarecrow Extravaganza-Registration Open
DESCRIPTION:
URL:https://ktex.com/event/main-street-brenham-scarecrow-extravaganza-registration-open/
LOCATION:TX
CATEGORIES:Community Events
ATTACH;FMTTYPE=image/jpeg:https://ktex.com/wp-content/uploads/2024/08/scarecrow-extra.jpg
END:VEVENT
BEGIN:VEVENT
DTSTART;TZID=America/Chicago:20240827T100000
DTEND;TZID=America/Chicago:20240827T143000
DTSTAMP:20260422T175020
CREATED:20240805T142020Z
LAST-MODIFIED:20240805T142020Z
UID:48555-1724752800-1724769000@ktex.com
SUMMARY:Blood Drive at Germania Insurance (Brenham)
DESCRIPTION:The Gulf Coast Regional Blood Center will hold a Blood Drive: Tuesday\, August 27\, 10:00 AM to 2:30 PM.  The Donor coach will be in the rear of the building at:  507 Hwy 290E\, Brenham.  There will be backpacks and Blue Bell Ice Cream.  Contact GCRBC with code 4146\, or call (800) 392-2202.   Appointments are preferred. Walk-ins are welcome.  
URL:https://ktex.com/event/blood-drive-at-germania-insurance-brenham/
LOCATION:Germania Insurance\, 507 Hwy 290 E\, Brenham\, TX\, 77833\, United States
CATEGORIES:Community Events
ATTACH;FMTTYPE=image/png:https://ktex.com/wp-content/uploads/2024/08/blood-drive-aug-27.png
END:VEVENT
BEGIN:VEVENT
DTSTART;TZID=America/Chicago:20240827T130000
DTEND;TZID=America/Chicago:20240827T190000
DTSTAMP:20260422T175020
CREATED:20240826T205629Z
LAST-MODIFIED:20240826T205629Z
UID:48858-1724763600-1724785200@ktex.com
SUMMARY:Donate Blood (Bellville)
DESCRIPTION:
URL:https://ktex.com/event/donate-blood-bellville/
LOCATION:St. John Lutheran Church (Bellville)\, 520 N. Holland Street\, Bellville\, TX\, 77418\, United States
CATEGORIES:Community Events
ATTACH;FMTTYPE=image/jpeg:https://ktex.com/wp-content/uploads/2024/08/donate-blood-aug-27.jpg
END:VEVENT
BEGIN:VEVENT
DTSTART;TZID=America/Chicago:20240828T160000
DTEND;TZID=America/Chicago:20240828T190000
DTSTAMP:20260422T175020
CREATED:20240812T210801Z
LAST-MODIFIED:20240812T210801Z
UID:48666-1724860800-1724871600@ktex.com
SUMMARY:Fayette Co. Fair Culinary & Collectibles Check In Date
DESCRIPTION:
URL:https://ktex.com/event/fayette-co-fair-culinary-collectibles-check-in-date/
LOCATION:TX
CATEGORIES:Community Events
ATTACH;FMTTYPE=image/jpeg:https://ktex.com/wp-content/uploads/2024/08/culinary-collectibles-check-in.jpg
END:VEVENT
BEGIN:VEVENT
DTSTART;VALUE=DATE:20240829
DTEND;VALUE=DATE:20240830
DTSTAMP:20260422T175020
CREATED:20240626T145714Z
LAST-MODIFIED:20240716T191825Z
UID:47857-1724889600-1724975999@ktex.com
SUMMARY:TAILGATE Community Pep Rally 2024 (Brenham)
DESCRIPTION:
URL:https://ktex.com/event/tailgate-2024/
LOCATION:Silver Wings Ballroom\, 4100 State Highway 105\, Brenham\, TX\, 77833\, United States
CATEGORIES:Community Events
ATTACH;FMTTYPE=image/png:https://ktex.com/wp-content/uploads/2024/06/tailgate-2024-NEW.png
END:VEVENT
BEGIN:VEVENT
DTSTART;VALUE=DATE:20240829
DTEND;VALUE=DATE:20240902
DTSTAMP:20260422T175020
CREATED:20240716T191454Z
LAST-MODIFIED:20240826T134400Z
UID:48199-1724889600-1725235199@ktex.com
SUMMARY:Fayette County Fair
DESCRIPTION:The Fayette County Fair has announced a change-up for one of its headlining acts at this weekend’s event.  Last week\, the fair stated that Aaron Watson\, who was originally scheduled to perform Saturday night\, “had to start a four-week break from touring for vocal rest”\, per doctor’s orders.   Filling in for Watson on Saturday will be Lonestar.  The award-winning band is known for songs such as “No News”\, “What About Now”\, “Amazed”\, and “I’m Already There”.  The fair opens on Thursday.  To learn more\, or to purchase tickets\, go to https://fayettecountyfair.org.  \nCatch Courtney and Ryan Stone at Fayette County Fair! Courtney will have the KTEX Country Cruiser in the parade and later\, Ryan will be on stage with Aaron Watson! \nVIEW FULL DETAILS:  https://www.fayettecountyfair.org/  
URL:https://ktex.com/event/fayette-county-fair-2/
LOCATION:Fayette County Fairgrounds\, 400 Fair Grounds\, La Grange\, 78945\, United States
CATEGORIES:Community Events
ATTACH;FMTTYPE=image/png:https://ktex.com/wp-content/uploads/2024/07/fayette-co-fair-aug-sept.png
END:VEVENT
BEGIN:VEVENT
DTSTART;TZID=America/Chicago:20240829T150000
DTEND;TZID=America/Chicago:20240829T183000
DTSTAMP:20260422T175020
CREATED:20240829T180729Z
LAST-MODIFIED:20240829T180729Z
UID:48957-1724943600-1724956200@ktex.com
SUMMARY:WCF Country Creations Adult Exhibitor Numbers Assigned (Brenham)
DESCRIPTION:
URL:https://ktex.com/event/wcf-country-creations-adult-exhibitor-numbers-assigned-brenham/
LOCATION:Washington County Expo Event Center\, 1305 E. Blue Bell Rd.\, Brenham\, TX\, 77833\, United States
CATEGORIES:Community Events
ATTACH;FMTTYPE=image/jpeg:https://ktex.com/wp-content/uploads/2024/08/cc-aug-29.jpg
END:VEVENT
BEGIN:VEVENT
DTSTART;TZID=America/Chicago:20240829T170000
DTEND;TZID=America/Chicago:20240829T190000
DTSTAMP:20260422T175020
CREATED:20240802T171528Z
LAST-MODIFIED:20240802T171528Z
UID:48517-1724950800-1724958000@ktex.com
SUMMARY:The Bridge Ministries Food Pantry School Supplies Giveaway (Bryan)
DESCRIPTION:
URL:https://ktex.com/event/the-bridge-ministries-food-pantry-school-supplies-giveaway-bryan-3/
LOCATION:The Bridge Ministries Food Panty\, 408 E. 24th Street\, Bryan\, TX\, 77803\, United States
CATEGORIES:Community Events
ATTACH;FMTTYPE=image/jpeg:https://ktex.com/wp-content/uploads/2024/08/the-bridge-ministries.jpg
END:VEVENT
BEGIN:VEVENT
DTSTART;VALUE=DATE:20240830
DTEND;VALUE=DATE:20240831
DTSTAMP:20260422T175020
CREATED:20240610T205347Z
LAST-MODIFIED:20240610T205347Z
UID:47659-1724976000-1725062399@ktex.com
SUMMARY:Brenham Cub Football Schedule
DESCRIPTION:
URL:https://ktex.com/event/brenham-cub-football-schedule/
LOCATION:TX
CATEGORIES:Community Events
ATTACH;FMTTYPE=image/jpeg:https://ktex.com/wp-content/uploads/2024/06/brenham-cub-football-2024-schedule.jpg
END:VEVENT
BEGIN:VEVENT
DTSTART;TZID=America/Chicago:20240830T080000
DTEND;TZID=America/Chicago:20240830T140000
DTSTAMP:20260422T175020
CREATED:20240815T145827Z
LAST-MODIFIED:20240815T150514Z
UID:48727-1725004800-1725026400@ktex.com
SUMMARY:Washington County Cares Sporting Clays Event
DESCRIPTION:
URL:https://ktex.com/event/washington-county-cares-sporting-clays-event/
LOCATION:Boswell Porter 4-H Shotgun Range\, 7885 CR 247\, Caldwell\, TX\, 77836\, United States
CATEGORIES:Community Events
ATTACH;FMTTYPE=image/jpeg:https://ktex.com/wp-content/uploads/2024/08/FLYER-with-correct-address-004-scaled.jpg
END:VEVENT
END:VCALENDAR