BEGIN:VCALENDAR
VERSION:2.0
PRODID:-//KTEX 106.1 - ECPv6.15.20//NONSGML v1.0//EN
CALSCALE:GREGORIAN
METHOD:PUBLISH
X-WR-CALNAME:KTEX 106.1
X-ORIGINAL-URL:https://ktex.com
X-WR-CALDESC:Events for KTEX 106.1
REFRESH-INTERVAL;VALUE=DURATION:PT1H
X-Robots-Tag:noindex
X-PUBLISHED-TTL:PT1H
BEGIN:VTIMEZONE
TZID:America/Chicago
BEGIN:DAYLIGHT
TZOFFSETFROM:-0600
TZOFFSETTO:-0500
TZNAME:CDT
DTSTART:20220313T080000
END:DAYLIGHT
BEGIN:STANDARD
TZOFFSETFROM:-0500
TZOFFSETTO:-0600
TZNAME:CST
DTSTART:20221106T070000
END:STANDARD
BEGIN:DAYLIGHT
TZOFFSETFROM:-0600
TZOFFSETTO:-0500
TZNAME:CDT
DTSTART:20230312T080000
END:DAYLIGHT
BEGIN:STANDARD
TZOFFSETFROM:-0500
TZOFFSETTO:-0600
TZNAME:CST
DTSTART:20231105T070000
END:STANDARD
BEGIN:DAYLIGHT
TZOFFSETFROM:-0600
TZOFFSETTO:-0500
TZNAME:CDT
DTSTART:20240310T080000
END:DAYLIGHT
BEGIN:STANDARD
TZOFFSETFROM:-0500
TZOFFSETTO:-0600
TZNAME:CST
DTSTART:20241103T070000
END:STANDARD
END:VTIMEZONE
BEGIN:VEVENT
DTSTART;VALUE=DATE:20230727
DTEND;VALUE=DATE:20230728
DTSTAMP:20260425T115220
CREATED:20230703T150513Z
LAST-MODIFIED:20230703T150513Z
UID:35576-1690416000-1690502399@ktex.com
SUMMARY:All Together Dance Party at RT Family Library
DESCRIPTION:
URL:https://ktex.com/event/all-together-dance-party-at-rt-family-library/
LOCATION:Round Top Family Library Annex Porch\, 206 W. Mill Street\, Round Top\, TX\, 78954\, United States
CATEGORIES:Community Events
ATTACH;FMTTYPE=image/jpeg:https://ktex.com/wp-content/uploads/2023/07/rt-family-library-july.jpg
END:VEVENT
BEGIN:VEVENT
DTSTART;VALUE=DATE:20230726
DTEND;VALUE=DATE:20230729
DTSTAMP:20260425T115220
CREATED:20230726T134141Z
LAST-MODIFIED:20230726T134141Z
UID:41728-1690329600-1690588799@ktex.com
SUMMARY:Cub Football Pre-Season Banquet Single Tickets on Sale
DESCRIPTION:
URL:https://ktex.com/event/cub-football-pre-season-banquet-single-tickets-on-sale/
LOCATION:TX
CATEGORIES:Community Events
ATTACH;FMTTYPE=image/jpeg:https://ktex.com/wp-content/uploads/2023/07/2023-FB-Pre-Season-Banquet-Single-Ticket-003.jpg
END:VEVENT
BEGIN:VEVENT
DTSTART;VALUE=DATE:20230724
DTEND;VALUE=DATE:20230729
DTSTAMP:20260425T115220
CREATED:20230706T145756Z
LAST-MODIFIED:20230706T145756Z
UID:35619-1690156800-1690588799@ktex.com
SUMMARY:Kids Sewing Camp
DESCRIPTION:Join this fun Kids Mini Sewing Camp for ages 9 to 12 years old! Teens are welcome to join the afternoon session. Session 1 is Monday through Friday 10am-12pm. Session 2 is Monday through Friday 2pm-4pm. The sessions are limited to 10-12 participants All materials for the projects will be provided. You are encouraged to bring your sewing machine and sewing tools (scissors\, tape measure\, pins\, etc) if you have them. There are some available at the library. Register on the calendar tab on our website www.cityofbrenham.org/library or in person at the library. Information can be picked up at the library and you can see samples of the awesome projects.
URL:https://ktex.com/event/kids-sewing-camp/
LOCATION:Nancy Carol Roberts Memorial Library\, 100 Martin Luther King Jr. Parkway\, Brenham\, Texas\, 77833
CATEGORIES:Community Events
ATTACH;FMTTYPE=image/jpeg:https://ktex.com/wp-content/uploads/2023/07/kids-sewing-camp-july.jpg
END:VEVENT
BEGIN:VEVENT
DTSTART;VALUE=DATE:20230724
DTEND;VALUE=DATE:20230728
DTSTAMP:20260425T115220
CREATED:20230627T135848Z
LAST-MODIFIED:20230627T135848Z
UID:35507-1690156800-1690502399@ktex.com
SUMMARY:Mount Olive District 117th Annual Session
DESCRIPTION:
URL:https://ktex.com/event/mount-olive-district-117th-annual-session/
LOCATION:Mount Olive District Campus\, 1502 Mount Olive Street\, Brenham\, TX\, 77833\, United States
CATEGORIES:Community Events
ATTACH;FMTTYPE=image/jpeg:https://ktex.com/wp-content/uploads/2023/06/mt-olive-annual-session.jpg
END:VEVENT
BEGIN:VEVENT
DTSTART;VALUE=DATE:20230724
DTEND;VALUE=DATE:20230728
DTSTAMP:20260425T115220
CREATED:20230518T144423Z
LAST-MODIFIED:20230606T201922Z
UID:34669-1690156800-1690502399@ktex.com
SUMMARY:Brenham ISD Summer Meal for Children
DESCRIPTION:This summer\, Brenham ISD will connect children 18 and younger\, as well as\, enrolled students with disabilities up to 21 years old with healthy\, no cost summer meals.  The meals will be served Monday-Thursday at Krause Elementary School\, June 5 through July 27.  They are going to have breakfast available from 7am-8am\, and lunch from noon-1pm.  To find a meal site anywhere across the state of Texas\, families can call 2-1-1 and speak to a live operator\, visit their website at www.SummerFood.org\, or Text FOOD to 304-304.
URL:https://ktex.com/event/brenham-isd-summer-meal-for-children/
LOCATION:Krause Elementary School\, 2201 E Stone St\, Brenham\, TX\, 77833\, United States
CATEGORIES:Community Events
ATTACH;FMTTYPE=image/jpeg:https://ktex.com/wp-content/uploads/2023/05/free-summer-meals.jpg
END:VEVENT
BEGIN:VEVENT
DTSTART;VALUE=DATE:20230724
DTEND;VALUE=DATE:20230727
DTSTAMP:20260425T115220
CREATED:20230608T151011Z
LAST-MODIFIED:20230608T151011Z
UID:35221-1690156800-1690415999@ktex.com
SUMMARY:Brenham Summer Sports Camp Schedule
DESCRIPTION:
URL:https://ktex.com/event/brenham-summer-sports-camp-schedule-5/
LOCATION:Brenham High School\, 525 A H Ehrig Drive\, Brenham\, TX\, 77833\, United States
CATEGORIES:Community Events
ATTACH;FMTTYPE=image/png:https://ktex.com/wp-content/uploads/2023/06/BISD-summer-sports-camp.png
END:VEVENT
BEGIN:VEVENT
DTSTART;VALUE=DATE:20230724
DTEND;VALUE=DATE:20230725
DTSTAMP:20260425T115220
CREATED:20230703T145134Z
LAST-MODIFIED:20230703T145231Z
UID:35564-1690156800-1690243199@ktex.com
SUMMARY:YOGA in the RT Family Library
DESCRIPTION:
URL:https://ktex.com/event/yoga-in-the-rt-family-library-2/
LOCATION:Round Top Family Library Annex Porch\, 206 W. Mill Street\, Round Top\, TX\, 78954\, United States
CATEGORIES:Community Events
ATTACH;FMTTYPE=image/jpeg:https://ktex.com/wp-content/uploads/2023/07/rt-family-library-july.jpg
END:VEVENT
BEGIN:VEVENT
DTSTART;TZID=America/Chicago:20230723T150000
DTEND;TZID=America/Chicago:20230723T163000
DTSTAMP:20260425T115220
CREATED:20230630T144700Z
LAST-MODIFIED:20230630T144700Z
UID:35551-1690124400-1690129800@ktex.com
SUMMARY:Family\, Friends and Homecoming at Sauney Chapel AMEC
DESCRIPTION:
URL:https://ktex.com/event/family-friends-and-homecoming-at-sauney-chapel-amec/
LOCATION:Sauney Chapel African Methodist Episcopal Church (Chappell Hill)\, 13601 FM 1371\, Chappell Hill\, TX\, 77426\, United States
CATEGORIES:Community Events
ATTACH;FMTTYPE=image/jpeg:https://ktex.com/wp-content/uploads/2023/06/sauney-chapel-ame-homecoming.jpg
END:VEVENT
BEGIN:VEVENT
DTSTART;TZID=America/Chicago:20230723T133000
DTEND;TZID=America/Chicago:20230723T163000
DTSTAMP:20260425T115220
CREATED:20230706T195217Z
LAST-MODIFIED:20230706T195217Z
UID:35691-1690119000-1690129800@ktex.com
SUMMARY:Cade Baccus
DESCRIPTION:Live at HSF Biergarten
URL:https://ktex.com/event/cade-baccus-3/
LOCATION:HSF Biergarten\, 307 South Park Street\, Brenham\, TX\, 77833\, United States
ATTACH;FMTTYPE=image/webp:https://ktex.com/wp-content/uploads/2023/05/cade-baccus_1645555265-1.webp
END:VEVENT
BEGIN:VEVENT
DTSTART;VALUE=DATE:20230723
DTEND;VALUE=DATE:20230728
DTSTAMP:20260425T115220
CREATED:20230623T135730Z
LAST-MODIFIED:20230623T135730Z
UID:35446-1690070400-1690502399@ktex.com
SUMMARY:VBS at Zion Lutheran Church
DESCRIPTION:
URL:https://ktex.com/event/vbs-at-zion-lutheran-church/
LOCATION:Zion Lutheran Church\, 1800 FM 2679\, Brenham\, TX\, 77833\, United States
CATEGORIES:Community Events
ATTACH;FMTTYPE=image/jpeg:https://ktex.com/wp-content/uploads/2023/06/vbs-zion-lutheran.jpg
END:VEVENT
BEGIN:VEVENT
DTSTART;VALUE=DATE:20230723
DTEND;VALUE=DATE:20230727
DTSTAMP:20260425T115220
CREATED:20230622T202940Z
LAST-MODIFIED:20230622T202940Z
UID:35437-1690070400-1690415999@ktex.com
SUMMARY:VBS at Burleson Co. Cowboy Church
DESCRIPTION:
URL:https://ktex.com/event/vbs-at-burleson-co-cowboy-church/
LOCATION:Burleson County Cowboy Church\, 300 CR 169\, Caldwell\, TX\, United States
CATEGORIES:Community Events
ATTACH;FMTTYPE=image/jpeg:https://ktex.com/wp-content/uploads/2023/06/BCCC-vbs-002.jpg
END:VEVENT
BEGIN:VEVENT
DTSTART;TZID=America/Chicago:20230722T203000
DTEND;TZID=America/Chicago:20230722T233000
DTSTAMP:20260425T115220
CREATED:20230531T161725Z
LAST-MODIFIED:20230531T161725Z
UID:34994-1690057800-1690068600@ktex.com
SUMMARY:Sparky Parker at HSF Biergarten
DESCRIPTION:
URL:https://ktex.com/event/sparky-parker-at-hsf-biergarten/
LOCATION:HSF Biergarten\, 307 South Park Street\, Brenham\, TX\, 77833\, United States
ATTACH;FMTTYPE=image/webp:https://ktex.com/wp-content/uploads/2023/05/Sparky-Parker_1683051868.webp
END:VEVENT
BEGIN:VEVENT
DTSTART;TZID=America/Chicago:20230722T190000
DTEND;TZID=America/Chicago:20230722T233000
DTSTAMP:20260425T115220
CREATED:20230531T153425Z
LAST-MODIFIED:20230531T153425Z
UID:34908-1690052400-1690068600@ktex.com
SUMMARY:Hot Nights\, Cool Tunes with a performance by "Shekere"
DESCRIPTION:The last 4 Saturdays in July are made for Hot Nights\, Cool Tunes! Bring your lawn chair to the Courthouse Square in Downtown Brenham and enjoy some great live music with the community! There will also be food and beverage vendors available throughout the event and a Classic Car Cruise-in by the Stray Katz Car Club. This event is free to the public and begins at 7:00 pm!
URL:https://ktex.com/event/hot-nights-cool-tunes-with-a-performance-by-shekere/
LOCATION:Downtown Brenham
ATTACH;FMTTYPE=image/png:https://ktex.com/wp-content/uploads/2023/05/hot-nights-cool-tunes-logo.png
END:VEVENT
BEGIN:VEVENT
DTSTART;TZID=America/Chicago:20230722T180000
DTEND;TZID=America/Chicago:20230722T210000
DTSTAMP:20260425T115220
CREATED:20230614T201755Z
LAST-MODIFIED:20230614T201755Z
UID:35342-1690048800-1690059600@ktex.com
SUMMARY:Youth Explosion & Backpack Giveaway (Navasota)
DESCRIPTION:
URL:https://ktex.com/event/youth-explosion-backpack-giveaway-navasota/
LOCATION:Navasota City Hall (Grounds)\, 200 McAlpine Street\, Navasota\, Texas\, 77868\, United States
CATEGORIES:Community Events
ATTACH;FMTTYPE=image/jpeg:https://ktex.com/wp-content/uploads/2023/06/backpack-give-a-way.jpg
END:VEVENT
BEGIN:VEVENT
DTSTART;TZID=America/Chicago:20230722T180000
DTEND;TZID=America/Chicago:20230722T193000
DTSTAMP:20260425T115220
CREATED:20230629T202139Z
LAST-MODIFIED:20230629T202139Z
UID:35542-1690048800-1690054200@ktex.com
SUMMARY:Benefit Program for Sis. Barbara Davis
DESCRIPTION:
URL:https://ktex.com/event/benefit-program-for-sis-barbara-davis/
LOCATION:Mount Olive District Campus\, 1502 Mount Olive Street\, Brenham\, TX\, 77833\, United States
CATEGORIES:Community Events
ATTACH;FMTTYPE=image/jpeg:https://ktex.com/wp-content/uploads/2023/06/benefit-pgm-for-barbara.jpg
END:VEVENT
BEGIN:VEVENT
DTSTART;TZID=America/Chicago:20230722T173000
DTEND;TZID=America/Chicago:20230722T230000
DTSTAMP:20260425T115220
CREATED:20230601T164806Z
LAST-MODIFIED:20230601T164806Z
UID:35080-1690047000-1690066800@ktex.com
SUMMARY:Lucas Jagneaux and the Roadshow at The Kenney Store
DESCRIPTION:
URL:https://ktex.com/event/lucas-jagneaux-and-the-roadshow-at-the-kenney-store/
LOCATION:The Kenney Store
ATTACH;FMTTYPE=image/png:https://ktex.com/wp-content/uploads/2023/06/Screenshot-2023-06-01-114711.png
END:VEVENT
BEGIN:VEVENT
DTSTART;TZID=America/Chicago:20230722T170000
DTEND;TZID=America/Chicago:20230722T183000
DTSTAMP:20260425T115220
CREATED:20230609T195331Z
LAST-MODIFIED:20230609T195331Z
UID:35273-1690045200-1690050600@ktex.com
SUMMARY:Summer Showcase Local Musicians (Brenham)
DESCRIPTION:
URL:https://ktex.com/event/summer-showcase-local-musicians-brenham-2/
LOCATION:Alamo Alley\, W. Alamo Street\, Brenham\, TX\, 77833\, United States
CATEGORIES:Community Events
ATTACH;FMTTYPE=image/png:https://ktex.com/wp-content/uploads/2023/06/summer-showcase.png
END:VEVENT
BEGIN:VEVENT
DTSTART;TZID=America/Chicago:20230722T110000
DTEND;TZID=America/Chicago:20230722T150000
DTSTAMP:20260425T115220
CREATED:20230623T135444Z
LAST-MODIFIED:20230623T135444Z
UID:35443-1690023600-1690038000@ktex.com
SUMMARY:Fundraiser to help send Brenham Cub Athlete to Hawaii
DESCRIPTION:
URL:https://ktex.com/event/fundraiser-to-help-send-brenham-cub-athlete-to-hawaii/
LOCATION:Jackson Street Park\, 1300 South Jackson St.\, Brenham\, TX\, 77833\, United States
CATEGORIES:Community Events
ATTACH;FMTTYPE=image/jpeg:https://ktex.com/wp-content/uploads/2023/06/cub-to-hawaii.jpg
END:VEVENT
BEGIN:VEVENT
DTSTART;TZID=America/Chicago:20230722T110000
DTEND;TZID=America/Chicago:20230722T130000
DTSTAMP:20260425T115220
CREATED:20230706T141655Z
LAST-MODIFIED:20230706T141655Z
UID:35613-1690023600-1690030800@ktex.com
SUMMARY:Somerville VFD BBQ Fundraiser & Auction
DESCRIPTION:Somerville Volunteer Fire Department BBQ chicken fundraiser and auction on Saturday\, July 22\, at the American Legion Hall.  Serving will be from 11am-1pm\, tickets are $15 a plate\, and they can be dine-in or to-go.  For tickets\, you can contact any Somerville Fire Department member.  They will have a limited number of tickets that are going to be sold at the door.  They are also seeking donations for their auction. Any help would be greatly appreciated.
URL:https://ktex.com/event/somerville-vfd-bbq-fundraiser-auction/
LOCATION:American Legion Hall Somerville\, 517 8th Street\, Somerville\, TX\, 77879\, United States
CATEGORIES:Community Events
ATTACH;FMTTYPE=image/jpeg:https://ktex.com/wp-content/uploads/2023/07/somerville-vfd.jpg
END:VEVENT
BEGIN:VEVENT
DTSTART;TZID=America/Chicago:20230722T090000
DTEND;TZID=America/Chicago:20230722T120000
DTSTAMP:20260425T115220
CREATED:20230711T142804Z
LAST-MODIFIED:20230711T142804Z
UID:35772-1690016400-1690027200@ktex.com
SUMMARY:Brenham Belles Car Wash
DESCRIPTION:
URL:https://ktex.com/event/brenham-belles-car-wash/
LOCATION:Brenham National Bank-Brenham Branch\, 2211 S. Day Street\, Brenham\, TX\, 77833\, United States
CATEGORIES:Community Events
ATTACH;FMTTYPE=image/jpeg:https://ktex.com/wp-content/uploads/2023/07/brenham-belles-car-wash.jpg
END:VEVENT
BEGIN:VEVENT
DTSTART;VALUE=DATE:20230722
DTEND;VALUE=DATE:20230723
DTSTAMP:20260425T115220
CREATED:20230719T135313Z
LAST-MODIFIED:20230719T135313Z
UID:41622-1689984000-1690070399@ktex.com
SUMMARY:Ribbon Cutting-Windmill Ranch Lodge
DESCRIPTION:
URL:https://ktex.com/event/ribbon-cutting-windmill-ranch-lodge/
LOCATION:Windmill Ranch Lodge\, 1403 W. Hwy. 290\, Carmine\, TX\, 78932\, United States
CATEGORIES:Community Events
ATTACH;FMTTYPE=image/jpeg:https://ktex.com/wp-content/uploads/2023/07/ribbon-cutting-windmill-ranch.jpg
END:VEVENT
BEGIN:VEVENT
DTSTART;VALUE=DATE:20230722
DTEND;VALUE=DATE:20230723
DTSTAMP:20260425T115220
CREATED:20230712T203256Z
LAST-MODIFIED:20230712T203256Z
UID:35811-1689984000-1690070399@ktex.com
SUMMARY:Industry Volunteer Fire & Rescue Celebration
DESCRIPTION:
URL:https://ktex.com/event/industry-volunteer-fire-rescue-celebration/
LOCATION:Firemen’s Park (Industry)\, Hwy 159\, Industry\, TX\, 78944\, United States
CATEGORIES:Community Events
ATTACH;FMTTYPE=image/jpeg:https://ktex.com/wp-content/uploads/2023/07/industry-fire-rescue.jpg
END:VEVENT
BEGIN:VEVENT
DTSTART;VALUE=DATE:20230722
DTEND;VALUE=DATE:20230723
DTSTAMP:20260425T115220
CREATED:20230613T184936Z
LAST-MODIFIED:20230613T200650Z
UID:35316-1689984000-1690070399@ktex.com
SUMMARY:Navasota Animal Shelter Makeover Day
DESCRIPTION:VOLUNTEERS NEEDED
URL:https://ktex.com/event/animal-shelter-makeover-day/
LOCATION:Navasota Animal Shelter\, 1607 Nolan Street\, Navasota\, TX\, 77868\, United States
CATEGORIES:Community Events
ATTACH;FMTTYPE=image/png:https://ktex.com/wp-content/uploads/2023/06/animal-shelter-makeover.png
END:VEVENT
BEGIN:VEVENT
DTSTART;VALUE=DATE:20230722
DTEND;VALUE=DATE:20230723
DTSTAMP:20260425T115220
CREATED:20230330T145724Z
LAST-MODIFIED:20230330T145724Z
UID:33717-1689984000-1690070399@ktex.com
SUMMARY:Hot Nights Cool Tunes Concert Series-Brenham
DESCRIPTION:Saturday\, July 22 – Shekere\nThe Latin beat of Shekere (shay-keer-ae)\, a talented seven-piece band of musicians and singers from Houston\, will have the crowd dancing the salsa. Shekere is bringing their horn section to really liven up their mix of English and Latin pop hits.\nSponsored by Briannas Fine Salad Dressings\, Las Americas Latin Cuisine\, Deep in the Heart Farms\, and RCR Rail.\nSaturday\, July 29 – Spicolis\nThe classic MTV tribute band out of Houston\, The Spicolis who feature hits from the 80s. This is the third year the Spicoli’s have performed in Brenham.\nSponsored by Brazos Valley Schools Credit Union\, Brannon Industrial Group\, Strand Associates\, and Upchurch Yates Law Firm.\n  \nBring your lawn chair to the Courthouse Square in Downtown Brenham and enjoy some great live music with the community! At this 19th season series\, the Stray Katz Car Club will be back with a classic car show on the downtown Brenham streets\, and the bands will take the stage on Alamo Street by the courthouse at 7:00 PM each Saturday. There is no charge to attend the concerts\, and downtown stores and vendors will be selling food and drinks.\nInterested in participating in the Classic Car Cruise-in? Contact Stray Katz or visit the Stray Katz Car Club Facebook Page.\nFood Vendors interested in participating please contact Leigh at 979-337-7231
URL:https://ktex.com/event/hot-nights-cool-tunes-concert-series-brenham-7/
LOCATION:Downtown Brenham
CATEGORIES:Community Events
ATTACH;FMTTYPE=image/png:https://ktex.com/wp-content/uploads/2023/03/hot-nights-cool-tunes-brenham.png
END:VEVENT
BEGIN:VEVENT
DTSTART;TZID=America/Chicago:20230721T203000
DTEND;TZID=America/Chicago:20230721T233000
DTSTAMP:20260425T115220
CREATED:20230531T161551Z
LAST-MODIFIED:20230531T161551Z
UID:34991-1689971400-1689982200@ktex.com
SUMMARY:John Egan at HSF Biergarten
DESCRIPTION:
URL:https://ktex.com/event/john-egan-at-hsf-biergarten/
LOCATION:HSF Biergarten\, 307 South Park Street\, Brenham\, TX\, 77833\, United States
ATTACH;FMTTYPE=image/webp:https://ktex.com/wp-content/uploads/2023/05/John-Egan_1683051811.webp
END:VEVENT
BEGIN:VEVENT
DTSTART;TZID=America/Chicago:20230721T200000
DTEND;TZID=America/Chicago:20230721T220000
DTSTAMP:20260425T115220
CREATED:20230531T154717Z
LAST-MODIFIED:20230531T154717Z
UID:34927-1689969600-1689976800@ktex.com
SUMMARY:Jack Carr at Hamer's Speakeasy
DESCRIPTION:Jack is back with the sax! Come listen the local saxophone player play his famous tunes!
URL:https://ktex.com/event/jack-carr-at-hamers-speakeasy/
LOCATION:Hamer’s Speakeasy\, 111 Railroad St\, Navasota\, Texas\, 77868
ATTACH;FMTTYPE=image/png:https://ktex.com/wp-content/uploads/2023/05/Screenshot-2023-05-31-104432.png
END:VEVENT
BEGIN:VEVENT
DTSTART;TZID=America/Chicago:20230721T190000
DTEND;TZID=America/Chicago:20230721T213000
DTSTAMP:20260425T115220
CREATED:20230508T213200Z
LAST-MODIFIED:20230508T213200Z
UID:34432-1689966000-1689975000@ktex.com
SUMMARY:Sounds of Summer-Downtown Navasota
DESCRIPTION:Food trucks will be on site.  Lawn chairs and coolers are encouraged.  Any organizations or businesses interesting in sponsoring the Sounds of Summer can contact City of Navasota Marketing and Communications Director Bobbie Lehrmann at blehrmann@navasotatx.gov.
URL:https://ktex.com/event/sounds-of-summer-downtown-navasota-2/
LOCATION:Downtown Navasota
CATEGORIES:Community Events
ATTACH;FMTTYPE=image/jpeg:https://ktex.com/wp-content/uploads/2023/05/sounds-of-summer-navasota-june-july-aug.jpg
END:VEVENT
BEGIN:VEVENT
DTSTART;TZID=America/Chicago:20230721T180000
DTEND;TZID=America/Chicago:20230721T200000
DTSTAMP:20260425T115220
CREATED:20230531T135227Z
LAST-MODIFIED:20230531T135227Z
UID:34879-1689962400-1689969600@ktex.com
SUMMARY:Austin County Fair Annual Shrimp Boil
DESCRIPTION:
URL:https://ktex.com/event/austin-county-fair-annual-shrimp-boil/
LOCATION:Austin County Fairgrounds\, 1076 East Hill\, Bellville\, TX\, 77418\, United States
CATEGORIES:Community Events
ATTACH;FMTTYPE=image/jpeg:https://ktex.com/wp-content/uploads/2023/05/Shrimp-Boil-Poster-Austin-County-002-scaled.jpg
END:VEVENT
BEGIN:VEVENT
DTSTART;VALUE=DATE:20230721
DTEND;VALUE=DATE:20230722
DTSTAMP:20260425T115220
CREATED:20230703T150202Z
LAST-MODIFIED:20230703T150202Z
UID:35572-1689897600-1689983999@ktex.com
SUMMARY:Barn Quilt Class at RT Family Library
DESCRIPTION:
URL:https://ktex.com/event/barn-quilt-class-at-rt-family-library/
LOCATION:Round Top Family Library Annex Porch\, 206 W. Mill Street\, Round Top\, TX\, 78954\, United States
CATEGORIES:Community Events
ATTACH;FMTTYPE=image/jpeg:https://ktex.com/wp-content/uploads/2023/07/rt-family-library-july.jpg
END:VEVENT
BEGIN:VEVENT
DTSTART;VALUE=DATE:20230721
DTEND;VALUE=DATE:20230722
DTSTAMP:20260425T115220
CREATED:20230621T143216Z
LAST-MODIFIED:20230621T143216Z
UID:35406-1689897600-1689983999@ktex.com
SUMMARY:Navasota Movies in the Park
DESCRIPTION:
URL:https://ktex.com/event/navasota-movies-in-the-park-3/
LOCATION:Brule Park (Navasota)\, 103 Brosig Ave.\, Navasota\, TX\, 77868\, United States
CATEGORIES:Community Events
ATTACH;FMTTYPE=image/jpeg:https://ktex.com/wp-content/uploads/2023/06/NavasotaMoviesinthePark2023Flyer.jpg
END:VEVENT
END:VCALENDAR