BEGIN:VCALENDAR
VERSION:2.0
PRODID:-//KTEX 106.1 - ECPv6.15.20//NONSGML v1.0//EN
CALSCALE:GREGORIAN
METHOD:PUBLISH
X-WR-CALNAME:KTEX 106.1
X-ORIGINAL-URL:https://ktex.com
X-WR-CALDESC:Events for KTEX 106.1
REFRESH-INTERVAL;VALUE=DURATION:PT1H
X-Robots-Tag:noindex
X-PUBLISHED-TTL:PT1H
BEGIN:VTIMEZONE
TZID:America/Chicago
BEGIN:DAYLIGHT
TZOFFSETFROM:-0600
TZOFFSETTO:-0500
TZNAME:CDT
DTSTART:20230312T080000
END:DAYLIGHT
BEGIN:STANDARD
TZOFFSETFROM:-0500
TZOFFSETTO:-0600
TZNAME:CST
DTSTART:20231105T070000
END:STANDARD
BEGIN:DAYLIGHT
TZOFFSETFROM:-0600
TZOFFSETTO:-0500
TZNAME:CDT
DTSTART:20240310T080000
END:DAYLIGHT
BEGIN:STANDARD
TZOFFSETFROM:-0500
TZOFFSETTO:-0600
TZNAME:CST
DTSTART:20241103T070000
END:STANDARD
BEGIN:DAYLIGHT
TZOFFSETFROM:-0600
TZOFFSETTO:-0500
TZNAME:CDT
DTSTART:20250309T080000
END:DAYLIGHT
BEGIN:STANDARD
TZOFFSETFROM:-0500
TZOFFSETTO:-0600
TZNAME:CST
DTSTART:20251102T070000
END:STANDARD
END:VTIMEZONE
BEGIN:VEVENT
DTSTART;TZID=America/Chicago:20240704T183000
DTEND;TZID=America/Chicago:20240704T200000
DTSTAMP:20260422T171937
CREATED:20231221T151548Z
LAST-MODIFIED:20231221T151605Z
UID:44633-1720117800-1720123200@ktex.com
SUMMARY:NAMI Connection Recovery Support Group Meetings
DESCRIPTION:Weekly meeting on Thursdays\, 6:30 – 8:00 pm CST at St. Peters Episcopal Church in Brenham\nNAMI-Brazos Valley serves a seven-county area (Brazos Valley):  Brazos\, Burleson\, Grimes\, Leon\, Madison\, Roberts\, and Washington Counties\nWebsite:  NamiBV.org\nPhone:  979 774-4713
URL:https://ktex.com/event/nami-connection-recovery-support-group/
LOCATION:St. Peter’s Episcopal Church (Brenham)\, 2310 Airline Dr.\, Brenham\, TX\, 77833\, United States
CATEGORIES:Community Events
ATTACH;FMTTYPE=image/png:https://ktex.com/wp-content/uploads/2023/12/nami-connection-recovery-supp-gr.png
END:VEVENT
BEGIN:VEVENT
DTSTART;VALUE=DATE:20240705
DTEND;VALUE=DATE:20240706
DTSTAMP:20260422T171937
CREATED:20240328T201652Z
LAST-MODIFIED:20240328T201652Z
UID:46509-1720137600-1720223999@ktex.com
SUMMARY:Downtown Brenham Farmer & Artisan Market
DESCRIPTION:First Fridays Farmers & Artisan Market is an open-air market with local artisan/craft\, cottage food\, farm-to-market\, small business\, and retail vendors. Each month we offer live musical performances located in Historic Downtown Brenham. We try to create a unique shopping experience for everyone by offering a mix of vendors that complement one another and the surrounding Downtown businesses.
URL:https://ktex.com/event/downtown-brenham-farmer-artisan-market-4/
LOCATION:Downtown Brenham
CATEGORIES:Community Events
ATTACH;FMTTYPE=image/png:https://ktex.com/wp-content/uploads/2024/03/farmer-and-artisan-market-april-sept.png
END:VEVENT
BEGIN:VEVENT
DTSTART;VALUE=DATE:20240706
DTEND;VALUE=DATE:20240707
DTSTAMP:20260422T171937
CREATED:20240327T214738Z
LAST-MODIFIED:20240327T214738Z
UID:46482-1720224000-1720310399@ktex.com
SUMMARY:Hot Nights-Cool Tunes Concert Series
DESCRIPTION:July 6 – SUEDE \nHigh-energy show\, stellar musicianship\, and epic set list of legendary hits\, SUEDE leaves audiences dazzled!   www.suedeatx.com 
URL:https://ktex.com/event/hot-nights-cool-tunes-concert-series/
LOCATION:Downtown Brenham
CATEGORIES:Community Events
ATTACH;FMTTYPE=image/jpeg:https://ktex.com/wp-content/uploads/2024/03/hot-night-2024.jpg
END:VEVENT
BEGIN:VEVENT
DTSTART;VALUE=DATE:20240706
DTEND;VALUE=DATE:20240707
DTSTAMP:20260422T171937
CREATED:20240604T191127Z
LAST-MODIFIED:20240604T191127Z
UID:47505-1720224000-1720310399@ktex.com
SUMMARY:4th of July Dance (Shelby)
DESCRIPTION:
URL:https://ktex.com/event/4th-of-july-dance-shelby/
LOCATION:Harmonie Hall (Shelby)\, 509 FM 389 West\, Shelby\, TX\, 78940\, United States
CATEGORIES:Community Events
ATTACH;FMTTYPE=image/jpeg:https://ktex.com/wp-content/uploads/2024/06/harmonie-hall-4-of-july-2024.jpg
END:VEVENT
BEGIN:VEVENT
DTSTART;VALUE=DATE:20240706
DTEND;VALUE=DATE:20240707
DTSTAMP:20260422T171937
CREATED:20240620T141152Z
LAST-MODIFIED:20240620T141152Z
UID:47766-1720224000-1720310399@ktex.com
SUMMARY:Fury on the 6th Professional Bull Riding
DESCRIPTION:
URL:https://ktex.com/event/fury-on-the-6th-professional-bull-riding/
LOCATION:LCSP Covered Arena\, Giddings
CATEGORIES:Community Events
ATTACH;FMTTYPE=image/png:https://ktex.com/wp-content/uploads/2024/06/fury-on-the-6th-2024.png
END:VEVENT
BEGIN:VEVENT
DTSTART;VALUE=DATE:20240706
DTEND;VALUE=DATE:20240707
DTSTAMP:20260422T171937
CREATED:20240702T192520Z
LAST-MODIFIED:20240702T192520Z
UID:47934-1720224000-1720310399@ktex.com
SUMMARY:Classic Car Cruise-In (Brenham)
DESCRIPTION:
URL:https://ktex.com/event/classic-car-cruise-in-brenham/
LOCATION:Downtown Brenham
CATEGORIES:Community Events
ATTACH;FMTTYPE=image/jpeg:https://ktex.com/wp-content/uploads/2024/07/car-cruise-in-july.jpg
END:VEVENT
BEGIN:VEVENT
DTSTART;TZID=America/Chicago:20240706T090000
DTEND;TZID=America/Chicago:20240706T120000
DTSTAMP:20260422T171937
CREATED:20240513T201819Z
LAST-MODIFIED:20240513T201819Z
UID:47207-1720256400-1720267200@ktex.com
SUMMARY:Bellville Farmers Market
DESCRIPTION:
URL:https://ktex.com/event/bellville-farmers-market-2/
LOCATION:Jim Bishop Pavilion (Bellville)\, 100 E. Palm Street\, Bellville\, TX\, 77418\, United States
CATEGORIES:Community Events
ATTACH;FMTTYPE=image/png:https://ktex.com/wp-content/uploads/2024/05/bellville-farmers-market-jun-jul-aug.png
END:VEVENT
BEGIN:VEVENT
DTSTART;TZID=America/Chicago:20240706T173000
DTEND;TZID=America/Chicago:20240706T193000
DTSTAMP:20260422T171937
CREATED:20240624T184458Z
LAST-MODIFIED:20240624T185040Z
UID:47834-1720287000-1720294200@ktex.com
SUMMARY:Fury on the 6th
DESCRIPTION:Eilish is rodeoing in Giddings for the Fury on the 6th! Not only will she be watching all the rodeo action\, she’ll even be hanging out tin the shark cage wit the bulls! Catch her at the Lee County Sheriff’s Posse!
URL:https://ktex.com/event/fury-on-the-6th/
LOCATION:Lee County Sheriff’s Posse\, Giddings
CATEGORIES:KTEX on the Road
END:VEVENT
BEGIN:VEVENT
DTSTART;TZID=America/Chicago:20240706T183000
DTEND;TZID=America/Chicago:20240706T223000
DTSTAMP:20260422T171937
CREATED:20240624T185225Z
LAST-MODIFIED:20240624T185225Z
UID:47836-1720290600-1720305000@ktex.com
SUMMARY:Hot Nights Cool Tunes
DESCRIPTION:Downtown Brenham is about to be a party! Legendary band\, Suede\, is coming back to Brenham for the 11th time! They’re playing the best 70’s through modern day hits! Catch Craig there! \n Sponsored by: Brenham National Bank\, Seidel Schroeder\, Dahmann & Associates & Must Be Heaven 
URL:https://ktex.com/event/hot-nights-cool-tunes/
LOCATION:Downtown Brenham\, 100 E. Main St.\, Brenham\, TX\, United States
CATEGORIES:KTEX on the Road
END:VEVENT
BEGIN:VEVENT
DTSTART;VALUE=DATE:20240707
DTEND;VALUE=DATE:20240708
DTSTAMP:20260422T171937
CREATED:20240619T201745Z
LAST-MODIFIED:20240619T201745Z
UID:47754-1720310400-1720396799@ktex.com
SUMMARY:Sts. Cyril & Methodius Church FEAST (Dubina)
DESCRIPTION:
URL:https://ktex.com/event/sts-cyril-methodius-church-feast-dubina/
LOCATION:Sts. Cyril & Methodius Church\, FM Road 1383\, Dubina\, TX\, United States
CATEGORIES:Community Events
ATTACH;FMTTYPE=image/png:https://ktex.com/wp-content/uploads/2024/06/feast-dubina-tx.png
END:VEVENT
BEGIN:VEVENT
DTSTART;VALUE=DATE:20240708
DTEND;VALUE=DATE:20240709
DTSTAMP:20260422T171937
CREATED:20240703T143028Z
LAST-MODIFIED:20240703T143028Z
UID:47948-1720396800-1720483199@ktex.com
SUMMARY:Washington Co. Ladies Lions Club Meeting
DESCRIPTION:The Washington County Ladies Lions Club will meet Monday July 8 at noon at the Cannery Kitchen.  Members are encouraged to bring used eyeglasses\, plastic lids\, magazines and personal hygiene items.  The public is invited to attend\, RSVP is not required\, lunch is available.
URL:https://ktex.com/event/washington-co-ladies-lions-club-meeting/
LOCATION:Cannery Kitchen\, 314 East Alamo Street\, Brenham\, TX\, 77833\, United States
CATEGORIES:Community Events
ATTACH;FMTTYPE=image/jpeg:https://ktex.com/wp-content/uploads/2024/06/wc-ladies-lions-banner-1.jpg
END:VEVENT
BEGIN:VEVENT
DTSTART;TZID=America/Chicago:20240708T193000
DTEND;TZID=America/Chicago:20240708T203000
DTSTAMP:20260422T171937
CREATED:20240624T185618Z
LAST-MODIFIED:20240625T161301Z
UID:47838-1720467000-1720470600@ktex.com
SUMMARY:Movies in the Park
DESCRIPTION:Take the kids on a movie night at Fireman’s Park for a showing of Sharktale! While you’re there\, take part in the community meal provided by Gather n Grace! Courtney will be there in the KTEX Country Cruiser!
URL:https://ktex.com/event/movies-in-the-park/
LOCATION:Brenham Fireman’s Park\, 910 N Park St\, Brenham\, 77833
CATEGORIES:KTEX on the Road
END:VEVENT
BEGIN:VEVENT
DTSTART;VALUE=DATE:20240709
DTEND;VALUE=DATE:20240710
DTSTAMP:20260422T171937
CREATED:20240208T211319Z
LAST-MODIFIED:20240208T211319Z
UID:45616-1720483200-1720569599@ktex.com
SUMMARY:4-H Youth Rodeo & Show (Washington County)
DESCRIPTION:
URL:https://ktex.com/event/4-h-youth-rodeo-show-washington-county-5/
LOCATION:Washington County Expo\, 1305 E. Blue Bell Rd.\, Brenham\, TX\, 77833\, United States
CATEGORIES:Community Events
ATTACH;FMTTYPE=image/jpeg:https://ktex.com/wp-content/uploads/2024/02/youth-rodeo-show-june-july.jpg
END:VEVENT
BEGIN:VEVENT
DTSTART;VALUE=DATE:20240709
DTEND;VALUE=DATE:20240710
DTSTAMP:20260422T171937
CREATED:20240703T175845Z
LAST-MODIFIED:20240703T175845Z
UID:47973-1720483200-1720569599@ktex.com
SUMMARY:Republican Club of Washington Co. Meeting
DESCRIPTION:REPUBLICAN CLUB OF WASHINGTON COUNTY TO MEETING – \nTuesday\, July 9 – Cannery Kitchen \nSpeaker: Susan Myers – Blinn College Foundation\, Holocaust Museum Historian \nSubject:  The Holocaust \nTopics:  A time to remember the six million Jewish victims of the Holocaust and the millions of other victims of Nazi persecution. \nHistory of the Holocaust within the critical events of World War II. \nImportance of the formation of Israel after the holocaust.
URL:https://ktex.com/event/republican-club-of-washington-co-meeting/
LOCATION:Cannery Kitchen\, 314 East Alamo Street\, Brenham\, TX\, 77833\, United States
CATEGORIES:Community Events
ATTACH;FMTTYPE=image/png:https://ktex.com/wp-content/uploads/2024/07/republican-CLUB-of-wash-co.png
END:VEVENT
BEGIN:VEVENT
DTSTART;VALUE=DATE:20240710
DTEND;VALUE=DATE:20240711
DTSTAMP:20260422T171937
CREATED:20240708T183030Z
LAST-MODIFIED:20240708T183030Z
UID:48012-1720569600-1720655999@ktex.com
SUMMARY:Parks Board Meeting - City of Brenham
DESCRIPTION:
URL:https://ktex.com/event/parks-board-meeting-city-of-brenham/
LOCATION:Brenham City Hall\, 200 West Vulcan \, Brenham\, 77833
CATEGORIES:Community Events
ATTACH;FMTTYPE=image/jpeg:https://ktex.com/wp-content/uploads/2024/07/parks-board-meeting.jpg
END:VEVENT
BEGIN:VEVENT
DTSTART;VALUE=DATE:20240710
DTEND;VALUE=DATE:20240718
DTSTAMP:20260422T171937
CREATED:20240709T194142Z
LAST-MODIFIED:20240709T194142Z
UID:48094-1720569600-1721260799@ktex.com
SUMMARY:Brush & Yard Waste Disposal Offer For City Residents (Brenham)
DESCRIPTION:The City of Brenham is pleased to offer its residents a convenient way to dispose of brush and yard waste. From Wednesday\, July 10th to Wednesday\, July 17th\, each City resident will receive 500 lbs. of brush credit when brought to the BVR Collection Station (located at 2009 Old Chappell Hill Rd). However\, if the yard waste or brush exceeds 500 lbs.\, the additional weight will be subject to the normal rate of $30.00 per ton. Please note that this offer is exclusively for residential City customers and does not apply to commercial entities or tree service companies. After the 17th\, regular disposal rates will apply. \nProof of City residency is required when you visit the Collection Station. If you have any questions\, please contact JoAnne Hynes at 979-337-7428.
URL:https://ktex.com/event/brush-yard-waste-disposal-offer-for-city-residents-brenham/
LOCATION:BVR Collection & Transfer Station\, 2009 Old Chappell Hill Rd\, Brenham\, Texas\, 77833
CATEGORIES:Community Events
ATTACH;FMTTYPE=image/png:https://ktex.com/wp-content/uploads/2024/07/city-of-brenham-logo.png
END:VEVENT
BEGIN:VEVENT
DTSTART;TZID=America/Chicago:20240710T090000
DTEND;TZID=America/Chicago:20240710T120000
DTSTAMP:20260422T171937
CREATED:20240515T132832Z
LAST-MODIFIED:20240515T132832Z
UID:47231-1720602000-1720612800@ktex.com
SUMMARY:Kids in the Kitchen
DESCRIPTION:
URL:https://ktex.com/event/kids-in-the-kitchen/
LOCATION:Washington County Expo Event Center\, 1305 E. Blue Bell Rd.\, Brenham\, TX\, 77833\, United States
CATEGORIES:Community Events
ATTACH;FMTTYPE=image/jpeg:https://ktex.com/wp-content/uploads/2024/05/kids-in-the-kitchen.jpg
END:VEVENT
BEGIN:VEVENT
DTSTART;TZID=America/Chicago:20240710T110000
DTEND;TZID=America/Chicago:20240710T130000
DTSTAMP:20260422T171937
CREATED:20240709T150114Z
LAST-MODIFIED:20240709T150114Z
UID:48081-1720609200-1720616400@ktex.com
SUMMARY:KT Auto Plus Customer Appreciation Day
DESCRIPTION:
URL:https://ktex.com/event/kt-auto-plus-customer-appreciation-day/
LOCATION:KT Auto Plus\, 1006 N. Park Street\, Brenham\, TX\, 77833\, United States
CATEGORIES:Community Events
ATTACH;FMTTYPE=image/jpeg:https://ktex.com/wp-content/uploads/2024/07/kt-auto.jpg
END:VEVENT
BEGIN:VEVENT
DTSTART;TZID=America/Chicago:20240710T160000
DTEND;TZID=America/Chicago:20240710T180000
DTSTAMP:20260422T171937
CREATED:20240611T205359Z
LAST-MODIFIED:20240626T192005Z
UID:47698-1720627200-1720634400@ktex.com
SUMMARY:Connect after Four Event
DESCRIPTION:
URL:https://ktex.com/event/connect-after-four-event/
LOCATION:Appel Ford\, 1820 HWY 290 West\, Brenham\, TX\, 77833\, United States
CATEGORIES:Community Events
ATTACH;FMTTYPE=image/jpeg:https://ktex.com/wp-content/uploads/2024/06/connect-after-four-july.jpg
END:VEVENT
BEGIN:VEVENT
DTSTART;VALUE=DATE:20240711
DTEND;VALUE=DATE:20240802
DTSTAMP:20260422T171937
CREATED:20240711T135140Z
LAST-MODIFIED:20240711T135140Z
UID:48134-1720656000-1722556799@ktex.com
SUMMARY:School Supply Drive at Shearob's Bar & Patio
DESCRIPTION:
URL:https://ktex.com/event/school-supply-drive-at-shearobs-bar-patio/
LOCATION:Shearob’s Bar & Patio\, 2107 S. Market Street\, Brenham\, TX\, 77833\, United States
CATEGORIES:Community Events
ATTACH;FMTTYPE=image/jpeg:https://ktex.com/wp-content/uploads/2024/07/school-supply-drive-shearobs.jpg
END:VEVENT
BEGIN:VEVENT
DTSTART;TZID=America/Chicago:20240711T123000
DTEND;TZID=America/Chicago:20240711T170000
DTSTAMP:20260422T171937
CREATED:20240710T163700Z
LAST-MODIFIED:20240710T163700Z
UID:48112-1720701000-1720717200@ktex.com
SUMMARY:Blood Drive (Grimes County)
DESCRIPTION:For more information\, contact Blane Hechler at 936-218-9930. \nTo sign up for the blood drive\, register on-line at www.giveblood.org\, and use the sponsor G-C-T-Y. \nAppointments are preferred\, but walk-ins are welcome.
URL:https://ktex.com/event/blood-drive-grimes-county/
LOCATION:Grimes County Sheriff Office (parking log)\, 382 FM 149\, Anderson\, TX\, 77830\, United States
CATEGORIES:Community Events
ATTACH;FMTTYPE=image/jpeg:https://ktex.com/wp-content/uploads/2024/07/blood-drive-july-11.jpg
END:VEVENT
BEGIN:VEVENT
DTSTART;TZID=America/Chicago:20240711T173000
DTEND;TZID=America/Chicago:20240711T183000
DTSTAMP:20260422T171937
CREATED:20240703T143229Z
LAST-MODIFIED:20240703T143229Z
UID:47950-1720719000-1720722600@ktex.com
SUMMARY:Beginner Line Dancing (Navasota)
DESCRIPTION:
URL:https://ktex.com/event/beginner-line-dancing-navasota/
LOCATION:Navasota Center\, 101 Stadium Dr.\, Navasota\, TX\, 77868\, United States
CATEGORIES:Community Events
ATTACH;FMTTYPE=image/png:https://ktex.com/wp-content/uploads/2024/07/July-Line-Dancing-002.png
END:VEVENT
BEGIN:VEVENT
DTSTART;TZID=America/Chicago:20240712T000000
DTEND;TZID=America/Chicago:20240712T000000
DTSTAMP:20260422T171937
CREATED:20240712T134634Z
LAST-MODIFIED:20240712T135756Z
UID:48157-1720742400-1720742400@ktex.com
SUMMARY:New Ulm Open House & Peggy Poenitzsch's Retirement
DESCRIPTION:
URL:https://ktex.com/event/new-ulm-open-house-peggy-poenitzschs-retirement/
LOCATION:TX
CATEGORIES:Community Events
ATTACH;FMTTYPE=image/jpeg:https://ktex.com/wp-content/uploads/2024/07/new-ulm-open-house-july.jpg
END:VEVENT
BEGIN:VEVENT
DTSTART;VALUE=DATE:20240712
DTEND;VALUE=DATE:20240713
DTSTAMP:20260422T171937
CREATED:20240108T200630Z
LAST-MODIFIED:20240108T200630Z
UID:45001-1720742400-1720828799@ktex.com
SUMMARY:Son of Hermann Lodge 6 Monthly Meeting
DESCRIPTION:MEETING INFORMATION\n2nd Friday\, Monthly\nMeal at 6:30 PM Meeting at 7:15 PM\n@ HERMANN SONS LIFE HALL\nEFFECTIVE JANUARY 1\, 2024.  REGUALR MEETINGS\, MEAL WILL BE SERVED AT 6:30 AND MEETING WILL START AT 7:15.  PLEASE MAKE NOTE OF TIME CHANGE.  Make an effort to come to all meetings and support your lodge.
URL:https://ktex.com/event/son-of-hermann-lodge-6-monthly-meeting/
LOCATION:Hermann Sons Life Hall (Brenham)\, 304 E. Germania Street\, Brenham\, TX\, 77833\, United States
CATEGORIES:Community Events
ATTACH;FMTTYPE=image/png:https://ktex.com/wp-content/uploads/2024/01/hermann-sons-life-logo.png
END:VEVENT
BEGIN:VEVENT
DTSTART;VALUE=DATE:20240712
DTEND;VALUE=DATE:20240713
DTSTAMP:20260422T171937
CREATED:20240708T211048Z
LAST-MODIFIED:20240708T211048Z
UID:48034-1720742400-1720828799@ktex.com
SUMMARY:Brazos Valley Gives - Registration is Open
DESCRIPTION:The Community Foundation of the Brazos Valley’s 6th annual Brazos Valley Gives is officially set for Tuesday\, October 15\, 2024 when nonprofits from throughout the 7-county region will engage donors to “give where you live.”  \nRegistration is now open for all Brazos Valley 501(c)(3) nonprofits to register to participate in Brazos Valley Gives— brazosvalleygives.org. The deadline to register is Friday\, September 6. Nonprofits pay a $150 registration fee; nonprofits that have an endowment at the Community Foundation are eligible for a discounted fee of $50. This registration fee is used for administrative-related giving day expenses to include the marketing/promotion of the event regionally. Register at brazosvalleygives.org. Nonprofits that register by Friday noon\, August 2\, will be eligible for a $500 Early Bird Registration Prize.
URL:https://ktex.com/event/brazos-valley-gives-registration-is-open/
LOCATION:TX
CATEGORIES:Community Events
ATTACH;FMTTYPE=image/jpeg:https://ktex.com/wp-content/uploads/2024/07/BrazosValleyGives24SaveTheDate.jpg
END:VEVENT
BEGIN:VEVENT
DTSTART;TZID=America/Chicago:20240712T173000
DTEND;TZID=America/Chicago:20240712T193000
DTSTAMP:20260422T171937
CREATED:20240605T205547Z
LAST-MODIFIED:20240605T205547Z
UID:47519-1720805400-1720812600@ktex.com
SUMMARY:Child PIZZA BINGO
DESCRIPTION:
URL:https://ktex.com/event/child-pizza-bingo-7/
LOCATION:Blue Bell Aquatic Center\, 1800 E Tom Green St\, Brenham\, TX\, 77833\, United States
CATEGORIES:Community Events
ATTACH;FMTTYPE=image/jpeg:https://ktex.com/wp-content/uploads/2024/06/pizza-bingo.jpg
END:VEVENT
BEGIN:VEVENT
DTSTART;TZID=America/Chicago:20240712T193000
DTEND;TZID=America/Chicago:20240712T220000
DTSTAMP:20260422T171937
CREATED:20240523T150506Z
LAST-MODIFIED:20240523T150506Z
UID:47379-1720812600-1720821600@ktex.com
SUMMARY:Grown Up Cup - Adult Teams
DESCRIPTION:
URL:https://ktex.com/event/grown-up-cup-adult-teams/
LOCATION:Hohlt Park\, 2425 N Park St\, Brenham\, TX\, 77833\, United States
CATEGORIES:Community Events
ATTACH;FMTTYPE=image/png:https://ktex.com/wp-content/uploads/2024/05/grown-up-cup.png
END:VEVENT
BEGIN:VEVENT
DTSTART;VALUE=DATE:20240713
DTEND;VALUE=DATE:20240714
DTSTAMP:20260422T171937
CREATED:20240327T215049Z
LAST-MODIFIED:20240327T215049Z
UID:46485-1720828800-1720915199@ktex.com
SUMMARY:Hot Nights-Cool Tunes Concert Series Brenham
DESCRIPTION:July 13 – THE PICTURES \nThis one-of-a-kind\, Austin TX\, high energy\, interactive variety cover band specializing in bringing the most fun ever! \nwww.thepictures.com 
URL:https://ktex.com/event/hot-nights-cool-tunes-concert-series-brenham/
LOCATION:Downtown Brenham
CATEGORIES:Community Events
ATTACH;FMTTYPE=image/jpeg:https://ktex.com/wp-content/uploads/2024/03/hot-night-2024.jpg
END:VEVENT
BEGIN:VEVENT
DTSTART;VALUE=DATE:20240713
DTEND;VALUE=DATE:20240714
DTSTAMP:20260422T171937
CREATED:20240621T203216Z
LAST-MODIFIED:20240621T203216Z
UID:47808-1720828800-1720915199@ktex.com
SUMMARY:Conference at Back to God Revival Holiness Church (Bellville)
DESCRIPTION:
URL:https://ktex.com/event/conference-at-back-to-god-revival-holiness-church-bellville/
LOCATION:Back to God Revival Holiness Church (Bellville)\, 957 West Austin Street\, Bellville\, TX\, 77418\, United States
CATEGORIES:Community Events
ATTACH;FMTTYPE=image/png:https://ktex.com/wp-content/uploads/2024/06/divine-one-conference.png
END:VEVENT
BEGIN:VEVENT
DTSTART;VALUE=DATE:20240713
DTEND;VALUE=DATE:20240714
DTSTAMP:20260422T171937
CREATED:20240702T192629Z
LAST-MODIFIED:20240702T192629Z
UID:47938-1720828800-1720915199@ktex.com
SUMMARY:Classic Car Cruise-In (Brenham)
DESCRIPTION:
URL:https://ktex.com/event/classic-car-cruise-in-brenham-2/
LOCATION:Downtown Brenham
CATEGORIES:Community Events
ATTACH;FMTTYPE=image/jpeg:https://ktex.com/wp-content/uploads/2024/07/car-cruise-in-july.jpg
END:VEVENT
END:VCALENDAR