BEGIN:VCALENDAR
VERSION:2.0
PRODID:-//KTEX 106.1 - ECPv6.15.20//NONSGML v1.0//EN
CALSCALE:GREGORIAN
METHOD:PUBLISH
X-WR-CALNAME:KTEX 106.1
X-ORIGINAL-URL:https://ktex.com
X-WR-CALDESC:Events for KTEX 106.1
REFRESH-INTERVAL;VALUE=DURATION:PT1H
X-Robots-Tag:noindex
X-PUBLISHED-TTL:PT1H
BEGIN:VTIMEZONE
TZID:America/Chicago
BEGIN:DAYLIGHT
TZOFFSETFROM:-0600
TZOFFSETTO:-0500
TZNAME:CDT
DTSTART:20220313T080000
END:DAYLIGHT
BEGIN:STANDARD
TZOFFSETFROM:-0500
TZOFFSETTO:-0600
TZNAME:CST
DTSTART:20221106T070000
END:STANDARD
BEGIN:DAYLIGHT
TZOFFSETFROM:-0600
TZOFFSETTO:-0500
TZNAME:CDT
DTSTART:20230312T080000
END:DAYLIGHT
BEGIN:STANDARD
TZOFFSETFROM:-0500
TZOFFSETTO:-0600
TZNAME:CST
DTSTART:20231105T070000
END:STANDARD
BEGIN:DAYLIGHT
TZOFFSETFROM:-0600
TZOFFSETTO:-0500
TZNAME:CDT
DTSTART:20240310T080000
END:DAYLIGHT
BEGIN:STANDARD
TZOFFSETFROM:-0500
TZOFFSETTO:-0600
TZNAME:CST
DTSTART:20241103T070000
END:STANDARD
END:VTIMEZONE
BEGIN:VEVENT
DTSTART;VALUE=DATE:20231116
DTEND;VALUE=DATE:20231201
DTSTAMP:20260425T072559
CREATED:20231116T204718Z
LAST-MODIFIED:20231116T204718Z
UID:44131-1700092800-1701388799@ktex.com
SUMMARY:Brenham HS Incentive Donations
DESCRIPTION:The EBIS team at Brenham High School are searching for community donors to help with student incentives (helping our students be more safe\, respectful\, and responsible). With the current arrangement\, students receive “cub cash” in exchange for positive behaviors. Community members / businesses are asked to donate gift cards\, snacks\, etc.  Contact\, Faith Gaskamp at Brenham High School\, 979 277-3800 ext. 6120
URL:https://ktex.com/event/brenham-hs-incentive-donations/
LOCATION:TX
CATEGORIES:Community Events
ATTACH;FMTTYPE=image/jpeg:https://ktex.com/wp-content/uploads/2023/11/brenham-high-school.jpg
END:VEVENT
BEGIN:VEVENT
DTSTART;VALUE=DATE:20231116
DTEND;VALUE=DATE:20231211
DTSTAMP:20260425T072559
CREATED:20231116T204454Z
LAST-MODIFIED:20231116T204454Z
UID:44128-1700092800-1702252799@ktex.com
SUMMARY:Toys for Tots Drop off Location-Unity Theatre
DESCRIPTION:
URL:https://ktex.com/event/toys-for-tots-drop-off-location-unity-theatre/
LOCATION:Unity Theatre\, 300 Church Rd\, Brenham\, 77833
CATEGORIES:Community Events
ATTACH;FMTTYPE=image/jpeg:https://ktex.com/wp-content/uploads/2023/11/toys-for-tots-unity-theatre.jpg
END:VEVENT
BEGIN:VEVENT
DTSTART;TZID=America/Chicago:20231116T113000
DTEND;TZID=America/Chicago:20231116T130000
DTSTAMP:20260425T072559
CREATED:20231107T220115Z
LAST-MODIFIED:20231109T190338Z
UID:44003-1700134200-1700139600@ktex.com
SUMMARY:Legislative Wrap-Up Luncheon
DESCRIPTION:Last day to register Nov. 9\nFor more information\, please call the Chamber at 979 836-3695 or email at dawn@brenhamtexas.com
URL:https://ktex.com/event/legislative-wrap-up-luncheon/
LOCATION:Blinn College Student Center\, 902 College Avenue\, Brenham\, TX\, 77833\, United States
CATEGORIES:Community Events
ATTACH;FMTTYPE=image/jpeg:https://ktex.com/wp-content/uploads/2023/11/legislative-luncheon-sold-out.jpg
END:VEVENT
BEGIN:VEVENT
DTSTART;TZID=America/Chicago:20231116T160000
DTEND;TZID=America/Chicago:20231116T180000
DTSTAMP:20260425T072559
CREATED:20231106T205142Z
LAST-MODIFIED:20231106T205142Z
UID:43958-1700150400-1700157600@ktex.com
SUMMARY:Washington County Chamber Connect after Four Event
DESCRIPTION:
URL:https://ktex.com/event/washington-county-chamber-connect-after-four-event/
LOCATION:Citizens State Bank (Brenham)\, 2007 S. Day Street\, Brenham\, TX\, 77833\, United States
CATEGORIES:Community Events
ATTACH;FMTTYPE=image/jpeg:https://ktex.com/wp-content/uploads/2023/11/connect-after-four-nov.jpg
END:VEVENT
BEGIN:VEVENT
DTSTART;TZID=America/Chicago:20231116T170000
DTEND;TZID=America/Chicago:20231116T183000
DTSTAMP:20260425T072559
CREATED:20231114T190953Z
LAST-MODIFIED:20231114T190953Z
UID:44089-1700154000-1700159400@ktex.com
SUMMARY:Burton Community Center Drive-Thru Meals
DESCRIPTION:
URL:https://ktex.com/event/burton-community-center-drive-thru-meals/
LOCATION:Burton Community Center\, 6301 Rehburg Rd.\, Burton\, TX\, 77835\, United States
CATEGORIES:Community Events
ATTACH;FMTTYPE=image/jpeg:https://ktex.com/wp-content/uploads/2023/11/burton-comm-drive-thru-nov-thru-mar.jpg
END:VEVENT
BEGIN:VEVENT
DTSTART;TZID=America/Chicago:20231116T190000
DTEND;TZID=America/Chicago:20231116T220000
DTSTAMP:20260425T072559
CREATED:20231106T173446Z
LAST-MODIFIED:20231106T173446Z
UID:43739-1700161200-1700172000@ktex.com
SUMMARY:Broke String Burnett
DESCRIPTION:
URL:https://ktex.com/event/broke-string-burnett/
LOCATION:Floyd’s Lounge\, 315 S. Baylor St.\, Brenham\, TX\, 77833\, United States
ATTACH;FMTTYPE=image/png:https://ktex.com/wp-content/uploads/2023/11/1d9d5326-8012-4e4e-8f9c-045e09762e55.png
END:VEVENT
BEGIN:VEVENT
DTSTART;VALUE=DATE:20231117
DTEND;VALUE=DATE:20231118
DTSTAMP:20260425T072559
CREATED:20231107T215530Z
LAST-MODIFIED:20231107T215530Z
UID:43997-1700179200-1700265599@ktex.com
SUMMARY:Ribbon Cutting-Bluebonnet Pediatric Dentistry
DESCRIPTION:Washington County Chamber ribbon cutting for new member Bluebonnet Pediatric Dentistry\, Friday\, Nov. 17\, at 10am.  For more information\, please call the Chamber at 979 836-3695 or email at dawn@brenhamtexas.com
URL:https://ktex.com/event/ribbon-cutting-bluebonnet-pediatric-dentistry/
LOCATION:Bluebonnet Pediatric Dentistry\, 2650 Becker Drive\, Brenham\, TX\, 77833\, United States
CATEGORIES:Community Events
ATTACH;FMTTYPE=image/jpeg:https://ktex.com/wp-content/uploads/2023/11/coc-washington-county-ribbon-cutting.jpg
END:VEVENT
BEGIN:VEVENT
DTSTART;TZID=America/Chicago:20231117T173000
DTEND;TZID=America/Chicago:20231117T203000
DTSTAMP:20260425T072559
CREATED:20231027T134528Z
LAST-MODIFIED:20231027T134528Z
UID:43611-1700242200-1700253000@ktex.com
SUMMARY:Martha's Bloomers Holiday in the Garden
DESCRIPTION:
URL:https://ktex.com/event/marthas-bloomers-holiday-in-the-garden/
LOCATION:Martha’s Bloomers & Cafe M. Bloomers\, 8101 Hwy 6 Bypass\, Navasota\, TX\, 77868\, United States
CATEGORIES:Community Events
ATTACH;FMTTYPE=image/png:https://ktex.com/wp-content/uploads/2023/10/holiday-in-the-garden-nov.png
END:VEVENT
BEGIN:VEVENT
DTSTART;TZID=America/Chicago:20231117T173000
DTEND;TZID=America/Chicago:20231117T220000
DTSTAMP:20260425T072559
CREATED:20230907T201554Z
LAST-MODIFIED:20230907T201554Z
UID:42646-1700242200-1700258400@ktex.com
SUMMARY:Sean McConnell
DESCRIPTION:
URL:https://ktex.com/event/sean-mcconnell/
LOCATION:Kenney Store\, 811 south loop 497\, Kenney\, TX\, 77452\, United States
ATTACH;FMTTYPE=image/webp:https://ktex.com/wp-content/uploads/2023/09/376c51_3247196af954414babd5c75002aff7f3mv2.webp
END:VEVENT
BEGIN:VEVENT
DTSTART;TZID=America/Chicago:20231117T190000
DTEND;TZID=America/Chicago:20231117T230000
DTSTAMP:20260425T072559
CREATED:20231106T194830Z
LAST-MODIFIED:20231106T194830Z
UID:43905-1700247600-1700262000@ktex.com
SUMMARY:Wyatt C Ellis Band
DESCRIPTION:
URL:https://ktex.com/event/wyatt-c-ellis-band/
LOCATION:The Stone Cellar
ATTACH;FMTTYPE=image/jpeg:https://ktex.com/wp-content/uploads/2023/11/365689383_781149877347557_3266334718473122907_n.jpg
END:VEVENT
BEGIN:VEVENT
DTSTART;TZID=America/Chicago:20231117T200000
DTEND;TZID=America/Chicago:20231117T230000
DTSTAMP:20260425T072559
CREATED:20231106T173550Z
LAST-MODIFIED:20231106T173550Z
UID:43742-1700251200-1700262000@ktex.com
SUMMARY:Kyle Reed
DESCRIPTION:
URL:https://ktex.com/event/kyle-reed/
LOCATION:Floyd’s Lounge\, 315 S. Baylor St.\, Brenham\, TX\, 77833\, United States
ATTACH;FMTTYPE=image/png:https://ktex.com/wp-content/uploads/2023/11/098d662d-cfec-4381-9d7a-7b6062da63a8.png
END:VEVENT
BEGIN:VEVENT
DTSTART;TZID=America/Chicago:20231117T200000
DTEND;TZID=America/Chicago:20231117T230000
DTSTAMP:20260425T072559
CREATED:20231106T200421Z
LAST-MODIFIED:20231106T200421Z
UID:43931-1700251200-1700262000@ktex.com
SUMMARY:Mason Marek
DESCRIPTION:
URL:https://ktex.com/event/mason-marek/
LOCATION:Burton Short Stop\, 12400 FM 390 W\, Burton\, TX\, 77835\, United States
ATTACH;FMTTYPE=image/jpeg:https://ktex.com/wp-content/uploads/2023/11/avatars-000610117947-juxctl-t500x500.jpg
END:VEVENT
BEGIN:VEVENT
DTSTART;TZID=America/Chicago:20231117T203000
DTEND;TZID=America/Chicago:20231117T233000
DTSTAMP:20260425T072559
CREATED:20231106T180623Z
LAST-MODIFIED:20231106T180623Z
UID:43846-1700253000-1700263800@ktex.com
SUMMARY:Kalo
DESCRIPTION:
URL:https://ktex.com/event/kalo/
LOCATION:HSF Biergarten\, 307 South Park Street\, Brenham\, TX\, 77833\, United States
ATTACH;FMTTYPE=image/jpeg:https://ktex.com/wp-content/uploads/2023/11/bator_guitar_amp_6.jpg
END:VEVENT
BEGIN:VEVENT
DTSTART;TZID=America/Chicago:20231118T090000
DTEND;TZID=America/Chicago:20231118T120000
DTSTAMP:20260425T072559
CREATED:20231103T143437Z
LAST-MODIFIED:20231103T164737Z
UID:43711-1700298000-1700308800@ktex.com
SUMMARY:St. Mary's PCCW Pre-Holiday Bazaar
DESCRIPTION:
URL:https://ktex.com/event/st-marys-pccw-pre-holiday-bazaar/
LOCATION:St. Mary’s Gym (the PAC)\, 701 Church Street\, Brenham\, TX\, 77833\, United States
CATEGORIES:Community Events
ATTACH;FMTTYPE=image/png:https://ktex.com/wp-content/uploads/2023/11/st-marys-bazaar-002.png
END:VEVENT
BEGIN:VEVENT
DTSTART;TZID=America/Chicago:20231118T090000
DTEND;TZID=America/Chicago:20231118T160000
DTSTAMP:20260425T072559
CREATED:20230922T192824Z
LAST-MODIFIED:20230922T192824Z
UID:42934-1700298000-1700323200@ktex.com
SUMMARY:Sugar Plum Market Brenham
DESCRIPTION:
URL:https://ktex.com/event/sugar-plum-market-brenham/
LOCATION:Washington County Expo Event Center\, 1305 E. Blue Bell Rd.\, Brenham\, TX\, 77833\, United States
CATEGORIES:Community Events
ATTACH;FMTTYPE=image/jpeg:https://ktex.com/wp-content/uploads/2023/09/sugar-plum-market-nov.jpg
END:VEVENT
BEGIN:VEVENT
DTSTART;TZID=America/Chicago:20231118T100000
DTEND;TZID=America/Chicago:20231118T120000
DTSTAMP:20260425T072559
CREATED:20231106T204816Z
LAST-MODIFIED:20231106T204816Z
UID:43952-1700301600-1700308800@ktex.com
SUMMARY:City of Brenham Pop-Up Play Day
DESCRIPTION:
URL:https://ktex.com/event/city-of-brenham-pop-up-play-day-2/
LOCATION:Hattie Mae Flowers Park\, 700 Martin Luther King Jr. Pkwy.\, Brenham\, TX\, 77833\, United States
CATEGORIES:Community Events
ATTACH;FMTTYPE=image/jpeg:https://ktex.com/wp-content/uploads/2023/11/pop-up-nov.jpg
END:VEVENT
BEGIN:VEVENT
DTSTART;TZID=America/Chicago:20231118T190000
DTEND;TZID=America/Chicago:20231118T220000
DTSTAMP:20260425T072559
CREATED:20231106T200649Z
LAST-MODIFIED:20231106T200649Z
UID:43937-1700334000-1700344800@ktex.com
SUMMARY:Tailgate Poets
DESCRIPTION:
URL:https://ktex.com/event/tailgate-poets/
LOCATION:The Grapevine on Main\, 5120 Main Street\, Chappell Hill\, TX\, 77426\, United States
ATTACH;FMTTYPE=image/jpeg:https://ktex.com/wp-content/uploads/2023/11/Good_one_TGP_copy.jpg
END:VEVENT
BEGIN:VEVENT
DTSTART;TZID=America/Chicago:20231118T190000
DTEND;TZID=America/Chicago:20231118T230000
DTSTAMP:20260425T072559
CREATED:20231106T194911Z
LAST-MODIFIED:20231106T194911Z
UID:43908-1700334000-1700348400@ktex.com
SUMMARY:Lightning Ben
DESCRIPTION:
URL:https://ktex.com/event/lightning-ben/
LOCATION:The Stone Cellar
ATTACH;FMTTYPE=image/jpeg:https://ktex.com/wp-content/uploads/2023/11/images-1.jpg
END:VEVENT
BEGIN:VEVENT
DTSTART;TZID=America/Chicago:20231118T200000
DTEND;TZID=America/Chicago:20231118T230000
DTSTAMP:20260425T072559
CREATED:20231106T173650Z
LAST-MODIFIED:20231106T173650Z
UID:43746-1700337600-1700348400@ktex.com
SUMMARY:Bo Brumble
DESCRIPTION:
URL:https://ktex.com/event/bo-brumble/
LOCATION:Floyd’s Lounge\, 315 S. Baylor St.\, Brenham\, TX\, 77833\, United States
ATTACH;FMTTYPE=image/png:https://ktex.com/wp-content/uploads/2023/11/f415e395-2387-4bd6-864f-66e7adf48ac7.png
END:VEVENT
BEGIN:VEVENT
DTSTART;TZID=America/Chicago:20231118T200000
DTEND;TZID=America/Chicago:20231118T230000
DTSTAMP:20260425T072559
CREATED:20231106T200534Z
LAST-MODIFIED:20231106T200534Z
UID:43934-1700337600-1700348400@ktex.com
SUMMARY:Cathey Bolin
DESCRIPTION:
URL:https://ktex.com/event/cathey-bolin/
LOCATION:Burton Short Stop\, 12400 FM 390 W\, Burton\, TX\, 77835\, United States
ATTACH;FMTTYPE=image/jpeg:https://ktex.com/wp-content/uploads/2023/11/download-7.jpg
END:VEVENT
BEGIN:VEVENT
DTSTART;TZID=America/Chicago:20231118T203000
DTEND;TZID=America/Chicago:20231118T233000
DTSTAMP:20260425T072559
CREATED:20231106T180731Z
LAST-MODIFIED:20231106T180731Z
UID:43849-1700339400-1700350200@ktex.com
SUMMARY:Buenos Diaz
DESCRIPTION:
URL:https://ktex.com/event/buenos-diaz-2/
LOCATION:HSF Biergarten\, 307 South Park Street\, Brenham\, TX\, 77833\, United States
ATTACH;FMTTYPE=image/jpeg:https://ktex.com/wp-content/uploads/2023/11/F7GtaEAWkAA6nN4.jpg
END:VEVENT
BEGIN:VEVENT
DTSTART;TZID=America/Chicago:20231119T100000
DTEND;TZID=America/Chicago:20231119T160000
DTSTAMP:20260425T072559
CREATED:20230915T135054Z
LAST-MODIFIED:20230915T135054Z
UID:42783-1700388000-1700409600@ktex.com
SUMMARY:Sip & Shop Christmas Market
DESCRIPTION:
URL:https://ktex.com/event/sip-shop-christmas-market/
LOCATION:The Silos on 77\, 1031 CR 223\, Giddings\, TX\, 78942\, United States
CATEGORIES:Community Events
ATTACH;FMTTYPE=image/png:https://ktex.com/wp-content/uploads/2023/09/sip-and-shop-nov.png
END:VEVENT
BEGIN:VEVENT
DTSTART;TZID=America/Chicago:20231119T133000
DTEND;TZID=America/Chicago:20231119T163000
DTSTAMP:20260425T072559
CREATED:20231106T180836Z
LAST-MODIFIED:20231106T180836Z
UID:43852-1700400600-1700411400@ktex.com
SUMMARY:Car-Sun
DESCRIPTION:
URL:https://ktex.com/event/car-sun/
LOCATION:HSF Biergarten\, 307 South Park Street\, Brenham\, TX\, 77833\, United States
ATTACH;FMTTYPE=image/jpeg:https://ktex.com/wp-content/uploads/2023/11/download-2-1.jpg
END:VEVENT
BEGIN:VEVENT
DTSTART;TZID=America/Chicago:20231119T150000
DTEND;TZID=America/Chicago:20231119T200000
DTSTAMP:20260425T072559
CREATED:20231106T195007Z
LAST-MODIFIED:20231106T195007Z
UID:43910-1700406000-1700424000@ktex.com
SUMMARY:Henry Williams
DESCRIPTION:
URL:https://ktex.com/event/henry-williams/
LOCATION:The Stone Cellar
ATTACH;FMTTYPE=image/jpeg:https://ktex.com/wp-content/uploads/2023/11/MG_01013.jpeg
END:VEVENT
BEGIN:VEVENT
DTSTART;TZID=America/Chicago:20231119T180000
DTEND;TZID=America/Chicago:20231119T190000
DTSTAMP:20260425T072559
CREATED:20231115T145027Z
LAST-MODIFIED:20231115T145027Z
UID:44114-1700416800-1700420400@ktex.com
SUMMARY:WC Ministerial Association Thanksgiving Worship Service
DESCRIPTION:
URL:https://ktex.com/event/wc-ministerial-association-thanksgiving-worship-service/
LOCATION:Cannery Kitchen\, 314 East Alamo Street\, Brenham\, TX\, 77833\, United States
CATEGORIES:Community Events
ATTACH;FMTTYPE=image/jpeg:https://ktex.com/wp-content/uploads/2023/11/wc-ministerial-assoc-thanksgiving.jpg
END:VEVENT
BEGIN:VEVENT
DTSTART;VALUE=DATE:20231120
DTEND;VALUE=DATE:20240101
DTSTAMP:20260425T072559
CREATED:20231120T195132Z
LAST-MODIFIED:20231120T195132Z
UID:44159-1700438400-1704067199@ktex.com
SUMMARY:Help Cover A Child-Boys & Girls Club of Austin County
DESCRIPTION:
URL:https://ktex.com/event/help-cover-a-child-boys-girls-club-of-austin-county/
LOCATION:TX
CATEGORIES:Community Events
ATTACH;FMTTYPE=image/png:https://ktex.com/wp-content/uploads/2023/11/ac-bg-club-christmas.png
END:VEVENT
BEGIN:VEVENT
DTSTART;TZID=America/Chicago:20231120T200000
DTEND;TZID=America/Chicago:20231120T230000
DTSTAMP:20260425T072559
CREATED:20231106T175559Z
LAST-MODIFIED:20231106T175559Z
UID:43794-1700510400-1700521200@ktex.com
SUMMARY:Josh Field
DESCRIPTION:
URL:https://ktex.com/event/josh-field/
LOCATION:Floyd’s Lounge\, 315 S. Baylor St.\, Brenham\, TX\, 77833\, United States
ATTACH;FMTTYPE=image/png:https://ktex.com/wp-content/uploads/2023/11/723f2ff4-452c-4e66-a831-207317ef0cb2.png
END:VEVENT
BEGIN:VEVENT
DTSTART;TZID=America/Chicago:20231122T120000
DTEND;TZID=America/Chicago:20231122T160000
DTSTAMP:20260425T072559
CREATED:20231108T193944Z
LAST-MODIFIED:20231108T193944Z
UID:44027-1700654400-1700668800@ktex.com
SUMMARY:Community Thanksgiving Dinner-Bellville
DESCRIPTION:
URL:https://ktex.com/event/community-thanksgiving-dinner-bellville/
LOCATION:Bellville Rent-All\, 5524 Hwy. 36 N\, Bellville\, TX\, 77418\, United States
CATEGORIES:Community Events
ATTACH;FMTTYPE=image/png:https://ktex.com/wp-content/uploads/2023/11/give-back-to-the-comm-thanksgiving-bellville.png
END:VEVENT
BEGIN:VEVENT
DTSTART;TZID=America/Chicago:20231122T200000
DTEND;TZID=America/Chicago:20231122T230000
DTSTAMP:20260425T072559
CREATED:20231106T173755Z
LAST-MODIFIED:20231106T173755Z
UID:43749-1700683200-1700694000@ktex.com
SUMMARY:Sherita Perez
DESCRIPTION:
URL:https://ktex.com/event/sherita-perez/
LOCATION:Floyd’s Lounge\, 315 S. Baylor St.\, Brenham\, TX\, 77833\, United States
ATTACH;FMTTYPE=image/png:https://ktex.com/wp-content/uploads/2023/11/29802d42-2f39-447b-8dc9-c2b82aa1143c.png
END:VEVENT
BEGIN:VEVENT
DTSTART;VALUE=DATE:20231123
DTEND;VALUE=DATE:20231124
DTSTAMP:20260425T072559
CREATED:20231016T210623Z
LAST-MODIFIED:20231016T210623Z
UID:43377-1700697600-1700783999@ktex.com
SUMMARY:Round Top Lions Club presents Turkey Trot
DESCRIPTION:
URL:https://ktex.com/event/round-top-lions-club-presents-turkey-trot/
LOCATION:Henkel Square Market\, 102 North Live Oak\, Round Top\, TX\, 78954\, United States
CATEGORIES:Community Events
ATTACH;FMTTYPE=image/png:https://ktex.com/wp-content/uploads/2023/10/rt-lions-club-turkey-trot-nov.png
END:VEVENT
END:VCALENDAR