BEGIN:VCALENDAR
VERSION:2.0
PRODID:-//KTEX 106.1 - ECPv6.15.20//NONSGML v1.0//EN
CALSCALE:GREGORIAN
METHOD:PUBLISH
X-ORIGINAL-URL:https://ktex.com
X-WR-CALDESC:Events for KTEX 106.1
REFRESH-INTERVAL;VALUE=DURATION:PT1H
X-Robots-Tag:noindex
X-PUBLISHED-TTL:PT1H
BEGIN:VTIMEZONE
TZID:America/Chicago
BEGIN:DAYLIGHT
TZOFFSETFROM:-0600
TZOFFSETTO:-0500
TZNAME:CDT
DTSTART:20240310T080000
END:DAYLIGHT
BEGIN:STANDARD
TZOFFSETFROM:-0500
TZOFFSETTO:-0600
TZNAME:CST
DTSTART:20241103T070000
END:STANDARD
BEGIN:DAYLIGHT
TZOFFSETFROM:-0600
TZOFFSETTO:-0500
TZNAME:CDT
DTSTART:20250309T080000
END:DAYLIGHT
BEGIN:STANDARD
TZOFFSETFROM:-0500
TZOFFSETTO:-0600
TZNAME:CST
DTSTART:20251102T070000
END:STANDARD
BEGIN:DAYLIGHT
TZOFFSETFROM:-0600
TZOFFSETTO:-0500
TZNAME:CDT
DTSTART:20260308T080000
END:DAYLIGHT
BEGIN:STANDARD
TZOFFSETFROM:-0500
TZOFFSETTO:-0600
TZNAME:CST
DTSTART:20261101T070000
END:STANDARD
END:VTIMEZONE
BEGIN:VEVENT
DTSTART;VALUE=DATE:20250301
DTEND;VALUE=DATE:20250416
DTSTAMP:20260421T063022
CREATED:20250213T150511Z
LAST-MODIFIED:20250213T150511Z
UID:51868-1740787200-1744761599@ktex.com
SUMMARY:Calling All Graduating Washington County Senior 4-H Members
DESCRIPTION:
URL:https://ktex.com/event/calling-all-graduating-washington-county-senior-4-h-members/
LOCATION:TX
CATEGORIES:Community Events
ATTACH;FMTTYPE=image/jpeg:https://ktex.com/wp-content/uploads/2025/02/sr-4h-members.jpg
END:VEVENT
BEGIN:VEVENT
DTSTART;VALUE=DATE:20250312
DTEND;VALUE=DATE:20250413
DTSTAMP:20260421T063022
CREATED:20250312T191243Z
LAST-MODIFIED:20250312T191243Z
UID:52313-1741737600-1744502399@ktex.com
SUMMARY:Faith Mission Cannery Center Capital Campaign in Progress (Brenham)
DESCRIPTION:
URL:https://ktex.com/event/faith-mission-cannery-center-capital-campaign-in-progress-brenham/
LOCATION:TX
CATEGORIES:Community Events
ATTACH;FMTTYPE=image/jpeg:https://ktex.com/wp-content/uploads/2025/03/capital-campaign-cannery-kitchen.jpeg
END:VEVENT
BEGIN:VEVENT
DTSTART;VALUE=DATE:20250324
DTEND;VALUE=DATE:20250412
DTSTAMP:20260421T063022
CREATED:20250319T202704Z
LAST-MODIFIED:20250319T202704Z
UID:52448-1742774400-1744415999@ktex.com
SUMMARY:Washington County A&M Club Aggie Muster-Register Now (Brenham)
DESCRIPTION:
URL:https://ktex.com/event/washington-county-am-club-aggie-muster-register-now-brenham/
LOCATION:TX
CATEGORIES:Community Events
ATTACH;FMTTYPE=image/png:https://ktex.com/wp-content/uploads/2025/03/aggie-muster-apr-21.png
END:VEVENT
BEGIN:VEVENT
DTSTART;VALUE=DATE:20250404
DTEND;VALUE=DATE:20250501
DTSTAMP:20260421T063022
CREATED:20250404T132738Z
LAST-MODIFIED:20250404T132738Z
UID:52692-1743724800-1746057599@ktex.com
SUMMARY:Downtown Brenham's Peanut Butter & JAM Drive
DESCRIPTION:Here’s where YOU come in: Swing by a participating Downtown Brenham business and drop off unopened peanut butter and/or JAM. Every jar you donate helps create a yummy sandwich—and ensures a child gets a nutritious meal! \nBut wait\, there’s more! It’s a 𝐏𝐁 & 𝐉𝐀𝐌 showdown! Our Downtown businesses are battling it out to see who can stack up the most donations and claim the title of 𝐏𝐁 & 𝐉𝐀𝐌 Champ (plus a tasty lunch prize). Donate to your fav and help them win! 
URL:https://ktex.com/event/downtown-brenhams-peanut-butter-jam-drive-2/
LOCATION:Downtown Brenham
CATEGORIES:Community Events
ATTACH;FMTTYPE=image/jpeg:https://ktex.com/wp-content/uploads/2025/04/pb-and-jam.jpg
END:VEVENT
BEGIN:VEVENT
DTSTART;VALUE=DATE:20250404
DTEND;VALUE=DATE:20250504
DTSTAMP:20260421T063022
CREATED:20250404T134901Z
LAST-MODIFIED:20250404T134901Z
UID:52695-1743724800-1746316799@ktex.com
SUMMARY:Washington Co. Juneteenth Registration Open Now (Brenham)
DESCRIPTION:Please see and WCJA member for registration applications!
URL:https://ktex.com/event/washington-co-juneteenth-registration-open-now-brenham/
LOCATION:TX
CATEGORIES:Community Events
ATTACH;FMTTYPE=image/jpeg:https://ktex.com/wp-content/uploads/2025/04/juneteenth-registration-end-may-3.jpg
END:VEVENT
BEGIN:VEVENT
DTSTART;VALUE=DATE:20250407
DTEND;VALUE=DATE:20250412
DTSTAMP:20260421T063022
CREATED:20250319T202419Z
LAST-MODIFIED:20250319T202419Z
UID:52445-1743984000-1744415999@ktex.com
SUMMARY:Burton ISD New Student Registration
DESCRIPTION:
URL:https://ktex.com/event/burton-isd-new-student-registration/
LOCATION:Burton Elementary School\, 12504 W Cedar St.\, Burton\, TX\, 77835\, United States
CATEGORIES:Community Events
ATTACH;FMTTYPE=image/png:https://ktex.com/wp-content/uploads/2025/03/burton-isd-new-stu-regi-25-26.png
END:VEVENT
BEGIN:VEVENT
DTSTART;VALUE=DATE:20250407
DTEND;VALUE=DATE:20250412
DTSTAMP:20260421T063022
CREATED:20250407T185858Z
LAST-MODIFIED:20250407T185858Z
UID:52725-1743984000-1744415999@ktex.com
SUMMARY:Multi-County Soil Testing Campaign
DESCRIPTION:
URL:https://ktex.com/event/multi-county-soil-testing-campaign/
LOCATION:TX
CATEGORIES:Community Events
ATTACH;FMTTYPE=image/png:https://ktex.com/wp-content/uploads/2025/04/soil-testing-campaign-end-11.png
END:VEVENT
BEGIN:VEVENT
DTSTART;VALUE=DATE:20250410
DTEND;VALUE=DATE:20250412
DTSTAMP:20260421T063022
CREATED:20250404T213724Z
LAST-MODIFIED:20250404T213724Z
UID:52712-1744243200-1744415999@ktex.com
SUMMARY:Diamonettes Spring Show (Navasota)
DESCRIPTION:Wristband for sale at the High School reception desk.  Prices are:  $8.00 pre-sale for one show and $12.00 for both shows
URL:https://ktex.com/event/diamonettes-spring-show-navasota/
LOCATION:TX
CATEGORIES:Community Events
ATTACH;FMTTYPE=image/png:https://ktex.com/wp-content/uploads/2025/04/diamonette-spring-show-apr-10-11.png
END:VEVENT
BEGIN:VEVENT
DTSTART;VALUE=DATE:20250411
DTEND;VALUE=DATE:20250412
DTSTAMP:20260421T063022
CREATED:20250226T162322Z
LAST-MODIFIED:20250226T162322Z
UID:51988-1744329600-1744415999@ktex.com
SUMMARY:Sealy Eastside Foundation Fish Fry Fundraiser
DESCRIPTION:
URL:https://ktex.com/event/sealy-eastside-foundation-fish-fry-fundraiser-6/
LOCATION:American Legion Hall Sealy\, 1630 Meyer Street\, Sealy\, TX\, 77474\, United States
CATEGORIES:Community Events
ATTACH;FMTTYPE=image/jpeg:https://ktex.com/wp-content/uploads/2025/02/sealy-eastside-fish-fry-mar-and-apr.jpg
END:VEVENT
BEGIN:VEVENT
DTSTART;VALUE=DATE:20250411
DTEND;VALUE=DATE:20250412
DTSTAMP:20260421T063022
CREATED:20250226T202612Z
LAST-MODIFIED:20250226T202612Z
UID:52036-1744329600-1744415999@ktex.com
SUMMARY:Frelsburg KC Fish Fry
DESCRIPTION:
URL:https://ktex.com/event/frelsburg-kc-fish-fry-12/
LOCATION:Sts. Peter & Paul Diamond Center (Frelsburg)\, 1031 Church Lane\, New Ulm\, TX\, 78950\, United States
CATEGORIES:Community Events
ATTACH;FMTTYPE=image/jpeg:https://ktex.com/wp-content/uploads/2025/02/frelsburg-kc-fish-fry-mar-and-apr.jpg
END:VEVENT
BEGIN:VEVENT
DTSTART;VALUE=DATE:20250411
DTEND;VALUE=DATE:20250412
DTSTAMP:20260421T063022
CREATED:20250311T215045Z
LAST-MODIFIED:20250311T215045Z
UID:52307-1744329600-1744415999@ktex.com
SUMMARY:Fish Fry C.H.A.M.P. (Sealy)
DESCRIPTION:
URL:https://ktex.com/event/fish-fry-c-h-a-m-p-sealy-5/
LOCATION:Sealy Lifebridge Church\, FM 2187 Rd.\, Sealy\, TX\, 77474\, United States
CATEGORIES:Community Events
ATTACH;FMTTYPE=image/jpeg:https://ktex.com/wp-content/uploads/2025/03/fish-fry-C.H.A.M.P.jpg
END:VEVENT
BEGIN:VEVENT
DTSTART;VALUE=DATE:20250411
DTEND;VALUE=DATE:20250412
DTSTAMP:20260421T063022
CREATED:20250325T211814Z
LAST-MODIFIED:20250325T211814Z
UID:52517-1744329600-1744415999@ktex.com
SUMMARY:Austin County Go Texan Crawfish Boil
DESCRIPTION:
URL:https://ktex.com/event/austin-county-go-texan-crawfish-boil-2/
LOCATION:Austin County Fairgrounds\, 1076 East Hill\, Bellville\, TX\, 77418\, United States
CATEGORIES:Community Events
ATTACH;FMTTYPE=image/jpeg:https://ktex.com/wp-content/uploads/2025/03/ac-go-txn-crawfish-boil-apr-aa.jpg
END:VEVENT
BEGIN:VEVENT
DTSTART;VALUE=DATE:20250411
DTEND;VALUE=DATE:20250413
DTSTAMP:20260421T063022
CREATED:20250411T175325Z
LAST-MODIFIED:20250411T175325Z
UID:52834-1744329600-1744502399@ktex.com
SUMMARY:Area 6 Special Olympics Spring Games (College Station)
DESCRIPTION:
URL:https://ktex.com/event/area-6-special-olympics-spring-games-college-station/
LOCATION:College Station High School\, 4002 Victoria Ave.\, College Station\, 77845
CATEGORIES:Community Events
ATTACH;FMTTYPE=image/jpeg:https://ktex.com/wp-content/uploads/2025/04/spring-fest-apr-11-12.jpg
END:VEVENT
BEGIN:VEVENT
DTSTART;VALUE=DATE:20250411
DTEND;VALUE=DATE:20250414
DTSTAMP:20260421T063022
CREATED:20250407T190417Z
LAST-MODIFIED:20250407T190417Z
UID:52732-1744329600-1744588799@ktex.com
SUMMARY:First Bellville Players Dinner Theater
DESCRIPTION:
URL:https://ktex.com/event/first-bellville-players-dinner-theater/
LOCATION:First Baptist Church (Bellville)\, 504 E Strauss St.\, Bellville\, TX\, 77418\, United States
CATEGORIES:Community Events
ATTACH;FMTTYPE=image/jpeg:https://ktex.com/wp-content/uploads/2025/04/first-bellville-players-apr-11-12-13.jpg
END:VEVENT
BEGIN:VEVENT
DTSTART;TZID=America/Chicago:20250411T100000
DTEND;TZID=America/Chicago:20250411T120000
DTSTAMP:20260421T063022
CREATED:20250325T185211Z
LAST-MODIFIED:20250325T185211Z
UID:52510-1744365600-1744372800@ktex.com
SUMMARY:Silversage Celebrates National Pet Day (Brenham)
DESCRIPTION:
URL:https://ktex.com/event/silversage-celebrates-national-pet-day-brenham/
LOCATION:Silver Sage Assisted Living and Memory Care – Brenham\, 1121 Prairie Lea St.\, Brenham\, TX\, 77833\, United States
CATEGORIES:Community Events
ATTACH;FMTTYPE=image/png:https://ktex.com/wp-content/uploads/2025/03/national-pet-day-apr-11.png
END:VEVENT
BEGIN:VEVENT
DTSTART;TZID=America/Chicago:20250411T100000
DTEND;TZID=America/Chicago:20250411T140000
DTSTAMP:20260421T063022
CREATED:20250409T181604Z
LAST-MODIFIED:20250409T181604Z
UID:52813-1744365600-1744380000@ktex.com
SUMMARY:Clean Hands Christian Ministry Fish Fry (Bryan)
DESCRIPTION:
URL:https://ktex.com/event/clean-hands-christian-ministry-fish-fry-bryan/
LOCATION:The Chapel\, 704 N Bryan Ave.\, Bryan\, TX\, 77803\, United States
CATEGORIES:Community Events
ATTACH;FMTTYPE=image/jpeg:https://ktex.com/wp-content/uploads/2025/04/fish-fry-apr-11.jpg
END:VEVENT
BEGIN:VEVENT
DTSTART;TZID=America/Chicago:20250411T100000
DTEND;TZID=America/Chicago:20250411T150000
DTSTAMP:20260421T063022
CREATED:20250328T134000Z
LAST-MODIFIED:20250328T134000Z
UID:52575-1744365600-1744383600@ktex.com
SUMMARY:Barn Quilt Square Class (Round Top)
DESCRIPTION:
URL:https://ktex.com/event/barn-quilt-square-class-round-top/
LOCATION:Round Top Family Library\, 206 W. Mill\, Round Top\, TX\, United States
CATEGORIES:Community Events
ATTACH;FMTTYPE=image/png:https://ktex.com/wp-content/uploads/2025/03/barn-quilt-apr11.png
END:VEVENT
BEGIN:VEVENT
DTSTART;TZID=America/Chicago:20250411T160000
DTEND;TZID=America/Chicago:20250411T180000
DTSTAMP:20260421T063022
CREATED:20250407T190154Z
LAST-MODIFIED:20250407T190154Z
UID:52728-1744387200-1744394400@ktex.com
SUMMARY:Meet the Easter Bunny (Sealy)
DESCRIPTION:
URL:https://ktex.com/event/meet-the-easter-bunny-sealy/
LOCATION:Texas Farm Bureau Insurance (Sealy)\, 1305 Hwy. 90 W\, Ste. C\, Sealy\, TX\, 77474\, United States
CATEGORIES:Community Events
ATTACH;FMTTYPE=image/jpeg:https://ktex.com/wp-content/uploads/2025/04/meet-the-easter-bunny-apr-11.jpg
END:VEVENT
BEGIN:VEVENT
DTSTART;TZID=America/Chicago:20250411T173000
DTEND;TZID=America/Chicago:20250411T193000
DTSTAMP:20260421T063022
CREATED:20250318T191114Z
LAST-MODIFIED:20250318T191114Z
UID:52417-1744392600-1744399800@ktex.com
SUMMARY:Brenham Fire Department Fish Fry
DESCRIPTION:
URL:https://ktex.com/event/brenham-fire-department-fish-fry-2/
LOCATION:Fireman’s Training Center\, 1101 Hwy 290 West\, Brenham\, TX\, 77833\, United States
CATEGORIES:Community Events
ATTACH;FMTTYPE=image/png:https://ktex.com/wp-content/uploads/2025/03/bfd-fish-fry-apr-11.png
END:VEVENT
BEGIN:VEVENT
DTSTART;TZID=America/Chicago:20250411T180000
DTEND;TZID=America/Chicago:20250411T200000
DTSTAMP:20260421T063022
CREATED:20250304T204016Z
LAST-MODIFIED:20250304T204016Z
UID:52178-1744394400-1744401600@ktex.com
SUMMARY:Krause Elementary Legos with Ladies (Brenham)
DESCRIPTION:FORM/MONEY DUE BY FRIDAY\, MARCH 28th 
URL:https://ktex.com/event/krause-elementary-legos-with-ladies-brenham/
LOCATION:Krause Elementary School\, 2201 E Stone St\, Brenham\, TX\, 77833\, United States
CATEGORIES:Community Events
ATTACH;FMTTYPE=image/png:https://ktex.com/wp-content/uploads/2025/03/legos-w-ladies-apr-11.png
END:VEVENT
BEGIN:VEVENT
DTSTART;VALUE=DATE:20250412
DTEND;VALUE=DATE:20250413
DTSTAMP:20260421T063022
CREATED:20250214T163526Z
LAST-MODIFIED:20250214T163526Z
UID:51907-1744416000-1744502399@ktex.com
SUMMARY:Colorado County Fair Association Shrimp Boil (Columbus)
DESCRIPTION:
URL:https://ktex.com/event/colorado-county-fair-association-shrimp-boil-columbus/
LOCATION:Coloroda County Fairgrounds\, 1146 Crossroads Blvd\, Columbus\, TX\, 78934\, United States
CATEGORIES:Community Events
ATTACH;FMTTYPE=image/jpeg:https://ktex.com/wp-content/uploads/2025/02/shrimp-boil-apr-12.jpg
END:VEVENT
BEGIN:VEVENT
DTSTART;VALUE=DATE:20250412
DTEND;VALUE=DATE:20250413
DTSTAMP:20260421T063022
CREATED:20250303T193606Z
LAST-MODIFIED:20250331T194547Z
UID:52099-1744416000-1744502399@ktex.com
SUMMARY:A.R. Pickard H.S. Reunion Association Scholarship Banquet (Brenham)
DESCRIPTION:TICKETS ON SALE NOW!  CONTACT A.R. PICKARD H.S. REUNION ASSOCIATION MEMBERS!
URL:https://ktex.com/event/a-r-pickard-h-s-reunion-association-scholarship-banquet-brenham/
LOCATION:Blinn College Student Center Banquet Room\, 1007 Walter Schwartz Way\, Brenham\, TX\, 77833\, United States
CATEGORIES:Community Events
ATTACH;FMTTYPE=image/png:https://ktex.com/wp-content/uploads/2025/03/a-r-pickard-hs-reunion-assoc-new-flyer.png
END:VEVENT
BEGIN:VEVENT
DTSTART;VALUE=DATE:20250412
DTEND;VALUE=DATE:20250413
DTSTAMP:20260421T063022
CREATED:20250321T211315Z
LAST-MODIFIED:20250321T211315Z
UID:52475-1744416000-1744502399@ktex.com
SUMMARY:Public Forum featuring School Board and City Council Candidates (Brenham)
DESCRIPTION:
URL:https://ktex.com/event/public-forum-featuring-school-board-and-city-council-candidates-brenham/
LOCATION:Cannery Kitchen\, 314 East Alamo Street\, Brenham\, TX\, 77833\, United States
CATEGORIES:Community Events
ATTACH;FMTTYPE=image/png:https://ktex.com/wp-content/uploads/2025/03/school-board-city-council-forum.png
END:VEVENT
BEGIN:VEVENT
DTSTART;VALUE=DATE:20250412
DTEND;VALUE=DATE:20250413
DTSTAMP:20260421T063022
CREATED:20250325T184837Z
LAST-MODIFIED:20250325T184837Z
UID:52506-1744416000-1744502399@ktex.com
SUMMARY:Building Fund Benefit Program for Mercy Seat Baptist Church
DESCRIPTION:Our current sanctuary has deteriorated\, and we are moving forward with constructing a new one (17263 FM 912) in Washington TX.  The new church will not simply be another building.  It will be the community’s church where everyone is welcome.
URL:https://ktex.com/event/building-fund-benefit-program-for-mercy-seat-baptist-church/
LOCATION:Mt. Rose Missionary Baptist Church (Brenham)\, 204 Kerr Street\, Brenham\, TX\, 77833\, United States
CATEGORIES:Community Events
ATTACH;FMTTYPE=image/jpeg:https://ktex.com/wp-content/uploads/2025/03/all-the-way.jpg
END:VEVENT
BEGIN:VEVENT
DTSTART;VALUE=DATE:20250412
DTEND;VALUE=DATE:20250413
DTSTAMP:20260421T063022
CREATED:20250328T132523Z
LAST-MODIFIED:20250328T132523Z
UID:52559-1744416000-1744502399@ktex.com
SUMMARY:Texas Czech Genealogical Society presents Czech Family Origins (Caldwell)
DESCRIPTION:
URL:https://ktex.com/event/texas-czech-genealogical-society-presents-czech-family-origins-caldwell/
LOCATION:Caldwell Civic Center\, 103 Hwy Texas 21 W.\, Caldwell\, TX\, 77836\, United States
CATEGORIES:Community Events
ATTACH;FMTTYPE=image/png:https://ktex.com/wp-content/uploads/2025/03/czech-family-orgins-apr-12.png
END:VEVENT
BEGIN:VEVENT
DTSTART;VALUE=DATE:20250412
DTEND;VALUE=DATE:20250413
DTSTAMP:20260421T063022
CREATED:20250401T134025Z
LAST-MODIFIED:20250401T134025Z
UID:52646-1744416000-1744502399@ktex.com
SUMMARY:New Hope MBC Pre-Choir Musical (Gay Hill)
DESCRIPTION:
URL:https://ktex.com/event/new-hope-mbc-pre-choir-musical-gay-hill/
LOCATION:New Hope Missionary Baptist Church (Brenham)\, 704 W. Jefferson St.\, Brenham\, TX\, 77833\, United States
CATEGORIES:Community Events
ATTACH;FMTTYPE=image/jpeg:https://ktex.com/wp-content/uploads/2025/04/pre-choir-musical-apr-12.jpg
END:VEVENT
BEGIN:VEVENT
DTSTART;VALUE=DATE:20250412
DTEND;VALUE=DATE:20250413
DTSTAMP:20260421T063022
CREATED:20250401T183819Z
LAST-MODIFIED:20250401T183819Z
UID:52660-1744416000-1744502399@ktex.com
SUMMARY:Lee Scott Masonic Lodge #793 Turkey Shoot & Gun Drawing (Somerville)
DESCRIPTION:
URL:https://ktex.com/event/lee-scott-masonic-lodge-793-turkey-shoot-gun-drawing-somerville/
LOCATION:American Legion Hall Somerville\, 517 8th Street\, Somerville\, TX\, 77879\, United States
CATEGORIES:Community Events
ATTACH;FMTTYPE=image/png:https://ktex.com/wp-content/uploads/2025/04/turkey-shoot-gun-drawing-apr-12.png
END:VEVENT
BEGIN:VEVENT
DTSTART;VALUE=DATE:20250412
DTEND;VALUE=DATE:20250413
DTSTAMP:20260421T063022
CREATED:20250402T134947Z
LAST-MODIFIED:20250402T134947Z
UID:52667-1744416000-1744502399@ktex.com
SUMMARY:Brenham HS Class of 1985 Reunion Planning Meeting
DESCRIPTION:Brenham high class of 1985 will hold a planning meeting on Saturday\, April 12 to organize their 40th class reunion at 30 North Gastro Pub starting at 4 PM\, for more info visit the FB page Brenham high school class of 1985 40-year class reunion or call or text Stacey Schulte Walters\, 979 277-2244 or Brian Gaskamp\, 979 661-5026psa
URL:https://ktex.com/event/brenham-hs-class-of-1985-reunion-planning-meeting/
LOCATION:30 North Gastropub\, 302 E Alamo Street\, Brenham\, TX\, 77833\, United States
CATEGORIES:Community Events
ATTACH;FMTTYPE=image/png:https://ktex.com/wp-content/uploads/2025/04/psa.png
END:VEVENT
BEGIN:VEVENT
DTSTART;VALUE=DATE:20250412
DTEND;VALUE=DATE:20250414
DTSTAMP:20260421T063022
CREATED:20250319T182721Z
LAST-MODIFIED:20250319T182721Z
UID:52440-1744416000-1744588799@ktex.com
SUMMARY:Chappell Hill Bluebonnet Festival
DESCRIPTION:The best shopping and the prettiest bluebonnets in Texas are in Chappell Hill! Join Eilish and Cowboy Dave as they shop till they drop at all of the 250+ vendors!
URL:https://ktex.com/event/chappell-hill-bluebonnet-festival-3/
LOCATION:Downtown Chappell Hill
CATEGORIES:KTEX on the Road
END:VEVENT
BEGIN:VEVENT
DTSTART;VALUE=DATE:20250412
DTEND;VALUE=DATE:20250414
DTSTAMP:20260421T063022
CREATED:20250331T195407Z
LAST-MODIFIED:20250331T195407Z
UID:52627-1744416000-1744588799@ktex.com
SUMMARY:Chappell Hill Bluebonnet Festival Entertainment Lineup
DESCRIPTION:
URL:https://ktex.com/event/chappell-hill-bluebonnet-festival-entertainment-lineup/
LOCATION:Downtown Chappell Hill
CATEGORIES:Community Events
ATTACH;FMTTYPE=image/png:https://ktex.com/wp-content/uploads/2025/03/bb-festival-schedule-apr-12-13.png
END:VEVENT
END:VCALENDAR