BEGIN:VCALENDAR
VERSION:2.0
PRODID:-//KTEX 106.1 - ECPv6.15.20//NONSGML v1.0//EN
CALSCALE:GREGORIAN
METHOD:PUBLISH
X-ORIGINAL-URL:https://ktex.com
X-WR-CALDESC:Events for KTEX 106.1
REFRESH-INTERVAL;VALUE=DURATION:PT1H
X-Robots-Tag:noindex
X-PUBLISHED-TTL:PT1H
BEGIN:VTIMEZONE
TZID:America/Chicago
BEGIN:DAYLIGHT
TZOFFSETFROM:-0600
TZOFFSETTO:-0500
TZNAME:CDT
DTSTART:20240310T080000
END:DAYLIGHT
BEGIN:STANDARD
TZOFFSETFROM:-0500
TZOFFSETTO:-0600
TZNAME:CST
DTSTART:20241103T070000
END:STANDARD
BEGIN:DAYLIGHT
TZOFFSETFROM:-0600
TZOFFSETTO:-0500
TZNAME:CDT
DTSTART:20250309T080000
END:DAYLIGHT
BEGIN:STANDARD
TZOFFSETFROM:-0500
TZOFFSETTO:-0600
TZNAME:CST
DTSTART:20251102T070000
END:STANDARD
BEGIN:DAYLIGHT
TZOFFSETFROM:-0600
TZOFFSETTO:-0500
TZNAME:CDT
DTSTART:20260308T080000
END:DAYLIGHT
BEGIN:STANDARD
TZOFFSETFROM:-0500
TZOFFSETTO:-0600
TZNAME:CST
DTSTART:20261101T070000
END:STANDARD
END:VTIMEZONE
BEGIN:VEVENT
DTSTART;VALUE=DATE:20250225
DTEND;VALUE=DATE:20250401
DTSTAMP:20260421T051925
CREATED:20250225T221027Z
LAST-MODIFIED:20250225T221027Z
UID:51952-1740441600-1743465599@ktex.com
SUMMARY:Gather N Grace Seeking Partners to Help Feed God's People
DESCRIPTION:
URL:https://ktex.com/event/gather-n-grace-seeking-partners-to-help-feed-gods-people/
LOCATION:TX
CATEGORIES:Community Events
ATTACH;FMTTYPE=image/png:https://ktex.com/wp-content/uploads/2025/02/gather-n-grace-partners.png
END:VEVENT
BEGIN:VEVENT
DTSTART;VALUE=DATE:20250301
DTEND;VALUE=DATE:20250401
DTSTAMP:20260421T051925
CREATED:20250214T225154Z
LAST-MODIFIED:20250214T225154Z
UID:51921-1740787200-1743465599@ktex.com
SUMMARY:Donate Blood
DESCRIPTION:
URL:https://ktex.com/event/donate-blood/
LOCATION:TX
CATEGORIES:Community Events
ATTACH;FMTTYPE=image/jpeg:https://ktex.com/wp-content/uploads/2025/02/give-blood-mar-1-31.jpg
END:VEVENT
BEGIN:VEVENT
DTSTART;VALUE=DATE:20250301
DTEND;VALUE=DATE:20250416
DTSTAMP:20260421T051925
CREATED:20250213T150511Z
LAST-MODIFIED:20250213T150511Z
UID:51868-1740787200-1744761599@ktex.com
SUMMARY:Calling All Graduating Washington County Senior 4-H Members
DESCRIPTION:
URL:https://ktex.com/event/calling-all-graduating-washington-county-senior-4-h-members/
LOCATION:TX
CATEGORIES:Community Events
ATTACH;FMTTYPE=image/jpeg:https://ktex.com/wp-content/uploads/2025/02/sr-4h-members.jpg
END:VEVENT
BEGIN:VEVENT
DTSTART;VALUE=DATE:20250304
DTEND;VALUE=DATE:20250401
DTSTAMP:20260421T051925
CREATED:20250304T154153Z
LAST-MODIFIED:20250304T154153Z
UID:52156-1741046400-1743465599@ktex.com
SUMMARY:Brenham Animal Services Spay/Neuter Assistance Program
DESCRIPTION:
URL:https://ktex.com/event/brenham-animal-services-spay-neuter-assistance-program/
LOCATION:Brenham Animal Services and Adoption Center\, 1804 Longwood Drive\, Brenham\, TX\, 77833\, United States
CATEGORIES:Community Events
ATTACH;FMTTYPE=image/png:https://ktex.com/wp-content/uploads/2025/03/spay-neuter-assistance.png
END:VEVENT
BEGIN:VEVENT
DTSTART;VALUE=DATE:20250306
DTEND;VALUE=DATE:20250401
DTSTAMP:20260421T051925
CREATED:20250306T144511Z
LAST-MODIFIED:20250306T144511Z
UID:52240-1741219200-1743465599@ktex.com
SUMMARY:Washington County Fair Country Creations Catalogs are Posted
DESCRIPTION:
URL:https://ktex.com/event/washington-county-fair-country-creations-catalogs-are-posted/
LOCATION:TX
CATEGORIES:Community Events
ATTACH;FMTTYPE=image/jpeg:https://ktex.com/wp-content/uploads/2025/03/cc-catalog.jpg
END:VEVENT
BEGIN:VEVENT
DTSTART;VALUE=DATE:20250310
DTEND;VALUE=DATE:20250401
DTSTAMP:20260421T051925
CREATED:20250310T215318Z
LAST-MODIFIED:20250310T215318Z
UID:52268-1741564800-1743465599@ktex.com
SUMMARY:Austin County Fair 2025 Scholarship Applications Online Now
DESCRIPTION:
URL:https://ktex.com/event/austin-county-fair-2025-scholarship-applications-online-now/
LOCATION:TX
CATEGORIES:Community Events
ATTACH;FMTTYPE=image/jpeg:https://ktex.com/wp-content/uploads/2025/03/acf-scholarships.jpg
END:VEVENT
BEGIN:VEVENT
DTSTART;VALUE=DATE:20250311
DTEND;VALUE=DATE:20250328
DTSTAMP:20260421T051925
CREATED:20250311T213428Z
LAST-MODIFIED:20250311T213428Z
UID:52281-1741651200-1743119999@ktex.com
SUMMARY:FREEDOM COLONIES Exhibit on Display at Brenham Heritage Museum
DESCRIPTION:
URL:https://ktex.com/event/freedom-colonies-exhibit-on-display-at-brenham-heritage-museum/
LOCATION:Brenham Heritage Museum\, 105 S. Market St.\, Brenham\, TX\, 77833\, United States
CATEGORIES:Community Events
ATTACH;FMTTYPE=image/png:https://ktex.com/wp-content/uploads/2025/03/freedom-colonies-at-bhm.png
END:VEVENT
BEGIN:VEVENT
DTSTART;VALUE=DATE:20250312
DTEND;VALUE=DATE:20250413
DTSTAMP:20260421T051925
CREATED:20250312T191243Z
LAST-MODIFIED:20250312T191243Z
UID:52313-1741737600-1744502399@ktex.com
SUMMARY:Faith Mission Cannery Center Capital Campaign in Progress (Brenham)
DESCRIPTION:
URL:https://ktex.com/event/faith-mission-cannery-center-capital-campaign-in-progress-brenham/
LOCATION:TX
CATEGORIES:Community Events
ATTACH;FMTTYPE=image/jpeg:https://ktex.com/wp-content/uploads/2025/03/capital-campaign-cannery-kitchen.jpeg
END:VEVENT
BEGIN:VEVENT
DTSTART;VALUE=DATE:20250317
DTEND;VALUE=DATE:20250318
DTSTAMP:20260421T051925
CREATED:20250305T210150Z
LAST-MODIFIED:20250305T210150Z
UID:52222-1742169600-1742255999@ktex.com
SUMMARY:Eagle Scouts of Washington County Recognition Ceremony (Brenham)
DESCRIPTION:
URL:https://ktex.com/event/eagle-scouts-of-washington-county-recognition-ceremony-brenham/
LOCATION:Washington County Annex Building\, Brenham\, TX\, 77833\, United States
CATEGORIES:Community Events
ATTACH;FMTTYPE=image/png:https://ktex.com/wp-content/uploads/2025/03/eagle-scouts-mar-17.png
END:VEVENT
BEGIN:VEVENT
DTSTART;VALUE=DATE:20250318
DTEND;VALUE=DATE:20250319
DTSTAMP:20260421T051925
CREATED:20250303T194105Z
LAST-MODIFIED:20250303T194105Z
UID:52104-1742256000-1742342399@ktex.com
SUMMARY:Navasota HS Pre-UIL Choir Concert/New Orleans Trip Meeting
DESCRIPTION:
URL:https://ktex.com/event/navasota-hs-pre-uil-choir-concert-new-orleans-trip-meeting/
LOCATION:Brosig Performing Arts Center\, 105 Brosig Ave.\, Navasota\, TX\, 77868\, United States
CATEGORIES:Community Events
ATTACH;FMTTYPE=image/png:https://ktex.com/wp-content/uploads/2025/03/nhs-choir-concert-mar-18.png
END:VEVENT
BEGIN:VEVENT
DTSTART;TZID=America/Chicago:20250318T115000
DTEND;TZID=America/Chicago:20250318T120000
DTSTAMP:20260421T051925
CREATED:20250210T211331Z
LAST-MODIFIED:20250210T211331Z
UID:51818-1742298600-1742299200@ktex.com
SUMMARY:Lunch N Learn Series-Spring (Bellville)
DESCRIPTION:
URL:https://ktex.com/event/lunch-n-learn-series-spring-bellville-2/
LOCATION:Texas A&M AgriLife Extension Service (Austin County)\, 800 East Wendt\, Bellville\, TX\, 77418\, United States
CATEGORIES:Community Events
ATTACH;FMTTYPE=image/jpeg:https://ktex.com/wp-content/uploads/2025/02/lunch-n-learn-spring-series-feb-mar-apr-may.jpg
END:VEVENT
BEGIN:VEVENT
DTSTART;TZID=America/Chicago:20250318T123000
DTEND;TZID=America/Chicago:20250318T133000
DTSTAMP:20260421T051925
CREATED:20250131T214158Z
LAST-MODIFIED:20250131T214158Z
UID:51687-1742301000-1742304600@ktex.com
SUMMARY:Master of Memory Final Session (Brenham)
DESCRIPTION:
URL:https://ktex.com/event/master-of-memory-final-session-brenham/
LOCATION:Margaret E Blizzard Senior Activity Center\, 1301 E. Tom Green\, Brenham\, 77833
CATEGORIES:Community Events
ATTACH;FMTTYPE=image/png:https://ktex.com/wp-content/uploads/2025/01/master-of-memory-feb-mar.png
END:VEVENT
BEGIN:VEVENT
DTSTART;TZID=America/Chicago:20250318T180000
DTEND;TZID=America/Chicago:20250318T190000
DTSTAMP:20260421T051925
CREATED:20250312T193326Z
LAST-MODIFIED:20250312T193326Z
UID:52316-1742320800-1742324400@ktex.com
SUMMARY:Sigma Chi Chi Professional Women's Club of Brenham Meeting
DESCRIPTION:Mary Sanders\, Extension Agent\, Washington County will present Part II of “Balanced Living”\n*Move your body\n*Rest your body
URL:https://ktex.com/event/sigma-chi-chi-professional-womens-club-of-brenham-meeting/
LOCATION:New Life Church of God\, Brenham\, 1990 FM389\, Brenham\, TX\, 77833\, United States
CATEGORIES:Community Events
ATTACH;FMTTYPE=image/png:https://ktex.com/wp-content/uploads/2025/03/balanced-living-mar-18.png
END:VEVENT
BEGIN:VEVENT
DTSTART;VALUE=DATE:20250319
DTEND;VALUE=DATE:20250320
DTSTAMP:20260421T051925
CREATED:20250213T162022Z
LAST-MODIFIED:20250213T162022Z
UID:51883-1742342400-1742428799@ktex.com
SUMMARY:Abiding Word Lutheran Church Traditional Lent Service (Brenham)
DESCRIPTION:Join Abiding Word Lutheran Church for a traditional Lent Service @ 12 PM or a 5:30 PM service on March 19\, 26\, April 2\, and 9.
URL:https://ktex.com/event/abiding-word-lutheran-church-traditional-lent-service-brenham-2/
LOCATION:Abiding Word Lutheran Church (Brenham)\, 464 Oak Tree Crossing\, Brenham\, TX\, 77833\, United States
CATEGORIES:Community Events
ATTACH;FMTTYPE=image/png:https://ktex.com/wp-content/uploads/2025/02/abiding-word-lutheran-church-brenham.png
END:VEVENT
BEGIN:VEVENT
DTSTART;VALUE=DATE:20250319
DTEND;VALUE=DATE:20250320
DTSTAMP:20260421T051925
CREATED:20250311T213623Z
LAST-MODIFIED:20250311T213623Z
UID:52284-1742342400-1742428799@ktex.com
SUMMARY:Faith Academy Dedication of New Facilities (Bellville)
DESCRIPTION:
URL:https://ktex.com/event/faith-academy-dedication-of-new-facilities-bellville/
LOCATION:Faith Academy of Bellville\, 12177 Hwy. 36\, Bellville\, TX\, 77418\, United States
CATEGORIES:Community Events
ATTACH;FMTTYPE=image/jpeg:https://ktex.com/wp-content/uploads/2025/03/dedication-of-new-facilities-mar-19.jpg
END:VEVENT
BEGIN:VEVENT
DTSTART;VALUE=DATE:20250319
DTEND;VALUE=DATE:20250401
DTSTAMP:20260421T051925
CREATED:20250319T195521Z
LAST-MODIFIED:20250319T195521Z
UID:52442-1742342400-1743465599@ktex.com
SUMMARY:Washington EEA Bush's Chicken Fundraiser (Brenham)
DESCRIPTION:Tickets on sale through March 31st 
URL:https://ktex.com/event/washington-eea-bushs-chicken-fundraiser-brenham/
LOCATION:Texas A&M AgriLife Extension (Washington County)\, 1305 East Blue Bell Road\, Brenham\, TX\, 77833\, United States
CATEGORIES:Community Events
ATTACH;FMTTYPE=image/png:https://ktex.com/wp-content/uploads/2025/03/weea-fundraiser-apr-9.png
END:VEVENT
BEGIN:VEVENT
DTSTART;TZID=America/Chicago:20250319T090000
DTEND;TZID=America/Chicago:20250319T160000
DTSTAMP:20260421T051925
CREATED:20250304T153951Z
LAST-MODIFIED:20250304T153951Z
UID:52153-1742374800-1742400000@ktex.com
SUMMARY:Blood Drive (Bellville)
DESCRIPTION:
URL:https://ktex.com/event/blood-drive-bellville-7/
LOCATION:Faith Academy of Bellville\, 12177 Hwy. 36\, Bellville\, TX\, 77418\, United States
CATEGORIES:Community Events
ATTACH;FMTTYPE=image/png:https://ktex.com/wp-content/uploads/2025/03/blood-drive-mar-19.png
END:VEVENT
BEGIN:VEVENT
DTSTART;TZID=America/Chicago:20250319T110000
DTEND;TZID=America/Chicago:20250319T130000
DTSTAMP:20260421T051925
CREATED:20250226T161447Z
LAST-MODIFIED:20250226T190347Z
UID:51973-1742382000-1742389200@ktex.com
SUMMARY:West End TEEA BBQ Baked Potato Sale (Industry)
DESCRIPTION:
URL:https://ktex.com/event/west-end-teea-bbq-baked-potato-sale-industry/
LOCATION:City of Industry Building\, 725 Main Street\, Industry\, TX\, 77894\, United States
CATEGORIES:Community Events
ATTACH;FMTTYPE=image/png:https://ktex.com/wp-content/uploads/2025/02/west-end-teea-mar-19.png
END:VEVENT
BEGIN:VEVENT
DTSTART;VALUE=DATE:20250320
DTEND;VALUE=DATE:20250321
DTSTAMP:20260421T051925
CREATED:20250226T160712Z
LAST-MODIFIED:20250226T160712Z
UID:51970-1742428800-1742515199@ktex.com
SUMMARY:Friends of Bluebonnet Opry (Brenham)
DESCRIPTION:
URL:https://ktex.com/event/friends-of-bluebonnet-opry-brenham-7/
LOCATION:Silver Wings Ballroom\, 4100 State Highway 105\, Brenham\, TX\, 77833\, United States
CATEGORIES:Community Events
ATTACH;FMTTYPE=image/jpeg:https://ktex.com/wp-content/uploads/2025/02/bluebonnet-opry-mar-20.jpg
END:VEVENT
BEGIN:VEVENT
DTSTART;VALUE=DATE:20250320
DTEND;VALUE=DATE:20250321
DTSTAMP:20260421T051925
CREATED:20250313T141051Z
LAST-MODIFIED:20250313T141051Z
UID:52343-1742428800-1742515199@ktex.com
SUMMARY:Burton Community Center Monthly Drive-Thru Meals
DESCRIPTION:
URL:https://ktex.com/event/burton-community-center-monthly-drive-thru-meals/
LOCATION:Burton Community Center\, 6301 Rehburg Rd.\, Burton\, TX\, 77835\, United States
CATEGORIES:Community Events
ATTACH;FMTTYPE=image/jpeg:https://ktex.com/wp-content/uploads/2025/03/burton-community-meals-mar-apr-may-jun-jul.jpg
END:VEVENT
BEGIN:VEVENT
DTSTART;VALUE=DATE:20250320
DTEND;VALUE=DATE:20250321
DTSTAMP:20260421T051925
CREATED:20250314T205852Z
LAST-MODIFIED:20250314T205852Z
UID:52370-1742428800-1742515199@ktex.com
SUMMARY:Learn More about MHMR Resources of the Bravos Valley (Brenham)
DESCRIPTION:
URL:https://ktex.com/event/learn-more-about-mhmr-resources-of-the-bravos-valley-brenham/
LOCATION:Early Childhood Learning Center\, 304 Kerr St.\, Brenham\, TX\, 77833\, United States
CATEGORIES:Community Events
ATTACH;FMTTYPE=image/png:https://ktex.com/wp-content/uploads/2025/03/hands-of-hope-mar-20.png
END:VEVENT
BEGIN:VEVENT
DTSTART;VALUE=DATE:20250320
DTEND;VALUE=DATE:20250321
DTSTAMP:20260421T051925
CREATED:20250317T193102Z
LAST-MODIFIED:20250317T193102Z
UID:52395-1742428800-1742515199@ktex.com
SUMMARY:Washington County A&M Club Howdy Hour (Brenham)
DESCRIPTION:
URL:https://ktex.com/event/washington-county-am-club-howdy-hour-brenham/
LOCATION:30 North Gastropub\, 302 E Alamo Street\, Brenham\, TX\, 77833\, United States
CATEGORIES:Community Events
ATTACH;FMTTYPE=image/png:https://ktex.com/wp-content/uploads/2025/03/howdy-hour-mar-20.png
END:VEVENT
BEGIN:VEVENT
DTSTART;TZID=America/Chicago:20250320T160000
DTEND;TZID=America/Chicago:20250320T180000
DTSTAMP:20260421T051925
CREATED:20250305T205815Z
LAST-MODIFIED:20250305T205815Z
UID:52216-1742486400-1742493600@ktex.com
SUMMARY:Connect after Four Event (Brenham)
DESCRIPTION:
URL:https://ktex.com/event/connect-after-four-event-brenham-3/
LOCATION:Texas Farm Credit\, 1301 Hwy 290 E\, Brenham\, TX\, 77833\, United States
CATEGORIES:Community Events
ATTACH;FMTTYPE=image/jpeg:https://ktex.com/wp-content/uploads/2025/03/connect-after-four-mar-20.jpg
END:VEVENT
BEGIN:VEVENT
DTSTART;TZID=America/Chicago:20250320T180000
DTEND;TZID=America/Chicago:20250320T190000
DTSTAMP:20260421T051925
CREATED:20250306T144042Z
LAST-MODIFIED:20250306T144042Z
UID:52234-1742493600-1742497200@ktex.com
SUMMARY:The Story Peddlers hosts ReShonda Tate for an Author Event (Bellville)
DESCRIPTION:
URL:https://ktex.com/event/the-story-peddlers-hosts-reshonda-tate-for-an-author-event-bellville/
LOCATION:The Story Peddler Bookstore\, 538 W. Main Street\, Bellville\, TX\, 77418\, United States
CATEGORIES:Community Events
ATTACH;FMTTYPE=image/jpeg:https://ktex.com/wp-content/uploads/2025/03/reshonda-tate-mar-20.jpg
END:VEVENT
BEGIN:VEVENT
DTSTART;VALUE=DATE:20250321
DTEND;VALUE=DATE:20250322
DTSTAMP:20260421T051925
CREATED:20250226T162048Z
LAST-MODIFIED:20250226T162048Z
UID:51982-1742515200-1742601599@ktex.com
SUMMARY:Sealy Eastside Foundation Fish Fry Fundraiser
DESCRIPTION:
URL:https://ktex.com/event/sealy-eastside-foundation-fish-fry-fundraiser-3/
LOCATION:American Legion Hall Sealy\, 1630 Meyer Street\, Sealy\, TX\, 77474\, United States
CATEGORIES:Community Events
ATTACH;FMTTYPE=image/jpeg:https://ktex.com/wp-content/uploads/2025/02/sealy-eastside-fish-fry-mar-and-apr.jpg
END:VEVENT
BEGIN:VEVENT
DTSTART;VALUE=DATE:20250321
DTEND;VALUE=DATE:20250322
DTSTAMP:20260421T051925
CREATED:20250226T202303Z
LAST-MODIFIED:20250226T202303Z
UID:52030-1742515200-1742601599@ktex.com
SUMMARY:Frelsburg KC Fish Fry
DESCRIPTION:
URL:https://ktex.com/event/frelsburg-kc-fish-fry-9/
LOCATION:Sts. Peter & Paul Diamond Center (Frelsburg)\, 1031 Church Lane\, New Ulm\, TX\, 78950\, United States
CATEGORIES:Community Events
ATTACH;FMTTYPE=image/jpeg:https://ktex.com/wp-content/uploads/2025/02/frelsburg-kc-fish-fry-mar-and-apr.jpg
END:VEVENT
BEGIN:VEVENT
DTSTART;VALUE=DATE:20250321
DTEND;VALUE=DATE:20250322
DTSTAMP:20260421T051925
CREATED:20250310T135755Z
LAST-MODIFIED:20250310T135755Z
UID:52262-1742515200-1742601599@ktex.com
SUMMARY:Sons of Hermann Lodge #6 Fried Fish Dinner
DESCRIPTION:Sons of Hermann Lodge #6 will be having a fried fish dinner on Friday\, March 21\, serving will be from 6:00 – 8:00 PM\, it will be a dine-in meal.  Doors will open at 5:00 PM.  Please call before Monday\, March 17 for reservations.  You can call the following numbers to make your reservations.\nLodge:  979 836-2053 (leave message)\nShirley Rowan:  979 421-3332\nJudy Baichtal:  979 421-2282\nLena Mae Goessler:  979 836-3063
URL:https://ktex.com/event/sons-of-hermann-lodge-6-fried-fish-dinner/
LOCATION:Herman Sons Life-Brenham\, 304 South Germania Street\, Brenham\, TX\, 77833\, United States
CATEGORIES:Community Events
ATTACH;FMTTYPE=image/png:https://ktex.com/wp-content/uploads/2025/03/sons-of-hermann.png
END:VEVENT
BEGIN:VEVENT
DTSTART;VALUE=DATE:20250321
DTEND;VALUE=DATE:20250322
DTSTAMP:20260421T051925
CREATED:20250311T213958Z
LAST-MODIFIED:20250311T213958Z
UID:52288-1742515200-1742601599@ktex.com
SUMMARY:Beef Cattle Management Seminar (Bellville)
DESCRIPTION:
URL:https://ktex.com/event/beef-cattle-management-seminar-bellville/
LOCATION:Four County Auction Center\, 11942 Hwy 159\, Industry\, TX\, 78944\, United States
CATEGORIES:Community Events
ATTACH;FMTTYPE=image/jpeg:https://ktex.com/wp-content/uploads/2025/03/beef-cattle-management-seminar-mar-21.jpg
END:VEVENT
BEGIN:VEVENT
DTSTART;VALUE=DATE:20250321
DTEND;VALUE=DATE:20250322
DTSTAMP:20260421T051925
CREATED:20250311T214750Z
LAST-MODIFIED:20250311T214750Z
UID:52301-1742515200-1742601599@ktex.com
SUMMARY:Fish Fry C.H.A.M.P. (Sealy)
DESCRIPTION:
URL:https://ktex.com/event/fish-fry-c-h-a-m-p-sealy-2/
LOCATION:Sealy Lifebridge Church\, FM 2187 Rd.\, Sealy\, TX\, 77474\, United States
CATEGORIES:Community Events
ATTACH;FMTTYPE=image/jpeg:https://ktex.com/wp-content/uploads/2025/03/fish-fry-C.H.A.M.P.jpg
END:VEVENT
BEGIN:VEVENT
DTSTART;VALUE=DATE:20250321
DTEND;VALUE=DATE:20250322
DTSTAMP:20260421T051925
CREATED:20250319T161241Z
LAST-MODIFIED:20250319T161241Z
UID:52427-1742515200-1742601599@ktex.com
SUMMARY:Cotton Bowl Speedway World of Outlaws
DESCRIPTION:Catch Ryan Stone at the Cotton Bowl Speedway for the World of Outlaws Event! He’ll be there with the dirt racing action and the wagon wheel of prizes!
URL:https://ktex.com/event/cotton-bowl-speedway-world-of-outlaws/
LOCATION:Cotton Bowl Speedway\, 1175 CR202\, Paige\, Texas\, 78659
CATEGORIES:KTEX on the Road
END:VEVENT
END:VCALENDAR