BEGIN:VCALENDAR
VERSION:2.0
PRODID:-//KTEX 106.1 - ECPv6.15.20//NONSGML v1.0//EN
CALSCALE:GREGORIAN
METHOD:PUBLISH
X-ORIGINAL-URL:https://ktex.com
X-WR-CALDESC:Events for KTEX 106.1
REFRESH-INTERVAL;VALUE=DURATION:PT1H
X-Robots-Tag:noindex
X-PUBLISHED-TTL:PT1H
BEGIN:VTIMEZONE
TZID:America/Chicago
BEGIN:DAYLIGHT
TZOFFSETFROM:-0600
TZOFFSETTO:-0500
TZNAME:CDT
DTSTART:20230312T080000
END:DAYLIGHT
BEGIN:STANDARD
TZOFFSETFROM:-0500
TZOFFSETTO:-0600
TZNAME:CST
DTSTART:20231105T070000
END:STANDARD
BEGIN:DAYLIGHT
TZOFFSETFROM:-0600
TZOFFSETTO:-0500
TZNAME:CDT
DTSTART:20240310T080000
END:DAYLIGHT
BEGIN:STANDARD
TZOFFSETFROM:-0500
TZOFFSETTO:-0600
TZNAME:CST
DTSTART:20241103T070000
END:STANDARD
BEGIN:DAYLIGHT
TZOFFSETFROM:-0600
TZOFFSETTO:-0500
TZNAME:CDT
DTSTART:20250309T080000
END:DAYLIGHT
BEGIN:STANDARD
TZOFFSETFROM:-0500
TZOFFSETTO:-0600
TZNAME:CST
DTSTART:20251102T070000
END:STANDARD
END:VTIMEZONE
BEGIN:VEVENT
DTSTART;VALUE=DATE:20240827
DTEND;VALUE=DATE:20240914
DTSTAMP:20260421T165937
CREATED:20240827T190823Z
LAST-MODIFIED:20240827T190823Z
UID:48941-1724716800-1726271999@ktex.com
SUMMARY:Main Street Brenham Scarecrow Extravaganza-Registration Open
DESCRIPTION:
URL:https://ktex.com/event/main-street-brenham-scarecrow-extravaganza-registration-open/
CATEGORIES:Community Events
ATTACH;FMTTYPE=image/jpeg:https://ktex.com/wp-content/uploads/2024/08/scarecrow-extra.jpg
END:VEVENT
BEGIN:VEVENT
DTSTART;VALUE=DATE:20240901
DTEND;VALUE=DATE:20240917
DTSTAMP:20260421T165937
CREATED:20240820T205819Z
LAST-MODIFIED:20240820T205819Z
UID:48786-1725148800-1726531199@ktex.com
SUMMARY:Washington Co. Fair Country Creations Information
DESCRIPTION:Country Creation Exhibits will be in the EXPO EVENT CENTER for the 2024 Washington County Fair.  All residents of the county are invited and encouraged to participate. \nArt\, Alternative Foods\, Canned Products\, Creative Arts and Crafts\, Designer Craftsman\, Machine Sewn\, Needlework\, Photography and Quilt exhibits are to be entered Thursday\, September 12th from 3 until 7 pm.  School Art check-in is September 12th from 4 to 5 pm.   \nCheck-in time for Baked\, Confections\, Floral and Vegetables is Monday September 16th from 7:30 to 9:00 am. \nBoth Adult and Youth Division Catalogues can be found on-line at:   https://www.washingtoncofair.com/  \nor https://www.washingtoncofair.com/p/getinvolved/country-creations \nYouth exhibitors must be registered online in the ShoWorks system by 6 p.m. September 2.   \nAdult exhibitors can obtain an exhibitor number for $5. when they check-in.
URL:https://ktex.com/event/washington-co-fair-country-creations-information/
LOCATION:Washington County Expo Event Center\, 1305 E. Blue Bell Rd.\, Brenham\, TX\, 77833\, United States
CATEGORIES:Community Events
ATTACH;FMTTYPE=image/jpeg:https://ktex.com/wp-content/uploads/2024/08/wc-fair-NEW.jpg
END:VEVENT
BEGIN:VEVENT
DTSTART;VALUE=DATE:20240904
DTEND;VALUE=DATE:20241005
DTSTAMP:20260421T165937
CREATED:20240827T214655Z
LAST-MODIFIED:20240827T214655Z
UID:48948-1725408000-1728086399@ktex.com
SUMMARY:Fayetteville Lickskillet Days Parade-call for entries
DESCRIPTION:
URL:https://ktex.com/event/fayetteville-lickskillet-days-parade-call-for-entries/
CATEGORIES:Community Events
ATTACH;FMTTYPE=image/jpeg:https://ktex.com/wp-content/uploads/2024/08/Lickskillet-002.jpg
END:VEVENT
BEGIN:VEVENT
DTSTART;VALUE=DATE:20240908
DTEND;VALUE=DATE:20240915
DTSTAMP:20260421T165937
CREATED:20240806T193709Z
LAST-MODIFIED:20240806T193709Z
UID:48609-1725753600-1726358399@ktex.com
SUMMARY:Fall Plant Sale (Washington County)
DESCRIPTION:
URL:https://ktex.com/event/fall-plant-sale-washington-county-2/
CATEGORIES:Community Events
ATTACH;FMTTYPE=image/png:https://ktex.com/wp-content/uploads/2024/08/fall-plant-sale.png
END:VEVENT
BEGIN:VEVENT
DTSTART;VALUE=DATE:20240909
DTEND;VALUE=DATE:20240924
DTSTAMP:20260421T165937
CREATED:20240909T193930Z
LAST-MODIFIED:20240909T193930Z
UID:49136-1725840000-1727135999@ktex.com
SUMMARY:Austin County Youth Basketball ONLINE Registration Open
DESCRIPTION:
URL:https://ktex.com/event/austin-county-youth-basketball-online-registration-open/
CATEGORIES:Community Events
ATTACH;FMTTYPE=image/jpeg:https://ktex.com/wp-content/uploads/2024/09/ac-youth-basketball-regi-sept.jpg
END:VEVENT
BEGIN:VEVENT
DTSTART;VALUE=DATE:20240909
DTEND;VALUE=DATE:20240929
DTSTAMP:20260421T165937
CREATED:20240909T191856Z
LAST-MODIFIED:20240909T191856Z
UID:49133-1725840000-1727567999@ktex.com
SUMMARY:Fundraiser to help with Collin Smith's Therapy Costs
DESCRIPTION:Donate to help Strength4smith raise money for Project Walk Fun Run & Roll’s fundraising campaign\, on September 28th \n100% of donations on Collin Smith’s behalf will go straight to his therapy costs.  Use the link to donate\, or join us in person\, or leave a note of encouragement here\, prayers and post shares are always welcome!  \nDetails- Sept. 28th\, 8:00 am @ Brazos River Park\, Sugarland\, TX \nhttps://www.facebook.com/share/p/1MHhtNwGsCFQz8bp/?mibextid=WC7FNe
URL:https://ktex.com/event/fundraiser-to-help-with-collin-smiths-therapy-costs/
CATEGORIES:Community Events
ATTACH;FMTTYPE=image/png:https://ktex.com/wp-content/uploads/2024/09/fun-run-roll-sept.png
END:VEVENT
BEGIN:VEVENT
DTSTART;VALUE=DATE:20240911
DTEND;VALUE=DATE:20240912
DTSTAMP:20260421T165937
CREATED:20240904T140711Z
LAST-MODIFIED:20240904T142631Z
UID:49027-1726012800-1726099199@ktex.com
SUMMARY:9/11 Commemoration Ceremony Honoring All First Responders (Brenham)
DESCRIPTION:
URL:https://ktex.com/event/911-commemoration-ceremony-honoring-all-first-responders-brenham/
LOCATION:Memorial Oaks Chapel\, 1306 W. Main Street\, Brenham\, TX\, 77833\, United States
CATEGORIES:Community Events
ATTACH;FMTTYPE=image/jpeg:https://ktex.com/wp-content/uploads/2024/09/commemoration-ceremony.jpg
END:VEVENT
BEGIN:VEVENT
DTSTART;VALUE=DATE:20240911
DTEND;VALUE=DATE:20241022
DTSTAMP:20260421T165937
CREATED:20240911T133808Z
LAST-MODIFIED:20240911T133808Z
UID:49189-1726012800-1729555199@ktex.com
SUMMARY:Pilot Club of Brenham annual Butter Braid Fundraiser
DESCRIPTION:The Pilot Club of Brenham is holding their annual holiday butter braid fundraiser formerly done by Bosom Buddies. Our club supports Traumatic Brain Injury awareness. Orders are due Tuesday\, October 21. A variety of flavors is available with costs of $17 and $18. Delivery is Tuesday\, November 12\, from 3-5 p.m. at Christ Lutheran Church. To place an order\, call 979-525-3455 or 512-981-9855
URL:https://ktex.com/event/pilot-club-of-brenham-annual-butter-braid-fundraiser/
CATEGORIES:Community Events
ATTACH;FMTTYPE=image/jpeg:https://ktex.com/wp-content/uploads/2024/09/pilot-cl-of-brenham.jpg
END:VEVENT
BEGIN:VEVENT
DTSTART;TZID=America/Chicago:20240911T110000
DTEND;TZID=America/Chicago:20240911T130000
DTSTAMP:20260421T165937
CREATED:20240731T174135Z
LAST-MODIFIED:20240731T174135Z
UID:48484-1726052400-1726059600@ktex.com
SUMMARY:First Responders Appreciation Luncheon (Caldwell)
DESCRIPTION:On behalf of Strickland Funeral Home\, ALL First Responders are invited to an appreciation luncheon
URL:https://ktex.com/event/first-responders-appreciation-luncheon-caldwell/
LOCATION:Strickland Funeral Home (Caldwell)\, 530 Hwy. 36 South\, Caldwell\, TX\, 77836\, United States
CATEGORIES:Community Events
ATTACH;FMTTYPE=image/png:https://ktex.com/wp-content/uploads/2024/07/PATRIOT-DAY-911.png
END:VEVENT
BEGIN:VEVENT
DTSTART;TZID=America/Chicago:20240911T110000
DTEND;TZID=America/Chicago:20240911T130000
DTSTAMP:20260421T165937
CREATED:20240820T191131Z
LAST-MODIFIED:20240820T191131Z
UID:48783-1726052400-1726059600@ktex.com
SUMMARY:Strickland Funeral Home's Appreciation Drive Thru Lunch for First Responders
DESCRIPTION:Honor our first responder with Ryan Stone at Strickland Funeral Home’s Appreciation Drive Thru Lunch for First Responders! There’ll be food and the wagon wheel of prizes!
URL:https://ktex.com/event/strickland-funeral-homes-appreciation-drive-thru-lunch-for-first-responders/
LOCATION:Strickland Funeral Home (Caldwell)\, 530 Hwy. 36 South\, Caldwell\, TX\, 77836\, United States
CATEGORIES:KTEX on the Road
END:VEVENT
BEGIN:VEVENT
DTSTART;TZID=America/Chicago:20240912T163000
DTEND;TZID=America/Chicago:20240912T183000
DTSTAMP:20260421T165937
CREATED:20240821T204450Z
LAST-MODIFIED:20240821T204450Z
UID:48816-1726158600-1726165800@ktex.com
SUMMARY:VFW Post 7104 Drive Thru Dinner (Brenham)
DESCRIPTION:James F. Dillon VFW Post 7104 will be having a barbecue chicken and sausage drive-thru on Thursday\, September 12\, from 4:30-6:30 pm\, tickets are available from Post members\, and at the Post on Wednesday afternoons from 3:00-5:00.  Tickets can also be purchased from:  Dan’s Meat Market\, Felder’s Buy and Bye\, Quick Mart\, K&M Grocery\, Robert’s Service Station
URL:https://ktex.com/event/vfw-post-7104-drive-thru-dinner-brenham/
LOCATION:James F. Dillion VFW Post 7104\, 1200 East Tom Green Street\, Brenham\, TX\, 77833\, United States
CATEGORIES:Community Events
ATTACH;FMTTYPE=image/jpeg:https://ktex.com/wp-content/uploads/2024/08/vfw.jpg
END:VEVENT
BEGIN:VEVENT
DTSTART;VALUE=DATE:20240913
DTEND;VALUE=DATE:20240914
DTSTAMP:20260421T165937
CREATED:20240109T215332Z
LAST-MODIFIED:20240109T215332Z
UID:45044-1726185600-1726271999@ktex.com
SUMMARY:Sons of Hermann Lodge 6 Meeting
DESCRIPTION:MEETING INFORMATION\n2nd Friday\, Monthly\nMeal at 6:30 PM Meeting at 7:15 PM\nHERMANN SONS LIFE HALL\nEFFECTIVE JANUARY 1\, 2024.  REGUALR MEETINGS\, MEAL WILL BE SERVED AT 6:30 AND MEETING WILL START AT 7:15.  PLEASE MAKE NOTE OF TIME CHANGE.  Make an effort to come to all meetings and support your lodge.
URL:https://ktex.com/event/sons-of-hermann-lodge-6-meeting-2/
LOCATION:Hermann Sons Life Hall (Brenham)\, 304 E. Germania Street\, Brenham\, TX\, 77833\, United States
CATEGORIES:Community Events
ATTACH;FMTTYPE=image/png:https://ktex.com/wp-content/uploads/2024/01/hermann-sons-life-logo.png
END:VEVENT
BEGIN:VEVENT
DTSTART;VALUE=DATE:20240913
DTEND;VALUE=DATE:20240914
DTSTAMP:20260421T165937
CREATED:20240610T205508Z
LAST-MODIFIED:20240610T205508Z
UID:47664-1726185600-1726271999@ktex.com
SUMMARY:Brenham Cub Football Schedule
DESCRIPTION:
URL:https://ktex.com/event/brenham-cub-football-schedule-3/
CATEGORIES:Community Events
ATTACH;FMTTYPE=image/jpeg:https://ktex.com/wp-content/uploads/2024/06/brenham-cub-football-2024-schedule.jpg
END:VEVENT
BEGIN:VEVENT
DTSTART;VALUE=DATE:20240913
DTEND;VALUE=DATE:20240914
DTSTAMP:20260421T165937
CREATED:20240816T210918Z
LAST-MODIFIED:20240816T210918Z
UID:48749-1726185600-1726271999@ktex.com
SUMMARY:City of Navasota hosting Daddy/Daughter Dance
DESCRIPTION:
URL:https://ktex.com/event/city-of-navasota-hosting-daddy-daughter-dance/
LOCATION:Navasota Center\, 101 Stadium Dr.\, Navasota\, TX\, 77868\, United States
CATEGORIES:Community Events
ATTACH;FMTTYPE=image/png:https://ktex.com/wp-content/uploads/2024/08/daddy-daughter-dance-sept.png
END:VEVENT
BEGIN:VEVENT
DTSTART;VALUE=DATE:20240913
DTEND;VALUE=DATE:20240915
DTSTAMP:20260421T165937
CREATED:20240703T174558Z
LAST-MODIFIED:20240703T174558Z
UID:47970-1726185600-1726358399@ktex.com
SUMMARY:Washington Co. Fair BBQ Cookoff
DESCRIPTION:Get the pits fired up! The Washington County Fair BBQ Cookoff will be on September 13 – 14\, 2024. Cash prizes\, trophies and bragging rights are on the line! \nEntries are now open! > https://tinyurl.com/4bmab89d \n 
URL:https://ktex.com/event/washington-co-fair-bbq-cookoff/
CATEGORIES:Community Events
ATTACH;FMTTYPE=image/jpeg:https://ktex.com/wp-content/uploads/2024/07/wcf-bbq-cookoff.jpg
END:VEVENT
BEGIN:VEVENT
DTSTART;VALUE=DATE:20240913
DTEND;VALUE=DATE:20240915
DTSTAMP:20260421T165937
CREATED:20240814T215652Z
LAST-MODIFIED:20240814T215652Z
UID:48724-1726185600-1726358399@ktex.com
SUMMARY:Washington County Fair Games Weekend
DESCRIPTION:
URL:https://ktex.com/event/washington-county-fair-games-weekend/
LOCATION:Washington County Expo\, 1305 E. Blue Bell Rd.\, Brenham\, TX\, 77833\, United States
CATEGORIES:Community Events
ATTACH;FMTTYPE=image/jpeg:https://ktex.com/wp-content/uploads/2024/08/wcf-games-weekend.jpg
END:VEVENT
BEGIN:VEVENT
DTSTART;VALUE=DATE:20240913
DTEND;VALUE=DATE:20240922
DTSTAMP:20260421T165937
CREATED:20240805T182127Z
LAST-MODIFIED:20240823T205640Z
UID:48558-1726185600-1726963199@ktex.com
SUMMARY:Washington County Fair-Celebrating our Rising Stars
DESCRIPTION:The Washington County Fair’s entertainment lineup is seeing a change.  In a press release August 23\, 2024\, the Washington County Fair Association announced that due to “unforeseen circumstances and changes in management”\, Travis Tritt and Tyler Reese Tritt will no longer headline at the fair on Saturday\, September 21st.  Now set to perform in their place will be Jon Stork opening for Carly Pearce.  Season tickets for the fair can be purchased from any of the four fair queen candidates or at www.washingtoncofair.com
URL:https://ktex.com/event/washington-county-fair-celebrating-our-rising-stars/
LOCATION:Washington County Expo\, 1305 E. Blue Bell Rd.\, Brenham\, TX\, 77833\, United States
CATEGORIES:Community Events
ATTACH;FMTTYPE=image/jpeg:https://ktex.com/wp-content/uploads/2024/08/wash-co-fair.jpg
END:VEVENT
BEGIN:VEVENT
DTSTART;TZID=America/Chicago:20240913T130000
DTEND;TZID=America/Chicago:20240913T163000
DTSTAMP:20260421T165937
CREATED:20240826T210159Z
LAST-MODIFIED:20240826T210159Z
UID:48865-1726232400-1726245000@ktex.com
SUMMARY:In the Heart of Texas Programs (Bellville)
DESCRIPTION:
URL:https://ktex.com/event/in-the-heart-of-texas-programs-bellville/
LOCATION:Austin County AgriLife Extension Office\, 20 S Holland St. \, Bellville\, TX\, 77418\, United States
CATEGORIES:Community Events
ATTACH;FMTTYPE=image/png:https://ktex.com/wp-content/uploads/2024/08/in-the-heart-of-tx.png
END:VEVENT
BEGIN:VEVENT
DTSTART;TZID=America/Chicago:20240913T173000
DTEND;TZID=America/Chicago:20240913T193000
DTSTAMP:20260421T165937
CREATED:20240605T205843Z
LAST-MODIFIED:20240605T205843Z
UID:47524-1726248600-1726255800@ktex.com
SUMMARY:Child PIZZA BINGO
DESCRIPTION:
URL:https://ktex.com/event/child-pizza-bingo-9/
LOCATION:Blue Bell Aquatic Center\, 1800 E Tom Green St\, Brenham\, TX\, 77833\, United States
CATEGORIES:Community Events
ATTACH;FMTTYPE=image/jpeg:https://ktex.com/wp-content/uploads/2024/06/pizza-bingo.jpg
END:VEVENT
BEGIN:VEVENT
DTSTART;TZID=America/Chicago:20240913T180000
DTEND;TZID=America/Chicago:20240913T193000
DTSTAMP:20260421T165937
CREATED:20240904T163631Z
LAST-MODIFIED:20240904T163631Z
UID:49081-1726250400-1726255800@ktex.com
SUMMARY:Friday Face Off Navasota vs Brookshire Royal
DESCRIPTION:Cowboy Dave is hanging out in his Rattler Blue to cheer on Navasota as they take on Brookshire Royal! Thanks to our sponsors Citizens State Bank\, Mid-South Synergy\, Classic Rock Coffee\, and Lonestar Roofing! He’ll have goodies to give to you from them!
URL:https://ktex.com/event/friday-face-off-navasota-vs-brookshire-royal/
LOCATION:Rattler Stadium\, 9238 Highway 90 S\,  Navasota \, 77868
CATEGORIES:KTEX on the Road
END:VEVENT
BEGIN:VEVENT
DTSTART;VALUE=DATE:20240914
DTEND;VALUE=DATE:20240915
DTSTAMP:20260421T165937
CREATED:20240722T144922Z
LAST-MODIFIED:20240722T144922Z
UID:48276-1726272000-1726358399@ktex.com
SUMMARY:Washington Co. Fair Parade (Brenham)
DESCRIPTION:The 2024 Washington County Fair Parade\, will take place on Saturday\, September 14 at 10:30 AM. The parade will begin at the intersection of Main Street and South Market Street and will feature floats\, bands\, and fire trucks. The theme for this year’s parade is “Celebrating Our Rising Stars”
URL:https://ktex.com/event/washington-co-fair-parade-brenham/
LOCATION:Downtown Brenham
CATEGORIES:Community Events
ATTACH;FMTTYPE=image/jpeg:https://ktex.com/wp-content/uploads/2024/07/parade-wcf.jpg
END:VEVENT
BEGIN:VEVENT
DTSTART;VALUE=DATE:20240914
DTEND;VALUE=DATE:20240915
DTSTAMP:20260421T165937
CREATED:20240904T163444Z
LAST-MODIFIED:20240904T163444Z
UID:49079-1726272000-1726358399@ktex.com
SUMMARY:Kolache Festival
DESCRIPTION:Get your wallets and your stomachs ready for Kolache Festival! Ryan Stone will be there along with 200+ arts and crafts vendors and over 40 food vendors! Go see the Kolache baking contest\, eating contests\, and performances!
URL:https://ktex.com/event/kolache-festival/
LOCATION:Downtown Caldwell
CATEGORIES:KTEX on the Road
END:VEVENT
BEGIN:VEVENT
DTSTART;VALUE=DATE:20240914
DTEND;VALUE=DATE:20240915
DTSTAMP:20260421T165937
CREATED:20240904T163818Z
LAST-MODIFIED:20240904T163818Z
UID:49083-1726272000-1726358399@ktex.com
SUMMARY:Colorado Co Fair
DESCRIPTION:Courtney will be in Columbus all day for Colorado County Fair! Catch her announcing the Parade at 10 and then hitting the stage to introduce William Beckmann and Shenandoah!
URL:https://ktex.com/event/colorado-co-fair/
LOCATION:Colorado County Fairgrounds\, 1146 Crossroads Blvd\, Columbus\, TX\, 78934\, United States
CATEGORIES:KTEX on the Road
END:VEVENT
BEGIN:VEVENT
DTSTART;VALUE=DATE:20240914
DTEND;VALUE=DATE:20240915
DTSTAMP:20260421T165937
CREATED:20240909T194654Z
LAST-MODIFIED:20240909T194654Z
UID:49148-1726272000-1726358399@ktex.com
SUMMARY:Pickleball Tournament (Bellville)
DESCRIPTION:
URL:https://ktex.com/event/pickleball-tournament-bellville/
CATEGORIES:Community Events
ATTACH;FMTTYPE=image/jpeg:https://ktex.com/wp-content/uploads/2024/09/pickleball-tournament-bellville-sept.jpg
END:VEVENT
BEGIN:VEVENT
DTSTART;VALUE=DATE:20240914
DTEND;VALUE=DATE:20240915
DTSTAMP:20260421T165937
CREATED:20240911T211009Z
LAST-MODIFIED:20240911T211009Z
UID:49220-1726272000-1726358399@ktex.com
SUMMARY:Washington County A&M Club Football Watch Party
DESCRIPTION:
URL:https://ktex.com/event/washington-county-am-club-football-watch-party-2/
LOCATION:30 North Gastropub\, 302 E Alamo Street\, Brenham\, TX\, 77833\, United States
CATEGORIES:Community Events
ATTACH;FMTTYPE=image/png:https://ktex.com/wp-content/uploads/2024/09/football-watch-party-sept-14.png
END:VEVENT
BEGIN:VEVENT
DTSTART;VALUE=DATE:20240914
DTEND;VALUE=DATE:20240915
DTSTAMP:20260421T165937
CREATED:20240912T152922Z
LAST-MODIFIED:20240912T152922Z
UID:49227-1726272000-1726358399@ktex.com
SUMMARY:NB Youth Ministry Fundraiser (Brenham)
DESCRIPTION:
URL:https://ktex.com/event/nb-youth-ministry-fundraiser-brenham/
LOCATION:New Beginning Missionary Baptist Church\, 2105 FM 2935\, Brenham\, TX\, 77833\, United States
CATEGORIES:Community Events
ATTACH;FMTTYPE=image/png:https://ktex.com/wp-content/uploads/2024/09/nb-garage-sale-e1726154939220.png
END:VEVENT
BEGIN:VEVENT
DTSTART;VALUE=DATE:20240914
DTEND;VALUE=DATE:20240922
DTSTAMP:20260421T165937
CREATED:20240904T162811Z
LAST-MODIFIED:20240904T162811Z
UID:49074-1726272000-1726963199@ktex.com
SUMMARY:Washington County Fair
DESCRIPTION:Catch KTEX all around the Washington County Fairgrounds during the 156th Washington County Fair! A week full of music\, animals\, rodeo\, carnival rides\, and fair food! And\, we’ll have the WWOP!
URL:https://ktex.com/event/washington-county-fair/
LOCATION:Washington County Fairgrounds Event Center\, 1305 East Blue Bell Road\, Brenham\, TX\, 77833\, United States
CATEGORIES:KTEX on the Road
END:VEVENT
BEGIN:VEVENT
DTSTART;TZID=America/Chicago:20240914T090000
DTEND;TZID=America/Chicago:20240914T130000
DTSTAMP:20260421T165937
CREATED:20240829T214007Z
LAST-MODIFIED:20240829T214007Z
UID:49002-1726304400-1726318800@ktex.com
SUMMARY:Navasota Farmer's Market
DESCRIPTION:
URL:https://ktex.com/event/navasota-farmers-market-9/
LOCATION:Navasota Public Library\, 1411 E Washington Ave\, Navasota\, TX\, 77868\, United States
CATEGORIES:Community Events
ATTACH;FMTTYPE=image/png:https://ktex.com/wp-content/uploads/2024/08/nava-Farmers-Market-sept-002.png
END:VEVENT
BEGIN:VEVENT
DTSTART;TZID=America/Chicago:20240914T100000
DTEND;TZID=America/Chicago:20240914T140000
DTSTAMP:20260421T165937
CREATED:20240821T191716Z
LAST-MODIFIED:20240821T191716Z
UID:48808-1726308000-1726322400@ktex.com
SUMMARY:Benefit Bake Sale-Help Students go to Italy (Brenham)
DESCRIPTION:
URL:https://ktex.com/event/benefit-bake-sale-help-students-go-to-italy-brenham-2/
LOCATION:Tractor Supply Brenham\, 2718 S Market\, Brenham\, TX\, 77833\, United States
CATEGORIES:Community Events
ATTACH;FMTTYPE=image/png:https://ktex.com/wp-content/uploads/2024/08/bake-sale-aug-sept-oct-nov-dec.png
END:VEVENT
BEGIN:VEVENT
DTSTART;TZID=America/Chicago:20240914T110000
DTEND;TZID=America/Chicago:20240914T160000
DTSTAMP:20260421T165937
CREATED:20240827T190357Z
LAST-MODIFIED:20240827T190357Z
UID:48938-1726311600-1726329600@ktex.com
SUMMARY:Downtown Chappell Hill Airing of The Quilts
DESCRIPTION:
URL:https://ktex.com/event/downtown-chappell-hill-airing-of-the-quilts/
LOCATION:Downtown Chappell Hill
CATEGORIES:Community Events
ATTACH;FMTTYPE=image/jpeg:https://ktex.com/wp-content/uploads/2024/08/ch-airing-of-quilts-sept.jpg
END:VEVENT
END:VCALENDAR