BEGIN:VCALENDAR
VERSION:2.0
PRODID:-//KTEX 106.1 - ECPv6.15.20//NONSGML v1.0//EN
CALSCALE:GREGORIAN
METHOD:PUBLISH
X-ORIGINAL-URL:https://ktex.com
X-WR-CALDESC:Events for KTEX 106.1
REFRESH-INTERVAL;VALUE=DURATION:PT1H
X-Robots-Tag:noindex
X-PUBLISHED-TTL:PT1H
BEGIN:VTIMEZONE
TZID:America/Chicago
BEGIN:DAYLIGHT
TZOFFSETFROM:-0600
TZOFFSETTO:-0500
TZNAME:CDT
DTSTART:20230312T080000
END:DAYLIGHT
BEGIN:STANDARD
TZOFFSETFROM:-0500
TZOFFSETTO:-0600
TZNAME:CST
DTSTART:20231105T070000
END:STANDARD
BEGIN:DAYLIGHT
TZOFFSETFROM:-0600
TZOFFSETTO:-0500
TZNAME:CDT
DTSTART:20240310T080000
END:DAYLIGHT
BEGIN:STANDARD
TZOFFSETFROM:-0500
TZOFFSETTO:-0600
TZNAME:CST
DTSTART:20241103T070000
END:STANDARD
BEGIN:DAYLIGHT
TZOFFSETFROM:-0600
TZOFFSETTO:-0500
TZNAME:CDT
DTSTART:20250309T080000
END:DAYLIGHT
BEGIN:STANDARD
TZOFFSETFROM:-0500
TZOFFSETTO:-0600
TZNAME:CST
DTSTART:20251102T070000
END:STANDARD
END:VTIMEZONE
BEGIN:VEVENT
DTSTART;VALUE=DATE:20240624
DTEND;VALUE=DATE:20240725
DTSTAMP:20260421T182852
CREATED:20240624T145136Z
LAST-MODIFIED:20240624T145136Z
UID:47819-1719187200-1721865599@ktex.com
SUMMARY:WC Juneteenth Association Seeking Volunteers
DESCRIPTION:
URL:https://ktex.com/event/wc-juneteenth-association-seeking-volunteers/
CATEGORIES:Community Events
ATTACH;FMTTYPE=image/jpeg:https://ktex.com/wp-content/uploads/2024/06/wc-juneteenth-volunteers.jpg
END:VEVENT
BEGIN:VEVENT
DTSTART;VALUE=DATE:20240701
DTEND;VALUE=DATE:20240801
DTSTAMP:20260421T182852
CREATED:20240701T201349Z
LAST-MODIFIED:20240701T201349Z
UID:47906-1719792000-1722470399@ktex.com
SUMMARY:SUNSHINE DRIVE
DESCRIPTION:
URL:https://ktex.com/event/sunshine-drive/
CATEGORIES:Community Events
ATTACH;FMTTYPE=image/png:https://ktex.com/wp-content/uploads/2024/07/sunshine-drive.png
END:VEVENT
BEGIN:VEVENT
DTSTART;VALUE=DATE:20240710
DTEND;VALUE=DATE:20240718
DTSTAMP:20260421T182852
CREATED:20240709T194142Z
LAST-MODIFIED:20240709T194142Z
UID:48094-1720569600-1721260799@ktex.com
SUMMARY:Brush & Yard Waste Disposal Offer For City Residents (Brenham)
DESCRIPTION:The City of Brenham is pleased to offer its residents a convenient way to dispose of brush and yard waste. From Wednesday\, July 10th to Wednesday\, July 17th\, each City resident will receive 500 lbs. of brush credit when brought to the BVR Collection Station (located at 2009 Old Chappell Hill Rd). However\, if the yard waste or brush exceeds 500 lbs.\, the additional weight will be subject to the normal rate of $30.00 per ton. Please note that this offer is exclusively for residential City customers and does not apply to commercial entities or tree service companies. After the 17th\, regular disposal rates will apply. \nProof of City residency is required when you visit the Collection Station. If you have any questions\, please contact JoAnne Hynes at 979-337-7428.
URL:https://ktex.com/event/brush-yard-waste-disposal-offer-for-city-residents-brenham/
LOCATION:BVR Collection & Transfer Station\, 2009 Old Chappell Hill Rd\, Brenham\, Texas\, 77833
CATEGORIES:Community Events
ATTACH;FMTTYPE=image/png:https://ktex.com/wp-content/uploads/2024/07/city-of-brenham-logo.png
END:VEVENT
BEGIN:VEVENT
DTSTART;VALUE=DATE:20240711
DTEND;VALUE=DATE:20240802
DTSTAMP:20260421T182852
CREATED:20240711T135140Z
LAST-MODIFIED:20240711T135140Z
UID:48134-1720656000-1722556799@ktex.com
SUMMARY:School Supply Drive at Shearob's Bar & Patio
DESCRIPTION:
URL:https://ktex.com/event/school-supply-drive-at-shearobs-bar-patio/
LOCATION:Shearob’s Bar & Patio\, 2107 S. Market Street\, Brenham\, TX\, 77833\, United States
CATEGORIES:Community Events
ATTACH;FMTTYPE=image/jpeg:https://ktex.com/wp-content/uploads/2024/07/school-supply-drive-shearobs.jpg
END:VEVENT
BEGIN:VEVENT
DTSTART;VALUE=DATE:20240715
DTEND;VALUE=DATE:20240718
DTSTAMP:20260421T182852
CREATED:20240430T151930Z
LAST-MODIFIED:20240430T151930Z
UID:47025-1721001600-1721260799@ktex.com
SUMMARY:Brenham Cub Basketball Camp 2024
DESCRIPTION:
URL:https://ktex.com/event/brenham-cub-basketball-camp-2024/
LOCATION:Brenham High School Main Gym\, 525 A H Ehrig Drive\, Brenham\, TX\, 77833\, United States
CATEGORIES:Community Events
ATTACH;FMTTYPE=image/jpeg:https://ktex.com/wp-content/uploads/2024/04/cub-basketball-camp-july.jpg
END:VEVENT
BEGIN:VEVENT
DTSTART;VALUE=DATE:20240715
DTEND;VALUE=DATE:20240719
DTSTAMP:20260421T182852
CREATED:20240311T185027Z
LAST-MODIFIED:20240311T185027Z
UID:46089-1721001600-1721347199@ktex.com
SUMMARY:Bellville ISD Summer Volleyball Camp
DESCRIPTION:
URL:https://ktex.com/event/bellville-isd-summer-volleyball-camp/
LOCATION:Bellville High School\, 850 Schumann Rd\, Bellville\, TX\, 77418\, United States
CATEGORIES:Community Events
ATTACH;FMTTYPE=image/jpeg:https://ktex.com/wp-content/uploads/2024/03/bellville-isd-summer-camps.jpg
END:VEVENT
BEGIN:VEVENT
DTSTART;VALUE=DATE:20240715
DTEND;VALUE=DATE:20240719
DTSTAMP:20260421T182852
CREATED:20240703T143744Z
LAST-MODIFIED:20240703T143744Z
UID:47957-1721001600-1721347199@ktex.com
SUMMARY:Soccer Camp (Navasota)
DESCRIPTION:
URL:https://ktex.com/event/soccer-camp-navasota/
LOCATION:Logan Sechelski Fields\, 400 Veteran's Memorial Drive\, Navasota\, TX\, 77868\, United States
CATEGORIES:Community Events
ATTACH;FMTTYPE=image/jpeg:https://ktex.com/wp-content/uploads/2024/07/soccer-camp-navasota.jpg
END:VEVENT
BEGIN:VEVENT
DTSTART;TZID=America/Chicago:20240717T090000
DTEND;TZID=America/Chicago:20240717T120000
DTSTAMP:20260421T182852
CREATED:20240708T212316Z
LAST-MODIFIED:20240708T212316Z
UID:48043-1721206800-1721217600@ktex.com
SUMMARY:Kids in the Kitchen (All About Beef)
DESCRIPTION:For more information\, please contact the Texas A&M AgriLife Extension Office in Washington County (979-277-6212). Registration materials and more information can also be found on our website\, https://washington.agrilife.org
URL:https://ktex.com/event/kids-in-the-kitchen-all-about-beef/
LOCATION:Washington County Expo Event Center\, 1305 E. Blue Bell Rd.\, Brenham\, TX\, 77833\, United States
CATEGORIES:Community Events
ATTACH;FMTTYPE=image/png:https://ktex.com/wp-content/uploads/2024/07/kids-in-the-kitchen-july.png
END:VEVENT
BEGIN:VEVENT
DTSTART;VALUE=DATE:20240718
DTEND;VALUE=DATE:20240719
DTSTAMP:20260421T182852
CREATED:20240408T203404Z
LAST-MODIFIED:20240408T203404Z
UID:46652-1721260800-1721347199@ktex.com
SUMMARY:Burton Community Center Drive-Thru Meals
DESCRIPTION:
URL:https://ktex.com/event/burton-community-center-drive-thru-meals-9/
LOCATION:Burton Community Center\, 6301 Rehburg Rd.\, Burton\, TX\, 77835\, United States
CATEGORIES:Community Events
ATTACH;FMTTYPE=image/jpeg:https://ktex.com/wp-content/uploads/2024/04/burton-comm-center-april-thru-aug.jpg
END:VEVENT
BEGIN:VEVENT
DTSTART;VALUE=DATE:20240718
DTEND;VALUE=DATE:20240719
DTSTAMP:20260421T182852
CREATED:20240709T142039Z
LAST-MODIFIED:20240709T142039Z
UID:48074-1721260800-1721347199@ktex.com
SUMMARY:Ribbon Cutting - Brenham Dental Center
DESCRIPTION:INTRODUCTION OF DR. MONICA ANDERSON
URL:https://ktex.com/event/ribbon-cutting-brenham-dental-center/
LOCATION:Brenham Dental Center\, 1406 S. Day Street\, Brenham\, TX\, 77833\, United States
CATEGORIES:Community Events
ATTACH;FMTTYPE=image/jpeg:https://ktex.com/wp-content/uploads/2024/07/ribbon-cut-july-18.jpg
END:VEVENT
BEGIN:VEVENT
DTSTART;VALUE=DATE:20240718
DTEND;VALUE=DATE:20240803
DTSTAMP:20260421T182852
CREATED:20240718T202723Z
LAST-MODIFIED:20240718T202723Z
UID:48271-1721260800-1722643199@ktex.com
SUMMARY:Aggie Family Fun Fest (Register Now)
DESCRIPTION:
URL:https://ktex.com/event/aggie-family-fun-fest-register-now/
CATEGORIES:Community Events
ATTACH;FMTTYPE=image/png:https://ktex.com/wp-content/uploads/2024/07/aggie-family-fun-fest-aug-11.png
END:VEVENT
BEGIN:VEVENT
DTSTART;TZID=America/Chicago:20240718T080000
DTEND;TZID=America/Chicago:20240718T130000
DTSTAMP:20260421T182852
CREATED:20240712T133656Z
LAST-MODIFIED:20240712T133656Z
UID:48154-1721289600-1721307600@ktex.com
SUMMARY:WCF Country Creations Adult Exhibitor Numbers Assigned
DESCRIPTION:
URL:https://ktex.com/event/wcf-country-creations-adult-exhibitor-numbers-assigned/
LOCATION:Washington County Expo Event Center\, 1305 E. Blue Bell Rd.\, Brenham\, TX\, 77833\, United States
CATEGORIES:Community Events
ATTACH;FMTTYPE=image/jpeg:https://ktex.com/wp-content/uploads/2024/07/country-creations-adult-numbers-july.jpg
END:VEVENT
BEGIN:VEVENT
DTSTART;TZID=America/Chicago:20240718T080000
DTEND;TZID=America/Chicago:20240718T170000
DTSTAMP:20260421T182852
CREATED:20240701T201216Z
LAST-MODIFIED:20240701T201216Z
UID:47903-1721289600-1721322000@ktex.com
SUMMARY:Friends of Bluebonnet Opry
DESCRIPTION:
URL:https://ktex.com/event/friends-of-bluebonnet-opry-6/
LOCATION:Silver Wings Ballroom\, 4100 State Highway 105\, Brenham\, TX\, 77833\, United States
CATEGORIES:Community Events
ATTACH;FMTTYPE=image/jpeg:https://ktex.com/wp-content/uploads/2024/07/bluebonnet-opry-july.jpg
END:VEVENT
BEGIN:VEVENT
DTSTART;TZID=America/Chicago:20240718T100000
DTEND;TZID=America/Chicago:20240718T120000
DTSTAMP:20260421T182852
CREATED:20240701T201025Z
LAST-MODIFIED:20240701T201025Z
UID:47900-1721296800-1721304000@ktex.com
SUMMARY:Austin County Back to School Fair
DESCRIPTION:
URL:https://ktex.com/event/austin-county-back-to-school-fair/
LOCATION:Bellville High School\, 850 Schumann Rd\, Bellville\, TX\, 77418\, United States
CATEGORIES:Community Events
ATTACH;FMTTYPE=image/png:https://ktex.com/wp-content/uploads/2024/07/ac-back-2-school-fair.png
END:VEVENT
BEGIN:VEVENT
DTSTART;TZID=America/Chicago:20240718T173000
DTEND;TZID=America/Chicago:20240718T183000
DTSTAMP:20260421T182852
CREATED:20240703T143344Z
LAST-MODIFIED:20240703T143344Z
UID:47953-1721323800-1721327400@ktex.com
SUMMARY:Beginner Line Dancing (Navasota)
DESCRIPTION:
URL:https://ktex.com/event/beginner-line-dancing-navasota-2/
LOCATION:Navasota Center\, 101 Stadium Dr.\, Navasota\, TX\, 77868\, United States
CATEGORIES:Community Events
ATTACH;FMTTYPE=image/png:https://ktex.com/wp-content/uploads/2024/07/July-Line-Dancing-002.png
END:VEVENT
BEGIN:VEVENT
DTSTART;VALUE=DATE:20240719
DTEND;VALUE=DATE:20240720
DTSTAMP:20260421T182852
CREATED:20240521T184939Z
LAST-MODIFIED:20240521T184939Z
UID:47361-1721347200-1721433599@ktex.com
SUMMARY:Austin County Fair's Annual Shrimp Boil
DESCRIPTION:
URL:https://ktex.com/event/austin-county-fairs-annual-shrimp-boil/
LOCATION:Austin County Fairgrounds\, 1076 East Hill\, Bellville\, TX\, 77418\, United States
CATEGORIES:Community Events
ATTACH;FMTTYPE=image/jpeg:https://ktex.com/wp-content/uploads/2024/05/ACF-shrimp-boil-2024.jpg
END:VEVENT
BEGIN:VEVENT
DTSTART;VALUE=DATE:20240719
DTEND;VALUE=DATE:20240720
DTSTAMP:20260421T182852
CREATED:20240703T194403Z
LAST-MODIFIED:20240703T194403Z
UID:47976-1721347200-1721433599@ktex.com
SUMMARY:Burton Storytime Calendar of Events
DESCRIPTION:
URL:https://ktex.com/event/burton-storytime-calendar-of-events/
LOCATION:Burton Furniture Store\, Burton\, TX\, 77835\, United States
CATEGORIES:Community Events
ATTACH;FMTTYPE=image/jpeg:https://ktex.com/wp-content/uploads/2024/07/burton-storytime.jpg
END:VEVENT
BEGIN:VEVENT
DTSTART;TZID=America/Chicago:20240719T190000
DTEND;TZID=America/Chicago:20240719T213000
DTSTAMP:20260421T182852
CREATED:20240411T193406Z
LAST-MODIFIED:20240411T193406Z
UID:46730-1721415600-1721424600@ktex.com
SUMMARY:Sounds of Summer - Navasota
DESCRIPTION:On the grounds of Navasota City Hall\, Food trucks and vendors will be on site.  Lawn chairs and coolers are encouraged.
URL:https://ktex.com/event/sounds-of-summer-navasota-2/
CATEGORIES:Community Events
ATTACH;FMTTYPE=image/jpeg:https://ktex.com/wp-content/uploads/2024/04/sounds-of-summer-navasota-june-july-aug.jpg
END:VEVENT
BEGIN:VEVENT
DTSTART;VALUE=DATE:20240720
DTEND;VALUE=DATE:20240721
DTSTAMP:20260421T182852
CREATED:20240327T215510Z
LAST-MODIFIED:20240327T215536Z
UID:46487-1721433600-1721519999@ktex.com
SUMMARY:Hot Nights-Cool Tunes Concert Series Brenham
DESCRIPTION:July 20 – BROWN SUGAR \nThis is one of the hottest bands around Texas.  They always deliver top songs and a good time! \nwww.brownsugarband.net 
URL:https://ktex.com/event/hot-nights-cool-tunes-brenham/
LOCATION:Downtown Brenham
CATEGORIES:Community Events
ATTACH;FMTTYPE=image/jpeg:https://ktex.com/wp-content/uploads/2024/03/hot-night-2024.jpg
END:VEVENT
BEGIN:VEVENT
DTSTART;VALUE=DATE:20240720
DTEND;VALUE=DATE:20240721
DTSTAMP:20260421T182852
CREATED:20240702T192729Z
LAST-MODIFIED:20240702T192729Z
UID:47940-1721433600-1721519999@ktex.com
SUMMARY:Classic Car Cruise-In (Brenham)
DESCRIPTION:
URL:https://ktex.com/event/classic-car-cruise-in-brenham-3/
LOCATION:Downtown Brenham
CATEGORIES:Community Events
ATTACH;FMTTYPE=image/jpeg:https://ktex.com/wp-content/uploads/2024/07/car-cruise-in-july.jpg
END:VEVENT
BEGIN:VEVENT
DTSTART;VALUE=DATE:20240720
DTEND;VALUE=DATE:20240722
DTSTAMP:20260421T182852
CREATED:20240710T163023Z
LAST-MODIFIED:20240710T163023Z
UID:48109-1721433600-1721606399@ktex.com
SUMMARY:Grimes County Gun Show
DESCRIPTION:
URL:https://ktex.com/event/grimes-county-gun-show/
LOCATION:Grimes County Expo Center\, 5220 FM 3455\, Navasota\, TX\, 77868\, United States
CATEGORIES:Community Events
ATTACH;FMTTYPE=image/jpeg:https://ktex.com/wp-content/uploads/2024/07/grimes-co-gun-show.jpg
END:VEVENT
BEGIN:VEVENT
DTSTART;TZID=America/Chicago:20240720T084500
DTEND;TZID=America/Chicago:20240720T150000
DTSTAMP:20260421T182852
CREATED:20240709T135744Z
LAST-MODIFIED:20240709T135744Z
UID:48052-1721465100-1721487600@ktex.com
SUMMARY:CCOB Ladies' Gathering
DESCRIPTION:
URL:https://ktex.com/event/ccob-ladies-gathering/
LOCATION:Cowboy Church of Brenham\, 4400 HWY 105\, Brenham\, TX\, 77833\, United States
CATEGORIES:Community Events
ATTACH;FMTTYPE=image/jpeg:https://ktex.com/wp-content/uploads/2024/07/ccob-ladies-gathering.jpg
END:VEVENT
BEGIN:VEVENT
DTSTART;VALUE=DATE:20240721
DTEND;VALUE=DATE:20240722
DTSTAMP:20260421T182852
CREATED:20240320T201123Z
LAST-MODIFIED:20240320T201123Z
UID:46312-1721520000-1721606399@ktex.com
SUMMARY:85th Bockhorn-Rodenbeck Family Reunion
DESCRIPTION:The 85th Bockhorn-Rodenbeck Family Reunion will be held on Sunday\, July 21st\, at the Chappell Hill Volunteer Fire Department Hall.  Members should look for an upcoming email from bockhornrodenbeckfamily@gmail.com to include information on reservations\, meal prices and activities planned for the day.  Future emails from this account will provide additional information prior to the reunion.  Reservations are due no later than July 12\, 2024.
URL:https://ktex.com/event/85th-bockhorn-rodenbeck-family-reunion/
LOCATION:Chappell Hill Volunteer Fire Department Hall\, 5295 Main Street\, Chappell Hill\, TX\, 77426\, United States
CATEGORIES:Community Events
ATTACH;FMTTYPE=image/png:https://ktex.com/wp-content/uploads/2024/03/psa.png
END:VEVENT
BEGIN:VEVENT
DTSTART;VALUE=DATE:20240721
DTEND;VALUE=DATE:20240722
DTSTAMP:20260421T182852
CREATED:20240621T171308Z
LAST-MODIFIED:20240621T171308Z
UID:47799-1721520000-1721606399@ktex.com
SUMMARY:Carmine VFD Annual Firemen's Fundraiser
DESCRIPTION:DONATIONS ACCEPTED AS PAYMENT FOR THE MEAL!
URL:https://ktex.com/event/carmine-vfd-annual-firemens-fundraiser/
LOCATION:Carmine Hall\, 300 N. Hauptstrausse\, 78932
CATEGORIES:Community Events
ATTACH;FMTTYPE=image/png:https://ktex.com/wp-content/uploads/2024/06/carmine-vfd-fundraiser-july.png
END:VEVENT
BEGIN:VEVENT
DTSTART;VALUE=DATE:20240721
DTEND;VALUE=DATE:20240722
DTSTAMP:20260421T182852
CREATED:20240717T182142Z
LAST-MODIFIED:20240717T182142Z
UID:48229-1721520000-1721606399@ktex.com
SUMMARY:Polka Sunday at Christ Lutheran (Brenham)
DESCRIPTION:Sunday Sundaes \nAll are welcome after “Polka Sunday” to join us for a sundae! \nPrepared by the Hospitality Team
URL:https://ktex.com/event/polka-sunday-at-christ-lutheran-brenham/
LOCATION:Christ Lutheran Church\, Brenham\, 1104 Carlee Drive\, Brenham\, TX\, 77833\, United States
CATEGORIES:Community Events
ATTACH;FMTTYPE=image/png:https://ktex.com/wp-content/uploads/2024/07/polka-sunday-july-21.png
END:VEVENT
BEGIN:VEVENT
DTSTART;TZID=America/Chicago:20240721T120000
DTEND;TZID=America/Chicago:20240721T150000
DTSTAMP:20260421T182852
CREATED:20240709T213004Z
LAST-MODIFIED:20240709T213004Z
UID:48098-1721563200-1721574000@ktex.com
SUMMARY:National Ice Cream Day
DESCRIPTION:Bring your friends and family to Blue Bell on National Ice Cream Day\, Sunday July\, 21st\, from 12 – 3pm for a FREE scoop of your favorite ice cream flavor! The Parlor and Country Store will be open. Former CEO and President of Blue Bell Creameries\, Ricky Dickson\, will also be in the Parlor on the 21st signing copies of his new book\, One Scoop at a Time: Stories & Lessons from Fear to Faith. 1101 S Blue Bell Rd Brenham\, Texas 77833.tional Ice Cream Day\, Sunday
URL:https://ktex.com/event/national-ice-cream-day/
LOCATION:Blue Bell Creameries\, 1101 S. Blue Bell Rd.\, Brenham\, TX\, 77833\, United States
CATEGORIES:Community Events
ATTACH;FMTTYPE=image/png:https://ktex.com/wp-content/uploads/2024/07/national-ice-cream-day.png
END:VEVENT
BEGIN:VEVENT
DTSTART;TZID=America/Chicago:20240721T140000
DTEND;TZID=America/Chicago:20240721T153000
DTSTAMP:20260421T182852
CREATED:20240624T144947Z
LAST-MODIFIED:20240624T144947Z
UID:47816-1721570400-1721575800@ktex.com
SUMMARY:St. John AME Church 156th Anniversary Celebration
DESCRIPTION:
URL:https://ktex.com/event/st-john-ame-church-156th-anniversary-celebration/
LOCATION:St. John African Methodist Episcopal Church (Brenham)\, 1013 E. Alamo\, Brenham\, TX\, 77833\, United States
CATEGORIES:Community Events
ATTACH;FMTTYPE=image/png:https://ktex.com/wp-content/uploads/2024/06/2024_ST_JOHN_CHURCH_ANNIVERSARY-002.png
END:VEVENT
BEGIN:VEVENT
DTSTART;TZID=America/Chicago:20240721T143000
DTEND;TZID=America/Chicago:20240721T160000
DTSTAMP:20260421T182852
CREATED:20240717T210353Z
LAST-MODIFIED:20240717T210353Z
UID:48247-1721572200-1721577600@ktex.com
SUMMARY:Greater Macedonia Youth Day Program (Brenham)
DESCRIPTION:
URL:https://ktex.com/event/greater-macedonia-youth-day-program-brenham/
LOCATION:Greater Macedonia Baptist Church\, 1302 Washington\, Brenham\, TX\, 77833\, United States
CATEGORIES:Community Events
ATTACH;FMTTYPE=image/jpeg:https://ktex.com/wp-content/uploads/2024/07/yth-day-july-21.jpg
END:VEVENT
BEGIN:VEVENT
DTSTART;VALUE=DATE:20240722
DTEND;VALUE=DATE:20240723
DTSTAMP:20260421T182852
CREATED:20240712T133118Z
LAST-MODIFIED:20240712T133118Z
UID:48149-1721606400-1721692799@ktex.com
SUMMARY:Washington County Ladies Lions Club Meeting
DESCRIPTION:The Washington County Ladies Lions will meet Monday July 22 at Noon at the Cannery Kitchen.  The Lion of the Year\, Rookie of the Year\, Perfect attendance\, transfer of gavel and other awards will be presented.  The public is invited to attend the meeting\, RSVP is not required\, lunch is available.
URL:https://ktex.com/event/washington-county-ladies-lions-club-meeting-15/
LOCATION:Cannery Kitchen\, 314 East Alamo Street\, Brenham\, TX\, 77833\, United States
CATEGORIES:Community Events
ATTACH;FMTTYPE=image/jpeg:https://ktex.com/wp-content/uploads/2024/06/wc-ladies-lions-banner-1.jpg
END:VEVENT
BEGIN:VEVENT
DTSTART;VALUE=DATE:20240722
DTEND;VALUE=DATE:20240815
DTSTAMP:20260421T182852
CREATED:20240722T145043Z
LAST-MODIFIED:20240722T145043Z
UID:48278-1721606400-1723679999@ktex.com
SUMMARY:Prayers Over Burton I.S.D.
DESCRIPTION:
URL:https://ktex.com/event/prayers-over-burton-i-s-d/
CATEGORIES:Community Events
ATTACH;FMTTYPE=image/jpeg:https://ktex.com/wp-content/uploads/2024/07/prayers-over-burton-isd.jpg
END:VEVENT
END:VCALENDAR