BEGIN:VCALENDAR
VERSION:2.0
PRODID:-//KTEX 106.1 - ECPv6.15.20//NONSGML v1.0//EN
CALSCALE:GREGORIAN
METHOD:PUBLISH
X-ORIGINAL-URL:https://ktex.com
X-WR-CALDESC:Events for KTEX 106.1
REFRESH-INTERVAL;VALUE=DURATION:PT1H
X-Robots-Tag:noindex
X-PUBLISHED-TTL:PT1H
BEGIN:VTIMEZONE
TZID:America/Chicago
BEGIN:DAYLIGHT
TZOFFSETFROM:-0600
TZOFFSETTO:-0500
TZNAME:CDT
DTSTART:20230312T080000
END:DAYLIGHT
BEGIN:STANDARD
TZOFFSETFROM:-0500
TZOFFSETTO:-0600
TZNAME:CST
DTSTART:20231105T070000
END:STANDARD
BEGIN:DAYLIGHT
TZOFFSETFROM:-0600
TZOFFSETTO:-0500
TZNAME:CDT
DTSTART:20240310T080000
END:DAYLIGHT
BEGIN:STANDARD
TZOFFSETFROM:-0500
TZOFFSETTO:-0600
TZNAME:CST
DTSTART:20241103T070000
END:STANDARD
BEGIN:DAYLIGHT
TZOFFSETFROM:-0600
TZOFFSETTO:-0500
TZNAME:CDT
DTSTART:20250309T080000
END:DAYLIGHT
BEGIN:STANDARD
TZOFFSETFROM:-0500
TZOFFSETTO:-0600
TZNAME:CST
DTSTART:20251102T070000
END:STANDARD
END:VTIMEZONE
BEGIN:VEVENT
DTSTART;VALUE=DATE:20240624
DTEND;VALUE=DATE:20240725
DTSTAMP:20260421T194441
CREATED:20240624T145136Z
LAST-MODIFIED:20240624T145136Z
UID:47819-1719187200-1721865599@ktex.com
SUMMARY:WC Juneteenth Association Seeking Volunteers
DESCRIPTION:
URL:https://ktex.com/event/wc-juneteenth-association-seeking-volunteers/
CATEGORIES:Community Events
ATTACH;FMTTYPE=image/jpeg:https://ktex.com/wp-content/uploads/2024/06/wc-juneteenth-volunteers.jpg
END:VEVENT
BEGIN:VEVENT
DTSTART;VALUE=DATE:20240701
DTEND;VALUE=DATE:20240717
DTSTAMP:20260421T194441
CREATED:20240701T200859Z
LAST-MODIFIED:20240701T200859Z
UID:47897-1719792000-1721174399@ktex.com
SUMMARY:Bellville Soccer Info
DESCRIPTION:
URL:https://ktex.com/event/bellville-soccer-info/
CATEGORIES:Community Events
ATTACH;FMTTYPE=image/jpeg:https://ktex.com/wp-content/uploads/2024/07/bellville-soccer-registration.jpg
END:VEVENT
BEGIN:VEVENT
DTSTART;VALUE=DATE:20240701
DTEND;VALUE=DATE:20240801
DTSTAMP:20260421T194441
CREATED:20240701T201349Z
LAST-MODIFIED:20240701T201349Z
UID:47906-1719792000-1722470399@ktex.com
SUMMARY:SUNSHINE DRIVE
DESCRIPTION:
URL:https://ktex.com/event/sunshine-drive/
CATEGORIES:Community Events
ATTACH;FMTTYPE=image/png:https://ktex.com/wp-content/uploads/2024/07/sunshine-drive.png
END:VEVENT
BEGIN:VEVENT
DTSTART;VALUE=DATE:20240710
DTEND;VALUE=DATE:20240718
DTSTAMP:20260421T194441
CREATED:20240709T194142Z
LAST-MODIFIED:20240709T194142Z
UID:48094-1720569600-1721260799@ktex.com
SUMMARY:Brush & Yard Waste Disposal Offer For City Residents (Brenham)
DESCRIPTION:The City of Brenham is pleased to offer its residents a convenient way to dispose of brush and yard waste. From Wednesday\, July 10th to Wednesday\, July 17th\, each City resident will receive 500 lbs. of brush credit when brought to the BVR Collection Station (located at 2009 Old Chappell Hill Rd). However\, if the yard waste or brush exceeds 500 lbs.\, the additional weight will be subject to the normal rate of $30.00 per ton. Please note that this offer is exclusively for residential City customers and does not apply to commercial entities or tree service companies. After the 17th\, regular disposal rates will apply. \nProof of City residency is required when you visit the Collection Station. If you have any questions\, please contact JoAnne Hynes at 979-337-7428.
URL:https://ktex.com/event/brush-yard-waste-disposal-offer-for-city-residents-brenham/
LOCATION:BVR Collection & Transfer Station\, 2009 Old Chappell Hill Rd\, Brenham\, Texas\, 77833
CATEGORIES:Community Events
ATTACH;FMTTYPE=image/png:https://ktex.com/wp-content/uploads/2024/07/city-of-brenham-logo.png
END:VEVENT
BEGIN:VEVENT
DTSTART;VALUE=DATE:20240711
DTEND;VALUE=DATE:20240802
DTSTAMP:20260421T194441
CREATED:20240711T135140Z
LAST-MODIFIED:20240711T135140Z
UID:48134-1720656000-1722556799@ktex.com
SUMMARY:School Supply Drive at Shearob's Bar & Patio
DESCRIPTION:
URL:https://ktex.com/event/school-supply-drive-at-shearobs-bar-patio/
LOCATION:Shearob’s Bar & Patio\, 2107 S. Market Street\, Brenham\, TX\, 77833\, United States
CATEGORIES:Community Events
ATTACH;FMTTYPE=image/jpeg:https://ktex.com/wp-content/uploads/2024/07/school-supply-drive-shearobs.jpg
END:VEVENT
BEGIN:VEVENT
DTSTART;VALUE=DATE:20240713
DTEND;VALUE=DATE:20240714
DTSTAMP:20260421T194441
CREATED:20240327T215049Z
LAST-MODIFIED:20240327T215049Z
UID:46485-1720828800-1720915199@ktex.com
SUMMARY:Hot Nights-Cool Tunes Concert Series Brenham
DESCRIPTION:July 13 – THE PICTURES \nThis one-of-a-kind\, Austin TX\, high energy\, interactive variety cover band specializing in bringing the most fun ever! \nwww.thepictures.com 
URL:https://ktex.com/event/hot-nights-cool-tunes-concert-series-brenham/
LOCATION:Downtown Brenham
CATEGORIES:Community Events
ATTACH;FMTTYPE=image/jpeg:https://ktex.com/wp-content/uploads/2024/03/hot-night-2024.jpg
END:VEVENT
BEGIN:VEVENT
DTSTART;VALUE=DATE:20240713
DTEND;VALUE=DATE:20240714
DTSTAMP:20260421T194441
CREATED:20240621T203216Z
LAST-MODIFIED:20240621T203216Z
UID:47808-1720828800-1720915199@ktex.com
SUMMARY:Conference at Back to God Revival Holiness Church (Bellville)
DESCRIPTION:
URL:https://ktex.com/event/conference-at-back-to-god-revival-holiness-church-bellville/
LOCATION:Back to God Revival Holiness Church (Bellville)\, 957 West Austin Street\, Bellville\, TX\, 77418\, United States
CATEGORIES:Community Events
ATTACH;FMTTYPE=image/png:https://ktex.com/wp-content/uploads/2024/06/divine-one-conference.png
END:VEVENT
BEGIN:VEVENT
DTSTART;VALUE=DATE:20240713
DTEND;VALUE=DATE:20240714
DTSTAMP:20260421T194441
CREATED:20240702T192629Z
LAST-MODIFIED:20240702T192629Z
UID:47938-1720828800-1720915199@ktex.com
SUMMARY:Classic Car Cruise-In (Brenham)
DESCRIPTION:
URL:https://ktex.com/event/classic-car-cruise-in-brenham-2/
LOCATION:Downtown Brenham
CATEGORIES:Community Events
ATTACH;FMTTYPE=image/jpeg:https://ktex.com/wp-content/uploads/2024/07/car-cruise-in-july.jpg
END:VEVENT
BEGIN:VEVENT
DTSTART;VALUE=DATE:20240713
DTEND;VALUE=DATE:20240714
DTSTAMP:20260421T194441
CREATED:20240708T182800Z
LAST-MODIFIED:20240708T182800Z
UID:48009-1720828800-1720915199@ktex.com
SUMMARY:Walking in the Anointing Conference
DESCRIPTION:
URL:https://ktex.com/event/walking-in-the-anointing-conference/
LOCATION:New Hope Community Church (Brenham)\, 12221 FM 390 E\, Brenham\, TX\, 77833\, United States
CATEGORIES:Community Events
ATTACH;FMTTYPE=image/jpeg:https://ktex.com/wp-content/uploads/2024/07/walking-in-the-anointing.jpg
END:VEVENT
BEGIN:VEVENT
DTSTART;TZID=America/Chicago:20240713T090000
DTEND;TZID=America/Chicago:20240713T130000
DTSTAMP:20260421T194441
CREATED:20240703T144038Z
LAST-MODIFIED:20240703T144038Z
UID:47964-1720861200-1720875600@ktex.com
SUMMARY:Navasota Farmer's Market
DESCRIPTION:
URL:https://ktex.com/event/navasota-farmers-market-8/
LOCATION:Navasota Public Library\, 1411 E Washington Ave\, Navasota\, TX\, 77868\, United States
CATEGORIES:Community Events
ATTACH;FMTTYPE=image/jpeg:https://ktex.com/wp-content/uploads/2024/07/navasota-farmers-market-july.jpg
END:VEVENT
BEGIN:VEVENT
DTSTART;TZID=America/Chicago:20240713T100000
DTEND;TZID=America/Chicago:20240713T120000
DTSTAMP:20260421T194441
CREATED:20240517T203144Z
LAST-MODIFIED:20240517T203144Z
UID:47309-1720864800-1720872000@ktex.com
SUMMARY:Pop-Up Play Day at Henderson Park
DESCRIPTION:
URL:https://ktex.com/event/pop-up-play-day-at-henderson-park/
LOCATION:City of Brenham Henderson Park\, 804 Old N. Market St.\, Brenham\, Texas\, 77833
CATEGORIES:Community Events
ATTACH;FMTTYPE=image/jpeg:https://ktex.com/wp-content/uploads/2024/05/pop-up-play-days-2024-scaled.jpg
END:VEVENT
BEGIN:VEVENT
DTSTART;TZID=America/Chicago:20240713T100000
DTEND;TZID=America/Chicago:20240713T120000
DTSTAMP:20260421T194441
CREATED:20240627T193729Z
LAST-MODIFIED:20240627T193729Z
UID:47878-1720864800-1720872000@ktex.com
SUMMARY:Pop-Up Play Day
DESCRIPTION:
URL:https://ktex.com/event/pop-up-play-day-2/
LOCATION:City of Brenham Henderson Park\, 804 Old N. Market St.\, Brenham\, Texas\, 77833
CATEGORIES:Community Events
ATTACH;FMTTYPE=image/jpeg:https://ktex.com/wp-content/uploads/2024/06/pop-up-july.jpg
END:VEVENT
BEGIN:VEVENT
DTSTART;TZID=America/Chicago:20240713T200000
DTEND;TZID=America/Chicago:20240713T230000
DTSTAMP:20260421T194441
CREATED:20240510T200525Z
LAST-MODIFIED:20240510T200525Z
UID:47169-1720900800-1720911600@ktex.com
SUMMARY:Summer Concert Series (Caldwell)
DESCRIPTION:FREE LIVE MUSIC ON THE SQUARE  CALDWELL\, TX
URL:https://ktex.com/event/summer-concert-series-caldwell-2/
LOCATION:Downtown Caldwell
CATEGORIES:Community Events
ATTACH;FMTTYPE=image/png:https://ktex.com/wp-content/uploads/2024/05/summer-concert-series-caldwell-2024.png
END:VEVENT
BEGIN:VEVENT
DTSTART;VALUE=DATE:20240714
DTEND;VALUE=DATE:20240715
DTSTAMP:20260421T194441
CREATED:20240103T173137Z
LAST-MODIFIED:20240103T173137Z
UID:44837-1720915200-1721001599@ktex.com
SUMMARY:PFLAG Brenham Meeting
DESCRIPTION:PFLAG Brenham meets on the second Sunday of each month at 5:30 pm.  We are a support group for families\, friends and allies of the LGBTQ+ community.  Let us walk with you on your journey.  For more information\, visit www.facebook.com/BrenhamPFLAG or send an email to pflagbrenham@gmail.com
URL:https://ktex.com/event/pflag-brenham-meeting-7/
CATEGORIES:Community Events
ATTACH;FMTTYPE=image/jpeg:https://ktex.com/wp-content/uploads/2024/01/PFLAG-Brenham-new.jpg
END:VEVENT
BEGIN:VEVENT
DTSTART;VALUE=DATE:20240714
DTEND;VALUE=DATE:20240715
DTSTAMP:20260421T194441
CREATED:20240528T194240Z
LAST-MODIFIED:20240620T213812Z
UID:47400-1720915200-1721001599@ktex.com
SUMMARY:Fundraiser benefitting Veryl Neumann
DESCRIPTION:
URL:https://ktex.com/event/fundraiser-benefitting-veryl-neumann/
LOCATION:Harmonie Hall (Shelby)\, 509 FM 389 West\, Shelby\, TX\, 78940\, United States
CATEGORIES:Community Events
ATTACH;FMTTYPE=image/jpeg:https://ktex.com/wp-content/uploads/2024/05/v-neuman-UPDATED-3-002-scaled.jpg
END:VEVENT
BEGIN:VEVENT
DTSTART;VALUE=DATE:20240714
DTEND;VALUE=DATE:20240715
DTSTAMP:20260421T194441
CREATED:20240712T133317Z
LAST-MODIFIED:20240712T133317Z
UID:48151-1720915200-1721001599@ktex.com
SUMMARY:The Gospel Starz Pre-Anniversary Concert (Brenham)
DESCRIPTION:
URL:https://ktex.com/event/the-gospel-starz-pre-anniversary-concert-brenham/
LOCATION:New Beginning Missionary Baptist Church\, 2105 FM 2935\, Brenham\, TX\, 77833\, United States
CATEGORIES:Community Events
ATTACH;FMTTYPE=image/jpeg:https://ktex.com/wp-content/uploads/2024/07/gospel-starz-pre-anniversary.jpg
END:VEVENT
BEGIN:VEVENT
DTSTART;TZID=America/Chicago:20240714T150000
DTEND;TZID=America/Chicago:20240714T163000
DTSTAMP:20260421T194441
CREATED:20240702T193104Z
LAST-MODIFIED:20240702T193104Z
UID:47944-1720969200-1720974600@ktex.com
SUMMARY:St. Paul AME Church 135th Church Anniversary Celebration
DESCRIPTION:
URL:https://ktex.com/event/st-paul-ame-church-135th-church-anniversary-celebration/
LOCATION:St. Paul AME Church (Sealy)\, 400 San Felipe Rd.\, Sealy\, TX\, 77474\, United States
CATEGORIES:Community Events
ATTACH;FMTTYPE=image/jpeg:https://ktex.com/wp-content/uploads/2024/07/church-anniv-july-14.jpg
END:VEVENT
BEGIN:VEVENT
DTSTART;VALUE=DATE:20240715
DTEND;VALUE=DATE:20240716
DTSTAMP:20260421T194441
CREATED:20240619T200308Z
LAST-MODIFIED:20240619T200308Z
UID:47736-1721001600-1721087999@ktex.com
SUMMARY:Bryan ISD Summer Meal Locations
DESCRIPTION:
URL:https://ktex.com/event/bryan-isd-summer-meal-locations-3/
CATEGORIES:Community Events
ATTACH;FMTTYPE=image/jpeg:https://ktex.com/wp-content/uploads/2024/06/bryan-isd-summer-meals.jpg
END:VEVENT
BEGIN:VEVENT
DTSTART;VALUE=DATE:20240715
DTEND;VALUE=DATE:20240716
DTSTAMP:20260421T194441
CREATED:20240708T184104Z
LAST-MODIFIED:20240708T184104Z
UID:48029-1721001600-1721087999@ktex.com
SUMMARY:Ribbon Cutting - Simply Furtastic Pet Grooming
DESCRIPTION:
URL:https://ktex.com/event/ribbon-cutting-simply-furtastic-pet-grooming/
LOCATION:Simply Furtastic Pet Grooming\, 1404 S. Front St.\, Bellville\, TX\, 77418\, United States
CATEGORIES:Community Events
ATTACH;FMTTYPE=image/png:https://ktex.com/wp-content/uploads/2024/07/ribbon-cut-july-15.png
END:VEVENT
BEGIN:VEVENT
DTSTART;VALUE=DATE:20240715
DTEND;VALUE=DATE:20240716
DTSTAMP:20260421T194441
CREATED:20240711T135515Z
LAST-MODIFIED:20240711T135543Z
UID:48138-1721001600-1721087999@ktex.com
SUMMARY:Movies in the Park showing Shark Tale (Brenham)
DESCRIPTION:RESCHEDULED FOR MONDAY\, JULY 15th
URL:https://ktex.com/event/movies-in-the-park-showing-shark-tale/
LOCATION:City of Brenham Fireman’s Park\, 901 N. Park Street\, Brenham\, TX\, 77833\, United States
CATEGORIES:Community Events
ATTACH;FMTTYPE=image/jpeg:https://ktex.com/wp-content/uploads/2024/07/movies-in-the-park-july.jpg
END:VEVENT
BEGIN:VEVENT
DTSTART;VALUE=DATE:20240715
DTEND;VALUE=DATE:20240718
DTSTAMP:20260421T194441
CREATED:20240430T151930Z
LAST-MODIFIED:20240430T151930Z
UID:47025-1721001600-1721260799@ktex.com
SUMMARY:Brenham Cub Basketball Camp 2024
DESCRIPTION:
URL:https://ktex.com/event/brenham-cub-basketball-camp-2024/
LOCATION:Brenham High School Main Gym\, 525 A H Ehrig Drive\, Brenham\, TX\, 77833\, United States
CATEGORIES:Community Events
ATTACH;FMTTYPE=image/jpeg:https://ktex.com/wp-content/uploads/2024/04/cub-basketball-camp-july.jpg
END:VEVENT
BEGIN:VEVENT
DTSTART;VALUE=DATE:20240715
DTEND;VALUE=DATE:20240719
DTSTAMP:20260421T194441
CREATED:20240311T185027Z
LAST-MODIFIED:20240311T185027Z
UID:46089-1721001600-1721347199@ktex.com
SUMMARY:Bellville ISD Summer Volleyball Camp
DESCRIPTION:
URL:https://ktex.com/event/bellville-isd-summer-volleyball-camp/
LOCATION:Bellville High School\, 850 Schumann Rd\, Bellville\, TX\, 77418\, United States
CATEGORIES:Community Events
ATTACH;FMTTYPE=image/jpeg:https://ktex.com/wp-content/uploads/2024/03/bellville-isd-summer-camps.jpg
END:VEVENT
BEGIN:VEVENT
DTSTART;VALUE=DATE:20240715
DTEND;VALUE=DATE:20240719
DTSTAMP:20260421T194441
CREATED:20240703T143744Z
LAST-MODIFIED:20240703T143744Z
UID:47957-1721001600-1721347199@ktex.com
SUMMARY:Soccer Camp (Navasota)
DESCRIPTION:
URL:https://ktex.com/event/soccer-camp-navasota/
LOCATION:Logan Sechelski Fields\, 400 Veteran's Memorial Drive\, Navasota\, TX\, 77868\, United States
CATEGORIES:Community Events
ATTACH;FMTTYPE=image/jpeg:https://ktex.com/wp-content/uploads/2024/07/soccer-camp-navasota.jpg
END:VEVENT
BEGIN:VEVENT
DTSTART;VALUE=DATE:20240716
DTEND;VALUE=DATE:20240717
DTSTAMP:20260421T194441
CREATED:20240208T212007Z
LAST-MODIFIED:20240208T212007Z
UID:45618-1721088000-1721174399@ktex.com
SUMMARY:4-H Youth Rodeo & Show (Washington County)
DESCRIPTION:
URL:https://ktex.com/event/4-h-youth-rodeo-show-washington-county-6/
LOCATION:Washington County Expo\, 1305 E. Blue Bell Rd.\, Brenham\, TX\, 77833\, United States
CATEGORIES:Community Events
ATTACH;FMTTYPE=image/jpeg:https://ktex.com/wp-content/uploads/2024/02/youth-rodeo-show-june-july.jpg
END:VEVENT
BEGIN:VEVENT
DTSTART;TZID=America/Chicago:20240716T081500
DTEND;TZID=America/Chicago:20240716T120000
DTSTAMP:20260421T194441
CREATED:20240710T211348Z
LAST-MODIFIED:20240710T211407Z
UID:48128-1721117700-1721131200@ktex.com
SUMMARY:Farm Bureau Ag Tour- Quail and Pecans
DESCRIPTION:The FREE tour is open to all Washington County 4-H members and will occur on Tuesday\, July 16\, 2024\, from 8:15 a.m. to 12:00 p.m.  The tour will meet at the Washington County Expo Event Center and leave to visit Cinco B Farm and a quail production operation in Burton. The tour will conclude with a hot dog lunch at the Washington County Expo Event Center. Parents are encouraged to attend as well! The entire program is FREE and open to any Washington County 4-H member. Registration closes Monday\, July 15\, 2024\, so claim your spot by visiting https://washington.agrilife.org/4-H/agtour/.  \n  \nFor more information\, please contact the Texas A&M AgriLife Extension Office in Washington County (979-277-6212). Registration materials and more information can also be found on our website: https://washington.agrilife.org/.
URL:https://ktex.com/event/farm-bureau-ag-tour-quail-and-pecans/
CATEGORIES:Community Events
ATTACH;FMTTYPE=image/jpeg:https://ktex.com/wp-content/uploads/2024/07/farm-bureau-ag-tour.jpg
END:VEVENT
BEGIN:VEVENT
DTSTART;TZID=America/Chicago:20240716T083000
DTEND;TZID=America/Chicago:20240716T113000
DTSTAMP:20260421T194441
CREATED:20240625T213416Z
LAST-MODIFIED:20240625T213416Z
UID:47853-1721118600-1721129400@ktex.com
SUMMARY:Brenham ISD Early Childhood Screening
DESCRIPTION:
URL:https://ktex.com/event/brenham-isd-early-childhood-screening/
LOCATION:Early Childhood Learning Center\, 304 Kerr St.\, Brenham\, TX\, 77833\, United States
CATEGORIES:Community Events
ATTACH;FMTTYPE=image/jpeg:https://ktex.com/wp-content/uploads/2024/06/early-childhood-screening-july.jpg
END:VEVENT
BEGIN:VEVENT
DTSTART;TZID=America/Chicago:20240717T090000
DTEND;TZID=America/Chicago:20240717T120000
DTSTAMP:20260421T194441
CREATED:20240708T212316Z
LAST-MODIFIED:20240708T212316Z
UID:48043-1721206800-1721217600@ktex.com
SUMMARY:Kids in the Kitchen (All About Beef)
DESCRIPTION:For more information\, please contact the Texas A&M AgriLife Extension Office in Washington County (979-277-6212). Registration materials and more information can also be found on our website\, https://washington.agrilife.org
URL:https://ktex.com/event/kids-in-the-kitchen-all-about-beef/
LOCATION:Washington County Expo Event Center\, 1305 E. Blue Bell Rd.\, Brenham\, TX\, 77833\, United States
CATEGORIES:Community Events
ATTACH;FMTTYPE=image/png:https://ktex.com/wp-content/uploads/2024/07/kids-in-the-kitchen-july.png
END:VEVENT
BEGIN:VEVENT
DTSTART;VALUE=DATE:20240718
DTEND;VALUE=DATE:20240719
DTSTAMP:20260421T194441
CREATED:20240408T203404Z
LAST-MODIFIED:20240408T203404Z
UID:46652-1721260800-1721347199@ktex.com
SUMMARY:Burton Community Center Drive-Thru Meals
DESCRIPTION:
URL:https://ktex.com/event/burton-community-center-drive-thru-meals-9/
LOCATION:Burton Community Center\, 6301 Rehburg Rd.\, Burton\, TX\, 77835\, United States
CATEGORIES:Community Events
ATTACH;FMTTYPE=image/jpeg:https://ktex.com/wp-content/uploads/2024/04/burton-comm-center-april-thru-aug.jpg
END:VEVENT
BEGIN:VEVENT
DTSTART;VALUE=DATE:20240718
DTEND;VALUE=DATE:20240719
DTSTAMP:20260421T194441
CREATED:20240709T142039Z
LAST-MODIFIED:20240709T142039Z
UID:48074-1721260800-1721347199@ktex.com
SUMMARY:Ribbon Cutting - Brenham Dental Center
DESCRIPTION:INTRODUCTION OF DR. MONICA ANDERSON
URL:https://ktex.com/event/ribbon-cutting-brenham-dental-center/
LOCATION:Brenham Dental Center\, 1406 S. Day Street\, Brenham\, TX\, 77833\, United States
CATEGORIES:Community Events
ATTACH;FMTTYPE=image/jpeg:https://ktex.com/wp-content/uploads/2024/07/ribbon-cut-july-18.jpg
END:VEVENT
BEGIN:VEVENT
DTSTART;VALUE=DATE:20240718
DTEND;VALUE=DATE:20240803
DTSTAMP:20260421T194441
CREATED:20240718T202723Z
LAST-MODIFIED:20240718T202723Z
UID:48271-1721260800-1722643199@ktex.com
SUMMARY:Aggie Family Fun Fest (Register Now)
DESCRIPTION:
URL:https://ktex.com/event/aggie-family-fun-fest-register-now/
CATEGORIES:Community Events
ATTACH;FMTTYPE=image/png:https://ktex.com/wp-content/uploads/2024/07/aggie-family-fun-fest-aug-11.png
END:VEVENT
END:VCALENDAR