BEGIN:VCALENDAR
VERSION:2.0
PRODID:-//KTEX 106.1 - ECPv6.15.20//NONSGML v1.0//EN
CALSCALE:GREGORIAN
METHOD:PUBLISH
X-ORIGINAL-URL:https://ktex.com
X-WR-CALDESC:Events for KTEX 106.1
REFRESH-INTERVAL;VALUE=DURATION:PT1H
X-Robots-Tag:noindex
X-PUBLISHED-TTL:PT1H
BEGIN:VTIMEZONE
TZID:America/Chicago
BEGIN:DAYLIGHT
TZOFFSETFROM:-0600
TZOFFSETTO:-0500
TZNAME:CDT
DTSTART:20230312T080000
END:DAYLIGHT
BEGIN:STANDARD
TZOFFSETFROM:-0500
TZOFFSETTO:-0600
TZNAME:CST
DTSTART:20231105T070000
END:STANDARD
BEGIN:DAYLIGHT
TZOFFSETFROM:-0600
TZOFFSETTO:-0500
TZNAME:CDT
DTSTART:20240310T080000
END:DAYLIGHT
BEGIN:STANDARD
TZOFFSETFROM:-0500
TZOFFSETTO:-0600
TZNAME:CST
DTSTART:20241103T070000
END:STANDARD
BEGIN:DAYLIGHT
TZOFFSETFROM:-0600
TZOFFSETTO:-0500
TZNAME:CDT
DTSTART:20250309T080000
END:DAYLIGHT
BEGIN:STANDARD
TZOFFSETFROM:-0500
TZOFFSETTO:-0600
TZNAME:CST
DTSTART:20251102T070000
END:STANDARD
END:VTIMEZONE
BEGIN:VEVENT
DTSTART;VALUE=DATE:20240604
DTEND;VALUE=DATE:20240701
DTSTAMP:20260421T194407
CREATED:20240604T190727Z
LAST-MODIFIED:20240604T190727Z
UID:47499-1717459200-1719791999@ktex.com
SUMMARY:BGC School Supply Drive
DESCRIPTION:School supply lists for the 2024-25 school year are available online on our Brenham ISD website. You can view the lists to purchase on your own or order directly through EPI. You can find the list or EPI link on our website here: https://buff.ly/43YFHYl \nSponsor a Student\, Classroom\, or Grade Level: \nIf you are interested or need more information on how to sponsor a student\, classroom\, or grade-level school supplies please visit the Brenham Game Changers website.
URL:https://ktex.com/event/bgc-school-supply-drive/
CATEGORIES:Community Events
ATTACH;FMTTYPE=image/jpeg:https://ktex.com/wp-content/uploads/2024/06/bgc-school-supply-drive.jpg
END:VEVENT
BEGIN:VEVENT
DTSTART;VALUE=DATE:20240619
DTEND;VALUE=DATE:20240701
DTSTAMP:20260421T194407
CREATED:20240619T134800Z
LAST-MODIFIED:20240619T134800Z
UID:47728-1718755200-1719791999@ktex.com
SUMMARY:Apply for Texas A&M Scholarships
DESCRIPTION:
URL:https://ktex.com/event/apply-for-texas-am-scholarships/
CATEGORIES:Community Events
ATTACH;FMTTYPE=image/png:https://ktex.com/wp-content/uploads/2024/06/tamu-scholarships.png
END:VEVENT
BEGIN:VEVENT
DTSTART;VALUE=DATE:20240619
DTEND;VALUE=DATE:20240701
DTSTAMP:20260421T194407
CREATED:20240619T200837Z
LAST-MODIFIED:20240619T200837Z
UID:47742-1718755200-1719791999@ktex.com
SUMMARY:Austin County Feral Hog Bounty Program
DESCRIPTION:Austin County Feral Hog Bounty is still going on! The Bounty program is offered with the support of the Austin County Commissioners Court. Participants will be awarded $5 per feral hog harvested in Austin County\, with biological evidence provided of harvest in the form of a pair of feral hog ears. Each pair must be placed in an individually sealed bag and dropped off at 1 of the 3 drop off locations. Three local feed stores in the county – Steinhauser’s in Sealy\, Linseisen’s Feed & Supply in Bellville\, and Lindemann Store in Industry – will serve as the drop off locations.  A limit of 20 pairs per household per month is allowed. All feral hogs must be harvested in Austin County & signed paperwork must be completed when dropping off the ears to collect the bounty.
URL:https://ktex.com/event/austin-county-feral-hog-bounty-program/
CATEGORIES:Community Events
ATTACH;FMTTYPE=image/png:https://ktex.com/wp-content/uploads/2024/06/Feral-Hog-Bounty-Flier-005.png
END:VEVENT
BEGIN:VEVENT
DTSTART;VALUE=DATE:20240624
DTEND;VALUE=DATE:20240725
DTSTAMP:20260421T194407
CREATED:20240624T145136Z
LAST-MODIFIED:20240624T145136Z
UID:47819-1719187200-1721865599@ktex.com
SUMMARY:WC Juneteenth Association Seeking Volunteers
DESCRIPTION:
URL:https://ktex.com/event/wc-juneteenth-association-seeking-volunteers/
CATEGORIES:Community Events
ATTACH;FMTTYPE=image/jpeg:https://ktex.com/wp-content/uploads/2024/06/wc-juneteenth-volunteers.jpg
END:VEVENT
BEGIN:VEVENT
DTSTART;VALUE=DATE:20240629
DTEND;VALUE=DATE:20240630
DTSTAMP:20260421T194407
CREATED:20240325T140428Z
LAST-MODIFIED:20240325T140428Z
UID:46376-1719619200-1719705599@ktex.com
SUMMARY:Dream Big While Young - Jr. BBQ Cook-Off & Kid's Pop-Up Festival
DESCRIPTION:
URL:https://ktex.com/event/dream-big-while-young-jr-bbq-cook-off-kids-pop-up-festival/
LOCATION:VFW Post 4692 (Bryan)\, 794 N Harvey Mitchell Parkway\, Bryan\, TX\, 77807\, United States
CATEGORIES:Community Events
ATTACH;FMTTYPE=image/png:https://ktex.com/wp-content/uploads/2024/03/dream-big-while-young.png
END:VEVENT
BEGIN:VEVENT
DTSTART;TZID=America/Chicago:20240629T100000
DTEND;TZID=America/Chicago:20240629T140000
DTSTAMP:20260421T194407
CREATED:20240627T193525Z
LAST-MODIFIED:20240627T193525Z
UID:47875-1719655200-1719669600@ktex.com
SUMMARY:Car Show (Bryan)
DESCRIPTION:
URL:https://ktex.com/event/car-show-bryan/
LOCATION:Brazos County Health District\, 201 North Texas Ave\, Bryan\, TX\, 77803\, United States
CATEGORIES:Community Events
ATTACH;FMTTYPE=image/jpeg:https://ktex.com/wp-content/uploads/2024/06/car-show-bryan-june.jpg
END:VEVENT
BEGIN:VEVENT
DTSTART;TZID=America/Chicago:20240629T103000
DTEND;TZID=America/Chicago:20240629T170000
DTSTAMP:20260421T194407
CREATED:20240627T194154Z
LAST-MODIFIED:20240627T194154Z
UID:47885-1719657000-1719680400@ktex.com
SUMMARY:BBQ Cookoff Fundraiser
DESCRIPTION:
URL:https://ktex.com/event/bbq-cookoff-fundraiser/
LOCATION:City of Brenham Henderson Park\, 804 Old N. Market St.\, Brenham\, Texas\, 77833
CATEGORIES:Community Events
ATTACH;FMTTYPE=image/jpeg:https://ktex.com/wp-content/uploads/2024/06/bbq-cook-off-june-29.jpg
END:VEVENT
BEGIN:VEVENT
DTSTART;VALUE=DATE:20240630
DTEND;VALUE=DATE:20240701
DTSTAMP:20260421T194407
CREATED:20240627T193953Z
LAST-MODIFIED:20240627T193953Z
UID:47882-1719705600-1719791999@ktex.com
SUMMARY:Sunday Morning Sunshine Summer Blast
DESCRIPTION:OPEN DOOR PROGRAM \nCONTACT PASTOR ROY GREEN FOR MORE DETAILS\, 979 525-9072
URL:https://ktex.com/event/sunday-morning-sunshine-summer-blast/
LOCATION:New Life Church of God\, Brenham\, 1990 FM389\, Brenham\, TX\, 77833\, United States
CATEGORIES:Community Events
ATTACH;FMTTYPE=image/jpeg:https://ktex.com/wp-content/uploads/2024/06/smss-summer-blast-june.jpg
END:VEVENT
BEGIN:VEVENT
DTSTART;TZID=America/Chicago:20240630T120000
DTEND;TZID=America/Chicago:20240630T160000
DTSTAMP:20260421T194407
CREATED:20240621T135430Z
LAST-MODIFIED:20240621T135430Z
UID:47796-1719748800-1719763200@ktex.com
SUMMARY:Variety Shoot (Bellville)
DESCRIPTION:The Bellville VFW Post will be hosting a “Variety Shoot” (aka Turkey Shoot) Sunday afternoon\, June 30th\, 12-4PM at the Bellville VFW Post.  Shooting up to 30 rounds.  Shotguns only.  Ammunition will be provided.  The winner of each round will receive a $15 gift card from Walmart\, Brookshire Bros.\, or Bellville Meat Market.  This is a fun event\, especially for young people just beginning to shoot.  Beverages are available.
URL:https://ktex.com/event/variety-shoot-bellville/
LOCATION:Bellville VFW Hall\, 4041 Hwy. 36 North\, Bellville\, TX\, 77418\, United States
CATEGORIES:Community Events
ATTACH;FMTTYPE=image/jpeg:https://ktex.com/wp-content/uploads/2024/06/turkey-shoot.jpg
END:VEVENT
BEGIN:VEVENT
DTSTART;VALUE=DATE:20240701
DTEND;VALUE=DATE:20240702
DTSTAMP:20260421T194407
CREATED:20231227T205050Z
LAST-MODIFIED:20231227T205050Z
UID:44722-1719792000-1719878399@ktex.com
SUMMARY:Giddings Chamber of Commerce Events
DESCRIPTION:
URL:https://ktex.com/event/giddings-chamber-of-commerce-events-4/
CATEGORIES:Community Events
ATTACH;FMTTYPE=image/jpeg:https://ktex.com/wp-content/uploads/2023/12/lee-county-chamber-events.jpg
END:VEVENT
BEGIN:VEVENT
DTSTART;VALUE=DATE:20240701
DTEND;VALUE=DATE:20240702
DTSTAMP:20260421T194407
CREATED:20240619T200216Z
LAST-MODIFIED:20240619T200216Z
UID:47734-1719792000-1719878399@ktex.com
SUMMARY:Bryan ISD Summer Meal Locations
DESCRIPTION:
URL:https://ktex.com/event/bryan-isd-summer-meal-locations-2/
CATEGORIES:Community Events
ATTACH;FMTTYPE=image/jpeg:https://ktex.com/wp-content/uploads/2024/06/bryan-isd-summer-meals.jpg
END:VEVENT
BEGIN:VEVENT
DTSTART;VALUE=DATE:20240701
DTEND;VALUE=DATE:20240706
DTSTAMP:20260421T194407
CREATED:20240627T210425Z
LAST-MODIFIED:20240627T210425Z
UID:47890-1719792000-1720223999@ktex.com
SUMMARY:National Aquatic Week
DESCRIPTION:
URL:https://ktex.com/event/national-aquatic-week/
LOCATION:Blue Bell Aquatic Center\, 1800 E Tom Green St\, Brenham\, TX\, 77833\, United States
CATEGORIES:Community Events
ATTACH;FMTTYPE=image/jpeg:https://ktex.com/wp-content/uploads/2024/06/NationalAquaticWeek24Flyer.jpg
END:VEVENT
BEGIN:VEVENT
DTSTART;VALUE=DATE:20240701
DTEND;VALUE=DATE:20240710
DTSTAMP:20260421T194407
CREATED:20240701T135950Z
LAST-MODIFIED:20240701T135950Z
UID:47893-1719792000-1720569599@ktex.com
SUMMARY:Jury Trial UPDATE
DESCRIPTION:The 9:30 AM Jury Trial for July 9th for JP3\, Judge Duane Houston has been cancelled. Those jurors do not need to appear.\nThe 1:30 PM for July 9th is still as scheduled. The jurors for the 1:30PM trial still need to appear.
URL:https://ktex.com/event/jury-trial-update/
CATEGORIES:Community Events
ATTACH;FMTTYPE=image/jpeg:https://ktex.com/wp-content/uploads/2024/07/jurytrialcanceledFEATURE.jpg
END:VEVENT
BEGIN:VEVENT
DTSTART;VALUE=DATE:20240701
DTEND;VALUE=DATE:20240717
DTSTAMP:20260421T194407
CREATED:20240701T200859Z
LAST-MODIFIED:20240701T200859Z
UID:47897-1719792000-1721174399@ktex.com
SUMMARY:Bellville Soccer Info
DESCRIPTION:
URL:https://ktex.com/event/bellville-soccer-info/
CATEGORIES:Community Events
ATTACH;FMTTYPE=image/jpeg:https://ktex.com/wp-content/uploads/2024/07/bellville-soccer-registration.jpg
END:VEVENT
BEGIN:VEVENT
DTSTART;VALUE=DATE:20240701
DTEND;VALUE=DATE:20240801
DTSTAMP:20260421T194407
CREATED:20240701T201349Z
LAST-MODIFIED:20240701T201349Z
UID:47906-1719792000-1722470399@ktex.com
SUMMARY:SUNSHINE DRIVE
DESCRIPTION:
URL:https://ktex.com/event/sunshine-drive/
CATEGORIES:Community Events
ATTACH;FMTTYPE=image/png:https://ktex.com/wp-content/uploads/2024/07/sunshine-drive.png
END:VEVENT
BEGIN:VEVENT
DTSTART;VALUE=DATE:20240702
DTEND;VALUE=DATE:20240703
DTSTAMP:20260421T194407
CREATED:20240624T144657Z
LAST-MODIFIED:20240624T193859Z
UID:47812-1719878400-1719964799@ktex.com
SUMMARY:Bank of Brenham Independence Day Celebration/Customer Appreciation/Dessert Auction
DESCRIPTION:Customer Appreciation at Brenham and Chappell Hill Branches\n\nDessert Auction at Brenham Branch
URL:https://ktex.com/event/bob-customer-appreciation-dessert-auction-benefitting-adams-angels-ministry/
CATEGORIES:Community Events
ATTACH;FMTTYPE=image/png:https://ktex.com/wp-content/uploads/2024/06/bob-Independence-Day-Celebration_2024-002.png
END:VEVENT
BEGIN:VEVENT
DTSTART;VALUE=DATE:20240702
DTEND;VALUE=DATE:20240703
DTSTAMP:20260421T194407
CREATED:20240208T211156Z
LAST-MODIFIED:20240208T211156Z
UID:45614-1719878400-1719964799@ktex.com
SUMMARY:4-H Youth Rodeo & Show (Washington County)
DESCRIPTION:
URL:https://ktex.com/event/4-h-youth-rodeo-show-washington-county-4/
LOCATION:Washington County Expo\, 1305 E. Blue Bell Rd.\, Brenham\, TX\, 77833\, United States
CATEGORIES:Community Events
ATTACH;FMTTYPE=image/jpeg:https://ktex.com/wp-content/uploads/2024/02/youth-rodeo-show-june-july.jpg
END:VEVENT
BEGIN:VEVENT
DTSTART;TZID=America/Chicago:20240702T120000
DTEND;TZID=America/Chicago:20240702T130000
DTSTAMP:20260421T194407
CREATED:20240417T150237Z
LAST-MODIFIED:20240417T150237Z
UID:46812-1719921600-1719925200@ktex.com
SUMMARY:WC Family & Community Health Committee Meeting
DESCRIPTION:
URL:https://ktex.com/event/wc-family-community-health-committee-meeting/
LOCATION:Washington County Extension Conference Room\, 1305 Blue Bell Road\, Brenham\, TX\, 77833\, United States
CATEGORIES:Community Events
ATTACH;FMTTYPE=image/png:https://ktex.com/wp-content/uploads/2024/04/family-comm-health.png
END:VEVENT
BEGIN:VEVENT
DTSTART;TZID=America/Chicago:20240703T100000
DTEND;TZID=America/Chicago:20240703T143000
DTSTAMP:20260421T194407
CREATED:20240621T202841Z
LAST-MODIFIED:20240621T202841Z
UID:47805-1720000800-1720017000@ktex.com
SUMMARY:Blood Drive (Brenham)
DESCRIPTION:
URL:https://ktex.com/event/blood-drive-brenham-2/
LOCATION:Hospice Brazos Valley (Brenham)\, 302 E Blue Bell Road\, Brenham\, TX\, 77833\, United States
CATEGORIES:Community Events
ATTACH;FMTTYPE=image/png:https://ktex.com/wp-content/uploads/2024/06/blood-drive-july-3.png
END:VEVENT
BEGIN:VEVENT
DTSTART;TZID=America/Chicago:20240703T110000
DTEND;TZID=America/Chicago:20240703T130000
DTSTAMP:20260421T194407
CREATED:20231227T150320Z
LAST-MODIFIED:20231227T150320Z
UID:44703-1720004400-1720011600@ktex.com
SUMMARY:Cards Club
DESCRIPTION:
URL:https://ktex.com/event/cards-club-7/
LOCATION:Blue Bell Aquatic Center\, 1800 E Tom Green St\, Brenham\, TX\, 77833\, United States
CATEGORIES:Community Events
ATTACH;FMTTYPE=image/jpeg:https://ktex.com/wp-content/uploads/2023/12/cards-club.jpg
END:VEVENT
BEGIN:VEVENT
DTSTART;TZID=America/Chicago:20240703T160000
DTEND;TZID=America/Chicago:20240703T170000
DTSTAMP:20260421T194407
CREATED:20240702T192054Z
LAST-MODIFIED:20240702T192054Z
UID:47928-1720022400-1720026000@ktex.com
SUMMARY:LEGO Club Meeting
DESCRIPTION:
URL:https://ktex.com/event/lego-club-meeting/
LOCATION:Burton Baseball Park\, 13025 W. Washington St.\, Burton\, TX\, 77835\, United States
CATEGORIES:Community Events
ATTACH;FMTTYPE=image/jpeg:https://ktex.com/wp-content/uploads/2024/07/LEGO-club.jpg
END:VEVENT
BEGIN:VEVENT
DTSTART;TZID=America/Chicago:20240703T170000
DTEND;TZID=America/Chicago:20240703T220000
DTSTAMP:20260421T194407
CREATED:20240523T212239Z
LAST-MODIFIED:20240619T200435Z
UID:47386-1720026000-1720044000@ktex.com
SUMMARY:Freedom Fest at Veterans Park (Giddings)
DESCRIPTION:
URL:https://ktex.com/event/freedom-fest-at-veterans-park-giddings/
LOCATION:Giddings Veterans Park\, 200 Raymond St.\, Giddings\, TX\, 78942\, United States
CATEGORIES:Community Events
ATTACH;FMTTYPE=image/jpeg:https://ktex.com/wp-content/uploads/2024/05/freedom-fest-at-veterans-park-giddings-NEW.jpg
END:VEVENT
BEGIN:VEVENT
DTSTART;VALUE=DATE:20240704
DTEND;VALUE=DATE:20240705
DTSTAMP:20260421T194407
CREATED:20240624T184008Z
LAST-MODIFIED:20240624T184016Z
UID:47832-1720051200-1720137599@ktex.com
SUMMARY:Fourth of July Festivities
DESCRIPTION:Catch us out and about as we celebrate America’s birthday! \nRyan Stone will be in Round Top for the legendary parade and celebration at the Round Top Rifle Hall! The parade starts at 10:30! Then he’s heading to the Burton American Legion Hall for their annual picnic! There’ll be games and live and silent auctions! \nCourtney Cartwright will be in Independence for their 13th annual celebration! Make sure to look for her in the parade! \nEilish and Cowboy Dave are headed to Downtown Navasota for Freedom Festival! Come enjoy live music and the incredible fireworks show!
URL:https://ktex.com/event/fourth-of-july-festivities/
CATEGORIES:KTEX on the Road
END:VEVENT
BEGIN:VEVENT
DTSTART;VALUE=DATE:20240704
DTEND;VALUE=DATE:20240705
DTSTAMP:20260421T194407
CREATED:20240508T192831Z
LAST-MODIFIED:20240508T192831Z
UID:47127-1720051200-1720137599@ktex.com
SUMMARY:Freedom Festival (Navasota)
DESCRIPTION:
URL:https://ktex.com/event/freedom-festival-navasota/
LOCATION:Downtown Navasota
CATEGORIES:Community Events
ATTACH;FMTTYPE=image/png:https://ktex.com/wp-content/uploads/2024/05/freedom-festival-july-4.png
END:VEVENT
BEGIN:VEVENT
DTSTART;VALUE=DATE:20240704
DTEND;VALUE=DATE:20240705
DTSTAMP:20260421T194407
CREATED:20240604T193312Z
LAST-MODIFIED:20240604T193312Z
UID:47508-1720051200-1720137599@ktex.com
SUMMARY:4th of July BBQ Celebration (Kenney)
DESCRIPTION:
URL:https://ktex.com/event/4th-of-july-bbq-celebration-kenney/
LOCATION:Kenney Agricultural Hall\, 444 Hall Rd.\, Kenney\, TX\, 77418\, United States
CATEGORIES:Community Events
ATTACH;FMTTYPE=image/png:https://ktex.com/wp-content/uploads/2024/06/bbq-celebration-july-4th-kenney.png
END:VEVENT
BEGIN:VEVENT
DTSTART;VALUE=DATE:20240704
DTEND;VALUE=DATE:20240705
DTSTAMP:20260421T194407
CREATED:20240619T201005Z
LAST-MODIFIED:20240619T201005Z
UID:47745-1720051200-1720137599@ktex.com
SUMMARY:4th of July Parade & Celebration (Round Top)
DESCRIPTION:
URL:https://ktex.com/event/4th-of-july-parade-celebration-round-top/
LOCATION:Downtown Round Top\, Round Top\, TX\, 78954\, United States
CATEGORIES:Community Events
ATTACH;FMTTYPE=image/png:https://ktex.com/wp-content/uploads/2024/06/rt-4th-of-july.png
END:VEVENT
BEGIN:VEVENT
DTSTART;VALUE=DATE:20240704
DTEND;VALUE=DATE:20240705
DTSTAMP:20260421T194407
CREATED:20240619T215743Z
LAST-MODIFIED:20240619T215743Z
UID:47763-1720051200-1720137599@ktex.com
SUMMARY:American Legion Post #242-4th of July Celebration (Burton)
DESCRIPTION:Live Auction * Silent Auction * BINGO *\nCake Walk * Prize Drawing
URL:https://ktex.com/event/american-legion-post-242-4th-of-july-celebration-burton/
LOCATION:Burton Community Center\, 6301 Rehburg Rd.\, Burton\, TX\, 77835\, United States
CATEGORIES:Community Events
ATTACH;FMTTYPE=image/jpeg:https://ktex.com/wp-content/uploads/2024/06/burton-4th-of-july.jpg
END:VEVENT
BEGIN:VEVENT
DTSTART;VALUE=DATE:20240704
DTEND;VALUE=DATE:20240705
DTSTAMP:20260421T194407
CREATED:20240624T211332Z
LAST-MODIFIED:20240624T211332Z
UID:47843-1720051200-1720137599@ktex.com
SUMMARY:Celebrating 4th of July  (Independence)
DESCRIPTION:
URL:https://ktex.com/event/celebrating-4th-of-july-independence/
CATEGORIES:Community Events
ATTACH;FMTTYPE=image/png:https://ktex.com/wp-content/uploads/2024/06/independence-4th-of-july.png
END:VEVENT
BEGIN:VEVENT
DTSTART;VALUE=DATE:20240704
DTEND;VALUE=DATE:20240705
DTSTAMP:20260421T194407
CREATED:20240625T142849Z
LAST-MODIFIED:20240625T142849Z
UID:47847-1720051200-1720137599@ktex.com
SUMMARY:Independence Day Parade (Chappell Hill)
DESCRIPTION:
URL:https://ktex.com/event/independence-day-parade-chappell-hill/
LOCATION:Downtown Chappell Hill
CATEGORIES:Community Events
ATTACH;FMTTYPE=image/jpeg:https://ktex.com/wp-content/uploads/2024/06/ch-4th-of-july.jpg
END:VEVENT
BEGIN:VEVENT
DTSTART;VALUE=DATE:20240704
DTEND;VALUE=DATE:20240705
DTSTAMP:20260421T194407
CREATED:20240702T191726Z
LAST-MODIFIED:20240702T191726Z
UID:47925-1720051200-1720137599@ktex.com
SUMMARY:BCC July 4th Celebration
DESCRIPTION:
URL:https://ktex.com/event/bcc-july-4th-celebration/
LOCATION:Brenham Country Club\, 4107 Hwy 105\, Brenham1\, 77833
CATEGORIES:Community Events
ATTACH;FMTTYPE=image/jpeg:https://ktex.com/wp-content/uploads/2024/07/bcc-july-4th.jpg
END:VEVENT
END:VCALENDAR