BEGIN:VCALENDAR
VERSION:2.0
PRODID:-//KTEX 106.1 - ECPv6.15.20//NONSGML v1.0//EN
CALSCALE:GREGORIAN
METHOD:PUBLISH
X-ORIGINAL-URL:https://ktex.com
X-WR-CALDESC:Events for KTEX 106.1
REFRESH-INTERVAL;VALUE=DURATION:PT1H
X-Robots-Tag:noindex
X-PUBLISHED-TTL:PT1H
BEGIN:VTIMEZONE
TZID:America/Chicago
BEGIN:DAYLIGHT
TZOFFSETFROM:-0600
TZOFFSETTO:-0500
TZNAME:CDT
DTSTART:20230312T080000
END:DAYLIGHT
BEGIN:STANDARD
TZOFFSETFROM:-0500
TZOFFSETTO:-0600
TZNAME:CST
DTSTART:20231105T070000
END:STANDARD
BEGIN:DAYLIGHT
TZOFFSETFROM:-0600
TZOFFSETTO:-0500
TZNAME:CDT
DTSTART:20240310T080000
END:DAYLIGHT
BEGIN:STANDARD
TZOFFSETFROM:-0500
TZOFFSETTO:-0600
TZNAME:CST
DTSTART:20241103T070000
END:STANDARD
BEGIN:DAYLIGHT
TZOFFSETFROM:-0600
TZOFFSETTO:-0500
TZNAME:CDT
DTSTART:20250309T080000
END:DAYLIGHT
BEGIN:STANDARD
TZOFFSETFROM:-0500
TZOFFSETTO:-0600
TZNAME:CST
DTSTART:20251102T070000
END:STANDARD
END:VTIMEZONE
BEGIN:VEVENT
DTSTART;VALUE=DATE:20240601
DTEND;VALUE=DATE:20240616
DTSTAMP:20260421T194435
CREATED:20240318T193255Z
LAST-MODIFIED:20240529T200002Z
UID:46244-1717200000-1718495999@ktex.com
SUMMARY:Washington County Juneteenth Events
DESCRIPTION:
URL:https://ktex.com/event/washington-county-juneteenth-2024-events/
CATEGORIES:Community Events
ATTACH;FMTTYPE=image/jpeg:https://ktex.com/wp-content/uploads/2024/01/juneteenth-2024-events-calendar.jpg
END:VEVENT
BEGIN:VEVENT
DTSTART;VALUE=DATE:20240604
DTEND;VALUE=DATE:20240626
DTSTAMP:20260421T194435
CREATED:20240327T203927Z
LAST-MODIFIED:20240327T203927Z
UID:46473-1717459200-1719359999@ktex.com
SUMMARY:Bluebonnet Master Gardener Kids Kamp
DESCRIPTION:
URL:https://ktex.com/event/bluebonnet-master-gardener-kids-kamp/
CATEGORIES:Community Events
ATTACH;FMTTYPE=image/jpeg:https://ktex.com/wp-content/uploads/2024/03/BluebonnetMasterGardenerKidsKamp2024Flyer.jpg
END:VEVENT
BEGIN:VEVENT
DTSTART;VALUE=DATE:20240604
DTEND;VALUE=DATE:20240701
DTSTAMP:20260421T194435
CREATED:20240604T190727Z
LAST-MODIFIED:20240604T190727Z
UID:47499-1717459200-1719791999@ktex.com
SUMMARY:BGC School Supply Drive
DESCRIPTION:School supply lists for the 2024-25 school year are available online on our Brenham ISD website. You can view the lists to purchase on your own or order directly through EPI. You can find the list or EPI link on our website here: https://buff.ly/43YFHYl \nSponsor a Student\, Classroom\, or Grade Level: \nIf you are interested or need more information on how to sponsor a student\, classroom\, or grade-level school supplies please visit the Brenham Game Changers website.
URL:https://ktex.com/event/bgc-school-supply-drive/
CATEGORIES:Community Events
ATTACH;FMTTYPE=image/jpeg:https://ktex.com/wp-content/uploads/2024/06/bgc-school-supply-drive.jpg
END:VEVENT
BEGIN:VEVENT
DTSTART;VALUE=DATE:20240614
DTEND;VALUE=DATE:20240617
DTSTAMP:20260421T194435
CREATED:20240529T194545Z
LAST-MODIFIED:20240529T195919Z
UID:47423-1718323200-1718582399@ktex.com
SUMMARY:Fayette County Juneteenth Events
DESCRIPTION:JUNE 14th Gospel Night starting at 6:00pm at the Randolph Center (653 E. Pearl St.\, in La Grange)\nfeaturing Gospel Artist Mrs. Debra Stewart\nGospel Group: NEW IDENTITY from Brookshire\nGospel Group: THE SOUL INVADERS from Industry\nGospel Group: THE NEW SOUL INVADERS\nAlso featuring artist from around the area \nJUNE 15th Grand Parade starting at 11:00am (Lagrange H-E-B parade route) 450 E. Travis St. – Line up starts at 9:30am.\nApplications available at 2540scowboy@gmail.com &\njohnmac84@me.com or call 979436- 2217.  After the Parade: Back to the Randolph Center\, a meal will be provided\, at no cost\, until all gone. \nJUNE 16th Community Fellowship Services at The Randolph Center (653 E. Pearl St.)\, 1: 30pm / Guest Speaker: Pastor Austin Jones\, St. James M.B.C.
URL:https://ktex.com/event/fayette-county-juneteenth-2024-events/
CATEGORIES:Community Events
ATTACH;FMTTYPE=image/png:https://ktex.com/wp-content/uploads/2024/05/juneteenth-fayette-county.png
END:VEVENT
BEGIN:VEVENT
DTSTART;TZID=America/Chicago:20240615T150000
DTEND;TZID=America/Chicago:20240615T163000
DTSTAMP:20260421T194435
CREATED:20240607T200821Z
LAST-MODIFIED:20240607T200851Z
UID:47572-1718463600-1718469000@ktex.com
SUMMARY:Juneteenth Speaker Event with Don Sharp
DESCRIPTION:Join us at the Brenham Heritage Museum after the Juneteenth Parade on Saturday\, June 15th from 3 pm – 4:30 pm for a special presentation by Broadcast Pioneer\, former KPIX Operations Manager\, and Brenham native Don Sharp. This presentation will feature a short film documenting Brenham’s Juneteenth celebrations over the years. You don’t want to miss this fascinating talk. Admission is free for this event. \nPlease RSVP to admin@brenhamheritagemuseum.org to reserve your seat.
URL:https://ktex.com/event/juneteenth-speaker-event-with-don-sharp/
LOCATION:Brenham Heritage Museum\, 105 S. Market St.\, Brenham\, TX\, 77833\, United States
CATEGORIES:Community Events
ATTACH;FMTTYPE=image/png:https://ktex.com/wp-content/uploads/2024/06/bhm-juneteenth.png
END:VEVENT
BEGIN:VEVENT
DTSTART;VALUE=DATE:20240616
DTEND;VALUE=DATE:20240617
DTSTAMP:20260421T194435
CREATED:20240603T210452Z
LAST-MODIFIED:20240603T210452Z
UID:47489-1718496000-1718582399@ktex.com
SUMMARY:Father's Day & BBQ Celebration
DESCRIPTION:
URL:https://ktex.com/event/fathers-day-bbq-celebration/
LOCATION:Millheim Harmonie Hall\, 4460 FM 949\, Sealy\, TX\, 77474\, United States
CATEGORIES:Community Events
ATTACH;FMTTYPE=image/jpeg:https://ktex.com/wp-content/uploads/2024/06/fathers-day-and-bbq-june.jpg
END:VEVENT
BEGIN:VEVENT
DTSTART;VALUE=DATE:20240617
DTEND;VALUE=DATE:20240618
DTSTAMP:20260421T194435
CREATED:20240418T151707Z
LAST-MODIFIED:20240418T151707Z
UID:46835-1718582400-1718668799@ktex.com
SUMMARY:Kids Summer Education & Enrichment Class
DESCRIPTION:
URL:https://ktex.com/event/kids-summer-education-enrichment-class/
LOCATION:Round Top Family Library\, 206 W. Mill\, Round Top\, TX\, United States
CATEGORIES:Community Events
ATTACH;FMTTYPE=image/png:https://ktex.com/wp-content/uploads/2024/04/kids-S.E.E.png
END:VEVENT
BEGIN:VEVENT
DTSTART;VALUE=DATE:20240617
DTEND;VALUE=DATE:20240618
DTSTAMP:20260421T194435
CREATED:20240522T200103Z
LAST-MODIFIED:20240522T200103Z
UID:47370-1718582400-1718668799@ktex.com
SUMMARY:Gospel Night and Ice Cream Social at St. John's UCC (Burton)
DESCRIPTION:Circle # 1 of St. John’s UCC\, Burton\, is hosting their 26th annual Gospel Night and Ice Cream Social on Monday\, June 17\, at the Family Life Center at 7 p.m.  Talent from area churches\, soloist\, duets\, choirs and ensembles will provide soul enriching good old fashion gospel music with sing-alongs to follow.  Those attending will be treated to a complimentary ice cream social with all the trimmings. There is no charge and everyone is invited and there will be door prizes. \n 
URL:https://ktex.com/event/gospel-night-and-ice-cream-social-at-st-johns-ucc-burton/
LOCATION:St. John’s United Church of Christ (Burton)\, 516 N Colorado St.\, Burton\, TX\, 77835\, United States
CATEGORIES:Community Events
ATTACH;FMTTYPE=image/jpeg:https://ktex.com/wp-content/uploads/2024/05/st-john-ucc-burton.jpg
END:VEVENT
BEGIN:VEVENT
DTSTART;VALUE=DATE:20240617
DTEND;VALUE=DATE:20240621
DTSTAMP:20260421T194435
CREATED:20240530T210652Z
LAST-MODIFIED:20240530T210652Z
UID:47453-1718582400-1718927999@ktex.com
SUMMARY:Navasota ISD Summer School Information
DESCRIPTION:
URL:https://ktex.com/event/navasota-isd-summer-school-information-3/
LOCATION:Navasota Junior High School\, 9038 State Highway 90 South\, Navasota\, TX\, 77868\, United States
CATEGORIES:Community Events
ATTACH;FMTTYPE=image/png:https://ktex.com/wp-content/uploads/2024/05/nisd-summer-school.png
END:VEVENT
BEGIN:VEVENT
DTSTART;VALUE=DATE:20240617
DTEND;VALUE=DATE:20240621
DTSTAMP:20260421T194435
CREATED:20240530T211019Z
LAST-MODIFIED:20240530T211019Z
UID:47460-1718582400-1718927999@ktex.com
SUMMARY:Navasota ISD Summer Feeding Program
DESCRIPTION:
URL:https://ktex.com/event/navasota-isd-summer-feeding-program-3/
LOCATION:Navasota Junior High School\, 9038 State Highway 90 South\, Navasota\, TX\, 77868\, United States
CATEGORIES:Community Events
ATTACH;FMTTYPE=image/png:https://ktex.com/wp-content/uploads/2024/05/nisd-summer-feeding-program.png
END:VEVENT
BEGIN:VEVENT
DTSTART;VALUE=DATE:20240618
DTEND;VALUE=DATE:20240619
DTSTAMP:20260421T194435
CREATED:20240208T210849Z
LAST-MODIFIED:20240208T210849Z
UID:45609-1718668800-1718755199@ktex.com
SUMMARY:4-H Youth Rodeo & Show (Washington County)
DESCRIPTION:
URL:https://ktex.com/event/4-h-youth-rodeo-show-washington-county-2/
LOCATION:Washington County Expo\, 1305 E. Blue Bell Rd.\, Brenham\, TX\, 77833\, United States
CATEGORIES:Community Events
ATTACH;FMTTYPE=image/jpeg:https://ktex.com/wp-content/uploads/2024/02/youth-rodeo-show-june-july.jpg
END:VEVENT
BEGIN:VEVENT
DTSTART;VALUE=DATE:20240619
DTEND;VALUE=DATE:20240701
DTSTAMP:20260421T194435
CREATED:20240619T134800Z
LAST-MODIFIED:20240619T134800Z
UID:47728-1718755200-1719791999@ktex.com
SUMMARY:Apply for Texas A&M Scholarships
DESCRIPTION:
URL:https://ktex.com/event/apply-for-texas-am-scholarships/
CATEGORIES:Community Events
ATTACH;FMTTYPE=image/png:https://ktex.com/wp-content/uploads/2024/06/tamu-scholarships.png
END:VEVENT
BEGIN:VEVENT
DTSTART;VALUE=DATE:20240619
DTEND;VALUE=DATE:20240701
DTSTAMP:20260421T194435
CREATED:20240619T200837Z
LAST-MODIFIED:20240619T200837Z
UID:47742-1718755200-1719791999@ktex.com
SUMMARY:Austin County Feral Hog Bounty Program
DESCRIPTION:Austin County Feral Hog Bounty is still going on! The Bounty program is offered with the support of the Austin County Commissioners Court. Participants will be awarded $5 per feral hog harvested in Austin County\, with biological evidence provided of harvest in the form of a pair of feral hog ears. Each pair must be placed in an individually sealed bag and dropped off at 1 of the 3 drop off locations. Three local feed stores in the county – Steinhauser’s in Sealy\, Linseisen’s Feed & Supply in Bellville\, and Lindemann Store in Industry – will serve as the drop off locations.  A limit of 20 pairs per household per month is allowed. All feral hogs must be harvested in Austin County & signed paperwork must be completed when dropping off the ears to collect the bounty.
URL:https://ktex.com/event/austin-county-feral-hog-bounty-program/
CATEGORIES:Community Events
ATTACH;FMTTYPE=image/png:https://ktex.com/wp-content/uploads/2024/06/Feral-Hog-Bounty-Flier-005.png
END:VEVENT
BEGIN:VEVENT
DTSTART;VALUE=DATE:20240620
DTEND;VALUE=DATE:20240621
DTSTAMP:20260421T194435
CREATED:20240408T203247Z
LAST-MODIFIED:20240408T203247Z
UID:46650-1718841600-1718927999@ktex.com
SUMMARY:Burton Community Center Drive-Thru Meals
DESCRIPTION:
URL:https://ktex.com/event/burton-community-center-drive-thru-meals-8/
LOCATION:Burton Community Center\, 6301 Rehburg Rd.\, Burton\, TX\, 77835\, United States
CATEGORIES:Community Events
ATTACH;FMTTYPE=image/jpeg:https://ktex.com/wp-content/uploads/2024/04/burton-comm-center-april-thru-aug.jpg
END:VEVENT
BEGIN:VEVENT
DTSTART;VALUE=DATE:20240620
DTEND;VALUE=DATE:20240621
DTSTAMP:20260421T194435
CREATED:20240610T192950Z
LAST-MODIFIED:20240610T192950Z
UID:47623-1718841600-1718927999@ktex.com
SUMMARY:Town Hall Meeting Chappell Hill-Meyersville Emergency Services District
DESCRIPTION:Chappell Hill VFD and Meyersville VFD hosting an ESD Town Hall Meeting on Thursday\, June 20th at 6:30 p.m. at the First Baptist Church of Chappell Hill – the meeting will provide a wealth of information about what an ESD is\, its potential impact on the Chappell Hill VFD and Meyersville VFD\, and how it could benefit our communities. The presentation will last a little over 30 minutes\, followed by a valuable Q&A session. This is a great opportunity for those living within the district to ask any questions they may have. Additionally\, a petition to place the ESD on the ballot will be available for those who wish to support this initiative.  The departments would like to ask if you do not live within the district\, please do not attend so there can be enough room for those individuals whom this district will directly affect. If you have any questions or if they would like to know if they live in the district\, they can contact the ESD committee at: wacounty.esdone.questions@gmail.com
URL:https://ktex.com/event/town-hall-meeting-chappell-hill-meyersville-emergency-services-district/
LOCATION:First Baptist Church Chappell Hill\, 7675 FM 2447\, Chappell Hill\, TX\, 77426\, United States
CATEGORIES:Community Events
ATTACH;FMTTYPE=image/png:https://ktex.com/wp-content/uploads/2024/06/ch-vfd.png
END:VEVENT
BEGIN:VEVENT
DTSTART;VALUE=DATE:20240620
DTEND;VALUE=DATE:20240621
DTSTAMP:20260421T194435
CREATED:20240619T133834Z
LAST-MODIFIED:20240619T133834Z
UID:47725-1718841600-1718927999@ktex.com
SUMMARY:Friends of Bluebonnet Opry
DESCRIPTION:
URL:https://ktex.com/event/friends-of-bluebonnet-opry-5/
LOCATION:Silver Wings Ballroom\, 4100 State Highway 105\, Brenham\, TX\, 77833\, United States
CATEGORIES:Community Events
ATTACH;FMTTYPE=image/jpeg:https://ktex.com/wp-content/uploads/2024/06/bluebonnet-opry-june.jpg
END:VEVENT
BEGIN:VEVENT
DTSTART;VALUE=DATE:20240621
DTEND;VALUE=DATE:20240622
DTSTAMP:20260421T194435
CREATED:20240517T172144Z
LAST-MODIFIED:20240517T172144Z
UID:47305-1718928000-1719014399@ktex.com
SUMMARY:Summer MOVIES in the Park
DESCRIPTION:Free to all \nIN THE PARK:  movies start 10 minutes after sundown. Bring your chairs\, blankets and kids for a fun night out. \nFLOATS-n-FLICKS:  bring your float to be in the pool during the movie
URL:https://ktex.com/event/summer-movies-in-the-park-2/
LOCATION:Hohlt Park\, 2425 N Park St\, Brenham\, TX\, 77833\, United States
CATEGORIES:Community Events
ATTACH;FMTTYPE=image/jpeg:https://ktex.com/wp-content/uploads/2024/05/movies-in-the-park-summer-2024-scaled.jpg
END:VEVENT
BEGIN:VEVENT
DTSTART;VALUE=DATE:20240621
DTEND;VALUE=DATE:20240622
DTSTAMP:20260421T194435
CREATED:20240619T200628Z
LAST-MODIFIED:20240619T200628Z
UID:47739-1718928000-1719014399@ktex.com
SUMMARY:Movies in the Park Summer Series (Brenham)
DESCRIPTION:
URL:https://ktex.com/event/movies-in-the-park-summer-series-brenham/
LOCATION:Hohlt Park\, 2425 N Park St\, Brenham\, TX\, 77833\, United States
CATEGORIES:Community Events
ATTACH;FMTTYPE=image/jpeg:https://ktex.com/wp-content/uploads/2024/06/movies-in-the-park-june.jpg
END:VEVENT
BEGIN:VEVENT
DTSTART;VALUE=DATE:20240621
DTEND;VALUE=DATE:20240622
DTSTAMP:20260421T194435
CREATED:20240620T194401Z
LAST-MODIFIED:20240620T194401Z
UID:47785-1718928000-1719014399@ktex.com
SUMMARY:Smoking/Vaping Cessation Class
DESCRIPTION:
URL:https://ktex.com/event/smoking-vaping-cessation-class/
LOCATION:Brazos County Health District\, 201 North Texas Ave\, Bryan\, TX\, 77803\, United States
CATEGORIES:Community Events
ATTACH;FMTTYPE=image/jpeg:https://ktex.com/wp-content/uploads/2024/06/smoking-vaping-cessation-class.jpg
END:VEVENT
BEGIN:VEVENT
DTSTART;VALUE=DATE:20240621
DTEND;VALUE=DATE:20240623
DTSTAMP:20260421T194435
CREATED:20240529T142537Z
LAST-MODIFIED:20240529T142537Z
UID:47420-1718928000-1719100799@ktex.com
SUMMARY:Lee County Go Texan Summer Scholarship Fundraiser
DESCRIPTION:
URL:https://ktex.com/event/lee-county-go-texan-summer-scholarship-fundraiser/
LOCATION:The Silos on 77\, 1031 CR 223\, Giddings\, TX\, 78942\, United States
CATEGORIES:Community Events
ATTACH;FMTTYPE=image/png:https://ktex.com/wp-content/uploads/2024/05/lee-co-summer-scholarship-fund.png
END:VEVENT
BEGIN:VEVENT
DTSTART;VALUE=DATE:20240621
DTEND;VALUE=DATE:20240623
DTSTAMP:20260421T194435
CREATED:20240617T163257Z
LAST-MODIFIED:20240617T163257Z
UID:47714-1718928000-1719100799@ktex.com
SUMMARY:Bremond Polish Days
DESCRIPTION:Catch Eilish and Cowboy Dave at the annual Bremond Polish Days! There’s the pickle run\, volleyball and basketball tournaments\, and traditional polish food! Plus the polish dancers an live music all weekend long! All happening in Downtown Bremond!
URL:https://ktex.com/event/bremond-polish-days/
LOCATION:Downtown Bremond\, Bremond\, TX\, 76629
CATEGORIES:KTEX on the Road
END:VEVENT
BEGIN:VEVENT
DTSTART;VALUE=DATE:20240622
DTEND;VALUE=DATE:20240623
DTSTAMP:20260421T194435
CREATED:20240611T140431Z
LAST-MODIFIED:20240611T140431Z
UID:47680-1719014400-1719100799@ktex.com
SUMMARY:Juneteenth Homecoming Celebration (San Felipe)
DESCRIPTION:
URL:https://ktex.com/event/juneteenth-homecoming-celebration-san-felipe/
LOCATION:San Felipe Park\, 15079 FM 1458\, San Felipe\, TX\, 77474\, United States
CATEGORIES:Community Events
ATTACH;FMTTYPE=image/jpeg:https://ktex.com/wp-content/uploads/2024/06/juneteenth-san-felipe.jpg
END:VEVENT
BEGIN:VEVENT
DTSTART;VALUE=DATE:20240622
DTEND;VALUE=DATE:20240624
DTSTAMP:20260421T194435
CREATED:20240619T210534Z
LAST-MODIFIED:20240619T210534Z
UID:47760-1719014400-1719187199@ktex.com
SUMMARY:2024 ARRL Field Day
DESCRIPTION:The ARRL Field Day\, a national amateur radio exercise\, will take place from 2 PM on Saturday\, June 22nd\, until noon on Sunday\, June 23rd. This annual event\, organized by the ARRL\, attracts participation from Ham Radio operators nationwide. \nAmateur (Ham) Radio operators across North America participate in Field Day by establishing temporary communication stations in public locations. Their radio signals reach beyond borders to bring people together while providing essential communication in the service of communities. Field Day highlights ham radio’s ability to work reliably under any conditions from almost any location using an independent wireless communications network. \nMembers from the Washington County Amateur Radio Club will set up a temporary communications station at the Prairie Hill Volunteer Fire Department\, located at 7559 FM 50\, Brenham\, TX 77833. The public is invited to visit and learn more about Ham Radio and the Amateur Radio service.  https://washcohamradio.org 
URL:https://ktex.com/event/2024-arrl-field-day/
LOCATION:Prairie Hill Volunteer Fire Hall\, 7559 FM 50\, Brenham\, TX\, 77833\, United States
CATEGORIES:Community Events
ATTACH;FMTTYPE=image/gif:https://ktex.com/wp-content/uploads/2024/06/ARRL-AMATEUR-RADIO.gif
END:VEVENT
BEGIN:VEVENT
DTSTART;TZID=America/Chicago:20240622T110000
DTEND;TZID=America/Chicago:20240622T140000
DTSTAMP:20260421T194435
CREATED:20240606T133513Z
LAST-MODIFIED:20240606T133513Z
UID:47532-1719054000-1719064800@ktex.com
SUMMARY:Juneteenth Community Celebration (Navasota)
DESCRIPTION:
URL:https://ktex.com/event/juneteenth-community-celebration-navasota/
LOCATION:Margie & Albert Miller Park (Grace Park)\, Navasota\, TX\, 77868\, United States
CATEGORIES:Community Events
ATTACH;FMTTYPE=image/png:https://ktex.com/wp-content/uploads/2024/06/Juneteenth-Community-Celebration-2024-navasota-002.png
END:VEVENT
BEGIN:VEVENT
DTSTART;TZID=America/Chicago:20240623T100000
DTEND;TZID=America/Chicago:20240623T143000
DTSTAMP:20260421T194435
CREATED:20240603T191703Z
LAST-MODIFIED:20240603T191703Z
UID:47485-1719136800-1719153000@ktex.com
SUMMARY:Latium/Wesley/Greenvine VFD hosting a Blood Drive
DESCRIPTION:The Latium/Wesley/Greenvine Volunteer Fire Department\, in conjunction with the Gulf Coast Regional Blood Cener will sponsor a blood drive on Sunday\, June 23rd\, from 10:00 AM – 2:30PM in Brandt Hall at the LWG VFD Fire Station.  A free beach towel will be given for each donation\, along with a FREE hamburger lunch served from 11:30AM – 2:00PM for all donors.  Appointments are not necessary but are encouraged.  To make an appointment\, visit www.giveblood.org and enter sponsor code LWG1 or call Henry Strait\, 409 284-5501 \nSave a Life! Donate Blood!
URL:https://ktex.com/event/latium-wesley-greenvine-vfd-hosting-a-blood-drive/
LOCATION:Brandt Hall at LWG VFD fire station\, 12255 FM 389\, Burton\, TX\, 77835\, United States
CATEGORIES:Community Events
ATTACH;FMTTYPE=image/jpeg:https://ktex.com/wp-content/uploads/2024/06/latium-wesley-greenvine-patch.jpg
END:VEVENT
BEGIN:VEVENT
DTSTART;TZID=America/Chicago:20240623T110000
DTEND;TZID=America/Chicago:20240623T140000
DTSTAMP:20260421T194435
CREATED:20240528T204249Z
LAST-MODIFIED:20240528T204249Z
UID:47408-1719140400-1719151200@ktex.com
SUMMARY:Brenham Elks #979 Chicken Fried Steak Drive-Thru
DESCRIPTION:
URL:https://ktex.com/event/brenham-elks-979-chicken-fried-steak-drive-thru/
LOCATION:Brenham Elks Lodge 979\, 400 East Germania St.\, Brenham\, 77833
CATEGORIES:Community Events
ATTACH;FMTTYPE=image/jpeg:https://ktex.com/wp-content/uploads/2024/05/elks-cfs-drive-thru-june.jpg
END:VEVENT
BEGIN:VEVENT
DTSTART;VALUE=DATE:20240624
DTEND;VALUE=DATE:20240625
DTSTAMP:20260421T194435
CREATED:20240619T200114Z
LAST-MODIFIED:20240619T200114Z
UID:47731-1719187200-1719273599@ktex.com
SUMMARY:Bryan ISD Summer Meal Locations
DESCRIPTION:
URL:https://ktex.com/event/bryan-isd-summer-meal-locations/
CATEGORIES:Community Events
ATTACH;FMTTYPE=image/jpeg:https://ktex.com/wp-content/uploads/2024/06/bryan-isd-summer-meals.jpg
END:VEVENT
BEGIN:VEVENT
DTSTART;VALUE=DATE:20240624
DTEND;VALUE=DATE:20240625
DTSTAMP:20260421T194435
CREATED:20240620T193922Z
LAST-MODIFIED:20240620T193922Z
UID:47779-1719187200-1719273599@ktex.com
SUMMARY:Washington County Ladies Lions Club Meeting
DESCRIPTION:The Washington County Ladies Lions Club will meet Monday\, June 24\, at Noon\, at the Cannery Kitchen. The Featured speaker will be Buddy Riddle of Burton\, who will share his areas of service over the decades.  The public is invited to attend\, RSVP is not required\, lunch is available.
URL:https://ktex.com/event/washington-county-ladies-lions-club-meeting-14/
LOCATION:Cannery Kitchen\, 314 East Alamo Street\, Brenham\, TX\, 77833\, United States
CATEGORIES:Community Events
ATTACH;FMTTYPE=image/jpeg:https://ktex.com/wp-content/uploads/2024/06/wc-ladies-lions-banner-1.jpg
END:VEVENT
BEGIN:VEVENT
DTSTART;VALUE=DATE:20240624
DTEND;VALUE=DATE:20240628
DTSTAMP:20260421T194435
CREATED:20240311T184820Z
LAST-MODIFIED:20240311T184820Z
UID:46087-1719187200-1719532799@ktex.com
SUMMARY:Bellville ISD Summer Soccer Camp
DESCRIPTION:
URL:https://ktex.com/event/bellville-isd-summer-soccer-camp/
LOCATION:Bellville High School\, 850 Schumann Rd\, Bellville\, TX\, 77418\, United States
CATEGORIES:Community Events
ATTACH;FMTTYPE=image/jpeg:https://ktex.com/wp-content/uploads/2024/03/bellville-isd-summer-camps.jpg
END:VEVENT
BEGIN:VEVENT
DTSTART;VALUE=DATE:20240624
DTEND;VALUE=DATE:20240628
DTSTAMP:20260421T194435
CREATED:20240530T211116Z
LAST-MODIFIED:20240530T211116Z
UID:47462-1719187200-1719532799@ktex.com
SUMMARY:Navasota ISD Summer Feeding Program
DESCRIPTION:
URL:https://ktex.com/event/navasota-isd-summer-feeding-program-4/
LOCATION:Navasota Junior High School\, 9038 State Highway 90 South\, Navasota\, TX\, 77868\, United States
CATEGORIES:Community Events
ATTACH;FMTTYPE=image/png:https://ktex.com/wp-content/uploads/2024/05/nisd-summer-feeding-program.png
END:VEVENT
END:VCALENDAR