BEGIN:VCALENDAR
VERSION:2.0
PRODID:-//KTEX 106.1 - ECPv6.15.20//NONSGML v1.0//EN
CALSCALE:GREGORIAN
METHOD:PUBLISH
X-ORIGINAL-URL:https://ktex.com
X-WR-CALDESC:Events for KTEX 106.1
REFRESH-INTERVAL;VALUE=DURATION:PT1H
X-Robots-Tag:noindex
X-PUBLISHED-TTL:PT1H
BEGIN:VTIMEZONE
TZID:America/Chicago
BEGIN:DAYLIGHT
TZOFFSETFROM:-0600
TZOFFSETTO:-0500
TZNAME:CDT
DTSTART:20230312T080000
END:DAYLIGHT
BEGIN:STANDARD
TZOFFSETFROM:-0500
TZOFFSETTO:-0600
TZNAME:CST
DTSTART:20231105T070000
END:STANDARD
BEGIN:DAYLIGHT
TZOFFSETFROM:-0600
TZOFFSETTO:-0500
TZNAME:CDT
DTSTART:20240310T080000
END:DAYLIGHT
BEGIN:STANDARD
TZOFFSETFROM:-0500
TZOFFSETTO:-0600
TZNAME:CST
DTSTART:20241103T070000
END:STANDARD
BEGIN:DAYLIGHT
TZOFFSETFROM:-0600
TZOFFSETTO:-0500
TZNAME:CDT
DTSTART:20250309T080000
END:DAYLIGHT
BEGIN:STANDARD
TZOFFSETFROM:-0500
TZOFFSETTO:-0600
TZNAME:CST
DTSTART:20251102T070000
END:STANDARD
END:VTIMEZONE
BEGIN:VEVENT
DTSTART;VALUE=DATE:20240601
DTEND;VALUE=DATE:20240616
DTSTAMP:20260421T194406
CREATED:20240318T193255Z
LAST-MODIFIED:20240529T200002Z
UID:46244-1717200000-1718495999@ktex.com
SUMMARY:Washington County Juneteenth Events
DESCRIPTION:
URL:https://ktex.com/event/washington-county-juneteenth-2024-events/
CATEGORIES:Community Events
ATTACH;FMTTYPE=image/jpeg:https://ktex.com/wp-content/uploads/2024/01/juneteenth-2024-events-calendar.jpg
END:VEVENT
BEGIN:VEVENT
DTSTART;VALUE=DATE:20240604
DTEND;VALUE=DATE:20240626
DTSTAMP:20260421T194406
CREATED:20240327T203927Z
LAST-MODIFIED:20240327T203927Z
UID:46473-1717459200-1719359999@ktex.com
SUMMARY:Bluebonnet Master Gardener Kids Kamp
DESCRIPTION:
URL:https://ktex.com/event/bluebonnet-master-gardener-kids-kamp/
CATEGORIES:Community Events
ATTACH;FMTTYPE=image/jpeg:https://ktex.com/wp-content/uploads/2024/03/BluebonnetMasterGardenerKidsKamp2024Flyer.jpg
END:VEVENT
BEGIN:VEVENT
DTSTART;VALUE=DATE:20240604
DTEND;VALUE=DATE:20240701
DTSTAMP:20260421T194406
CREATED:20240604T190727Z
LAST-MODIFIED:20240604T190727Z
UID:47499-1717459200-1719791999@ktex.com
SUMMARY:BGC School Supply Drive
DESCRIPTION:School supply lists for the 2024-25 school year are available online on our Brenham ISD website. You can view the lists to purchase on your own or order directly through EPI. You can find the list or EPI link on our website here: https://buff.ly/43YFHYl \nSponsor a Student\, Classroom\, or Grade Level: \nIf you are interested or need more information on how to sponsor a student\, classroom\, or grade-level school supplies please visit the Brenham Game Changers website.
URL:https://ktex.com/event/bgc-school-supply-drive/
CATEGORIES:Community Events
ATTACH;FMTTYPE=image/jpeg:https://ktex.com/wp-content/uploads/2024/06/bgc-school-supply-drive.jpg
END:VEVENT
BEGIN:VEVENT
DTSTART;VALUE=DATE:20240607
DTEND;VALUE=DATE:20240608
DTSTAMP:20260421T194406
CREATED:20240105T205345Z
LAST-MODIFIED:20240105T205345Z
UID:44943-1717718400-1717804799@ktex.com
SUMMARY:Brenham Elks Friday Night Steak Dinner
DESCRIPTION:The weekly Friday night steak dinner begins at 6:30 PM at Brenham Elks Lodge #979\, with all members and guests invited\n– 16 oz Boneless Ribeye with Baked Potato\, Salad\, and Dessert\n– Chef’s Choice: Pork & Beef Stew with cornbread\, salad and dessert
URL:https://ktex.com/event/brenham-elks-friday-night-steak-dinner-6/
LOCATION:Brenham Elks Lodge 979\, 400 East Germania St.\, Brenham\, 77833
CATEGORIES:Community Events
ATTACH;FMTTYPE=image/jpeg:https://ktex.com/wp-content/uploads/2024/01/elks-steak-supper-24.jpg
END:VEVENT
BEGIN:VEVENT
DTSTART;VALUE=DATE:20240607
DTEND;VALUE=DATE:20240608
DTSTAMP:20260421T194406
CREATED:20240328T201537Z
LAST-MODIFIED:20240328T201537Z
UID:46507-1717718400-1717804799@ktex.com
SUMMARY:Downtown Brenham Farmer & Artisan Market
DESCRIPTION:First Fridays Farmers & Artisan Market is an open-air market with local artisan/craft\, cottage food\, farm-to-market\, small business\, and retail vendors. Each month we offer live musical performances located in Historic Downtown Brenham. We try to create a unique shopping experience for everyone by offering a mix of vendors that complement one another and the surrounding Downtown businesses.
URL:https://ktex.com/event/downtown-brenham-farmer-artisan-market-3/
LOCATION:Downtown Brenham
CATEGORIES:Community Events
ATTACH;FMTTYPE=image/png:https://ktex.com/wp-content/uploads/2024/03/farmer-and-artisan-market-april-sept.png
END:VEVENT
BEGIN:VEVENT
DTSTART;VALUE=DATE:20240607
DTEND;VALUE=DATE:20240608
DTSTAMP:20260421T194406
CREATED:20240516T200007Z
LAST-MODIFIED:20240516T200007Z
UID:47284-1717718400-1717804799@ktex.com
SUMMARY:Combined Community Action Annual Casino Nite
DESCRIPTION:
URL:https://ktex.com/event/combined-community-action-annual-casino-nite/
LOCATION:St. Michael’s Hall\, 310 Frio Street\, Winchester\, TX\, 78945\, United States
CATEGORIES:Community Events
ATTACH;FMTTYPE=image/jpeg:https://ktex.com/wp-content/uploads/2024/05/casino-1.jpg
END:VEVENT
BEGIN:VEVENT
DTSTART;VALUE=DATE:20240607
DTEND;VALUE=DATE:20240608
DTSTAMP:20260421T194406
CREATED:20240530T204108Z
LAST-MODIFIED:20240530T204108Z
UID:47445-1717718400-1717804799@ktex.com
SUMMARY:VFW Post 7104 Steak Supper
DESCRIPTION:James F. Dillon VFW Post 7104 will be having a barbecue beef sirloin steak\, pork steak and pork sausage supper on Friday\, June 7\, doors will open at 6:00pm and the meal will be served at 7:00\, cost of the meal is $20\, call 979 203-5586\, 979 277-5061 to make reservation by 12:00 noon on the date of the meal – You may also call the post home at 979 830-8776 (LM)\, the meal is open to the public.  There will not be a steak supper in July in observance of Independence Day Activities.
URL:https://ktex.com/event/vfw-post-7104-steak-supper-9/
LOCATION:James F. Dillion VFW Post 7104\, 1200 East Tom Green Street\, Brenham\, TX\, 77833\, United States
CATEGORIES:Community Events
ATTACH;FMTTYPE=image/jpeg:https://ktex.com/wp-content/uploads/2024/05/vfw.jpg
END:VEVENT
BEGIN:VEVENT
DTSTART;VALUE=DATE:20240607
DTEND;VALUE=DATE:20240608
DTSTAMP:20260421T194406
CREATED:20240606T180632Z
LAST-MODIFIED:20240606T180632Z
UID:47546-1717718400-1717804799@ktex.com
SUMMARY:Texas State Library and Archives Commission Meeting
DESCRIPTION:The Texas State Library and Archives Commission will hold its annual June meeting at the Nancy Carol Roberts Memorial Library on Friday\, June 7\, 2024.  The seven members are appointed by the Governor.  Members of the public are invited at 8:30AM.  
URL:https://ktex.com/event/texas-state-library-and-archives-commission-meeting/
LOCATION:Nancy Carol Roberts Memorial Library\, 100 Martin Luther King Jr. Parkway\, Brenham\, Texas\, 77833
CATEGORIES:Community Events
ATTACH;FMTTYPE=image/png:https://ktex.com/wp-content/uploads/2024/06/tx-st-library-archives-commission.png
END:VEVENT
BEGIN:VEVENT
DTSTART;TZID=America/Chicago:20240607T170000
DTEND;TZID=America/Chicago:20240607T190000
DTSTAMP:20260421T194406
CREATED:20240528T204037Z
LAST-MODIFIED:20240528T204037Z
UID:47403-1717779600-1717786800@ktex.com
SUMMARY:Annual Kartoffel Pfannkuchen Abendessen (Potato Pancake Supper)
DESCRIPTION:The 65th Annual Kartoffel Pfannkuchen Abendessen!  Come join the fun as you enjoy the delicious potato pancakes made with love by Bethlehem Lutheran Church members. There will also be a bounce house and face painting for the kids\, so bring the whole family and enjoy the evening.\nFriday\, June 7th\, from 5-7 pm\nAdults -$12\nKids (12-6) – $6\nRSVP and pay at the door.\nRSVP at https://www.bethlehemwmpenn.org/potatoe-pancake-supper-rsvp
URL:https://ktex.com/event/annual-kartoffel-pfannkuchen-abendessen-potato-pancake-supper/
LOCATION:Bethlehem Lutheran Church-William Penn\, 10202 FM 1935\, Brenham\, TX\, 77833\, United States
CATEGORIES:Community Events
ATTACH;FMTTYPE=image/jpeg:https://ktex.com/wp-content/uploads/2024/05/bethlehel-luth-ch-@-wm-penn-1.jpg
END:VEVENT
BEGIN:VEVENT
DTSTART;TZID=America/Chicago:20240607T193000
DTEND;TZID=America/Chicago:20240607T223000
DTSTAMP:20260421T194406
CREATED:20240604T140234Z
LAST-MODIFIED:20240604T140234Z
UID:47495-1717788600-1717799400@ktex.com
SUMMARY:BBAC Schools Out Bash
DESCRIPTION:We are celebrating the end of another school year with a true Glow Bash. We will have PIZZA\, glow sticks\, corn-hole\, volleyball and so much more… Be sure to register in advance. Friday June 7th from 7:30pm – 10:30pm
URL:https://ktex.com/event/bbac-schools-out-bash/
LOCATION:Blue Bell Aquatic Center\, 1800 E Tom Green St\, Brenham\, TX\, 77833\, United States
CATEGORIES:Community Events
ATTACH;FMTTYPE=image/jpeg:https://ktex.com/wp-content/uploads/2024/06/schools-out-bash-june.jpg
END:VEVENT
BEGIN:VEVENT
DTSTART;VALUE=DATE:20240608
DTEND;VALUE=DATE:20240609
DTSTAMP:20260421T194406
CREATED:20240419T134457Z
LAST-MODIFIED:20240516T140048Z
UID:46848-1717804800-1717891199@ktex.com
SUMMARY:Clay Shoot benefiting Wonderhill Farm
DESCRIPTION:Clay Shoot benefiting Wonderhill Farm will be held Saturday\, June 8 at Texas Premier Sporting Arms in Sealy.  \nWONDERHILL FARM “Aim to Heal” Sporting Clays Event.  Wonderhill Farm provides an individualized therapeutic program for participants to enhance their quality of life through Equine Assisted Activities and Therapies. (EAAT).  \nHave fun and make a difference in our community.  Teams and Individuals. Drawing and high score prizes – buckles cash and ammo. Top Drawing Prize is a 2023 Polaris Ranger Crew SP570 and more!  \nFor registration\, information and sponsorship visit www.wonderhillfarm.org or email info@wonderhillfarm.org
URL:https://ktex.com/event/clay-shoot-benefiting-wonderhill-farm/
LOCATION:Texas Premier Sporting Arms (Sealy)\, 7311 Hwy. 36 South\, Sealy\, TX\, 77474\, United States
CATEGORIES:Community Events
ATTACH;FMTTYPE=image/png:https://ktex.com/wp-content/uploads/2024/04/aim-to-heal-clay-shoot-june.png
END:VEVENT
BEGIN:VEVENT
DTSTART;VALUE=DATE:20240608
DTEND;VALUE=DATE:20240609
DTSTAMP:20260421T194406
CREATED:20240503T173303Z
LAST-MODIFIED:20240503T173303Z
UID:47082-1717804800-1717891199@ktex.com
SUMMARY:Elks Lodge 979 Lew Kieke Memorial Golf Tournament
DESCRIPTION:
URL:https://ktex.com/event/elks-lodge-979-lew-kieke-memorial-golf-tournament/
LOCATION:Brenham Country Club\, 4107 Hwy 105\, Brenham1\, 77833
CATEGORIES:Community Events
ATTACH;FMTTYPE=image/png:https://ktex.com/wp-content/uploads/2024/05/elks-lodge-golf-tour.png
END:VEVENT
BEGIN:VEVENT
DTSTART;VALUE=DATE:20240608
DTEND;VALUE=DATE:20240609
DTSTAMP:20260421T194406
CREATED:20240603T185654Z
LAST-MODIFIED:20240603T185654Z
UID:47475-1717804800-1717891199@ktex.com
SUMMARY:Cotton Gil Classic Car & Truck Show (Burton)
DESCRIPTION:
URL:https://ktex.com/event/cotton-gil-classic-car-truck-show-burton/
CATEGORIES:Community Events
ATTACH;FMTTYPE=image/jpeg:https://ktex.com/wp-content/uploads/2024/06/cotton-gin-classis-car-truck-show-june.jpg
END:VEVENT
BEGIN:VEVENT
DTSTART;VALUE=DATE:20240608
DTEND;VALUE=DATE:20240609
DTSTAMP:20260421T194406
CREATED:20240603T190027Z
LAST-MODIFIED:20240603T190027Z
UID:47482-1717804800-1717891199@ktex.com
SUMMARY:Austin County Home-Grown Vegetable Contest
DESCRIPTION:
URL:https://ktex.com/event/austin-county-home-grown-vegetable-contest/
CATEGORIES:Community Events
ATTACH;FMTTYPE=image/jpeg:https://ktex.com/wp-content/uploads/2024/06/ac-home-grown-vege-contest.jpg
END:VEVENT
BEGIN:VEVENT
DTSTART;VALUE=DATE:20240608
DTEND;VALUE=DATE:20240609
DTSTAMP:20260421T194406
CREATED:20240604T215619Z
LAST-MODIFIED:20240604T215619Z
UID:47514-1717804800-1717891199@ktex.com
SUMMARY:Prairie Hill/Rocky Hill VFD BBQ Chicken Dinner Fundraiser
DESCRIPTION:PRIZE DRAWING AFTER DINNER
URL:https://ktex.com/event/prairie-hill-rocky-hill-vfd-bbq-chicken-dinner-fundraiser/
LOCATION:Prairie Hill Volunteer Fire Hall\, 7559 FM 50\, Brenham\, TX\, 77833\, United States
CATEGORIES:Community Events
ATTACH;FMTTYPE=image/png:https://ktex.com/wp-content/uploads/2024/06/ph-rh-chicken-dinner-fundraiser-fune.png
END:VEVENT
BEGIN:VEVENT
DTSTART;TZID=America/Chicago:20240608T090000
DTEND;TZID=America/Chicago:20240608T130000
DTSTAMP:20260421T194406
CREATED:20240530T202350Z
LAST-MODIFIED:20240530T202350Z
UID:47442-1717837200-1717851600@ktex.com
SUMMARY:Navasota Farmer's Market
DESCRIPTION:
URL:https://ktex.com/event/navasota-farmers-market-7/
LOCATION:Navasota Public Library\, 1411 E Washington Ave\, Navasota\, TX\, 77868\, United States
CATEGORIES:Community Events
ATTACH;FMTTYPE=image/jpeg:https://ktex.com/wp-content/uploads/2024/05/navasota-farmers-market-june.jpg
END:VEVENT
BEGIN:VEVENT
DTSTART;TZID=America/Chicago:20240608T100000
DTEND;TZID=America/Chicago:20240608T160000
DTSTAMP:20260421T194406
CREATED:20240517T162859Z
LAST-MODIFIED:20240524T211050Z
UID:47290-1717840800-1717862400@ktex.com
SUMMARY:Annual Judge Eddie E. Harrison Juneteenth Heritage Celebration
DESCRIPTION:Music line up is below: \n11-11:30 Arthur Curry & Wash Jones \n11:40-11:55 St. Peters Episcopal \nNoon-12:15 Tameisha Pruett-Ray \n12:20-12:50 Christina Williams \n1:05-2:05 Tweed Smith and the Internationals \n2:20-2:50 Christy Hopes \n3:00-4:00 Fantasy Band \nThere will be food trucks\, vendors\, informational and culture heritage booths and a whole lot of fun!
URL:https://ktex.com/event/annual-judge-eddie-e-harrison-juneteenth-heritage-celebration/
LOCATION:Washington on the Brazos State Historic Site\, 23400 Park Road 12\, Washington\, TX\, 77880\, United States
CATEGORIES:Community Events
ATTACH;FMTTYPE=image/png:https://ktex.com/wp-content/uploads/2024/05/juneteenth-wotb-2024.png
END:VEVENT
BEGIN:VEVENT
DTSTART;TZID=America/Chicago:20240608T150000
DTEND;TZID=America/Chicago:20240608T190000
DTSTAMP:20260421T194406
CREATED:20240430T151617Z
LAST-MODIFIED:20240501T210610Z
UID:47019-1717858800-1717873200@ktex.com
SUMMARY:Summer Sip and Art Walk (Brenham)
DESCRIPTION:The collectible Summer Sip glass will be your ticket to sampling dozens of beverages. Glasses are just $25 in-person from the Brenham Visitor Center or $30 online. There is a limited number of glasses available for purchase AND glass prices increase to $35 on the day of the event! TICKETS GO ON SALE MAY 6TH! \nOn June 8th\, ticketholders will meet at the Washington County Courthouse Gazebo\, starting at 2 pm. Remember to bring your event ticket (purchased through merchants) or online event receipt to pick up your glass. You’ll also get a map directing you on your tasting journey around Downtown Brenham.
URL:https://ktex.com/event/summer-sip-and-art-walk/
LOCATION:Downtown Brenham
CATEGORIES:Community Events
ATTACH;FMTTYPE=image/jpeg:https://ktex.com/wp-content/uploads/2024/04/summer-sip-june.jpg
END:VEVENT
BEGIN:VEVENT
DTSTART;TZID=America/Chicago:20240608T150000
DTEND;TZID=America/Chicago:20240608T190000
DTSTAMP:20260421T194406
CREATED:20240513T160926Z
LAST-MODIFIED:20240513T160926Z
UID:47201-1717858800-1717873200@ktex.com
SUMMARY:Summer Sip and Art Walk
DESCRIPTION:Grab your besties and enjoy an afternoon of sipping on summer cocktails while shopping your heart our and viewing beautiful art! Catch KTEX there!
URL:https://ktex.com/event/summer-sip-and-art-walk-2/
LOCATION:Downtown Brenham
CATEGORIES:KTEX on the Road
END:VEVENT
BEGIN:VEVENT
DTSTART;TZID=America/Chicago:20240608T180000
DTEND;TZID=America/Chicago:20240608T200000
DTSTAMP:20260421T194406
CREATED:20240604T190903Z
LAST-MODIFIED:20240604T190903Z
UID:47502-1717869600-1717876800@ktex.com
SUMMARY:Second Saturdays in Downtown Caldwell
DESCRIPTION:
URL:https://ktex.com/event/second-saturdays-in-downtown-caldwell/
LOCATION:Downtown Caldwell
CATEGORIES:Community Events
ATTACH;FMTTYPE=image/jpeg:https://ktex.com/wp-content/uploads/2024/06/second-saturday-caldwell.jpg
END:VEVENT
BEGIN:VEVENT
DTSTART;TZID=America/Chicago:20240608T200000
DTEND;TZID=America/Chicago:20240608T230000
DTSTAMP:20260421T194406
CREATED:20240510T200416Z
LAST-MODIFIED:20240510T200416Z
UID:47166-1717876800-1717887600@ktex.com
SUMMARY:Summer Concert Series (Caldwell)
DESCRIPTION:FREE LIVE MUSIC ON THE SQUARE  CALDWELL\, TX
URL:https://ktex.com/event/summer-concert-series-caldwell/
LOCATION:Downtown Caldwell
CATEGORIES:Community Events
ATTACH;FMTTYPE=image/png:https://ktex.com/wp-content/uploads/2024/05/summer-concert-series-caldwell-2024.png
END:VEVENT
BEGIN:VEVENT
DTSTART;VALUE=DATE:20240609
DTEND;VALUE=DATE:20240610
DTSTAMP:20260421T194406
CREATED:20240103T173032Z
LAST-MODIFIED:20240103T173032Z
UID:44834-1717891200-1717977599@ktex.com
SUMMARY:PFLAG Brenham Meeting
DESCRIPTION:PFLAG Brenham meets on the second Sunday of each month at 5:30 pm.  We are a support group for families\, friends and allies of the LGBTQ+ community.  Let us walk with you on your journey.  For more information\, visit www.facebook.com/BrenhamPFLAG or send an email to pflagbrenham@gmail.com
URL:https://ktex.com/event/pflag-brenham-meeting-6/
CATEGORIES:Community Events
ATTACH;FMTTYPE=image/jpeg:https://ktex.com/wp-content/uploads/2024/01/PFLAG-Brenham-new.jpg
END:VEVENT
BEGIN:VEVENT
DTSTART;VALUE=DATE:20240609
DTEND;VALUE=DATE:20240610
DTSTAMP:20260421T194406
CREATED:20240318T192723Z
LAST-MODIFIED:20240318T192723Z
UID:46238-1717891200-1717977599@ktex.com
SUMMARY:WC Historical Juneteenth Association -Juneteenth Musical
DESCRIPTION:
URL:https://ktex.com/event/wc-historical-juneteenth-association-juneteenth-musical/
LOCATION:New Life Church of God\, Brenham\, 1990 FM389\, Brenham\, TX\, 77833\, United States
CATEGORIES:Community Events
ATTACH;FMTTYPE=image/jpeg:https://ktex.com/wp-content/uploads/2024/03/juneteenth-musical-2024.jpg
END:VEVENT
BEGIN:VEVENT
DTSTART;VALUE=DATE:20240609
DTEND;VALUE=DATE:20240610
DTSTAMP:20260421T194406
CREATED:20240508T210258Z
LAST-MODIFIED:20240508T210258Z
UID:47133-1717891200-1717977599@ktex.com
SUMMARY:Wesley Brethren Church Sausage & Homemade Sauerkraut Dinner
DESCRIPTION:
URL:https://ktex.com/event/wesley-brethren-church-sausage-homemade-sauerkraut-dinner/
LOCATION:Wesley Bretheren Church\, 9643 Wesley Church Lane\, Brenham\, TX\, 77833\, United States
CATEGORIES:Community Events
ATTACH;FMTTYPE=image/jpeg:https://ktex.com/wp-content/uploads/2024/05/wesley-brethren-dinner-june.jpg
END:VEVENT
BEGIN:VEVENT
DTSTART;VALUE=DATE:20240609
DTEND;VALUE=DATE:20240610
DTSTAMP:20260421T194406
CREATED:20240528T191005Z
LAST-MODIFIED:20240528T191005Z
UID:47397-1717891200-1717977599@ktex.com
SUMMARY:Industry West-End Historical Society Kick-Off Meeting
DESCRIPTION:The West End Historical Society of Industry Texas is having its “Kick Off” Meeting Sunday June 9th at the Historical Building on FM 109 just north of Industry at 2:00 pm.  John Spiess\, our new president will open the meeting to old and new members.  Anyone interested in learning about Industry’s amazing history in encouraged to attend.  After the meeting\, we will be having a fun “Historic Car Rally.”  We will conclude the Car Rally at Gaye Farr’s Home\, at 18714 St. Hwy 159.  Prizes will be awarded to the winners of the Car Rally.  Enjoy a casual Pot Luck of appetizers and desserts while reacquainting yourselves with one another.  If you plan to join in the Rally and partake of the casual “Pot Luck” afterwards\, please let us know.  Please RSVP to Francis Plagens – 979-277-8586\, Gaye Farr – 281-794-2605\, Joan Buenger – 979-877-5018. 
URL:https://ktex.com/event/industry-west-end-historical-society-kick-off-meeting/
CATEGORIES:Community Events
ATTACH;FMTTYPE=image/png:https://ktex.com/wp-content/uploads/2024/05/industry-west-end-historical-society.png
END:VEVENT
BEGIN:VEVENT
DTSTART;VALUE=DATE:20240609
DTEND;VALUE=DATE:20240610
DTSTAMP:20260421T194406
CREATED:20240531T140605Z
LAST-MODIFIED:20240531T140605Z
UID:47464-1717891200-1717977599@ktex.com
SUMMARY:Frelsburg VFD FEAST
DESCRIPTION:
URL:https://ktex.com/event/frelsburg-vfd-feast/
LOCATION:Sts. Peter & Paul Catholic Church (Frelsburg)\, 1031 Church Ln\, Frelsburg\, TX\, 78950\, United States
CATEGORIES:Community Events
ATTACH;FMTTYPE=image/jpeg:https://ktex.com/wp-content/uploads/2024/05/frelsburg-feast-june.jpg
END:VEVENT
BEGIN:VEVENT
DTSTART;VALUE=DATE:20240609
DTEND;VALUE=DATE:20240610
DTSTAMP:20260421T194406
CREATED:20240607T145634Z
LAST-MODIFIED:20240607T145634Z
UID:47554-1717891200-1717977599@ktex.com
SUMMARY:Family and Friends Day at Zion Hill BC
DESCRIPTION:
URL:https://ktex.com/event/family-and-friends-day-at-zion-hill-bc/
LOCATION:Zion Hill Baptist Church (Burton)\, 7205 Ben Tap Lane\, Burton\, TX\, 77835\, United States
CATEGORIES:Community Events
ATTACH;FMTTYPE=image/jpeg:https://ktex.com/wp-content/uploads/2024/06/family-friends-june-9.jpg
END:VEVENT
BEGIN:VEVENT
DTSTART;TZID=America/Chicago:20240609T110000
DTEND;TZID=America/Chicago:20240609T123000
DTSTAMP:20260421T194406
CREATED:20240515T133408Z
LAST-MODIFIED:20240515T133408Z
UID:47234-1717930800-1717936200@ktex.com
SUMMARY:Benefit for Lincoln Tiemann
DESCRIPTION:
URL:https://ktex.com/event/benefit-for-lincoln-tiemann/
LOCATION:St. James Lutheran Church (New Wehdem)\, 10362 New Wehdem Road\, Brenham\, TX\, 77833\, United States
CATEGORIES:Community Events
ATTACH;FMTTYPE=image/jpeg:https://ktex.com/wp-content/uploads/2024/05/benefit-lincoln-tiemann.jpg
END:VEVENT
BEGIN:VEVENT
DTSTART;VALUE=DATE:20240610
DTEND;VALUE=DATE:20240611
DTSTAMP:20260421T194406
CREATED:20240110T144409Z
LAST-MODIFIED:20240110T144409Z
UID:45061-1717977600-1718063999@ktex.com
SUMMARY:Food Handler Course
DESCRIPTION:
URL:https://ktex.com/event/food-handler-course-3/
LOCATION:Washington County Extension Conference Room\, 1305 Blue Bell Road\, Brenham\, TX\, 77833\, United States
CATEGORIES:Community Events
ATTACH;FMTTYPE=image/png:https://ktex.com/wp-content/uploads/2024/01/food-handler-course-feb-apr-june.png
END:VEVENT
BEGIN:VEVENT
DTSTART;VALUE=DATE:20240610
DTEND;VALUE=DATE:20240611
DTSTAMP:20260421T194406
CREATED:20240606T133814Z
LAST-MODIFIED:20240606T133814Z
UID:47536-1717977600-1718063999@ktex.com
SUMMARY:Washington County Ladies Lions Club Meeting
DESCRIPTION:The Washington County Ladies Lions Club will meet Monday\, June 10 at Noon at the Cannery Kitchen.  Members are reminded it is the deadline to turn in fundraising tickets is June 14th. The club will also be collecting used eyeglasses.  The public is invited to attend\, RSVP is not required. Lunch is available.
URL:https://ktex.com/event/washington-county-ladies-lions-club-meeting-13/
LOCATION:Cannery Kitchen\, 314 East Alamo Street\, Brenham\, TX\, 77833\, United States
CATEGORIES:Community Events
ATTACH;FMTTYPE=image/jpeg:https://ktex.com/wp-content/uploads/2024/06/wc-ladies-lions-banner.jpg
END:VEVENT
END:VCALENDAR