BEGIN:VCALENDAR
VERSION:2.0
PRODID:-//KTEX 106.1 - ECPv6.15.20//NONSGML v1.0//EN
CALSCALE:GREGORIAN
METHOD:PUBLISH
X-WR-CALNAME:KTEX 106.1
X-ORIGINAL-URL:https://ktex.com
X-WR-CALDESC:Events for KTEX 106.1
REFRESH-INTERVAL;VALUE=DURATION:PT1H
X-Robots-Tag:noindex
X-PUBLISHED-TTL:PT1H
BEGIN:VTIMEZONE
TZID:America/Chicago
BEGIN:DAYLIGHT
TZOFFSETFROM:-0600
TZOFFSETTO:-0500
TZNAME:CDT
DTSTART:20230312T080000
END:DAYLIGHT
BEGIN:STANDARD
TZOFFSETFROM:-0500
TZOFFSETTO:-0600
TZNAME:CST
DTSTART:20231105T070000
END:STANDARD
BEGIN:DAYLIGHT
TZOFFSETFROM:-0600
TZOFFSETTO:-0500
TZNAME:CDT
DTSTART:20240310T080000
END:DAYLIGHT
BEGIN:STANDARD
TZOFFSETFROM:-0500
TZOFFSETTO:-0600
TZNAME:CST
DTSTART:20241103T070000
END:STANDARD
BEGIN:DAYLIGHT
TZOFFSETFROM:-0600
TZOFFSETTO:-0500
TZNAME:CDT
DTSTART:20250309T080000
END:DAYLIGHT
BEGIN:STANDARD
TZOFFSETFROM:-0500
TZOFFSETTO:-0600
TZNAME:CST
DTSTART:20251102T070000
END:STANDARD
END:VTIMEZONE
BEGIN:VEVENT
DTSTART;VALUE=DATE:20240315
DTEND;VALUE=DATE:20240518
DTSTAMP:20260424T012351
CREATED:20240314T141105Z
LAST-MODIFIED:20240314T141145Z
UID:46196-1710460800-1715990399@ktex.com
SUMMARY:Lifeguard Classes Offered at BBAC
DESCRIPTION:LIFEGUARD CLASSES STARTING SOON!!!!! \nAre you looking for a flexible job\, that is understanding of school\, sports and family? Are you looking to make a difference in the community? Want to learn how to save lives? Apply today to be a lifeguard at jobs.cityofbrenham.org. We train you for FREE!! \nUpcoming Lifeguard Classes: \nSession 2 │ March 15 – 17 9:00 am – 4:00 pm \nSession 3 │ April 12 5:00 – 9:00pm │ April 13 & 14 9:00 am – 5:00 pm \nSession 4 │ April 26 5:00 – 9:00pm │ April 27 & 28 9:00 am – 5:00 pm \nSession 5 │ May 17 5:00 – 9:00pm │ May 18 & 19 9:00 am – 5:00 pm \n#BBACteam #BBACfun #LifeguardsHaveMoreFun #ParksandRecreation #CityofBrenham
URL:https://ktex.com/event/lifeguard-classes-offered-at-bbac/
LOCATION:Blue Bell Aquatic Center\, 1800 E Tom Green St\, Brenham\, TX\, 77833\, United States
CATEGORIES:Community Events
ATTACH;FMTTYPE=image/png:https://ktex.com/wp-content/uploads/2024/03/bbac-lifeguards.png
END:VEVENT
BEGIN:VEVENT
DTSTART;VALUE=DATE:20240405
DTEND;VALUE=DATE:20240501
DTSTAMP:20260424T012351
CREATED:20240405T134749Z
LAST-MODIFIED:20240405T134749Z
UID:46602-1712275200-1714521599@ktex.com
SUMMARY:Downtown Brenham's Peanut Butter & Jam Drive
DESCRIPTION:drop off unopened jars of any peanut butter and or jelly at participating downtown Brenham locations
URL:https://ktex.com/event/downtown-brenhams-peanut-butter-jam-drive/
LOCATION:Downtown Brenham
CATEGORIES:Community Events
ATTACH;FMTTYPE=image/jpeg:https://ktex.com/wp-content/uploads/2024/04/PBJ.jpg
END:VEVENT
BEGIN:VEVENT
DTSTART;VALUE=DATE:20240409
DTEND;VALUE=DATE:20240602
DTSTAMP:20260424T012351
CREATED:20240409T152128Z
LAST-MODIFIED:20240409T152128Z
UID:46671-1712620800-1717286399@ktex.com
SUMMARY:Senior Fan Drive
DESCRIPTION:
URL:https://ktex.com/event/senior-fan-drive/
LOCATION:Brenham Nursing and Rehabilitation Center\, 400 E. Sayles St.\, Brenham\, TX\, 77833\, United States
CATEGORIES:Community Events
ATTACH;FMTTYPE=image/png:https://ktex.com/wp-content/uploads/2024/04/senior-fan-drive.png
END:VEVENT
BEGIN:VEVENT
DTSTART;VALUE=DATE:20240411
DTEND;VALUE=DATE:20240501
DTSTAMP:20260424T012351
CREATED:20240411T201812Z
LAST-MODIFIED:20240411T201812Z
UID:46745-1712793600-1714521599@ktex.com
SUMMARY:Austin Co. Feral Hog Bounty Program
DESCRIPTION:
URL:https://ktex.com/event/austin-co-feral-hog-bounty-program/
LOCATION:TX
CATEGORIES:Community Events
ATTACH;FMTTYPE=image/png:https://ktex.com/wp-content/uploads/2024/04/ac-Feral-Hog-Bounty-Flier-003.png
END:VEVENT
BEGIN:VEVENT
DTSTART;VALUE=DATE:20240415
DTEND;VALUE=DATE:20240501
DTSTAMP:20260424T012351
CREATED:20240117T191658Z
LAST-MODIFIED:20240318T193131Z
UID:45205-1713139200-1714521599@ktex.com
SUMMARY:Washington County Juneteenth 2024 Events
DESCRIPTION:ALL REGISTRATION FORMS DUE MAY 1st 
URL:https://ktex.com/event/washington-county-ja-june19teenth-celebration-3/
LOCATION:TX
CATEGORIES:Community Events
ATTACH;FMTTYPE=image/jpeg:https://ktex.com/wp-content/uploads/2024/01/juneteenth-2024-events-calendar.jpg
END:VEVENT
BEGIN:VEVENT
DTSTART;VALUE=DATE:20240417
DTEND;VALUE=DATE:20240501
DTSTAMP:20260424T012351
CREATED:20240417T201328Z
LAST-MODIFIED:20240417T201328Z
UID:46823-1713312000-1714521599@ktex.com
SUMMARY:Brenham Trails Resident spearhead Benefit Fundraiser
DESCRIPTION:
URL:https://ktex.com/event/brenham-trails-resident-spearhead-benefit-fundraiser/
LOCATION:TX
CATEGORIES:Community Events
ATTACH;FMTTYPE=image/png:https://ktex.com/wp-content/uploads/2024/04/brenham-trails-benefit-fundraiser.png
END:VEVENT
BEGIN:VEVENT
DTSTART;VALUE=DATE:20240422
DTEND;VALUE=DATE:20240601
DTSTAMP:20260424T012351
CREATED:20240422T192612Z
LAST-MODIFIED:20240422T192612Z
UID:46883-1713744000-1717199999@ktex.com
SUMMARY:Faith Mission - Neighbors Helping Neighbors
DESCRIPTION:
URL:https://ktex.com/event/faith-mission-neighbors-helping-neighbors/
LOCATION:TX
CATEGORIES:Community Events
ATTACH;FMTTYPE=image/jpeg:https://ktex.com/wp-content/uploads/2024/04/faith-mission-neighbors-helping.jpg
END:VEVENT
BEGIN:VEVENT
DTSTART;VALUE=DATE:20240425
DTEND;VALUE=DATE:20240429
DTSTAMP:20260424T012351
CREATED:20240409T134523Z
LAST-MODIFIED:20240409T134523Z
UID:46665-1714003200-1714348799@ktex.com
SUMMARY:Brenham High School presents CHICAGO The Musical Teen Edition
DESCRIPTION:Tickets are $8 and can be purchased at https://cubcompany.booktix.net.\nSeating is limited. 
URL:https://ktex.com/event/brenham-high-school-presents-chicago-the-musical-teen-edition/
LOCATION:Brenham High School Auditorium\, 525 A H Ehrig Drive\, Brenham\, TX\, 77833\, United States
CATEGORIES:Community Events
ATTACH;FMTTYPE=image/jpeg:https://ktex.com/wp-content/uploads/2024/04/BrenhamHighSchoolChicagoMusical4-25-24Flyer.jpg
END:VEVENT
BEGIN:VEVENT
DTSTART;VALUE=DATE:20240427
DTEND;VALUE=DATE:20240430
DTSTAMP:20260424T012351
CREATED:20240410T180957Z
LAST-MODIFIED:20240422T143823Z
UID:46699-1714176000-1714435199@ktex.com
SUMMARY:Emergency Supplies are SALES TAX FREE in Texas
DESCRIPTION:A complete list of emergency preparation supplies that can be purchased tax-free is available on the Texas Comptroller’s website.
URL:https://ktex.com/event/texas-tax-free-weekend-emergency-preparation-supplies/
LOCATION:TX
CATEGORIES:Community Events
ATTACH;FMTTYPE=image/jpeg:https://ktex.com/wp-content/uploads/2024/04/sales-tax-free-april.jpg
END:VEVENT
BEGIN:VEVENT
DTSTART;VALUE=DATE:20240428
DTEND;VALUE=DATE:20240429
DTSTAMP:20260424T012351
CREATED:20240322T144124Z
LAST-MODIFIED:20240322T144124Z
UID:46341-1714262400-1714348799@ktex.com
SUMMARY:Gay Hill-Mound Hill-Cedar Hill VFD Fundraiser
DESCRIPTION:
URL:https://ktex.com/event/gay-hill-mound-hill-cedar-hill-vfd-fundraiser/
LOCATION:Gay Hill Fire Station\, 7500 Old Gay Hill Road\, Brenham\, TX\, 77833\, United States
CATEGORIES:Community Events
ATTACH;FMTTYPE=image/jpeg:https://ktex.com/wp-content/uploads/2024/03/GH-MD-CH-fried-chicken-dinner-april.jpg
END:VEVENT
BEGIN:VEVENT
DTSTART;VALUE=DATE:20240428
DTEND;VALUE=DATE:20240429
DTSTAMP:20260424T012351
CREATED:20240325T191307Z
LAST-MODIFIED:20240325T191307Z
UID:46426-1714262400-1714348799@ktex.com
SUMMARY:Fruehling Saengerfest-German Spring Singing Fest
DESCRIPTION:
URL:https://ktex.com/event/fruehling-saengerfest-german-spring-singing-fest/
LOCATION:Concordia Hall\, 952 South Tesch St.\, Bellville\, TX\, 77418\, United States
CATEGORIES:Community Events
ATTACH;FMTTYPE=image/jpeg:https://ktex.com/wp-content/uploads/2024/03/fruehling-saengerfest-2024.jpg
END:VEVENT
BEGIN:VEVENT
DTSTART;VALUE=DATE:20240428
DTEND;VALUE=DATE:20240429
DTSTAMP:20260424T012351
CREATED:20240412T152701Z
LAST-MODIFIED:20240412T152701Z
UID:46774-1714262400-1714348799@ktex.com
SUMMARY:College Station Margarita Festival Presented by KTEX 106 and Powered by Patron Tequila
DESCRIPTION:Get your drink frozen or on the rocks at College Station’s Margarita Festival! Try 10 of the best margs in College Station and vote for your favorite! Eilish and Cowboy Dave will be there all day sipping and sampling!
URL:https://ktex.com/event/college-station-margarita-festival-presented-by-ktex-106-and-powered-by-patron-tequila/
LOCATION:Century Square\, 175 Century Square Dr.\, College Station\, 77840
CATEGORIES:KTEX on the Road
END:VEVENT
BEGIN:VEVENT
DTSTART;TZID=America/Chicago:20240428T130000
DTEND;TZID=America/Chicago:20240428T160000
DTSTAMP:20260424T012351
CREATED:20240424T183717Z
LAST-MODIFIED:20240424T183717Z
UID:46926-1714309200-1714320000@ktex.com
SUMMARY:Retirement Party for David Majewski
DESCRIPTION:
URL:https://ktex.com/event/retirement-party-for-david-majewski/
LOCATION:James F. Dillion VFW Post 7104\, 1200 East Tom Green Street\, Brenham\, TX\, 77833\, United States
CATEGORIES:Community Events
ATTACH;FMTTYPE=image/jpeg:https://ktex.com/wp-content/uploads/2024/04/majewski-retirement.jpg
END:VEVENT
BEGIN:VEVENT
DTSTART;VALUE=DATE:20240429
DTEND;VALUE=DATE:20240430
DTSTAMP:20260424T012351
CREATED:20240320T141507Z
LAST-MODIFIED:20240320T141507Z
UID:46292-1714348800-1714435199@ktex.com
SUMMARY:Developmental Volleyball Camp
DESCRIPTION:
URL:https://ktex.com/event/developmental-volleyball-camp-4/
LOCATION:St. Mary’s Gym (the PAC)\, 701 Church Street\, Brenham\, TX\, 77833\, United States
CATEGORIES:Community Events
ATTACH;FMTTYPE=image/jpeg:https://ktex.com/wp-content/uploads/2024/03/vb-camp-april.jpg
END:VEVENT
BEGIN:VEVENT
DTSTART;VALUE=DATE:20240501
DTEND;VALUE=DATE:20240502
DTSTAMP:20260424T012351
CREATED:20231208T145632Z
LAST-MODIFIED:20240327T183827Z
UID:44465-1714521600-1714607999@ktex.com
SUMMARY:Washington Co. BMG Lunch-N-Learn Series
DESCRIPTION:
URL:https://ktex.com/event/washington-co-lunch-n-learn-gardening-series-4/
LOCATION:Washington County Expo Event Center\, 1305 E. Blue Bell Rd.\, Brenham\, TX\, 77833\, United States
CATEGORIES:Community Events
ATTACH;FMTTYPE=image/png:https://ktex.com/wp-content/uploads/2023/12/2024-WashCo-BMG-Lunch-Learn-Flyer-01.09.2024-004.png
END:VEVENT
BEGIN:VEVENT
DTSTART;VALUE=DATE:20240501
DTEND;VALUE=DATE:20240502
DTSTAMP:20260424T012351
CREATED:20231227T204946Z
LAST-MODIFIED:20231227T204946Z
UID:44720-1714521600-1714607999@ktex.com
SUMMARY:Giddings Chamber of Commerce Events
DESCRIPTION:
URL:https://ktex.com/event/giddings-chamber-of-commerce-events-3/
LOCATION:TX
CATEGORIES:Community Events
ATTACH;FMTTYPE=image/jpeg:https://ktex.com/wp-content/uploads/2023/12/lee-county-chamber-events.jpg
END:VEVENT
BEGIN:VEVENT
DTSTART;TZID=America/Chicago:20240501T110000
DTEND;TZID=America/Chicago:20240501T130000
DTSTAMP:20260424T012351
CREATED:20231227T144742Z
LAST-MODIFIED:20231227T144742Z
UID:44687-1714561200-1714568400@ktex.com
SUMMARY:Cards Club
DESCRIPTION:
URL:https://ktex.com/event/cards-club-5/
LOCATION:Blue Bell Aquatic Center\, 1800 E Tom Green St\, Brenham\, TX\, 77833\, United States
CATEGORIES:Community Events
ATTACH;FMTTYPE=image/jpeg:https://ktex.com/wp-content/uploads/2023/12/cards-club.jpg
END:VEVENT
BEGIN:VEVENT
DTSTART;TZID=America/Chicago:20240501T180000
DTEND;TZID=America/Chicago:20240501T200000
DTSTAMP:20260424T012351
CREATED:20240311T181421Z
LAST-MODIFIED:20240311T181421Z
UID:46041-1714586400-1714593600@ktex.com
SUMMARY:Maifest Kick-Off Picnic
DESCRIPTION:
URL:https://ktex.com/event/maifest-kick-off-picnic/
LOCATION:City of Brenham Fireman’s Park\, 901 N. Park Street\, Brenham\, TX\, 77833\, United States
CATEGORIES:Community Events
ATTACH;FMTTYPE=image/jpeg:https://ktex.com/wp-content/uploads/2024/03/maifest-kick-off-picnic.jpg
END:VEVENT
BEGIN:VEVENT
DTSTART;VALUE=DATE:20240502
DTEND;VALUE=DATE:20240503
DTSTAMP:20260424T012351
CREATED:20231220T155744Z
LAST-MODIFIED:20231220T155744Z
UID:44615-1714608000-1714694399@ktex.com
SUMMARY:NAMI Connection Recovery Support Group Meetings
DESCRIPTION:Weekly meeting on Thursdays\, 6:30 – 8:00 pm CST at St. Peters Episcopal Church in Brenham\n\nNAMI-Brazos Valley serves a seven-county area (Brazos Valley):  Brazos\, Burleson\, Grimes\, Leon\, Madison\, Roberts\, and Washington Counties\nWebsite:  NamiBV.org\nPhone:  979 774-4713
URL:https://ktex.com/event/nami-connection-recovery-support-group-meetings-5/
LOCATION:St. Peter’s Episcopal Church (Brenham)\, 2310 Airline Dr.\, Brenham\, TX\, 77833\, United States
CATEGORIES:Community Events
ATTACH;FMTTYPE=image/png:https://ktex.com/wp-content/uploads/2023/12/nami-connection-recovery-supp-gr.png
END:VEVENT
BEGIN:VEVENT
DTSTART;VALUE=DATE:20240502
DTEND;VALUE=DATE:20240503
DTSTAMP:20260424T012351
CREATED:20240417T213011Z
LAST-MODIFIED:20240417T213011Z
UID:46826-1714608000-1714694399@ktex.com
SUMMARY:Bellville Disaster Recovery Concert
DESCRIPTION:
URL:https://ktex.com/event/bellville-disaster-recovery-concert/
LOCATION:Emery’s Buffalo Creek\, 10827 TX-36\, Bellville\, TX\, 77418\, United States
CATEGORIES:Community Events
ATTACH;FMTTYPE=image/png:https://ktex.com/wp-content/uploads/2024/04/bellville-disaster-recovery-002.png
END:VEVENT
BEGIN:VEVENT
DTSTART;VALUE=DATE:20240502
DTEND;VALUE=DATE:20240503
DTSTAMP:20260424T012351
CREATED:20240424T213710Z
LAST-MODIFIED:20240424T213710Z
UID:46932-1714608000-1714694399@ktex.com
SUMMARY:National Day of Prayer at Night (Brenham)
DESCRIPTION:
URL:https://ktex.com/event/national-day-of-prayer-at-night-brenham/
LOCATION:Downtown Brenham
CATEGORIES:Community Events
ATTACH;FMTTYPE=image/jpeg:https://ktex.com/wp-content/uploads/2024/04/light-up-the-word-2024-002.jpg
END:VEVENT
BEGIN:VEVENT
DTSTART;VALUE=DATE:20240502
DTEND;VALUE=DATE:20240503
DTSTAMP:20260424T012351
CREATED:20240426T202319Z
LAST-MODIFIED:20240426T202319Z
UID:46954-1714608000-1714694399@ktex.com
SUMMARY:Navasota Spring Band Concerts
DESCRIPTION:
URL:https://ktex.com/event/navasota-spring-band-concerts/
LOCATION:Brosig Performing Arts Center\, 105 Brosig Ave.\, Navasota\, TX\, 77868\, United States
CATEGORIES:Community Events
ATTACH;FMTTYPE=image/png:https://ktex.com/wp-content/uploads/2024/04/nisd-spring-band-concerts.png
END:VEVENT
BEGIN:VEVENT
DTSTART;VALUE=DATE:20240502
DTEND;VALUE=DATE:20240505
DTSTAMP:20260424T012351
CREATED:20240410T204748Z
LAST-MODIFIED:20240410T204748Z
UID:46714-1714608000-1714867199@ktex.com
SUMMARY:MAIFEST 2024
DESCRIPTION:
URL:https://ktex.com/event/maifest-2024/
LOCATION:City of Brenham Fireman’s Park\, 901 N. Park Street\, Brenham\, TX\, 77833\, United States
CATEGORIES:Community Events
ATTACH;FMTTYPE=image/jpeg:https://ktex.com/wp-content/uploads/2024/04/maifest-2024-thu-fri-sat.jpg
END:VEVENT
BEGIN:VEVENT
DTSTART;TZID=America/Chicago:20240502T120000
DTEND;TZID=America/Chicago:20240502T130000
DTSTAMP:20260424T012351
CREATED:20240423T191100Z
LAST-MODIFIED:20240423T191100Z
UID:46909-1714651200-1714654800@ktex.com
SUMMARY:National Day of Prayer Observed at Providence Church
DESCRIPTION:
URL:https://ktex.com/event/national-day-of-prayer-observed-at-providence-church/
LOCATION:Historic Providence Baptist Church (Chappell Hill)\, 5175 Main Street\, Chappell Hill\, TX\, 77426\, United States
CATEGORIES:Community Events
ATTACH;FMTTYPE=image/png:https://ktex.com/wp-content/uploads/2024/04/national-day-of-prayer-24.png
END:VEVENT
BEGIN:VEVENT
DTSTART;TZID=America/Chicago:20240502T180000
DTEND;TZID=America/Chicago:20240502T210000
DTSTAMP:20260424T012351
CREATED:20240403T131839Z
LAST-MODIFIED:20240403T131839Z
UID:46554-1714672800-1714683600@ktex.com
SUMMARY:Heart of Acara Foundation presents The Boot Scoot
DESCRIPTION:On Thursday\, May 2nd Heart of Acara Foundation will host their 2nd annual fundraiser\, “The Boot Scoot” at The Kenney Store in Kenney\, TX to benefit local hospice patients in need.  The event will feature entertainment on the courtyard stage by Texas singer/songwriter Payton Howie. Entry also includes a taco bar dinner\, dancing and access to the live and silent auctions.  General admission is only $60 per ticket\, and reserved seating is also available. To view availability and purchase tickets visit www.heartofacarafoundation.org  \nHeart of Acara Foundation is a 501(c)3 organization dedicated to providing financial relief or amenities to improve the quality of life for those diagnosed with a terminal illness\, and supporting awareness and access to end-of-life care. The Foundation’s largest initiative at this time is to build a community hospice house. For more information on this project and other initiatives\, visit www.heartofacarafoundation.org
URL:https://ktex.com/event/heart-of-acara-foundation-presents-the-boot-scoot/
LOCATION:The Kenney Store
CATEGORIES:Community Events
ATTACH;FMTTYPE=image/png:https://ktex.com/wp-content/uploads/2024/04/boot-scoot-at-kenney-store-may.png
END:VEVENT
BEGIN:VEVENT
DTSTART;VALUE=DATE:20240503
DTEND;VALUE=DATE:20240504
DTSTAMP:20260424T012351
CREATED:20240105T205246Z
LAST-MODIFIED:20240105T205246Z
UID:44941-1714694400-1714780799@ktex.com
SUMMARY:Brenham Elks Friday Night Steak Dinner
DESCRIPTION:The weekly Friday night steak dinner begins at 6:30 PM at Brenham Elks Lodge #979\, with all members and guests invited\n– 16 oz Boneless Ribeye with Baked Potato\, Salad\, and Dessert\n– Chef’s Choice: Pork & Beef Stew with cornbread\, salad and dessert
URL:https://ktex.com/event/brenham-elks-friday-night-steak-dinner-5/
LOCATION:Brenham Elks Lodge 979\, 400 East Germania St.\, Brenham\, 77833
CATEGORIES:Community Events
ATTACH;FMTTYPE=image/jpeg:https://ktex.com/wp-content/uploads/2024/01/elks-steak-supper-24.jpg
END:VEVENT
BEGIN:VEVENT
DTSTART;VALUE=DATE:20240503
DTEND;VALUE=DATE:20240504
DTSTAMP:20260424T012351
CREATED:20240426T133648Z
LAST-MODIFIED:20240426T133648Z
UID:46948-1714694400-1714780799@ktex.com
SUMMARY:VFW Post 7104 Steak Supper
DESCRIPTION:James F. Dillon VFW Post 7104\, will be having a barbecued beef sirloin steak\, pork steak and pork sausage supper on Friday\, May 3.  Doors will open at 6:00 and the meal will be served at 7:00. Cost of the meal is $15.  Please call 979-203-5586 or 979-277-5061 to make reservations by 12:00 noon on the date of the meal. You may also call Post 7104 at 979-830-8776 and leave a message.  The meal is open to the public.
URL:https://ktex.com/event/vfw-post-7104-steak-supper-8/
LOCATION:James F. Dillion VFW Post 7104\, 1200 East Tom Green Street\, Brenham\, TX\, 77833\, United States
CATEGORIES:Community Events
ATTACH;FMTTYPE=image/jpeg:https://ktex.com/wp-content/uploads/2024/04/vfw.jpg
END:VEVENT
BEGIN:VEVENT
DTSTART;VALUE=DATE:20240503
DTEND;VALUE=DATE:20240505
DTSTAMP:20260424T012351
CREATED:20240314T140508Z
LAST-MODIFIED:20240314T140508Z
UID:46187-1714694400-1714867199@ktex.com
SUMMARY:Chappell Hill VFD Festival BBQ Cook-Off & Rib Shootout
DESCRIPTION:ALL PROCEEDS BENEFIT THE CHAPPELL HILL VOL FIRE DEPARTMENT \nFor more info:  marcykmiec@yahoo.com / 979 251-4440
URL:https://ktex.com/event/chappell-hill-vfd-festival-bbq-cook-off-rib-shootout/
LOCATION:Chappell Hill Fire Department\, 5295 FM 1155\, Chappell Hill\, TX\, 77426\, United States
CATEGORIES:Community Events
ATTACH;FMTTYPE=image/jpeg:https://ktex.com/wp-content/uploads/2024/03/ch-vfd-festival-may.jpg
END:VEVENT
BEGIN:VEVENT
DTSTART;VALUE=DATE:20240503
DTEND;VALUE=DATE:20240505
DTSTAMP:20260424T012351
CREATED:20240404T201203Z
LAST-MODIFIED:20240411T171711Z
UID:46590-1714694400-1714867199@ktex.com
SUMMARY:Lexington's 58th Annual Homecoming
DESCRIPTION:
URL:https://ktex.com/event/lexington-homecoming-2024/
LOCATION:TX
CATEGORIES:Community Events
ATTACH;FMTTYPE=image/png:https://ktex.com/wp-content/uploads/2024/04/lexingtons-annual-homecoming-may.png
END:VEVENT
BEGIN:VEVENT
DTSTART;VALUE=DATE:20240503
DTEND;VALUE=DATE:20240505
DTSTAMP:20260424T012351
CREATED:20240408T202922Z
LAST-MODIFIED:20240408T202922Z
UID:46642-1714694400-1714867199@ktex.com
SUMMARY:Austin Co 4-H Livestock Project Group-'Que for the Kids
DESCRIPTION:
URL:https://ktex.com/event/austin-co-4-h-livestock-project-group-que-for-the-kids/
LOCATION:Austin County Fairgrounds\, 1076 East Hill\, Bellville\, TX\, 77418\, United States
CATEGORIES:Community Events
ATTACH;FMTTYPE=image/png:https://ktex.com/wp-content/uploads/2024/04/que-for-the-kids.png
END:VEVENT
END:VCALENDAR