BEGIN:VCALENDAR
VERSION:2.0
PRODID:-//KTEX 106.1 - ECPv6.15.20//NONSGML v1.0//EN
CALSCALE:GREGORIAN
METHOD:PUBLISH
X-WR-CALNAME:KTEX 106.1
X-ORIGINAL-URL:https://ktex.com
X-WR-CALDESC:Events for KTEX 106.1
REFRESH-INTERVAL;VALUE=DURATION:PT1H
X-Robots-Tag:noindex
X-PUBLISHED-TTL:PT1H
BEGIN:VTIMEZONE
TZID:America/Chicago
BEGIN:DAYLIGHT
TZOFFSETFROM:-0600
TZOFFSETTO:-0500
TZNAME:CDT
DTSTART:20220313T080000
END:DAYLIGHT
BEGIN:STANDARD
TZOFFSETFROM:-0500
TZOFFSETTO:-0600
TZNAME:CST
DTSTART:20221106T070000
END:STANDARD
BEGIN:DAYLIGHT
TZOFFSETFROM:-0600
TZOFFSETTO:-0500
TZNAME:CDT
DTSTART:20230312T080000
END:DAYLIGHT
BEGIN:STANDARD
TZOFFSETFROM:-0500
TZOFFSETTO:-0600
TZNAME:CST
DTSTART:20231105T070000
END:STANDARD
BEGIN:DAYLIGHT
TZOFFSETFROM:-0600
TZOFFSETTO:-0500
TZNAME:CDT
DTSTART:20240310T080000
END:DAYLIGHT
BEGIN:STANDARD
TZOFFSETFROM:-0500
TZOFFSETTO:-0600
TZNAME:CST
DTSTART:20241103T070000
END:STANDARD
BEGIN:DAYLIGHT
TZOFFSETFROM:-0600
TZOFFSETTO:-0500
TZNAME:CDT
DTSTART:20250309T080000
END:DAYLIGHT
BEGIN:STANDARD
TZOFFSETFROM:-0500
TZOFFSETTO:-0600
TZNAME:CST
DTSTART:20251102T070000
END:STANDARD
END:VTIMEZONE
BEGIN:VEVENT
DTSTART;VALUE=DATE:20231115
DTEND;VALUE=DATE:20231223
DTSTAMP:20260424T102900
CREATED:20231110T150439Z
LAST-MODIFIED:20231110T150439Z
UID:44052-1700006400-1703289599@ktex.com
SUMMARY:Adams's Angels Ministry accepting Christmas Donations
DESCRIPTION:Adam’s Angels Ministry has set a goal for this Christmas season to bring joy and relief to children and their families receiving treatment at MD Anderson Children’s Cancer Hospital.  Adam’s Angels is planning to give 65 children an iPad and provide a $250 gift card to each family.  The iPads help keep the children engaged during treatment and also serve as a lifeline to connect with loved ones and continue their education.  The gift cards will provide much-needed financial relief\, which will help families with the costs they are facing.  Donations are being accepted from November 15 through December 22.  Contributions can be mailed to Adam’s Angels Ministry\, P.O. Box 2573\, Brenham\, Texas\, 77834.  They can also be dropped off at ASCO Equipment\, Attention Justin Palmer\, at 2800 Highway 290 West in Brenham.  ASCO Equipment in Brenham will be matching every dollar donated.
URL:https://ktex.com/event/adamss-angels-ministry-accepting-christmas-donations/
LOCATION:TX
CATEGORIES:Community Events
ATTACH;FMTTYPE=image/jpeg:https://ktex.com/wp-content/uploads/2023/11/Adams-Angels-Ministry.jpg
END:VEVENT
BEGIN:VEVENT
DTSTART;VALUE=DATE:20231120
DTEND;VALUE=DATE:20240101
DTSTAMP:20260424T102900
CREATED:20231120T195132Z
LAST-MODIFIED:20231120T195132Z
UID:44159-1700438400-1704067199@ktex.com
SUMMARY:Help Cover A Child-Boys & Girls Club of Austin County
DESCRIPTION:
URL:https://ktex.com/event/help-cover-a-child-boys-girls-club-of-austin-county/
LOCATION:TX
CATEGORIES:Community Events
ATTACH;FMTTYPE=image/png:https://ktex.com/wp-content/uploads/2023/11/ac-bg-club-christmas.png
END:VEVENT
BEGIN:VEVENT
DTSTART;VALUE=DATE:20231127
DTEND;VALUE=DATE:20231225
DTSTAMP:20260424T102900
CREATED:20231122T204340Z
LAST-MODIFIED:20231122T204340Z
UID:44202-1701043200-1703462399@ktex.com
SUMMARY:Letters to Santa Mailbox
DESCRIPTION:
URL:https://ktex.com/event/letters-to-santa-mailbox/
LOCATION:Washington County Chamber Office\, 314 S. Austin Street\, Brenham\, TX\, 77833\, United States
CATEGORIES:Community Events
ATTACH;FMTTYPE=image/png:https://ktex.com/wp-content/uploads/2023/11/letter-to-santa.png
END:VEVENT
BEGIN:VEVENT
DTSTART;VALUE=DATE:20231201
DTEND;VALUE=DATE:20231216
DTSTAMP:20260424T102900
CREATED:20231130T215429Z
LAST-MODIFIED:20231130T215429Z
UID:44303-1701388800-1702684799@ktex.com
SUMMARY:Volunteers needed to Ring the Salvation Army Bell
DESCRIPTION:Volunteers are need to ring the bell at Walmart and/or Hobby Lobby.  100% of all donations stay in Washington County to serve local citizens.  www.faithmission.us
URL:https://ktex.com/event/volunteers-needed-to-ring-the-salvation-army-bell/
LOCATION:TX
CATEGORIES:Community Events
ATTACH;FMTTYPE=image/png:https://ktex.com/wp-content/uploads/2023/11/faith-mission-bell-ringers.png
END:VEVENT
BEGIN:VEVENT
DTSTART;VALUE=DATE:20231206
DTEND;VALUE=DATE:20231216
DTSTAMP:20260424T102900
CREATED:20231206T220101Z
LAST-MODIFIED:20231206T220101Z
UID:44432-1701820800-1702684799@ktex.com
SUMMARY:Brenham ISD GT Nominations
DESCRIPTION:K-12 students may participate in the GT nomination\, assessment\, screening and identification process.  Brenham Independent School District will utilize multiple assessments to identify gifted and talented learners and their needs. \nSteps for nomination into the Brenham ISD Gifted and Talented Education Program for the 2024-2025 school year: \nBeginning December 1st\, you may receive the Request for Screening Form and the Parent Checklist by picking up a hard copy from your child’s campus counselor or Brenham ISD Central Administration Building. \nThe deadline to submit forms back to your child’s campus counselor is Friday\, December 15\, 2023.\n_____________________ \nLos estudiantes de K-12 pueden participar en el proceso de nominación\, evaluación\, selección e identificación de GT. El Distrito Escolar Independiente de Brenham utilizará múltiples evaluaciones para identificar a los estudiantes talentosos y sus necesidades. \nPasos para la nominación en el Programa de Educación para Talentosos de Brenham ISD para el año escolar 2024-2025: \n \nA partir del 1 de diciembre\, puede recibir el Formulario de solicitud de evaluación y la verificación al recoger una copia impresa del consejero/a de la escuela de su hijo. \nLa fecha límite para enviar los formularios al consejero/a de la escuela de su hijo es el Viernes 15 de Diciembre de 2023. \n 
URL:https://ktex.com/event/brenham-isd-gt-nominations/
LOCATION:TX
CATEGORIES:Community Events
ATTACH;FMTTYPE=image/jpeg:https://ktex.com/wp-content/uploads/2023/12/BISD-logo.jpg
END:VEVENT
BEGIN:VEVENT
DTSTART;VALUE=DATE:20231206
DTEND;VALUE=DATE:20231219
DTSTAMP:20260424T102900
CREATED:20231206T203825Z
LAST-MODIFIED:20231206T203825Z
UID:44421-1701820800-1702943999@ktex.com
SUMMARY:CASA for Kids Playhouse Drawing
DESCRIPTION:
URL:https://ktex.com/event/casa-for-kids-playhouse-drawing/
LOCATION:TX
CATEGORIES:Community Events
ATTACH;FMTTYPE=image/jpeg:https://ktex.com/wp-content/uploads/2023/12/casa-workshop-drawing.jpg
END:VEVENT
BEGIN:VEVENT
DTSTART;VALUE=DATE:20231207
DTEND;VALUE=DATE:20240112
DTSTAMP:20260424T102900
CREATED:20231207T212138Z
LAST-MODIFIED:20231222T153712Z
UID:44453-1701907200-1705017599@ktex.com
SUMMARY:Washington County Chamber Seeking Award Nominations
DESCRIPTION:The Washington County Chamber of Commerce is now accepting nominations for:\n\n\n2023 Man and Woman of the Year\n\n\n2023 Business of the Year\n\n\n2023 New Business of the Year\n\n\n2023 Non-Profit of the Year\n\n\nReturn completed form(s) by January 11th\, 2024 to the Chamber office (314 S. Austin Street\, Brenham) or via email to: mandy@brenhamtexas.com
URL:https://ktex.com/event/washington-county-chamber-seeking-award-nominations/
LOCATION:TX
CATEGORIES:Community Events
ATTACH;FMTTYPE=image/jpeg:https://ktex.com/wp-content/uploads/2023/12/best-of-the-best.jpg
END:VEVENT
BEGIN:VEVENT
DTSTART;VALUE=DATE:20231215
DTEND;VALUE=DATE:20231216
DTSTAMP:20260424T102900
CREATED:20231206T152428Z
LAST-MODIFIED:20231206T152428Z
UID:44388-1702598400-1702684799@ktex.com
SUMMARY:Carolers at BNB
DESCRIPTION:
URL:https://ktex.com/event/carolers-at-bnb-2/
LOCATION:Brenham National Bank-Brenham Branch\, 2211 S. Day Street\, Brenham\, TX\, 77833\, United States
CATEGORIES:Community Events
ATTACH;FMTTYPE=image/jpeg:https://ktex.com/wp-content/uploads/2023/12/BNB-caroler-schedule-002.jpg
END:VEVENT
BEGIN:VEVENT
DTSTART;VALUE=DATE:20231215
DTEND;VALUE=DATE:20231216
DTSTAMP:20260424T102900
CREATED:20231207T174707Z
LAST-MODIFIED:20231207T174707Z
UID:44442-1702598400-1702684799@ktex.com
SUMMARY:Sounds of the Season Concert
DESCRIPTION:
URL:https://ktex.com/event/sounds-of-the-season-concert/
LOCATION:Festival Hill\, 248 Jaster Rd\, Round Top\, TX\, 78954\, United States
CATEGORIES:Community Events
ATTACH;FMTTYPE=image/png:https://ktex.com/wp-content/uploads/2023/12/sounds-of-the-season.png
END:VEVENT
BEGIN:VEVENT
DTSTART;VALUE=DATE:20231215
DTEND;VALUE=DATE:20231216
DTSTAMP:20260424T102900
CREATED:20231212T175745Z
LAST-MODIFIED:20231212T175745Z
UID:44516-1702598400-1702684799@ktex.com
SUMMARY:State Championship Football Game-Bellville vs Gilmer
DESCRIPTION:
URL:https://ktex.com/event/state-championship-football-game-bellville-vs-gilmer/
LOCATION:AT&T Stadium\, 1 AT&T Way\, Arlington\, TX\, 76011\, United States
CATEGORIES:Community Events
ATTACH;FMTTYPE=image/jpeg:https://ktex.com/wp-content/uploads/2023/12/brahma-fb-dec-15.jpg
END:VEVENT
BEGIN:VEVENT
DTSTART;VALUE=DATE:20231215
DTEND;VALUE=DATE:20231216
DTSTAMP:20260424T102900
CREATED:20231212T180127Z
LAST-MODIFIED:20231212T180127Z
UID:44520-1702598400-1702684799@ktex.com
SUMMARY:Bellville ISD will be Closed on Dec. 15
DESCRIPTION:
URL:https://ktex.com/event/bellville-isd-will-be-closed-on-dec-15/
LOCATION:TX
CATEGORIES:Community Events
ATTACH;FMTTYPE=image/jpeg:https://ktex.com/wp-content/uploads/2023/12/bellville-isd-closed-friday.jpg
END:VEVENT
BEGIN:VEVENT
DTSTART;TZID=America/Chicago:20231215T200000
DTEND;TZID=America/Chicago:20231215T230000
DTSTAMP:20260424T102900
CREATED:20231106T174702Z
LAST-MODIFIED:20231106T174702Z
UID:43770-1702670400-1702681200@ktex.com
SUMMARY:Briana Adams
DESCRIPTION:
URL:https://ktex.com/event/briana-adams/
LOCATION:Floyd’s Lounge\, 315 S. Baylor St.\, Brenham\, TX\, 77833\, United States
ATTACH;FMTTYPE=image/png:https://ktex.com/wp-content/uploads/2023/11/4fd29424-6232-42c3-8999-01ddcef1d3f0.png
END:VEVENT
BEGIN:VEVENT
DTSTART;TZID=America/Chicago:20231215T203000
DTEND;TZID=America/Chicago:20231215T233000
DTSTAMP:20260424T102900
CREATED:20231106T193426Z
LAST-MODIFIED:20231106T193435Z
UID:43868-1702672200-1702683000@ktex.com
SUMMARY:Lightning Ben & The Thunder
DESCRIPTION:
URL:https://ktex.com/event/lightning-ben-the-thunder/
LOCATION:HSF Biergarten\, 307 South Park Street\, Brenham\, TX\, 77833\, United States
ATTACH;FMTTYPE=image/jpeg:https://ktex.com/wp-content/uploads/2023/11/images.jpg
END:VEVENT
BEGIN:VEVENT
DTSTART;VALUE=DATE:20231216
DTEND;VALUE=DATE:20231217
DTSTAMP:20260424T102900
CREATED:20230905T185644Z
LAST-MODIFIED:20230905T185644Z
UID:42508-1702684800-1702771199@ktex.com
SUMMARY:Washington County Juneteenth Association Christmas Ball
DESCRIPTION:
URL:https://ktex.com/event/washington-county-juneteenth-association-christmas-ball/
LOCATION:Brenham Fire Department Training Center\, 1101 Hwy 290 West\, Brenham\, TX\, 77833\, United States
CATEGORIES:Community Events
ATTACH;FMTTYPE=image/jpeg:https://ktex.com/wp-content/uploads/2023/09/christmas-glitzy-holiday-ball.jpg
END:VEVENT
BEGIN:VEVENT
DTSTART;VALUE=DATE:20231216
DTEND;VALUE=DATE:20231217
DTSTAMP:20260424T102900
CREATED:20231110T150831Z
LAST-MODIFIED:20231110T150831Z
UID:44056-1702684800-1702771199@ktex.com
SUMMARY:Wreaths across America
DESCRIPTION:Welcome \nPresentation of Colors \nOpening Prayer \nPledge of Allegiance \nNational Anthem \nPledge to the Texas Flag \nTexas\, Our Texas \nCeremonial Wreath Observance \nGuest Speaker\nRoll Call and Wreath Placement \nThree Rifle Volley Salute \nTaps      \nRetirement of the Colors \nClosing Prayer
URL:https://ktex.com/event/wreaths-across-america/
LOCATION:Old Independence Cemetery\, 8675 Coles Rd.\, Brenham\, TX\, 77833\, United States
CATEGORIES:Community Events
ATTACH;FMTTYPE=image/png:https://ktex.com/wp-content/uploads/2023/11/wreaths-across-america.png
END:VEVENT
BEGIN:VEVENT
DTSTART;TZID=America/Chicago:20231216T140000
DTEND;TZID=America/Chicago:20231216T170000
DTSTAMP:20260424T102900
CREATED:20231129T174713Z
LAST-MODIFIED:20231129T174713Z
UID:44279-1702735200-1702746000@ktex.com
SUMMARY:Christmas in Bethlehem Live Nativity & Petting Zoo
DESCRIPTION:
URL:https://ktex.com/event/christmas-in-bethlehem-live-nativity-petting-zoo/
LOCATION:Cowboy Church of Brenham\, 4400 HWY 105\, Brenham\, TX\, 77833\, United States
CATEGORIES:Community Events
ATTACH;FMTTYPE=image/png:https://ktex.com/wp-content/uploads/2023/11/christmas-in-bethlehem.png
END:VEVENT
BEGIN:VEVENT
DTSTART;TZID=America/Chicago:20231216T200000
DTEND;TZID=America/Chicago:20231216T230000
DTSTAMP:20260424T102900
CREATED:20231106T174755Z
LAST-MODIFIED:20231106T174755Z
UID:43773-1702756800-1702767600@ktex.com
SUMMARY:Matt Nestor
DESCRIPTION:
URL:https://ktex.com/event/matt-nestor-2/
LOCATION:Floyd’s Lounge\, 315 S. Baylor St.\, Brenham\, TX\, 77833\, United States
ATTACH;FMTTYPE=image/png:https://ktex.com/wp-content/uploads/2023/11/86fe61dc-aea7-47f3-8beb-7fd2428463eb.png
END:VEVENT
BEGIN:VEVENT
DTSTART;VALUE=DATE:20231217
DTEND;VALUE=DATE:20231218
DTSTAMP:20260424T102900
CREATED:20231213T144514Z
LAST-MODIFIED:20231213T144514Z
UID:44546-1702771200-1702857599@ktex.com
SUMMARY:Drive-In Cinema at Goodwill Church
DESCRIPTION:
URL:https://ktex.com/event/drive-in-cinema-at-goodwill-church/
LOCATION:Goodwill Missionary Baptist Church (Brenham)\, 9180 Hwy. 105\, Brenham\, TX\, 77833\, United States
CATEGORIES:Community Events
ATTACH;FMTTYPE=image/jpeg:https://ktex.com/wp-content/uploads/2023/12/drive-in-cinema-at-gw.jpg
END:VEVENT
BEGIN:VEVENT
DTSTART;TZID=America/Chicago:20231217T180000
DTEND;TZID=America/Chicago:20231217T200000
DTSTAMP:20260424T102900
CREATED:20231114T192938Z
LAST-MODIFIED:20231114T192938Z
UID:44106-1702836000-1702843200@ktex.com
SUMMARY:Live Nativity-St. Peter's Lutheran
DESCRIPTION:
URL:https://ktex.com/event/live-nativity-st-peters-lutheran/
LOCATION:St. Peter’s Lutheran Church\, 8201 Old Gay Hill Rd.\, Brenham\, TX\, 77833\, United States
CATEGORIES:Community Events
ATTACH;FMTTYPE=image/png:https://ktex.com/wp-content/uploads/2023/11/live-nativity-st-peters-lutheran-e1699990156905.png
END:VEVENT
BEGIN:VEVENT
DTSTART;VALUE=DATE:20231218
DTEND;VALUE=DATE:20231220
DTSTAMP:20260424T102900
CREATED:20231206T152532Z
LAST-MODIFIED:20231206T152532Z
UID:44390-1702857600-1703030399@ktex.com
SUMMARY:Carolers at BNB
DESCRIPTION:
URL:https://ktex.com/event/carolers-at-bnb-3/
LOCATION:Brenham National Bank-Brenham Branch\, 2211 S. Day Street\, Brenham\, TX\, 77833\, United States
CATEGORIES:Community Events
ATTACH;FMTTYPE=image/jpeg:https://ktex.com/wp-content/uploads/2023/12/BNB-caroler-schedule-002.jpg
END:VEVENT
BEGIN:VEVENT
DTSTART;VALUE=DATE:20231218
DTEND;VALUE=DATE:20240101
DTSTAMP:20260424T102900
CREATED:20231218T144923Z
LAST-MODIFIED:20231218T144923Z
UID:44579-1702857600-1704067199@ktex.com
SUMMARY:Washington County Little League Bids
DESCRIPTION:Washington County Little League is taking bids for jerseys and caps for the 2024 baseball/softball season. Visit the WCLL website at wcll.com for more information. Bids must be submitted by December 31st.
URL:https://ktex.com/event/washington-county-little-league-bids/
LOCATION:TX
CATEGORIES:Community Events
ATTACH;FMTTYPE=image/jpeg:https://ktex.com/wp-content/uploads/2023/12/wc-little-league.jpg
END:VEVENT
BEGIN:VEVENT
DTSTART;VALUE=DATE:20231219
DTEND;VALUE=DATE:20231220
DTSTAMP:20260424T102900
CREATED:20231213T175507Z
LAST-MODIFIED:20231213T175507Z
UID:44550-1702944000-1703030399@ktex.com
SUMMARY:Ribbon Cutting-Terah's Cleaning Service
DESCRIPTION:Washington County Chamber ribbon cutting for new member Terah’s Cleaning Services\, Tuesday\, December 19\, 10:00 a.m. at the Chamber Conference room.
URL:https://ktex.com/event/ribbon-cutting-terahs-cleaning-service/
LOCATION:Washington County Chamber Office\, 314 S. Austin Street\, Brenham\, TX\, 77833\, United States
CATEGORIES:Community Events
ATTACH;FMTTYPE=image/jpeg:https://ktex.com/wp-content/uploads/2023/11/coc-washington-county-ribbon-cutting.jpg
END:VEVENT
BEGIN:VEVENT
DTSTART;TZID=America/Chicago:20231220T100000
DTEND;TZID=America/Chicago:20231220T120000
DTSTAMP:20260424T102900
CREATED:20231214T145501Z
LAST-MODIFIED:20231214T145501Z
UID:44561-1703066400-1703073600@ktex.com
SUMMARY:Lee County Sheriff's Office Open House
DESCRIPTION:
URL:https://ktex.com/event/lee-county-sheriffs-office-open-house/
LOCATION:Lee County Sheriff Office\, 2122 FM 448\, Giddings\, TX\, 78942\, United States
CATEGORIES:Community Events
ATTACH;FMTTYPE=image/jpeg:https://ktex.com/wp-content/uploads/2023/12/Lee-County-Sheriffs-Office-Open-House-002.jpg
END:VEVENT
BEGIN:VEVENT
DTSTART;VALUE=DATE:20231221
DTEND;VALUE=DATE:20231222
DTSTAMP:20260424T102900
CREATED:20231127T201820Z
LAST-MODIFIED:20231127T201820Z
UID:44227-1703116800-1703203199@ktex.com
SUMMARY:Friends of Bluebonnet Opry
DESCRIPTION:
URL:https://ktex.com/event/friends-of-bluebonnet-opry-3/
LOCATION:Silver Wings Ballroom\, 4100 State Highway 105\, Brenham\, TX\, 77833\, United States
CATEGORIES:Community Events
ATTACH;FMTTYPE=image/jpeg:https://ktex.com/wp-content/uploads/2023/11/bluebonnet-opry-dec.jpg
END:VEVENT
BEGIN:VEVENT
DTSTART;VALUE=DATE:20231221
DTEND;VALUE=DATE:20231222
DTSTAMP:20260424T102900
CREATED:20231206T151451Z
LAST-MODIFIED:20231206T151451Z
UID:44373-1703116800-1703203199@ktex.com
SUMMARY:Blue Christmas Service
DESCRIPTION:There are many reasons we may not feel “holly jolly” during the holiday season — So\, on the longest night of the year \nWe invite all who are weary\, mourning\, estranged\, suffering from illness\, addiction\, loneliness\, struggling financially\, in conflict\, or are hurting deep inside to our Blue Christmas Service. 💙 In our darkness and grief\, may we come to this sacred space to reflect\, accept comfort\, and find hope in Him. May we remember: God is good. God is strong. God is near. We are not alone\, and we have every reason to hold on to hope. \nGreenvine Emmanuel Lutheran Burton TX
URL:https://ktex.com/event/blue-christmas-service/
LOCATION:Emmanuel Lutheran of Greenvine\, 6700 Wickel Road\, Burton\, TX\, 77835\, United States
CATEGORIES:Community Events
ATTACH;FMTTYPE=image/jpeg:https://ktex.com/wp-content/uploads/2023/12/blue-christmas-service.jpg
END:VEVENT
BEGIN:VEVENT
DTSTART;VALUE=DATE:20231221
DTEND;VALUE=DATE:20231222
DTSTAMP:20260424T102900
CREATED:20231206T152643Z
LAST-MODIFIED:20231206T152643Z
UID:44392-1703116800-1703203199@ktex.com
SUMMARY:Carolers at BNB
DESCRIPTION:
URL:https://ktex.com/event/carolers-at-bnb-4/
LOCATION:Brenham National Bank-Brenham Branch\, 2211 S. Day Street\, Brenham\, TX\, 77833\, United States
CATEGORIES:Community Events
ATTACH;FMTTYPE=image/jpeg:https://ktex.com/wp-content/uploads/2023/12/BNB-caroler-schedule-002.jpg
END:VEVENT
BEGIN:VEVENT
DTSTART;VALUE=DATE:20231221
DTEND;VALUE=DATE:20231222
DTSTAMP:20260424T102900
CREATED:20231211T204731Z
LAST-MODIFIED:20231212T194101Z
UID:44507-1703116800-1703203199@ktex.com
SUMMARY:Washington County A&M Club Christmas Party
DESCRIPTION:Bring a can of food or a pocket full of change to be donated to Bread Partners.  
URL:https://ktex.com/event/washington-county-am-club-christmas-party/
LOCATION:Wine Bar Brenham\, 301 S. Baylor Street\, Brenham\, TX\, 77833\, United States
CATEGORIES:Community Events
ATTACH;FMTTYPE=image/png:https://ktex.com/wp-content/uploads/2023/12/wc-aggie-club-christmas-1.png
END:VEVENT
BEGIN:VEVENT
DTSTART;VALUE=DATE:20231221
DTEND;VALUE=DATE:20231223
DTSTAMP:20260424T102900
CREATED:20231206T151804Z
LAST-MODIFIED:20231206T151804Z
UID:44377-1703116800-1703289599@ktex.com
SUMMARY:Sweetheart Bake Sale
DESCRIPTION:
URL:https://ktex.com/event/sweetheart-bake-sale/
LOCATION:Felder’s Buy and Bye\, 2111 South Market St.\, Brenham\, TX\, 77833\, United States
CATEGORIES:Community Events
ATTACH;FMTTYPE=image/jpeg:https://ktex.com/wp-content/uploads/2023/12/sweetheart-bake-sale.jpg
END:VEVENT
BEGIN:VEVENT
DTSTART;TZID=America/Chicago:20231221T170000
DTEND;TZID=America/Chicago:20231221T183000
DTSTAMP:20260424T102900
CREATED:20231114T191108Z
LAST-MODIFIED:20231114T191108Z
UID:44092-1703178000-1703183400@ktex.com
SUMMARY:Burton Community Center Drive-Thru Meals
DESCRIPTION:
URL:https://ktex.com/event/burton-community-center-drive-thru-meals-2/
LOCATION:TX
CATEGORIES:Community Events
ATTACH;FMTTYPE=image/jpeg:https://ktex.com/wp-content/uploads/2023/11/burton-comm-drive-thru-nov-thru-mar.jpg
END:VEVENT
BEGIN:VEVENT
DTSTART;TZID=America/Chicago:20231221T200000
DTEND;TZID=America/Chicago:20231221T230000
DTSTAMP:20260424T102900
CREATED:20231106T174904Z
LAST-MODIFIED:20231106T174904Z
UID:43776-1703188800-1703199600@ktex.com
SUMMARY:Karissa Presley
DESCRIPTION:
URL:https://ktex.com/event/karissa-presley-3/
LOCATION:Floyd’s Lounge\, 315 S. Baylor St.\, Brenham\, TX\, 77833\, United States
ATTACH;FMTTYPE=image/png:https://ktex.com/wp-content/uploads/2023/11/2b49ed92-710f-4755-9109-73177f22f48f.png
END:VEVENT
END:VCALENDAR