BEGIN:VCALENDAR
VERSION:2.0
PRODID:-//KTEX 106.1 - ECPv6.15.20//NONSGML v1.0//EN
CALSCALE:GREGORIAN
METHOD:PUBLISH
X-WR-CALNAME:KTEX 106.1
X-ORIGINAL-URL:https://ktex.com
X-WR-CALDESC:Events for KTEX 106.1
REFRESH-INTERVAL;VALUE=DURATION:PT1H
X-Robots-Tag:noindex
X-PUBLISHED-TTL:PT1H
BEGIN:VTIMEZONE
TZID:America/Chicago
BEGIN:DAYLIGHT
TZOFFSETFROM:-0600
TZOFFSETTO:-0500
TZNAME:CDT
DTSTART:20230312T080000
END:DAYLIGHT
BEGIN:STANDARD
TZOFFSETFROM:-0500
TZOFFSETTO:-0600
TZNAME:CST
DTSTART:20231105T070000
END:STANDARD
BEGIN:DAYLIGHT
TZOFFSETFROM:-0600
TZOFFSETTO:-0500
TZNAME:CDT
DTSTART:20240310T080000
END:DAYLIGHT
BEGIN:STANDARD
TZOFFSETFROM:-0500
TZOFFSETTO:-0600
TZNAME:CST
DTSTART:20241103T070000
END:STANDARD
BEGIN:DAYLIGHT
TZOFFSETFROM:-0600
TZOFFSETTO:-0500
TZNAME:CDT
DTSTART:20250309T080000
END:DAYLIGHT
BEGIN:STANDARD
TZOFFSETFROM:-0500
TZOFFSETTO:-0600
TZNAME:CST
DTSTART:20251102T070000
END:STANDARD
END:VTIMEZONE
BEGIN:VEVENT
DTSTART;TZID=America/Chicago:20240920T190000
DTEND;TZID=America/Chicago:20240920T210000
DTSTAMP:20260421T171639
CREATED:20240919T183443Z
LAST-MODIFIED:20240919T183443Z
UID:49414-1726858800-1726866000@ktex.com
SUMMARY:Friday Face Off #4: Giddings vs Rockdale
DESCRIPTION:Friday night lights time! And\, it’s also Homecoming for the Buffs! Catch Courtney Cartwright at Buffalo Stadium this Friday with goodies thanks to Giddings Dental\, Rental Solutions\, and Ben’s Body and Paint!
URL:https://ktex.com/event/friday-face-off-4-giddings-vs-rockdale/
LOCATION:Giddings Buffalo Stadium\, 2335 N. Main Street\, Giddings\, TX\, 78942\, United States
CATEGORIES:KTEX on the Road
END:VEVENT
BEGIN:VEVENT
DTSTART;TZID=America/Chicago:20240920T140000
DTEND;TZID=America/Chicago:20240920T150000
DTSTAMP:20260421T171639
CREATED:20240919T202937Z
LAST-MODIFIED:20240919T202937Z
UID:49426-1726840800-1726844400@ktex.com
SUMMARY:Walk to End Alzheimer's Fundraiser (Bryan)
DESCRIPTION:
URL:https://ktex.com/event/walk-to-end-alzheimers-fundraiser-bryan/
LOCATION:Hudson Creek\, 3850 Coppercrest Dr.\, Bryan\, TX\, 77802\, United States
CATEGORIES:Community Events
ATTACH;FMTTYPE=image/jpeg:https://ktex.com/wp-content/uploads/2024/09/lemonaid-stand-sept.jpg
END:VEVENT
BEGIN:VEVENT
DTSTART;VALUE=DATE:20240920
DTEND;VALUE=DATE:20240921
DTSTAMP:20260421T171639
CREATED:20240909T194446Z
LAST-MODIFIED:20240909T194446Z
UID:49146-1726790400-1726876799@ktex.com
SUMMARY:Bellville Pickleball DUPR Night
DESCRIPTION:
URL:https://ktex.com/event/bellville-pickleball-dupr-night/
CATEGORIES:Community Events
ATTACH;FMTTYPE=image/jpeg:https://ktex.com/wp-content/uploads/2024/09/bellville-youth-pickleball-sept.jpg
END:VEVENT
BEGIN:VEVENT
DTSTART;VALUE=DATE:20240920
DTEND;VALUE=DATE:20240921
DTSTAMP:20260421T171639
CREATED:20240610T205547Z
LAST-MODIFIED:20240610T205547Z
UID:47666-1726790400-1726876799@ktex.com
SUMMARY:Brenham Cub Football Schedule
DESCRIPTION:
URL:https://ktex.com/event/brenham-cub-football-schedule-4/
CATEGORIES:Community Events
ATTACH;FMTTYPE=image/jpeg:https://ktex.com/wp-content/uploads/2024/06/brenham-cub-football-2024-schedule.jpg
END:VEVENT
BEGIN:VEVENT
DTSTART;VALUE=DATE:20240919
DTEND;VALUE=DATE:20240920
DTSTAMP:20260421T171639
CREATED:20240913T214726Z
LAST-MODIFIED:20240913T215058Z
UID:49250-1726704000-1726790399@ktex.com
SUMMARY:Burton Community Center Drive-Thru Meals
DESCRIPTION:Burton Community Center drive thru meals; Thursday\, September 19\, serving grilled sirloin w/sides\, from 5:00–6:30PM\, reserve tickets by calling\, 979 203-8119 or purchase tickets at Malloy’s Automotive in Burton or Dan’s Meat Market in Brenham (plates will be delivered to Dan’s at 5:00 for tickets purchased at Dan’s) / advance ticket sales only 
URL:https://ktex.com/event/burton-community-center-drive-thru-meals-11/
CATEGORIES:Community Events
ATTACH;FMTTYPE=image/jpeg:https://ktex.com/wp-content/uploads/2024/09/american-legion.jpg
END:VEVENT
BEGIN:VEVENT
DTSTART;VALUE=DATE:20240919
DTEND;VALUE=DATE:20240920
DTSTAMP:20260421T171639
CREATED:20240905T181357Z
LAST-MODIFIED:20240905T181357Z
UID:49094-1726704000-1726790399@ktex.com
SUMMARY:Washington County & Austin County A&M Clubs joint Thirsty Thursday Event
DESCRIPTION:
URL:https://ktex.com/event/washington-county-austin-county-am-clubs-joint-thirsty-thursday-event/
LOCATION:Kenney Store\, 811 south loop 497\, Kenney\, TX\, 77452\, United States
CATEGORIES:Community Events
ATTACH;FMTTYPE=image/png:https://ktex.com/wp-content/uploads/2024/09/ags-special-event-sept-19.png
END:VEVENT
BEGIN:VEVENT
DTSTART;VALUE=DATE:20240919
DTEND;VALUE=DATE:20240920
DTSTAMP:20260421T171639
CREATED:20240826T210310Z
LAST-MODIFIED:20240826T210310Z
UID:48868-1726704000-1726790399@ktex.com
SUMMARY:Friends of Bluebonnet Opry (Brenham)
DESCRIPTION:
URL:https://ktex.com/event/friends-of-bluebonnet-opry-brenham-2/
LOCATION:Silver Wings Ballroom\, 4100 State Highway 105\, Brenham\, TX\, 77833\, United States
CATEGORIES:Community Events
ATTACH;FMTTYPE=image/jpeg:https://ktex.com/wp-content/uploads/2024/08/bluebonnet-opry-sept.jpg
END:VEVENT
BEGIN:VEVENT
DTSTART;VALUE=DATE:20240919
DTEND;VALUE=DATE:20240920
DTSTAMP:20260421T171639
CREATED:20240816T182502Z
LAST-MODIFIED:20240816T182502Z
UID:48743-1726704000-1726790399@ktex.com
SUMMARY:Trail Life Troop TX-777-Fall Open House and Kickoff (Brenham)
DESCRIPTION:
URL:https://ktex.com/event/trail-life-troop-tx-777-fall-open-house-and-kickoff-brenham/
LOCATION:Abiding Word Lutheran Church (Brenham)\, 464 Oak Tree Crossing\, Brenham\, TX\, 77833\, United States
CATEGORIES:Community Events
ATTACH;FMTTYPE=image/png:https://ktex.com/wp-content/uploads/2024/08/fall-open-house-and-kickoff.png
END:VEVENT
BEGIN:VEVENT
DTSTART;TZID=America/Chicago:20240917T140000
DTEND;TZID=America/Chicago:20240917T170000
DTSTAMP:20260421T171639
CREATED:20240916T135904Z
LAST-MODIFIED:20240916T135904Z
UID:49256-1726581600-1726592400@ktex.com
SUMMARY:National Voter Registration Day (Grimes County)
DESCRIPTION:
URL:https://ktex.com/event/national-voter-registration-day-grimes-county/
CATEGORIES:Community Events
ATTACH;FMTTYPE=image/png:https://ktex.com/wp-content/uploads/2024/09/voter-registration-day-sept.png
END:VEVENT
BEGIN:VEVENT
DTSTART;VALUE=DATE:20240917
DTEND;VALUE=DATE:20240920
DTSTAMP:20260421T171639
CREATED:20240829T200446Z
LAST-MODIFIED:20240829T200446Z
UID:48972-1726531200-1726790399@ktex.com
SUMMARY:Rockdale Fair & Rodeo
DESCRIPTION:
URL:https://ktex.com/event/rockdale-fair-rodeo/
LOCATION:Rockdale Fair Park & Rodeo Arena\, 200 Walnut Street\, Rockdale\, TX\, 76567\, United States
CATEGORIES:Community Events
ATTACH;FMTTYPE=image/jpeg:https://ktex.com/wp-content/uploads/2024/08/rockdale-fair-oct.jpg
END:VEVENT
BEGIN:VEVENT
DTSTART;VALUE=DATE:20240917
DTEND;VALUE=DATE:20240918
DTSTAMP:20260421T171639
CREATED:20240909T211429Z
LAST-MODIFIED:20240909T211429Z
UID:49179-1726531200-1726617599@ktex.com
SUMMARY:Brenham Evening Lions Club Meeting
DESCRIPTION:The Brenham Evening Lions Club will meet Tuesday\, September 17\, at 6:30 PM\, at the Cannery Kitchen.  The program will be presented by Premier Metals on Recycling and more. The meeting will begin at 6:55. The public is invited to attend\, RSVP is not required\, dinner is available. The Lion’s Club is always looking for those in our community who are servants at heart!
URL:https://ktex.com/event/brenham-evening-lions-club-meeting-2/
LOCATION:Cannery Kitchen\, 314 East Alamo Street\, Brenham\, TX\, 77833\, United States
CATEGORIES:Community Events
ATTACH;FMTTYPE=image/jpeg:https://ktex.com/wp-content/uploads/2024/09/brenham-evening-lions-cl.jpg
END:VEVENT
BEGIN:VEVENT
DTSTART;TZID=America/Chicago:20240916T170000
DTEND;TZID=America/Chicago:20240916T200000
DTSTAMP:20260421T171639
CREATED:20240904T163950Z
LAST-MODIFIED:20240904T163950Z
UID:49085-1726506000-1726516800@ktex.com
SUMMARY:Caldwell Homecoming Kickoff
DESCRIPTION:Kickoff Hornet HoCo with Courtney! They’ll be celebrating their Hornet pride with activities\, games\, and performances!
URL:https://ktex.com/event/caldwell-homecoming-kickoff/
LOCATION:Caldwell High School\, 550 Co Rd 307\, Caldwell
CATEGORIES:KTEX on the Road
END:VEVENT
BEGIN:VEVENT
DTSTART;TZID=America/Chicago:20240916T163000
DTEND;TZID=America/Chicago:20240916T190000
DTSTAMP:20260421T171639
CREATED:20240821T144243Z
LAST-MODIFIED:20240821T144243Z
UID:48796-1726504200-1726513200@ktex.com
SUMMARY:Little Stars Dance Clinic (Bryan)
DESCRIPTION:
URL:https://ktex.com/event/little-stars-dance-clinic-bryan/
LOCATION:Bryan High School Fine Arts Gym 3\, 3450 Campus Drive\, Bryan\, TX\, 77802\, United States
CATEGORIES:Community Events
ATTACH;FMTTYPE=image/jpeg:https://ktex.com/wp-content/uploads/2024/08/dance-clinic-sept-16.jpg
END:VEVENT
BEGIN:VEVENT
DTSTART;TZID=America/Chicago:20240915T130000
DTEND;TZID=America/Chicago:20240915T160000
DTSTAMP:20260421T171639
CREATED:20240910T151637Z
LAST-MODIFIED:20240910T151637Z
UID:49182-1726405200-1726416000@ktex.com
SUMMARY:Washington County Wedding Group Event
DESCRIPTION:
URL:https://ktex.com/event/washington-county-wedding-group-event/
LOCATION:The Barnhill Center at Historic Simon Theatre\, 111 W. Main Street\, Brenham\, TX\, 77833\, United States
CATEGORIES:Community Events
ATTACH;FMTTYPE=image/jpeg:https://ktex.com/wp-content/uploads/2024/09/wc-wedding-group.jpg
END:VEVENT
BEGIN:VEVENT
DTSTART;VALUE=DATE:20240915
DTEND;VALUE=DATE:20240916
DTSTAMP:20260421T171639
CREATED:20240909T201222Z
LAST-MODIFIED:20240909T201222Z
UID:49169-1726358400-1726444799@ktex.com
SUMMARY:St. Mary's Baptist Church seeking Senior Pastor (Ledbetter)
DESCRIPTION:The deadline for applications is October 31\, 2024. If additional information is needed you can reach the Pulpit Search Committee at pulpitcommittee@smbctx.com. \nSee application:  https://smbctx.com/
URL:https://ktex.com/event/st-marys-baptist-church-seeking-senior-pastor-ledbetter/
CATEGORIES:Community Events
ATTACH;FMTTYPE=image/png:https://ktex.com/wp-content/uploads/2024/09/st-marys-baptist-church-seek-pastor.png
END:VEVENT
BEGIN:VEVENT
DTSTART;VALUE=DATE:20240915
DTEND;VALUE=DATE:20240916
DTSTAMP:20260421T171639
CREATED:20240829T210658Z
LAST-MODIFIED:20240829T210658Z
UID:48996-1726358400-1726444799@ktex.com
SUMMARY:New Ulm V.F.D. Celebration
DESCRIPTION:1:00pm AUCTION \nALL PROCEEDS GO FOR FIREFIGHTING EQUIPMENT \nprize drawing after auction * silent auction * moon walk * kid’s games * cake walk
URL:https://ktex.com/event/new-ulm-v-f-d-celebration/
LOCATION:New Ulm Firemen’s Park\, 1899 Track Rd.\, New Ulm\, TX\, 78950\, United States
CATEGORIES:Community Events
ATTACH;FMTTYPE=image/png:https://ktex.com/wp-content/uploads/2024/08/nu-vfd-celebration.png
END:VEVENT
BEGIN:VEVENT
DTSTART;VALUE=DATE:20240915
DTEND;VALUE=DATE:20240916
DTSTAMP:20260421T171639
CREATED:20240829T201200Z
LAST-MODIFIED:20240829T201200Z
UID:48979-1726358400-1726444799@ktex.com
SUMMARY:Mt. Rose MBC 156th Church Anniversary Reunion (Brenham)
DESCRIPTION:
URL:https://ktex.com/event/mt-rose-mbc-156th-church-anniversary-reunion-brenham/
LOCATION:Mt. Rose Missionary Baptist Church (Brenham)\, 204 Kerr Street\, Brenham\, TX\, 77833\, United States
CATEGORIES:Community Events
ATTACH;FMTTYPE=image/jpeg:https://ktex.com/wp-content/uploads/2024/08/mt-rose-reunion.jpg
END:VEVENT
BEGIN:VEVENT
DTSTART;VALUE=DATE:20240915
DTEND;VALUE=DATE:20240916
DTSTAMP:20260421T171639
CREATED:20240816T182209Z
LAST-MODIFIED:20240816T182209Z
UID:48740-1726358400-1726444799@ktex.com
SUMMARY:Celebration of Schutzenfest
DESCRIPTION:
URL:https://ktex.com/event/celebration-of-schutzenfest/
LOCATION:Round Top Rifle Association\, 710 FM 1457\, Round Top\, TX\, 78954\, United States
CATEGORIES:Community Events
ATTACH;FMTTYPE=image/png:https://ktex.com/wp-content/uploads/2024/08/schutzenfest-2024.png
END:VEVENT
BEGIN:VEVENT
DTSTART;TZID=America/Chicago:20240914T140000
DTEND;TZID=America/Chicago:20240914T173000
DTSTAMP:20260421T171639
CREATED:20240913T193430Z
LAST-MODIFIED:20240913T193430Z
UID:49240-1726322400-1726335000@ktex.com
SUMMARY:WCF Classic Car & Truck Show (Brenham)
DESCRIPTION:
URL:https://ktex.com/event/wcf-classic-car-truck-show-brenham/
CATEGORIES:Community Events
ATTACH;FMTTYPE=image/jpeg:https://ktex.com/wp-content/uploads/2024/09/wcf-car-truck-show-sept.jpg
END:VEVENT
BEGIN:VEVENT
DTSTART;TZID=America/Chicago:20240914T140000
DTEND;TZID=America/Chicago:20240914T170000
DTSTAMP:20260421T171639
CREATED:20240904T141055Z
LAST-MODIFIED:20240904T141055Z
UID:49033-1726322400-1726333200@ktex.com
SUMMARY:Brenham Belles Mini Belle Clinic
DESCRIPTION:
URL:https://ktex.com/event/brenham-belles-mini-belle-clinic-2/
LOCATION:Brenham High School\, 525 A H Ehrig Drive\, Brenham\, TX\, 77833\, United States
CATEGORIES:Community Events
ATTACH;FMTTYPE=image/jpeg:https://ktex.com/wp-content/uploads/2024/09/brenham-belles-mini-clinic-sept.jpg
END:VEVENT
BEGIN:VEVENT
DTSTART;TZID=America/Chicago:20240914T113000
DTEND;TZID=America/Chicago:20240914T133000
DTSTAMP:20260421T171639
CREATED:20240805T135925Z
LAST-MODIFIED:20240805T135925Z
UID:48546-1726313400-1726320600@ktex.com
SUMMARY:First UMC CS Grocery Giveaway (College Station)
DESCRIPTION:
URL:https://ktex.com/event/first-umc-cs-grocery-giveaway-college-station/
LOCATION:First UMC College Station\, 1125 Wellborn Road\, College Station\, TX\, 77840\, United States
CATEGORIES:Community Events
ATTACH;FMTTYPE=image/jpeg:https://ktex.com/wp-content/uploads/2024/08/fumc-grocery.jpg
END:VEVENT
BEGIN:VEVENT
DTSTART;TZID=America/Chicago:20240914T110000
DTEND;TZID=America/Chicago:20240914T160000
DTSTAMP:20260421T171639
CREATED:20240827T190357Z
LAST-MODIFIED:20240827T190357Z
UID:48938-1726311600-1726329600@ktex.com
SUMMARY:Downtown Chappell Hill Airing of The Quilts
DESCRIPTION:
URL:https://ktex.com/event/downtown-chappell-hill-airing-of-the-quilts/
LOCATION:Downtown Chappell Hill
CATEGORIES:Community Events
ATTACH;FMTTYPE=image/jpeg:https://ktex.com/wp-content/uploads/2024/08/ch-airing-of-quilts-sept.jpg
END:VEVENT
BEGIN:VEVENT
DTSTART;TZID=America/Chicago:20240914T100000
DTEND;TZID=America/Chicago:20240914T140000
DTSTAMP:20260421T171639
CREATED:20240821T191716Z
LAST-MODIFIED:20240821T191716Z
UID:48808-1726308000-1726322400@ktex.com
SUMMARY:Benefit Bake Sale-Help Students go to Italy (Brenham)
DESCRIPTION:
URL:https://ktex.com/event/benefit-bake-sale-help-students-go-to-italy-brenham-2/
LOCATION:Tractor Supply Brenham\, 2718 S Market\, Brenham\, TX\, 77833\, United States
CATEGORIES:Community Events
ATTACH;FMTTYPE=image/png:https://ktex.com/wp-content/uploads/2024/08/bake-sale-aug-sept-oct-nov-dec.png
END:VEVENT
BEGIN:VEVENT
DTSTART;TZID=America/Chicago:20240914T090000
DTEND;TZID=America/Chicago:20240914T130000
DTSTAMP:20260421T171639
CREATED:20240829T214007Z
LAST-MODIFIED:20240829T214007Z
UID:49002-1726304400-1726318800@ktex.com
SUMMARY:Navasota Farmer's Market
DESCRIPTION:
URL:https://ktex.com/event/navasota-farmers-market-9/
LOCATION:Navasota Public Library\, 1411 E Washington Ave\, Navasota\, TX\, 77868\, United States
CATEGORIES:Community Events
ATTACH;FMTTYPE=image/png:https://ktex.com/wp-content/uploads/2024/08/nava-Farmers-Market-sept-002.png
END:VEVENT
BEGIN:VEVENT
DTSTART;VALUE=DATE:20240914
DTEND;VALUE=DATE:20240915
DTSTAMP:20260421T171639
CREATED:20240912T152922Z
LAST-MODIFIED:20240912T152922Z
UID:49227-1726272000-1726358399@ktex.com
SUMMARY:NB Youth Ministry Fundraiser (Brenham)
DESCRIPTION:
URL:https://ktex.com/event/nb-youth-ministry-fundraiser-brenham/
LOCATION:New Beginning Missionary Baptist Church\, 2105 FM 2935\, Brenham\, TX\, 77833\, United States
CATEGORIES:Community Events
ATTACH;FMTTYPE=image/png:https://ktex.com/wp-content/uploads/2024/09/nb-garage-sale-e1726154939220.png
END:VEVENT
BEGIN:VEVENT
DTSTART;VALUE=DATE:20240914
DTEND;VALUE=DATE:20240915
DTSTAMP:20260421T171639
CREATED:20240911T211009Z
LAST-MODIFIED:20240911T211009Z
UID:49220-1726272000-1726358399@ktex.com
SUMMARY:Washington County A&M Club Football Watch Party
DESCRIPTION:
URL:https://ktex.com/event/washington-county-am-club-football-watch-party-2/
LOCATION:30 North Gastropub\, 302 E Alamo Street\, Brenham\, TX\, 77833\, United States
CATEGORIES:Community Events
ATTACH;FMTTYPE=image/png:https://ktex.com/wp-content/uploads/2024/09/football-watch-party-sept-14.png
END:VEVENT
BEGIN:VEVENT
DTSTART;VALUE=DATE:20240914
DTEND;VALUE=DATE:20240915
DTSTAMP:20260421T171639
CREATED:20240909T194654Z
LAST-MODIFIED:20240909T194654Z
UID:49148-1726272000-1726358399@ktex.com
SUMMARY:Pickleball Tournament (Bellville)
DESCRIPTION:
URL:https://ktex.com/event/pickleball-tournament-bellville/
CATEGORIES:Community Events
ATTACH;FMTTYPE=image/jpeg:https://ktex.com/wp-content/uploads/2024/09/pickleball-tournament-bellville-sept.jpg
END:VEVENT
BEGIN:VEVENT
DTSTART;VALUE=DATE:20240914
DTEND;VALUE=DATE:20240915
DTSTAMP:20260421T171639
CREATED:20240904T163818Z
LAST-MODIFIED:20240904T163818Z
UID:49083-1726272000-1726358399@ktex.com
SUMMARY:Colorado Co Fair
DESCRIPTION:Courtney will be in Columbus all day for Colorado County Fair! Catch her announcing the Parade at 10 and then hitting the stage to introduce William Beckmann and Shenandoah!
URL:https://ktex.com/event/colorado-co-fair/
LOCATION:Colorado County Fairgrounds\, 1146 Crossroads Blvd\, Columbus\, TX\, 78934\, United States
CATEGORIES:KTEX on the Road
END:VEVENT
BEGIN:VEVENT
DTSTART;VALUE=DATE:20240914
DTEND;VALUE=DATE:20240915
DTSTAMP:20260421T171639
CREATED:20240904T163444Z
LAST-MODIFIED:20240904T163444Z
UID:49079-1726272000-1726358399@ktex.com
SUMMARY:Kolache Festival
DESCRIPTION:Get your wallets and your stomachs ready for Kolache Festival! Ryan Stone will be there along with 200+ arts and crafts vendors and over 40 food vendors! Go see the Kolache baking contest\, eating contests\, and performances!
URL:https://ktex.com/event/kolache-festival/
LOCATION:Downtown Caldwell
CATEGORIES:KTEX on the Road
END:VEVENT
BEGIN:VEVENT
DTSTART;VALUE=DATE:20240914
DTEND;VALUE=DATE:20240915
DTSTAMP:20260421T171639
CREATED:20240722T144922Z
LAST-MODIFIED:20240722T144922Z
UID:48276-1726272000-1726358399@ktex.com
SUMMARY:Washington Co. Fair Parade (Brenham)
DESCRIPTION:The 2024 Washington County Fair Parade\, will take place on Saturday\, September 14 at 10:30 AM. The parade will begin at the intersection of Main Street and South Market Street and will feature floats\, bands\, and fire trucks. The theme for this year’s parade is “Celebrating Our Rising Stars”
URL:https://ktex.com/event/washington-co-fair-parade-brenham/
LOCATION:Downtown Brenham
CATEGORIES:Community Events
ATTACH;FMTTYPE=image/jpeg:https://ktex.com/wp-content/uploads/2024/07/parade-wcf.jpg
END:VEVENT
END:VCALENDAR