BEGIN:VCALENDAR
VERSION:2.0
PRODID:-//KTEX 106.1 - ECPv6.15.20//NONSGML v1.0//EN
CALSCALE:GREGORIAN
METHOD:PUBLISH
X-WR-CALNAME:KTEX 106.1
X-ORIGINAL-URL:https://ktex.com
X-WR-CALDESC:Events for KTEX 106.1
REFRESH-INTERVAL;VALUE=DURATION:PT1H
X-Robots-Tag:noindex
X-PUBLISHED-TTL:PT1H
BEGIN:VTIMEZONE
TZID:America/Chicago
BEGIN:DAYLIGHT
TZOFFSETFROM:-0600
TZOFFSETTO:-0500
TZNAME:CDT
DTSTART:20230312T080000
END:DAYLIGHT
BEGIN:STANDARD
TZOFFSETFROM:-0500
TZOFFSETTO:-0600
TZNAME:CST
DTSTART:20231105T070000
END:STANDARD
BEGIN:DAYLIGHT
TZOFFSETFROM:-0600
TZOFFSETTO:-0500
TZNAME:CDT
DTSTART:20240310T080000
END:DAYLIGHT
BEGIN:STANDARD
TZOFFSETFROM:-0500
TZOFFSETTO:-0600
TZNAME:CST
DTSTART:20241103T070000
END:STANDARD
BEGIN:DAYLIGHT
TZOFFSETFROM:-0600
TZOFFSETTO:-0500
TZNAME:CDT
DTSTART:20250309T080000
END:DAYLIGHT
BEGIN:STANDARD
TZOFFSETFROM:-0500
TZOFFSETTO:-0600
TZNAME:CST
DTSTART:20251102T070000
END:STANDARD
END:VTIMEZONE
BEGIN:VEVENT
DTSTART;TZID=America/Chicago:20240821T190000
DTEND;TZID=America/Chicago:20240821T203000
DTSTAMP:20260421T183315
CREATED:20240729T190326Z
LAST-MODIFIED:20240729T190326Z
UID:48429-1724266800-1724272200@ktex.com
SUMMARY:Meet the Cubs
DESCRIPTION:Show your Cub pride at Meet the Cubs! Head to Cub Stadium with Courtney Cartwright and meet the bright new faces of the 2024 Cub season!
URL:https://ktex.com/event/meet-the-cubs-2/
LOCATION:Cub Stadium\, 1600 
CATEGORIES:KTEX on the Road
END:VEVENT
BEGIN:VEVENT
DTSTART;VALUE=DATE:20240821
DTEND;VALUE=DATE:20240822
DTSTAMP:20260421T183315
CREATED:20240808T135406Z
LAST-MODIFIED:20240808T135406Z
UID:48628-1724198400-1724284799@ktex.com
SUMMARY:Informational Meeting for Educational Trip to Italy\, France (Brenham)
DESCRIPTION:Washington County students and families eager to travel abroad are encouraged to attend an informational meeting later this month about a trip next summer to Italy and France.  To RSVP for the meeting\, contact Taylor at etaylor@brenhamk-12.net or sign up through the link here.  \nLocal businesses or organizations that wish to help sponsor student travelers or assist with fundraising to cover trip expenses can reach out by contacting Taylor.
URL:https://ktex.com/event/informational-meeting-for-educational-trip-to-italy-france-brenham/
LOCATION:Brenham High School Cafeteria\, 525 A H Ehrig Drive\, Brenham\, TX\, 77833\, United States
CATEGORIES:Community Events
ATTACH;FMTTYPE=image/jpeg:https://ktex.com/wp-content/uploads/2024/08/ITALY.jpg
END:VEVENT
BEGIN:VEVENT
DTSTART;VALUE=DATE:20240821
DTEND;VALUE=DATE:20240822
DTSTAMP:20260421T183315
CREATED:20240808T133509Z
LAST-MODIFIED:20240808T133509Z
UID:48624-1724198400-1724284799@ktex.com
SUMMARY:Meet the Cubs (Brenham)
DESCRIPTION:
URL:https://ktex.com/event/meet-the-cubs-brenham/
LOCATION:Cub Stadium\, 1600 
CATEGORIES:Community Events
ATTACH;FMTTYPE=image/jpeg:https://ktex.com/wp-content/uploads/2024/08/meet-the-cubs.jpg
END:VEVENT
BEGIN:VEVENT
DTSTART;VALUE=DATE:20240820
DTEND;VALUE=DATE:20240821
DTSTAMP:20260421T183315
CREATED:20240814T133842Z
LAST-MODIFIED:20240814T133842Z
UID:48715-1724112000-1724198399@ktex.com
SUMMARY:Student Ice Cream Social/Parent Meeting for Theatre Students (Brenham)
DESCRIPTION:
URL:https://ktex.com/event/student-ice-cream-social-parent-meeting-for-theatre-students-brenham/
LOCATION:Brenham High School Auditorium\, 525 A H Ehrig Drive\, Brenham\, TX\, 77833\, United States
CATEGORIES:Community Events
ATTACH;FMTTYPE=image/jpeg:https://ktex.com/wp-content/uploads/2024/08/ice-cream-social-aug-20.jpg
END:VEVENT
BEGIN:VEVENT
DTSTART;VALUE=DATE:20240819
DTEND;VALUE=DATE:20240820
DTSTAMP:20260421T183315
CREATED:20240806T191445Z
LAST-MODIFIED:20240806T191445Z
UID:48587-1724025600-1724111999@ktex.com
SUMMARY:Physical Day for Brenham ISD UIL Participants/Athletes
DESCRIPTION:
URL:https://ktex.com/event/physical-day-for-brenham-isd-uil-participants-athletes/
LOCATION:Kruse Field House\, 525 A H Ehrig Drive\, Brenham\, TX\, 77833\, United States
CATEGORIES:Community Events
ATTACH;FMTTYPE=image/jpeg:https://ktex.com/wp-content/uploads/2024/08/bisd-physical-day-aug.jpg
END:VEVENT
BEGIN:VEVENT
DTSTART;VALUE=DATE:20240819
DTEND;VALUE=DATE:20240820
DTSTAMP:20260421T183315
CREATED:20240802T172136Z
LAST-MODIFIED:20240802T172136Z
UID:48519-1724025600-1724111999@ktex.com
SUMMARY:Meet the Buffs (Giddings)
DESCRIPTION:
URL:https://ktex.com/event/meet-the-buffs-giddings/
LOCATION:Giddings Buffalo Stadium\, 2335 N. Main Street\, Giddings\, TX\, 78942\, United States
CATEGORIES:Community Events
ATTACH;FMTTYPE=image/jpeg:https://ktex.com/wp-content/uploads/2024/08/meet-the-buffs.jpg
END:VEVENT
BEGIN:VEVENT
DTSTART;VALUE=DATE:20240818
DTEND;VALUE=DATE:20240819
DTSTAMP:20260421T183315
CREATED:20240812T210124Z
LAST-MODIFIED:20240812T210124Z
UID:48654-1723939200-1724025599@ktex.com
SUMMARY:VOLUNTEERS NEEDED Community Service Clean Up Day (Austin County)
DESCRIPTION:
URL:https://ktex.com/event/volunteers-needed-community-service-clean-up-day-austin-county/
LOCATION:Austin County Fairgrounds\, 1076 East Hill\, Bellville\, TX\, 77418\, United States
CATEGORIES:Community Events
ATTACH;FMTTYPE=image/jpeg:https://ktex.com/wp-content/uploads/2024/08/volunteers-needed-ac-fairgrounds.jpg
END:VEVENT
BEGIN:VEVENT
DTSTART;TZID=America/Chicago:20240817T173000
DTEND;TZID=America/Chicago:20240817T233000
DTSTAMP:20260421T183315
CREATED:20231114T190755Z
LAST-MODIFIED:20231114T190755Z
UID:44086-1723915800-1723937400@ktex.com
SUMMARY:It's a 70's Thing-BHS Class Reunion
DESCRIPTION:Brenham High School Students\n1970-1979 Class Reunion\nFB:  Brenham High School 70’s Reunion
URL:https://ktex.com/event/its-a-70s-thing-bhs-class-reunion/
LOCATION:Brenham Fire Department Training Center\, 1101 Hwy 290 West\, Brenham\, TX\, 77833\, United States
CATEGORIES:Community Events
ATTACH;FMTTYPE=image/jpeg:https://ktex.com/wp-content/uploads/2023/11/bhs-class-reunion-70s.jpg
END:VEVENT
BEGIN:VEVENT
DTSTART;TZID=America/Chicago:20240817T103000
DTEND;TZID=America/Chicago:20240817T143000
DTSTAMP:20260421T183315
CREATED:20240813T211618Z
LAST-MODIFIED:20240813T212055Z
UID:48710-1723890600-1723905000@ktex.com
SUMMARY:Blood Drive (Navasota)
DESCRIPTION:
URL:https://ktex.com/event/blood-drive-navasota/
LOCATION:St. Paul’s Episcopal Church (Navasota)\, 414 McAlpine Street\, Navasota\, TX\, 77868\, United States
CATEGORIES:Community Events
ATTACH;FMTTYPE=image/jpeg:https://ktex.com/wp-content/uploads/2024/08/blood-drive-aug-17.jpg
END:VEVENT
BEGIN:VEVENT
DTSTART;TZID=America/Chicago:20240817T100000
DTEND;TZID=America/Chicago:20240817T150000
DTSTAMP:20260421T183315
CREATED:20240807T133745Z
LAST-MODIFIED:20240807T133745Z
UID:48611-1723888800-1723906800@ktex.com
SUMMARY:Benefit Fish Fry for Mt. Pleasant MBC (Brenham)
DESCRIPTION:Rebuilding benefit for Mt. Pleasant MBC of Washington.  Historical church established in 1866.  The church was destroyed by fire on July 15\, 2024.
URL:https://ktex.com/event/benefit-fish-fry-for-mt-pleasant-mbc-brenham/
LOCATION:Boys & Girls Club of Washington County\, 1710 E Tom Green St\, Brenham\, 77833
CATEGORIES:Community Events
ATTACH;FMTTYPE=image/jpeg:https://ktex.com/wp-content/uploads/2024/08/fish-fry-aug-17.jpg
END:VEVENT
BEGIN:VEVENT
DTSTART;TZID=America/Chicago:20240817T100000
DTEND;TZID=America/Chicago:20240817T140000
DTSTAMP:20260421T183315
CREATED:20240805T184826Z
LAST-MODIFIED:20240805T184826Z
UID:48561-1723888800-1723903200@ktex.com
SUMMARY:Mound Hill School Reunion
DESCRIPTION:Mound Hill School Reunion is Saturday\, August 17\, from 10AM – 2PM at Weiss’s Store.  Fried chicken will be served all attendees are asked to bring a side dish and or dessert.  Door prizes welcome.
URL:https://ktex.com/event/mound-hill-school-reunion/
LOCATION:Weiss’s Store\, TX\, United States
CATEGORIES:Community Events
ATTACH;FMTTYPE=image/png:https://ktex.com/wp-content/uploads/2024/08/PSA-red-color.png
END:VEVENT
BEGIN:VEVENT
DTSTART;VALUE=DATE:20240817
DTEND;VALUE=DATE:20240818
DTSTAMP:20260421T183315
CREATED:20240722T211401Z
LAST-MODIFIED:20240722T212401Z
UID:48299-1723852800-1723939199@ktex.com
SUMMARY:Grimes County True Blue Foundation Banquet (Navasota)
DESCRIPTION:
URL:https://ktex.com/event/grimes-county-true-blue-foundation-banquet-navasota/
LOCATION:Grimes County Expo Center\, 5220 FM 3455\, Navasota\, TX\, 77868\, United States
CATEGORIES:Community Events
ATTACH;FMTTYPE=image/jpeg:https://ktex.com/wp-content/uploads/2024/07/grimes-co-true-blue-banquet-new.jpg
END:VEVENT
BEGIN:VEVENT
DTSTART;VALUE=DATE:20240817
DTEND;VALUE=DATE:20240818
DTSTAMP:20260421T183315
CREATED:20240709T135538Z
LAST-MODIFIED:20240709T135538Z
UID:48049-1723852800-1723939199@ktex.com
SUMMARY:Rainbow Tea Ministry Event
DESCRIPTION:
URL:https://ktex.com/event/rainbow-tea-ministry-event/
LOCATION:Greater Macedonia Baptist Church\, 1302 Washington\, Brenham\, TX\, 77833\, United States
CATEGORIES:Community Events
ATTACH;FMTTYPE=image/jpeg:https://ktex.com/wp-content/uploads/2024/07/rainbow-tea-july.jpg
END:VEVENT
BEGIN:VEVENT
DTSTART;TZID=America/Chicago:20240816T180000
DTEND;TZID=America/Chicago:20240816T220000
DTSTAMP:20260421T183315
CREATED:20240709T193047Z
LAST-MODIFIED:20240709T193047Z
UID:48088-1723831200-1723845600@ktex.com
SUMMARY:Brenham Ducks Unlimited Dinner Event
DESCRIPTION:
URL:https://ktex.com/event/brenham-ducks-unlimited-dinner-event/
LOCATION:Fireman’s Training Center\, 1101 Hwy 290 West\, Brenham\, TX\, 77833\, United States
CATEGORIES:Community Events
ATTACH;FMTTYPE=image/png:https://ktex.com/wp-content/uploads/2024/07/brenham-duck-unlimited-aug.png
END:VEVENT
BEGIN:VEVENT
DTSTART;VALUE=DATE:20240816
DTEND;VALUE=DATE:20240817
DTSTAMP:20260421T183315
CREATED:20240813T195923Z
LAST-MODIFIED:20240813T195923Z
UID:48705-1723766400-1723852799@ktex.com
SUMMARY:Family Movie Night (Navasota)
DESCRIPTION:
URL:https://ktex.com/event/family-movie-night-navasota/
LOCATION:Brule Park (Navasota)\, 103 Brosig Ave.\, Navasota\, TX\, 77868\, United States
CATEGORIES:Community Events
ATTACH;FMTTYPE=image/jpeg:https://ktex.com/wp-content/uploads/2024/08/family-movie-night-aug-16.jpg
END:VEVENT
BEGIN:VEVENT
DTSTART;VALUE=DATE:20240816
DTEND;VALUE=DATE:20240817
DTSTAMP:20260421T183315
CREATED:20240807T180622Z
LAST-MODIFIED:20240807T180622Z
UID:48618-1723766400-1723852799@ktex.com
SUMMARY:Washington Co. Wildlife Society Summer Meeting & Fundraiser
DESCRIPTION:RSVP:  If attending – by August 13\, 2024 \nOnline:  www.wcwildlife.org or call Stephanie Damron\, 979 277-6297
URL:https://ktex.com/event/washington-co-wildlife-society-summer-meeting-fundraiser/
LOCATION:Washington County Expo Event Center\, 1305 E. Blue Bell Rd.\, Brenham\, TX\, 77833\, United States
CATEGORIES:Community Events
ATTACH;FMTTYPE=image/jpeg:https://ktex.com/wp-content/uploads/2024/08/wc-wildlife-soc-aug.jpg
END:VEVENT
BEGIN:VEVENT
DTSTART;VALUE=DATE:20240816
DTEND;VALUE=DATE:20240817
DTSTAMP:20260421T183315
CREATED:20240703T194621Z
LAST-MODIFIED:20240703T194621Z
UID:47983-1723766400-1723852799@ktex.com
SUMMARY:Burton Storytime Calendar of Events
DESCRIPTION:
URL:https://ktex.com/event/burton-storytime-calendar-of-events-3/
LOCATION:Burton Furniture Store\, Burton\, TX\, 77835\, United States
CATEGORIES:Community Events
ATTACH;FMTTYPE=image/jpeg:https://ktex.com/wp-content/uploads/2024/07/burton-storytime.jpg
END:VEVENT
BEGIN:VEVENT
DTSTART;VALUE=DATE:20240816
DTEND;VALUE=DATE:20240817
DTSTAMP:20260421T183315
CREATED:20240625T184316Z
LAST-MODIFIED:20240625T184316Z
UID:47850-1723766400-1723852799@ktex.com
SUMMARY:Bellville VFD Celebration
DESCRIPTION:
URL:https://ktex.com/event/bellville-vfd-celebration/
LOCATION:Austin County Fairgrounds\, 1076 East Hill\, Bellville\, TX\, 77418\, United States
CATEGORIES:Community Events
ATTACH;FMTTYPE=image/jpeg:https://ktex.com/wp-content/uploads/2024/06/BVFD-2024-Celebration-Poster-8.5x11-002-scaled.jpg
END:VEVENT
BEGIN:VEVENT
DTSTART;TZID=America/Chicago:20240815T170000
DTEND;TZID=America/Chicago:20240815T190000
DTSTAMP:20260421T183315
CREATED:20240813T185951Z
LAST-MODIFIED:20240813T185951Z
UID:48699-1723741200-1723748400@ktex.com
SUMMARY:Chappell Hill Chamber Business After Hours Event
DESCRIPTION:Chappell Hill Chamber of Commerce Business After Hours Event is Thursday\, August 15th\, 5-7PM at the Rock Store in Chappell Hill.  Hosted by Brenham National Bank\, be sure to bring your business cards and join us for food\, fellowship and fun. 
URL:https://ktex.com/event/chappell-hill-chamber-business-after-hours-event/
LOCATION:Rock Store (Chappell Hill)\, 5070 Main Street\, Chappell Hill\, TX\, 77426\, United States
CATEGORIES:Community Events
ATTACH;FMTTYPE=image/jpeg:https://ktex.com/wp-content/uploads/2024/08/coc-chappell-hill-newest.jpg
END:VEVENT
BEGIN:VEVENT
DTSTART;TZID=America/Chicago:20240815T170000
DTEND;TZID=America/Chicago:20240815T190000
DTSTAMP:20260421T183315
CREATED:20240802T171300Z
LAST-MODIFIED:20240802T171300Z
UID:48513-1723741200-1723748400@ktex.com
SUMMARY:The Bridge Ministries Food Pantry School Supplies Giveaway (Bryan)
DESCRIPTION:
URL:https://ktex.com/event/the-bridge-ministries-food-pantry-school-supplies-giveaway-bryan/
LOCATION:The Bridge Ministries Food Panty\, 408 E. 24th Street\, Bryan\, TX\, 77803\, United States
CATEGORIES:Community Events
ATTACH;FMTTYPE=image/jpeg:https://ktex.com/wp-content/uploads/2024/08/the-bridge-ministries.jpg
END:VEVENT
BEGIN:VEVENT
DTSTART;VALUE=DATE:20240815
DTEND;VALUE=DATE:20240816
DTSTAMP:20260421T183315
CREATED:20240813T190628Z
LAST-MODIFIED:20240813T190628Z
UID:48702-1723680000-1723766399@ktex.com
SUMMARY:Spirit Night at Pioneer-Grace Lutheran School PTL
DESCRIPTION:
URL:https://ktex.com/event/spirit-night-at-pioneer-grace-lutheran-school-ptl/
LOCATION:Pioneer Smokehouse and Mercantile\, 309 South Park\, Brenham\, TX\, 77833\, United States
CATEGORIES:Community Events
ATTACH;FMTTYPE=image/png:https://ktex.com/wp-content/uploads/2024/08/spirit-night-aug-15.png
END:VEVENT
BEGIN:VEVENT
DTSTART;VALUE=DATE:20240815
DTEND;VALUE=DATE:20240816
DTSTAMP:20260421T183315
CREATED:20240812T205610Z
LAST-MODIFIED:20240812T205610Z
UID:48647-1723680000-1723766399@ktex.com
SUMMARY:Friends of Bluebonnet Opry (Brenham)
DESCRIPTION:
URL:https://ktex.com/event/friends-of-bluebonnet-opry-brenham/
LOCATION:Silver Wings Ballroom\, 4100 State Highway 105\, Brenham\, TX\, 77833\, United States
CATEGORIES:Community Events
ATTACH;FMTTYPE=image/jpeg:https://ktex.com/wp-content/uploads/2024/08/friends-of-bb-opry-aug.jpg
END:VEVENT
BEGIN:VEVENT
DTSTART;VALUE=DATE:20240815
DTEND;VALUE=DATE:20240816
DTSTAMP:20260421T183315
CREATED:20240408T203954Z
LAST-MODIFIED:20240408T203954Z
UID:46654-1723680000-1723766399@ktex.com
SUMMARY:Burton Community Center Drive-Thru Meals
DESCRIPTION:
URL:https://ktex.com/event/burton-community-center-drive-thru-meals-10/
LOCATION:Burton Community Center\, 6301 Rehburg Rd.\, Burton\, TX\, 77835\, United States
CATEGORIES:Community Events
ATTACH;FMTTYPE=image/jpeg:https://ktex.com/wp-content/uploads/2024/04/burton-comm-center-april-thru-aug.jpg
END:VEVENT
BEGIN:VEVENT
DTSTART;TZID=America/Chicago:20240814T083000
DTEND;TZID=America/Chicago:20240814T123000
DTSTAMP:20260421T183315
CREATED:20240806T192014Z
LAST-MODIFIED:20240806T192014Z
UID:48594-1723624200-1723638600@ktex.com
SUMMARY:Private Pesticide Applicator Training (Brenham)
DESCRIPTION:
URL:https://ktex.com/event/private-pesticide-applicator-training-brenham/
LOCATION:Washington County Extenion Office (conference room)\, 1305 East Blue Bell Road\, Brenham\, TX\, 77833\, United States
CATEGORIES:Community Events
ATTACH;FMTTYPE=image/png:https://ktex.com/wp-content/uploads/2024/08/private-pesticide-app-training.png
END:VEVENT
BEGIN:VEVENT
DTSTART;TZID=America/Chicago:20240812T160000
DTEND;TZID=America/Chicago:20240812T180000
DTSTAMP:20260421T183315
CREATED:20240729T190043Z
LAST-MODIFIED:20240729T190043Z
UID:48426-1723478400-1723485600@ktex.com
SUMMARY:Meet the Panthers
DESCRIPTION:Hey Burton Panthers! Meet your teachers and meet the 2024 Panthers athletics team! Cowboy Dave will be there to enjoy the pep rally with you!
URL:https://ktex.com/event/meet-the-panthers/
LOCATION:Burton High School Auditorium\, 917 N. Main Street\, Burton\, TX\, 77835\, United States
CATEGORIES:KTEX on the Road
END:VEVENT
BEGIN:VEVENT
DTSTART;TZID=America/Chicago:20240812T090000
DTEND;TZID=America/Chicago:20240812T160000
DTSTAMP:20260421T183315
CREATED:20240801T172551Z
LAST-MODIFIED:20240801T172551Z
UID:48501-1723453200-1723478400@ktex.com
SUMMARY:Rudder HS Schedule Walk (Bryan)
DESCRIPTION:
URL:https://ktex.com/event/rudder-hs-schedule-walk-bryan/
LOCATION:Rudder High School\, 3251 AUSTIN’S COLONY PKWY\, Bryan\, TX\, 77808\, United States
CATEGORIES:Community Events
ATTACH;FMTTYPE=image/jpeg:https://ktex.com/wp-content/uploads/2024/08/rudder-hs-walk-aug.jpg
END:VEVENT
BEGIN:VEVENT
DTSTART;VALUE=DATE:20240812
DTEND;VALUE=DATE:20240817
DTSTAMP:20260421T183315
CREATED:20240723T141052Z
LAST-MODIFIED:20240723T141119Z
UID:48306-1723420800-1723852799@ktex.com
SUMMARY:Brahma Football Ticket Sales (Bellville)
DESCRIPTION:
URL:https://ktex.com/event/brahma-football-ticket-sales/
LOCATION:Bellville ISD Administration Building\, 518 S. Mathews Street\, Bellville\, TX\, 77418\, United States
CATEGORIES:Community Events
ATTACH;FMTTYPE=image/png:https://ktex.com/wp-content/uploads/2024/07/brahma-ftball.png
END:VEVENT
BEGIN:VEVENT
DTSTART;VALUE=DATE:20240812
DTEND;VALUE=DATE:20240813
DTSTAMP:20260421T183315
CREATED:20240726T173448Z
LAST-MODIFIED:20240726T173448Z
UID:48408-1723420800-1723507199@ktex.com
SUMMARY:Navasota ISD Back to School
DESCRIPTION:
URL:https://ktex.com/event/navasota-isd-back-to-school/
CATEGORIES:Community Events
ATTACH;FMTTYPE=image/png:https://ktex.com/wp-content/uploads/2024/07/nisd-back-to-school-aug-12.png
END:VEVENT
BEGIN:VEVENT
DTSTART;TZID=America/Chicago:20240811T120000
DTEND;TZID=America/Chicago:20240811T170000
DTSTAMP:20260421T183315
CREATED:20240715T213637Z
LAST-MODIFIED:20240715T213637Z
UID:48191-1723377600-1723395600@ktex.com
SUMMARY:Rallying Together Back to School Event (Bryan)
DESCRIPTION:
URL:https://ktex.com/event/rallying-together-back-to-school-event-bryan/
LOCATION:Bryan High Gym\, 3450 Campus Drive\, Bryan\, TX\, 77802\, United States
CATEGORIES:Community Events
ATTACH;FMTTYPE=image/jpeg:https://ktex.com/wp-content/uploads/2024/07/rally-together-aug-11.jpg
END:VEVENT
BEGIN:VEVENT
DTSTART;VALUE=DATE:20240811
DTEND;VALUE=DATE:20240818
DTSTAMP:20260421T183315
CREATED:20240806T193553Z
LAST-MODIFIED:20240806T193553Z
UID:48606-1723334400-1723939199@ktex.com
SUMMARY:Fall Plant Sale (Washington County)
DESCRIPTION:
URL:https://ktex.com/event/fall-plant-sale-washington-county/
CATEGORIES:Community Events
ATTACH;FMTTYPE=image/png:https://ktex.com/wp-content/uploads/2024/08/fall-plant-sale.png
END:VEVENT
END:VCALENDAR