BEGIN:VCALENDAR
VERSION:2.0
PRODID:-//KTEX 106.1 - ECPv6.15.20//NONSGML v1.0//EN
CALSCALE:GREGORIAN
METHOD:PUBLISH
X-WR-CALNAME:KTEX 106.1
X-ORIGINAL-URL:https://ktex.com
X-WR-CALDESC:Events for KTEX 106.1
REFRESH-INTERVAL;VALUE=DURATION:PT1H
X-Robots-Tag:noindex
X-PUBLISHED-TTL:PT1H
BEGIN:VTIMEZONE
TZID:America/Chicago
BEGIN:DAYLIGHT
TZOFFSETFROM:-0600
TZOFFSETTO:-0500
TZNAME:CDT
DTSTART:20230312T080000
END:DAYLIGHT
BEGIN:STANDARD
TZOFFSETFROM:-0500
TZOFFSETTO:-0600
TZNAME:CST
DTSTART:20231105T070000
END:STANDARD
BEGIN:DAYLIGHT
TZOFFSETFROM:-0600
TZOFFSETTO:-0500
TZNAME:CDT
DTSTART:20240310T080000
END:DAYLIGHT
BEGIN:STANDARD
TZOFFSETFROM:-0500
TZOFFSETTO:-0600
TZNAME:CST
DTSTART:20241103T070000
END:STANDARD
BEGIN:DAYLIGHT
TZOFFSETFROM:-0600
TZOFFSETTO:-0500
TZNAME:CDT
DTSTART:20250309T080000
END:DAYLIGHT
BEGIN:STANDARD
TZOFFSETFROM:-0500
TZOFFSETTO:-0600
TZNAME:CST
DTSTART:20251102T070000
END:STANDARD
END:VTIMEZONE
BEGIN:VEVENT
DTSTART;TZID=America/Chicago:20240814T083000
DTEND;TZID=America/Chicago:20240814T123000
DTSTAMP:20260421T182947
CREATED:20240806T192014Z
LAST-MODIFIED:20240806T192014Z
UID:48594-1723624200-1723638600@ktex.com
SUMMARY:Private Pesticide Applicator Training (Brenham)
DESCRIPTION:
URL:https://ktex.com/event/private-pesticide-applicator-training-brenham/
LOCATION:Washington County Extenion Office (conference room)\, 1305 East Blue Bell Road\, Brenham\, TX\, 77833\, United States
CATEGORIES:Community Events
ATTACH;FMTTYPE=image/png:https://ktex.com/wp-content/uploads/2024/08/private-pesticide-app-training.png
END:VEVENT
BEGIN:VEVENT
DTSTART;TZID=America/Chicago:20240812T160000
DTEND;TZID=America/Chicago:20240812T180000
DTSTAMP:20260421T182947
CREATED:20240729T190043Z
LAST-MODIFIED:20240729T190043Z
UID:48426-1723478400-1723485600@ktex.com
SUMMARY:Meet the Panthers
DESCRIPTION:Hey Burton Panthers! Meet your teachers and meet the 2024 Panthers athletics team! Cowboy Dave will be there to enjoy the pep rally with you!
URL:https://ktex.com/event/meet-the-panthers/
LOCATION:Burton High School Auditorium\, 917 N. Main Street\, Burton\, TX\, 77835\, United States
CATEGORIES:KTEX on the Road
END:VEVENT
BEGIN:VEVENT
DTSTART;TZID=America/Chicago:20240812T090000
DTEND;TZID=America/Chicago:20240812T160000
DTSTAMP:20260421T182947
CREATED:20240801T172551Z
LAST-MODIFIED:20240801T172551Z
UID:48501-1723453200-1723478400@ktex.com
SUMMARY:Rudder HS Schedule Walk (Bryan)
DESCRIPTION:
URL:https://ktex.com/event/rudder-hs-schedule-walk-bryan/
LOCATION:Rudder High School\, 3251 AUSTIN’S COLONY PKWY\, Bryan\, TX\, 77808\, United States
CATEGORIES:Community Events
ATTACH;FMTTYPE=image/jpeg:https://ktex.com/wp-content/uploads/2024/08/rudder-hs-walk-aug.jpg
END:VEVENT
BEGIN:VEVENT
DTSTART;VALUE=DATE:20240812
DTEND;VALUE=DATE:20240813
DTSTAMP:20260421T182947
CREATED:20240726T173448Z
LAST-MODIFIED:20240726T173448Z
UID:48408-1723420800-1723507199@ktex.com
SUMMARY:Navasota ISD Back to School
DESCRIPTION:
URL:https://ktex.com/event/navasota-isd-back-to-school/
CATEGORIES:Community Events
ATTACH;FMTTYPE=image/png:https://ktex.com/wp-content/uploads/2024/07/nisd-back-to-school-aug-12.png
END:VEVENT
BEGIN:VEVENT
DTSTART;TZID=America/Chicago:20240811T120000
DTEND;TZID=America/Chicago:20240811T170000
DTSTAMP:20260421T182947
CREATED:20240715T213637Z
LAST-MODIFIED:20240715T213637Z
UID:48191-1723377600-1723395600@ktex.com
SUMMARY:Rallying Together Back to School Event (Bryan)
DESCRIPTION:
URL:https://ktex.com/event/rallying-together-back-to-school-event-bryan/
LOCATION:Bryan High Gym\, 3450 Campus Drive\, Bryan\, TX\, 77802\, United States
CATEGORIES:Community Events
ATTACH;FMTTYPE=image/jpeg:https://ktex.com/wp-content/uploads/2024/07/rally-together-aug-11.jpg
END:VEVENT
BEGIN:VEVENT
DTSTART;VALUE=DATE:20240811
DTEND;VALUE=DATE:20240812
DTSTAMP:20260421T182947
CREATED:20240807T135628Z
LAST-MODIFIED:20240807T135628Z
UID:48614-1723334400-1723420799@ktex.com
SUMMARY:Building Fund Program for Mt. Pleasant MBC (Brenham)
DESCRIPTION:Rebuilding benefit for Mt. Pleasant MBC of Washington.  Historical Church established in 1866.  The church was destroyed by fire on July 15\, 2024.
URL:https://ktex.com/event/building-fund-program-for-mt-pleasant-mbc-brenham/
LOCATION:We Care For All Child Care Center\, 900 E Blue Bell Rd.\, Brenham\, TX\, 77833\, United States
CATEGORIES:Community Events
ATTACH;FMTTYPE=image/jpeg:https://ktex.com/wp-content/uploads/2024/08/building-fund-pgm-aug.jpg
END:VEVENT
BEGIN:VEVENT
DTSTART;VALUE=DATE:20240811
DTEND;VALUE=DATE:20240812
DTSTAMP:20260421T182947
CREATED:20240729T191339Z
LAST-MODIFIED:20240729T191339Z
UID:48438-1723334400-1723420799@ktex.com
SUMMARY:Back to School Bash hosted by Bellville Methodist Church
DESCRIPTION:
URL:https://ktex.com/event/back-to-school-bash-hosted-by-bellville-methodist-church/
LOCATION:Bellville Methodist Church\, 234 South Masonic\, Bellville\, TX\, 77418\, United States
CATEGORIES:Community Events
ATTACH;FMTTYPE=image/png:https://ktex.com/wp-content/uploads/2024/07/back-to-sch-bash-bellville-mc-aug-11.png
END:VEVENT
BEGIN:VEVENT
DTSTART;VALUE=DATE:20240811
DTEND;VALUE=DATE:20240812
DTSTAMP:20260421T182947
CREATED:20240725T194811Z
LAST-MODIFIED:20240725T194811Z
UID:48375-1723334400-1723420799@ktex.com
SUMMARY:West End Historical Society Meeting
DESCRIPTION:The West End Historical Society will have its next meeting on Sunday\, August 11th at 2pm at the West End Historical building (located just 1 mile north of Industry on HWY 159).  Featured speakers are David and Ann Gensine Koether of Fayette County.  The couple will present a program on arrowheads.  Various arrowheads will be on display.  Any interested in arrowheads or the history of this community is invited to attend.
URL:https://ktex.com/event/west-end-historical-society-meeting/
LOCATION:West End Historical Society Building\, 9021 FM 109\, Industry\, TX\, 78944\, United States
CATEGORIES:Community Events
ATTACH;FMTTYPE=image/jpeg:https://ktex.com/wp-content/uploads/2024/07/west-end-historical-society.jpg
END:VEVENT
BEGIN:VEVENT
DTSTART;VALUE=DATE:20240811
DTEND;VALUE=DATE:20240812
DTSTAMP:20260421T182947
CREATED:20240723T142021Z
LAST-MODIFIED:20240723T142021Z
UID:48315-1723334400-1723420799@ktex.com
SUMMARY:Back to School Prayer Bash (Bryan)
DESCRIPTION:
URL:https://ktex.com/event/back-to-school-prayer-bash-bryan/
LOCATION:Grace Baptist Church (Bryan)\, 1615 Beck Street\, Bryan\, TX\, 77803\, United States
CATEGORIES:Community Events
ATTACH;FMTTYPE=image/jpeg:https://ktex.com/wp-content/uploads/2024/07/back-to-sch-prayer-bash.jpg
END:VEVENT
BEGIN:VEVENT
DTSTART;VALUE=DATE:20240811
DTEND;VALUE=DATE:20240812
DTSTAMP:20260421T182947
CREATED:20240718T134932Z
LAST-MODIFIED:20240718T134932Z
UID:48259-1723334400-1723420799@ktex.com
SUMMARY:Fireman's Fiesta Fundraiser (Brenham)
DESCRIPTION:
URL:https://ktex.com/event/firemans-fiesta-fundraiser-brenham/
LOCATION:Fireman’s Training Center\, 1101 Hwy 290 West\, Brenham\, TX\, 77833\, United States
CATEGORIES:Community Events
ATTACH;FMTTYPE=image/jpeg:https://ktex.com/wp-content/uploads/2024/07/fireman-fiesta-aug-11.jpg
END:VEVENT
BEGIN:VEVENT
DTSTART;VALUE=DATE:20240811
DTEND;VALUE=DATE:20240812
DTSTAMP:20260421T182947
CREATED:20240405T172900Z
LAST-MODIFIED:20240405T172900Z
UID:46607-1723334400-1723420799@ktex.com
SUMMARY:Sons of Hermann (Shelby) Meeting
DESCRIPTION:MEETING INFORMATION \n2nd Sunday\nJanuary\, April\, August\, December\n5:00 p.m. \nHARMONIE HALL \n509 West FM 389\nFayetteville\, TX 78940
URL:https://ktex.com/event/sons-of-hermann-shelby-meeting-2/
LOCATION:Harmonie Hall (Shelby)\, 509 FM 389 West\, Shelby\, TX\, 78940\, United States
CATEGORIES:Community Events
ATTACH;FMTTYPE=image/png:https://ktex.com/wp-content/uploads/2024/03/hermann-sons-life-logo.png
END:VEVENT
BEGIN:VEVENT
DTSTART;VALUE=DATE:20240811
DTEND;VALUE=DATE:20240812
DTSTAMP:20260421T182947
CREATED:20240103T173258Z
LAST-MODIFIED:20240724T200143Z
UID:44841-1723334400-1723420799@ktex.com
SUMMARY:PFLAG Brenham Meeting
DESCRIPTION:PFLAG Brenham meets on the second Sunday of each month at 5:30 pm.  We are a support group for families\, friends and allies of the LGBTQ+ community.  Let us walk with you on your journey.  For more information\, visit www.facebook.com/BrenhamPFLAG or send an email to pflagbrenham@gmail.com
URL:https://ktex.com/event/pflag-brenham-meeting-8/
CATEGORIES:Community Events
ATTACH;FMTTYPE=image/jpeg:https://ktex.com/wp-content/uploads/2024/01/PFLAG-Logo-brenham-2000x1500-002.jpg
END:VEVENT
BEGIN:VEVENT
DTSTART;TZID=America/Chicago:20240810T200000
DTEND;TZID=America/Chicago:20240810T230000
DTSTAMP:20260421T182947
CREATED:20240510T200645Z
LAST-MODIFIED:20240510T200645Z
UID:47171-1723320000-1723330800@ktex.com
SUMMARY:Summer Concert Series (Caldwell)
DESCRIPTION:FREE LIVE MUSIC ON THE SQUARE  CALDWELL\, TX
URL:https://ktex.com/event/summer-concert-series-caldwell-4/
LOCATION:Downtown Caldwell
CATEGORIES:Community Events
ATTACH;FMTTYPE=image/png:https://ktex.com/wp-content/uploads/2024/05/summer-concert-series-caldwell-2024.png
END:VEVENT
BEGIN:VEVENT
DTSTART;TZID=America/Chicago:20240810T183000
DTEND;TZID=America/Chicago:20240810T200000
DTSTAMP:20260421T182947
CREATED:20240729T185836Z
LAST-MODIFIED:20240729T185836Z
UID:48424-1723314600-1723320000@ktex.com
SUMMARY:Meet the Hornets
DESCRIPTION:Celebrate being a Caldwell Hornet at Caldwell High School’s Meet the Hornets! Meet the 2024 football\, volleyball\, and cross-country teams for the 2024 season! Eilish will be there in the KTEX Country Cruiser!
URL:https://ktex.com/event/meet-the-hornets/
LOCATION:Caldwell High School\, 550 Co Rd 307\, Caldwell
CATEGORIES:KTEX on the Road
END:VEVENT
BEGIN:VEVENT
DTSTART;TZID=America/Chicago:20240810T110000
DTEND;TZID=America/Chicago:20240810T160000
DTSTAMP:20260421T182947
CREATED:20240731T142401Z
LAST-MODIFIED:20240731T142401Z
UID:48477-1723287600-1723305600@ktex.com
SUMMARY:Wine and Cheese Stroll (Chappell Hill)
DESCRIPTION:
URL:https://ktex.com/event/wine-and-cheese-stroll-chappell-hill/
LOCATION:Downtown Chappell Hill
CATEGORIES:Community Events
ATTACH;FMTTYPE=image/jpeg:https://ktex.com/wp-content/uploads/2024/07/wine-and-cheese-aug.jpg
END:VEVENT
BEGIN:VEVENT
DTSTART;TZID=America/Chicago:20240810T100000
DTEND;TZID=America/Chicago:20240810T170000
DTSTAMP:20260421T182947
CREATED:20240729T185629Z
LAST-MODIFIED:20240729T185629Z
UID:48422-1723284000-1723309200@ktex.com
SUMMARY:Fireman's Fiesta Pitch & Cornhole Tournament
DESCRIPTION:55 years of Fireman’s Fiesta! Head out there to try your hand at the cornhole tournament and eat your fill of food with Ryan Stone!
URL:https://ktex.com/event/firemans-fiesta-pitch-cornhole-tournament/
LOCATION:Fireman’s Training Center\, 1101 Hwy 290 West\, Brenham\, TX\, 77833\, United States
CATEGORIES:KTEX on the Road
END:VEVENT
BEGIN:VEVENT
DTSTART;TZID=America/Chicago:20240810T100000
DTEND;TZID=America/Chicago:20240810T140000
DTSTAMP:20260421T182947
CREATED:20240723T142820Z
LAST-MODIFIED:20240723T142820Z
UID:48326-1723284000-1723298400@ktex.com
SUMMARY:Back to School Vaccinations (Bryan)
DESCRIPTION:
URL:https://ktex.com/event/back-to-school-vaccinations-bryan/
LOCATION:Brazos County Health District\, 201 North Texas Ave\, Bryan\, TX\, 77803\, United States
CATEGORIES:Community Events
ATTACH;FMTTYPE=image/png:https://ktex.com/wp-content/uploads/2024/07/vaccinated.png
END:VEVENT
BEGIN:VEVENT
DTSTART;TZID=America/Chicago:20240810T080000
DTEND;TZID=America/Chicago:20240810T120000
DTSTAMP:20260421T182947
CREATED:20240717T205851Z
LAST-MODIFIED:20240717T205851Z
UID:48237-1723276800-1723291200@ktex.com
SUMMARY:FREE Microchips FREE Rabies Vaccines (Bryan)
DESCRIPTION:
URL:https://ktex.com/event/free-microchips-free-rabies-vaccines-bryan/
LOCATION:Villa West Park\, 2050 W. Villa Maria Rd.\, Bryan\, TX\, 77803\, United States
CATEGORIES:Community Events
ATTACH;FMTTYPE=image/jpeg:https://ktex.com/wp-content/uploads/2024/07/microchips-aug.jpg
END:VEVENT
BEGIN:VEVENT
DTSTART;VALUE=DATE:20240810
DTEND;VALUE=DATE:20240811
DTSTAMP:20260421T182947
CREATED:20240718T134207Z
LAST-MODIFIED:20240718T134207Z
UID:48253-1723248000-1723334399@ktex.com
SUMMARY:Pitch Tournament and Cornhole Tournament (Brenham)
DESCRIPTION:
URL:https://ktex.com/event/pitch-tournament-and-cornhole-tournament-brenham/
LOCATION:Fireman’s Training Center\, 1101 Hwy 290 West\, Brenham\, TX\, 77833\, United States
CATEGORIES:Community Events
ATTACH;FMTTYPE=image/jpeg:https://ktex.com/wp-content/uploads/2024/07/cornhole-aug-10.jpg
END:VEVENT
BEGIN:VEVENT
DTSTART;VALUE=DATE:20240810
DTEND;VALUE=DATE:20240811
DTSTAMP:20260421T182947
CREATED:20240717T134527Z
LAST-MODIFIED:20240717T134527Z
UID:48221-1723248000-1723334399@ktex.com
SUMMARY:Back Pack Giveaway (Navasota)
DESCRIPTION:
URL:https://ktex.com/event/back-pack-giveaway-navasota/
LOCATION:Navasota High School\, 1 Rattler Drive\, Navasota\, TX\, 77868\, United States
CATEGORIES:Community Events
ATTACH;FMTTYPE=image/jpeg:https://ktex.com/wp-content/uploads/2024/07/back-to-school-navasota.jpg
END:VEVENT
BEGIN:VEVENT
DTSTART;TZID=America/Chicago:20240809T190000
DTEND;TZID=America/Chicago:20240809T213000
DTSTAMP:20260421T182947
CREATED:20240411T193505Z
LAST-MODIFIED:20240411T193505Z
UID:46732-1723230000-1723239000@ktex.com
SUMMARY:Sounds of Summer - Navasota
DESCRIPTION:On the grounds of Navasota City Hall\, Food trucks and vendors will be on site.  Lawn chairs and coolers are encouraged.
URL:https://ktex.com/event/sounds-of-summer-navasota-3/
CATEGORIES:Community Events
ATTACH;FMTTYPE=image/jpeg:https://ktex.com/wp-content/uploads/2024/04/sounds-of-summer-navasota-june-july-aug.jpg
END:VEVENT
BEGIN:VEVENT
DTSTART;TZID=America/Chicago:20240809T173000
DTEND;TZID=America/Chicago:20240809T193000
DTSTAMP:20260421T182947
CREATED:20240605T205709Z
LAST-MODIFIED:20240605T205709Z
UID:47522-1723224600-1723231800@ktex.com
SUMMARY:Child PIZZA BINGO
DESCRIPTION:
URL:https://ktex.com/event/child-pizza-bingo-8/
LOCATION:Blue Bell Aquatic Center\, 1800 E Tom Green St\, Brenham\, TX\, 77833\, United States
CATEGORIES:Community Events
ATTACH;FMTTYPE=image/jpeg:https://ktex.com/wp-content/uploads/2024/06/pizza-bingo.jpg
END:VEVENT
BEGIN:VEVENT
DTSTART;TZID=America/Chicago:20240809T130000
DTEND;TZID=America/Chicago:20240809T170000
DTSTAMP:20260421T182947
CREATED:20240805T135550Z
LAST-MODIFIED:20240805T135550Z
UID:48543-1723208400-1723222800@ktex.com
SUMMARY:Back to School Bash (Brenham)
DESCRIPTION:
URL:https://ktex.com/event/back-to-school-bash-brenham/
LOCATION:Brenham Nursing & Rehabilitation Center\, 400 E. Sayles St.\, Brenham\, TX\, 77833\, United States
CATEGORIES:Community Events
ATTACH;FMTTYPE=image/jpeg:https://ktex.com/wp-content/uploads/2024/08/back-to-sch-bash-aug-9.jpg
END:VEVENT
BEGIN:VEVENT
DTSTART;TZID=America/Chicago:20240809T100000
DTEND;TZID=America/Chicago:20240809T143000
DTSTAMP:20260421T182947
CREATED:20240724T211529Z
LAST-MODIFIED:20240724T211612Z
UID:48368-1723197600-1723213800@ktex.com
SUMMARY:Safe Sitter Classes (College Station)
DESCRIPTION:Safe Sitter courses provide young teens (grades 6-8) with life and safety skills needed for babysitting. Baylor Scott & White Clinic in College Station will offer classes to cover the training to equip our young teens. Register or find more info here: https://buff.ly/45Zu9pL
URL:https://ktex.com/event/safe-sitter-classes-college-station/
LOCATION:Baylor Scott & White Clinic – College Station Rock Prairie\, 800 Scott & White Drive\, College Station\, TX\, 77845\, United States
CATEGORIES:Community Events
ATTACH;FMTTYPE=image/jpeg:https://ktex.com/wp-content/uploads/2024/07/safe-sitter-classes.jpg
END:VEVENT
BEGIN:VEVENT
DTSTART;VALUE=DATE:20240809
DTEND;VALUE=DATE:20240812
DTSTAMP:20260421T182947
CREATED:20240725T200731Z
LAST-MODIFIED:20240725T200731Z
UID:48379-1723161600-1723420799@ktex.com
SUMMARY:Sales Tax Holiday
DESCRIPTION:Sales tax holiday\, runs Friday through Sunday\, August 9-11.  \nThe tax-free weekend exempts tax on qualified items like clothing\, footwear\, school supplies and backpacks that are priced below $100\, providing savings of about $8 on every $100 spent.  During the tax-free weekend\, qualifying items can be purchased tax-free in person or by internet\, phone or mail. \nPurchases are exempt when the item is both delivered to and paid for by the customer during the exemption period.  They are also exempt when the customer orders and pays for the item\, and the seller accepts the order during the exemption period for immediate shipment\, even if delivery is made after the period ends.  A list of eligible items for the tax-free weekend is available at www.texastaxholiday.org.
URL:https://ktex.com/event/sales-tax-holiday/
CATEGORIES:Community Events
ATTACH;FMTTYPE=image/jpeg:https://ktex.com/wp-content/uploads/2024/07/tax-free-logo.jpg
END:VEVENT
BEGIN:VEVENT
DTSTART;VALUE=DATE:20240809
DTEND;VALUE=DATE:20240810
DTSTAMP:20260421T182947
CREATED:20240802T182412Z
LAST-MODIFIED:20240802T182412Z
UID:48527-1723161600-1723247999@ktex.com
SUMMARY:Hermann Sons Life-Brenham Meeting
DESCRIPTION:Hermann Sons Life-Brenham meeting will be held Friday\, August 9\, doors open at 5:00PM\, meal served at 6:30PM and the meeting will start at 7:15PM at the Hermann Sons Life Hall-Brenham.  This month serving beef tips w/gravy\, mashed potatoes and vegetables… members are to bring a dessert.
URL:https://ktex.com/event/hermann-sons-life-brenham-meeting/
LOCATION:Herman Sons Life-Brenham\, 304 South Germania Street\, Brenham\, TX\, 77833\, United States
CATEGORIES:Community Events
ATTACH;FMTTYPE=image/png:https://ktex.com/wp-content/uploads/2024/08/hermann-sons-life-logo.png
END:VEVENT
BEGIN:VEVENT
DTSTART;VALUE=DATE:20240809
DTEND;VALUE=DATE:20240810
DTSTAMP:20260421T182947
CREATED:20240709T140459Z
LAST-MODIFIED:20240709T140459Z
UID:48058-1723161600-1723247999@ktex.com
SUMMARY:Bryan ISD Community Pep Rally
DESCRIPTION:
URL:https://ktex.com/event/bryan-isd-community-pep-rally/
LOCATION:Merrill Green Stadium\, 3450 Campus Drive\, Bryan\, TX\, 77802\, United States
CATEGORIES:Community Events
ATTACH;FMTTYPE=image/jpeg:https://ktex.com/wp-content/uploads/2024/07/bryan-isd-pep-rally.jpg
END:VEVENT
BEGIN:VEVENT
DTSTART;VALUE=DATE:20240809
DTEND;VALUE=DATE:20240810
DTSTAMP:20260421T182947
CREATED:20240708T211310Z
LAST-MODIFIED:20240708T211310Z
UID:48039-1723161600-1723247999@ktex.com
SUMMARY:Brazos Valley Gives - Registration is Open
DESCRIPTION:The Community Foundation of the Brazos Valley’s 6th annual Brazos Valley Gives is officially set for Tuesday\, October 15\, 2024 when nonprofits from throughout the 7-county region will engage donors to “give where you live.”  \nRegistration is now open for all Brazos Valley 501(c)(3) nonprofits to register to participate in Brazos Valley Gives— brazosvalleygives.org. The deadline to register is Friday\, September 6. Nonprofits pay a $150 registration fee; nonprofits that have an endowment at the Community Foundation are eligible for a discounted fee of $50. This registration fee is used for administrative-related giving day expenses to include the marketing/promotion of the event regionally. Register at brazosvalleygives.org. Nonprofits that register by Friday noon\, August 2\, will be eligible for a $500 Early Bird Registration Prize.
URL:https://ktex.com/event/brazos-valley-gives-registration-is-open-3/
CATEGORIES:Community Events
ATTACH;FMTTYPE=image/jpeg:https://ktex.com/wp-content/uploads/2024/07/BrazosValleyGives24SaveTheDate.jpg
END:VEVENT
BEGIN:VEVENT
DTSTART;VALUE=DATE:20240809
DTEND;VALUE=DATE:20240810
DTSTAMP:20260421T182947
CREATED:20240621T202642Z
LAST-MODIFIED:20240621T202642Z
UID:47802-1723161600-1723247999@ktex.com
SUMMARY:WC 4-H Horse Club Summer Series Awards Banquet
DESCRIPTION:
URL:https://ktex.com/event/wc-4-h-horse-club-summer-series-awards-banquet/
LOCATION:Cowboy Church of Brenham\, 4400 HWY 105\, Brenham\, TX\, 77833\, United States
CATEGORIES:Community Events
ATTACH;FMTTYPE=image/jpeg:https://ktex.com/wp-content/uploads/2024/06/wc-4-h-horse-club.jpg
END:VEVENT
BEGIN:VEVENT
DTSTART;VALUE=DATE:20240809
DTEND;VALUE=DATE:20240810
DTSTAMP:20260421T182947
CREATED:20240109T215234Z
LAST-MODIFIED:20240109T215234Z
UID:45042-1723161600-1723247999@ktex.com
SUMMARY:Sons of Hermann Lodge 6 Meeting
DESCRIPTION:MEETING INFORMATION\n2nd Friday\, Monthly\nMeal at 6:30 PM Meeting at 7:15 PM\nHERMANN SONS LIFE HALL\nEFFECTIVE JANUARY 1\, 2024.  REGUALR MEETINGS\, MEAL WILL BE SERVED AT 6:30 AND MEETING WILL START AT 7:15.  PLEASE MAKE NOTE OF TIME CHANGE.  Make an effort to come to all meetings and support your lodge.
URL:https://ktex.com/event/sons-of-hermann-lodge-6-meeting/
LOCATION:Hermann Sons Life Hall (Brenham)\, 304 E. Germania Street\, Brenham\, TX\, 77833\, United States
CATEGORIES:Community Events
ATTACH;FMTTYPE=image/png:https://ktex.com/wp-content/uploads/2024/01/hermann-sons-life-logo.png
END:VEVENT
END:VCALENDAR