BEGIN:VCALENDAR
VERSION:2.0
PRODID:-//KTEX 106.1 - ECPv6.15.20//NONSGML v1.0//EN
CALSCALE:GREGORIAN
METHOD:PUBLISH
X-ORIGINAL-URL:https://ktex.com
X-WR-CALDESC:Events for KTEX 106.1
REFRESH-INTERVAL;VALUE=DURATION:PT1H
X-Robots-Tag:noindex
X-PUBLISHED-TTL:PT1H
BEGIN:VTIMEZONE
TZID:America/Chicago
BEGIN:DAYLIGHT
TZOFFSETFROM:-0600
TZOFFSETTO:-0500
TZNAME:CDT
DTSTART:20220313T080000
END:DAYLIGHT
BEGIN:STANDARD
TZOFFSETFROM:-0500
TZOFFSETTO:-0600
TZNAME:CST
DTSTART:20221106T070000
END:STANDARD
BEGIN:DAYLIGHT
TZOFFSETFROM:-0600
TZOFFSETTO:-0500
TZNAME:CDT
DTSTART:20230312T080000
END:DAYLIGHT
BEGIN:STANDARD
TZOFFSETFROM:-0500
TZOFFSETTO:-0600
TZNAME:CST
DTSTART:20231105T070000
END:STANDARD
BEGIN:DAYLIGHT
TZOFFSETFROM:-0600
TZOFFSETTO:-0500
TZNAME:CDT
DTSTART:20240310T080000
END:DAYLIGHT
BEGIN:STANDARD
TZOFFSETFROM:-0500
TZOFFSETTO:-0600
TZNAME:CST
DTSTART:20241103T070000
END:STANDARD
BEGIN:DAYLIGHT
TZOFFSETFROM:-0600
TZOFFSETTO:-0500
TZNAME:CDT
DTSTART:20250309T080000
END:DAYLIGHT
BEGIN:STANDARD
TZOFFSETFROM:-0500
TZOFFSETTO:-0600
TZNAME:CST
DTSTART:20251102T070000
END:STANDARD
END:VTIMEZONE
BEGIN:VEVENT
DTSTART;VALUE=DATE:20231221
DTEND;VALUE=DATE:20231222
DTSTAMP:20260419T163439
CREATED:20231211T204731Z
LAST-MODIFIED:20231212T194101Z
UID:44507-1703116800-1703203199@ktex.com
SUMMARY:Washington County A&M Club Christmas Party
DESCRIPTION:Bring a can of food or a pocket full of change to be donated to Bread Partners.  
URL:https://ktex.com/event/washington-county-am-club-christmas-party/
LOCATION:Wine Bar Brenham\, 301 S. Baylor Street\, Brenham\, TX\, 77833\, United States
CATEGORIES:Community Events
ATTACH;FMTTYPE=image/png:https://ktex.com/wp-content/uploads/2023/12/wc-aggie-club-christmas-1.png
END:VEVENT
BEGIN:VEVENT
DTSTART;VALUE=DATE:20231221
DTEND;VALUE=DATE:20231223
DTSTAMP:20260419T163439
CREATED:20231206T151804Z
LAST-MODIFIED:20231206T151804Z
UID:44377-1703116800-1703289599@ktex.com
SUMMARY:Sweetheart Bake Sale
DESCRIPTION:
URL:https://ktex.com/event/sweetheart-bake-sale/
LOCATION:Felder’s Buy and Bye\, 2111 South Market St.\, Brenham\, TX\, 77833\, United States
CATEGORIES:Community Events
ATTACH;FMTTYPE=image/jpeg:https://ktex.com/wp-content/uploads/2023/12/sweetheart-bake-sale.jpg
END:VEVENT
BEGIN:VEVENT
DTSTART;TZID=America/Chicago:20231221T170000
DTEND;TZID=America/Chicago:20231221T183000
DTSTAMP:20260419T163439
CREATED:20231114T191108Z
LAST-MODIFIED:20231114T191108Z
UID:44092-1703178000-1703183400@ktex.com
SUMMARY:Burton Community Center Drive-Thru Meals
DESCRIPTION:
URL:https://ktex.com/event/burton-community-center-drive-thru-meals-2/
LOCATION:TX
CATEGORIES:Community Events
ATTACH;FMTTYPE=image/jpeg:https://ktex.com/wp-content/uploads/2023/11/burton-comm-drive-thru-nov-thru-mar.jpg
END:VEVENT
BEGIN:VEVENT
DTSTART;VALUE=DATE:20231222
DTEND;VALUE=DATE:20231223
DTSTAMP:20260419T163439
CREATED:20231207T154354Z
LAST-MODIFIED:20231207T154354Z
UID:44438-1703203200-1703289599@ktex.com
SUMMARY:A Christmas Concert For Peace
DESCRIPTION:
URL:https://ktex.com/event/a-christmas-concert-for-peace/
LOCATION:Festival Hill Concert Hall\, 248 Jaster Road\, Round Top\, TX\, 78954\, United States
CATEGORIES:Community Events
ATTACH;FMTTYPE=image/jpeg:https://ktex.com/wp-content/uploads/2023/12/concert-for-peace.jpg
END:VEVENT
BEGIN:VEVENT
DTSTART;VALUE=DATE:20231222
DTEND;VALUE=DATE:20231223
DTSTAMP:20260419T163439
CREATED:20231214T145732Z
LAST-MODIFIED:20231214T145732Z
UID:44565-1703203200-1703289599@ktex.com
SUMMARY:Poco Loco Supermercado Grand Opening (Giddings)
DESCRIPTION:
URL:https://ktex.com/event/poco-loco-supermercado-grand-opening-giddings/
LOCATION:Poco Loco Supermercado\, 1079 E Austin Street\, Giddings\, TX\, 78942\, United States
CATEGORIES:Community Events
ATTACH;FMTTYPE=image/jpeg:https://ktex.com/wp-content/uploads/2023/12/poco-loco.jpg
END:VEVENT
BEGIN:VEVENT
DTSTART;VALUE=DATE:20231223
DTEND;VALUE=DATE:20231224
DTSTAMP:20260419T163439
CREATED:20231221T160652Z
LAST-MODIFIED:20231221T160652Z
UID:44644-1703289600-1703375999@ktex.com
SUMMARY:BVR Holiday Pick-Up Schedules
DESCRIPTION:
URL:https://ktex.com/event/bvr-holiday-pick-up-schedules/
LOCATION:TX
CATEGORIES:Community Events
ATTACH;FMTTYPE=image/jpeg:https://ktex.com/wp-content/uploads/2023/12/BVR-Holiday-Schedule-2023-002-scaled.jpg
END:VEVENT
BEGIN:VEVENT
DTSTART;VALUE=DATE:20231224
DTEND;VALUE=DATE:20231225
DTSTAMP:20260419T163439
CREATED:20231207T184249Z
LAST-MODIFIED:20231207T184249Z
UID:44448-1703376000-1703462399@ktex.com
SUMMARY:Independence Baptist Church Christmas Eve Candlelight Service
DESCRIPTION:
URL:https://ktex.com/event/independence-baptist-church-christmas-eve-candlelight-service/
LOCATION:Independence Baptist Church (Historic Church)\, 10405 FM 50\, Brenham\, TX\, 77833\, United States
CATEGORIES:Community Events
ATTACH;FMTTYPE=image/png:https://ktex.com/wp-content/uploads/2023/12/indep-bapt-ch-candlelight.png
END:VEVENT
BEGIN:VEVENT
DTSTART;VALUE=DATE:20231224
DTEND;VALUE=DATE:20231225
DTSTAMP:20260419T163439
CREATED:20231212T195741Z
LAST-MODIFIED:20231212T195741Z
UID:44535-1703376000-1703462399@ktex.com
SUMMARY:Christmas Eve Worship Candlelight Communion Services
DESCRIPTION:
URL:https://ktex.com/event/christmas-eve-worship-candlelight-communion-services/
LOCATION:St. John Lutheran Church (Bellville)\, 520 N. Holland Street\, Bellville\, TX\, 77418\, United States
CATEGORIES:Community Events
ATTACH;FMTTYPE=image/png:https://ktex.com/wp-content/uploads/2023/12/christmas-eve-worship-candlelight-comm-serv.png
END:VEVENT
BEGIN:VEVENT
DTSTART;VALUE=DATE:20231224
DTEND;VALUE=DATE:20231225
DTSTAMP:20260419T163439
CREATED:20231222T171225Z
LAST-MODIFIED:20231222T171225Z
UID:44663-1703376000-1703462399@ktex.com
SUMMARY:Christmas at St. Paul's (Brenham)
DESCRIPTION:
URL:https://ktex.com/event/christmas-at-st-pauls-brenham/
LOCATION:TX
CATEGORIES:Community Events
ATTACH;FMTTYPE=image/jpeg:https://ktex.com/wp-content/uploads/2023/12/CHRISTMAS-at-stp.jpg
END:VEVENT
BEGIN:VEVENT
DTSTART;VALUE=DATE:20231227
DTEND;VALUE=DATE:20231228
DTSTAMP:20260419T163439
CREATED:20231222T174237Z
LAST-MODIFIED:20231222T174237Z
UID:44666-1703635200-1703721599@ktex.com
SUMMARY:Texas Bowl Watch Party
DESCRIPTION:
URL:https://ktex.com/event/texas-bowl-watch-party/
LOCATION:30 North Gastropub\, 302 E Alamo Street\, Brenham\, TX\, 77833\, United States
CATEGORIES:Community Events
ATTACH;FMTTYPE=image/png:https://ktex.com/wp-content/uploads/2023/12/tx-bowl-watch-party.png
END:VEVENT
BEGIN:VEVENT
DTSTART;VALUE=DATE:20231229
DTEND;VALUE=DATE:20240118
DTSTAMP:20260419T163439
CREATED:20231229T220112Z
LAST-MODIFIED:20231229T220112Z
UID:44751-1703808000-1705535999@ktex.com
SUMMARY:Washington County 4-H Photography Contest
DESCRIPTION:The Texas 4-H Photography Contest encourages self-expression and allows youth to demonstrate skills learned in the area of photography\, including the use of photographic equipment and process of photographs
URL:https://ktex.com/event/washington-county-4-h-photography-contest/
LOCATION:TX
CATEGORIES:Community Events
ATTACH;FMTTYPE=image/png:https://ktex.com/wp-content/uploads/2023/12/wc-photography-contest.png
END:VEVENT
BEGIN:VEVENT
DTSTART;VALUE=DATE:20231229
DTEND;VALUE=DATE:20240126
DTSTAMP:20260419T163439
CREATED:20231229T144030Z
LAST-MODIFIED:20231229T144030Z
UID:44737-1703808000-1706227199@ktex.com
SUMMARY:Washington EEA 4-H Scholarships Offered
DESCRIPTION:
URL:https://ktex.com/event/washington-eea-4-h-scholarships-offered/
LOCATION:TX
CATEGORIES:Community Events
ATTACH;FMTTYPE=image/png:https://ktex.com/wp-content/uploads/2023/12/2024-WEEA-Scholarship-Flyer-002.png
END:VEVENT
BEGIN:VEVENT
DTSTART;VALUE=DATE:20231230
DTEND;VALUE=DATE:20231231
DTSTAMP:20260419T163439
CREATED:20231221T160752Z
LAST-MODIFIED:20231221T160752Z
UID:44647-1703894400-1703980799@ktex.com
SUMMARY:BVR Holiday Pick-Up Schedules
DESCRIPTION:
URL:https://ktex.com/event/bvr-holiday-pick-up-schedules-2/
LOCATION:TX
CATEGORIES:Community Events
ATTACH;FMTTYPE=image/jpeg:https://ktex.com/wp-content/uploads/2023/12/BVR-Holiday-Schedule-2023-002-scaled.jpg
END:VEVENT
BEGIN:VEVENT
DTSTART;VALUE=DATE:20231231
DTEND;VALUE=DATE:20240101
DTSTAMP:20260419T163439
CREATED:20230830T135531Z
LAST-MODIFIED:20231026T174201Z
UID:42416-1703980800-1704067199@ktex.com
SUMMARY:New Years Eve Dance
DESCRIPTION:
URL:https://ktex.com/event/nye-dance/
LOCATION:TX
CATEGORIES:Community Events
ATTACH;FMTTYPE=image/jpeg:https://ktex.com/wp-content/uploads/2023/08/NYE-dance-1.jpg
END:VEVENT
BEGIN:VEVENT
DTSTART;VALUE=DATE:20231231
DTEND;VALUE=DATE:20240101
DTSTAMP:20260419T163439
CREATED:20231130T145035Z
LAST-MODIFIED:20231130T145035Z
UID:44294-1703980800-1704067199@ktex.com
SUMMARY:RT New Year's Eve Bash
DESCRIPTION:
URL:https://ktex.com/event/rt-new-years-eve-bash/
LOCATION:Round Top Dance Hall\, 550 N Washington Street\, Round Top\, TX\, 78954\, United States
CATEGORIES:Community Events
ATTACH;FMTTYPE=image/jpeg:https://ktex.com/wp-content/uploads/2023/11/rt-nye-bash.jpg
END:VEVENT
BEGIN:VEVENT
DTSTART;VALUE=DATE:20231231
DTEND;VALUE=DATE:20240101
DTSTAMP:20260419T163439
CREATED:20231206T151952Z
LAST-MODIFIED:20231206T151952Z
UID:44382-1703980800-1704067199@ktex.com
SUMMARY:Brenham Elk's Lodge NYE Dance
DESCRIPTION:
URL:https://ktex.com/event/brenham-elks-lodge-nye-dance/
LOCATION:Brenham Elks Lodge 979\, 400 East Germania St.\, Brenham\, 77833
CATEGORIES:Community Events
ATTACH;FMTTYPE=image/jpeg:https://ktex.com/wp-content/uploads/2023/12/brenham-elks-lodge-new-year.jpg
END:VEVENT
BEGIN:VEVENT
DTSTART;VALUE=DATE:20231231
DTEND;VALUE=DATE:20240101
DTSTAMP:20260419T163439
CREATED:20231211T204942Z
LAST-MODIFIED:20231211T204942Z
UID:44511-1703980800-1704067199@ktex.com
SUMMARY:New Year's Eve Dance at Harmonie Hall
DESCRIPTION:
URL:https://ktex.com/event/new-years-eve-dance-at-harmonie-hall/
LOCATION:Harmonie Hall (Shelby)\, 509 FM 389 West\, Shelby\, TX\, 78940\, United States
CATEGORIES:Community Events
ATTACH;FMTTYPE=image/png:https://ktex.com/wp-content/uploads/2023/12/harmony-ahll-nye-dance.png
END:VEVENT
BEGIN:VEVENT
DTSTART;VALUE=DATE:20231231
DTEND;VALUE=DATE:20240101
DTSTAMP:20260419T163439
CREATED:20231215T215714Z
LAST-MODIFIED:20231215T215738Z
UID:44575-1703980800-1704067199@ktex.com
SUMMARY:Old Year Out - New Year In Gospel Musical
DESCRIPTION:Sunday Morning Sunshine presents “Old Year Out – New Year In” Musical on Sunday\, December 31\, starting at 5:00pm @ New Life Church of God\, featuring The Original Soul Invaders from Industry\, the New Soul Invader from Industry\, The Singing Preachers from Austin and musical guest Sis. Janice Colvin
URL:https://ktex.com/event/old-year-out-new-year-in-musical/
LOCATION:New Life Church of God\, Brenham\, 1990 FM389\, Brenham\, TX\, 77833\, United States
CATEGORIES:Community Events
ATTACH;FMTTYPE=image/png:https://ktex.com/wp-content/uploads/2023/12/SMSS-dec-31.png
END:VEVENT
BEGIN:VEVENT
DTSTART;VALUE=DATE:20240101
DTEND;VALUE=DATE:20240201
DTSTAMP:20260419T163439
CREATED:20231213T210231Z
LAST-MODIFIED:20231213T210231Z
UID:44555-1704067200-1706745599@ktex.com
SUMMARY:Washington County A&M Club Membership Drive
DESCRIPTION:
URL:https://ktex.com/event/washington-county-am-club-membership-drive/
LOCATION:TX
CATEGORIES:Community Events
ATTACH;FMTTYPE=image/png:https://ktex.com/wp-content/uploads/2023/12/membership-drive-aggie-supporters.png
END:VEVENT
BEGIN:VEVENT
DTSTART;VALUE=DATE:20240103
DTEND;VALUE=DATE:20240104
DTSTAMP:20260419T163439
CREATED:20231208T145149Z
LAST-MODIFIED:20231208T145149Z
UID:44456-1704240000-1704326399@ktex.com
SUMMARY:Washington Co. Lunch-N-Learn Gardening Series
DESCRIPTION:
URL:https://ktex.com/event/washington-co-lunch-n-learn-gardening-series/
LOCATION:Washington County Expo Event Center\, 1305 E. Blue Bell Rd.\, Brenham\, TX\, 77833\, United States
CATEGORIES:Community Events
ATTACH;FMTTYPE=image/png:https://ktex.com/wp-content/uploads/2023/12/wc-lunch-learn-24.png
END:VEVENT
BEGIN:VEVENT
DTSTART;VALUE=DATE:20240103
DTEND;VALUE=DATE:20240104
DTSTAMP:20260419T163439
CREATED:20231229T224053Z
LAST-MODIFIED:20231229T224053Z
UID:44754-1704240000-1704326399@ktex.com
SUMMARY:Greater Sealy Area COC Lunch Learn
DESCRIPTION:
URL:https://ktex.com/event/greater-sealy-area-coc-lunch-learn/
LOCATION:Sealy American Legion Hall\, 1630 Meyer Street\, Sealy\, TX\, 77474\, United States
CATEGORIES:Community Events
ATTACH;FMTTYPE=image/png:https://ktex.com/wp-content/uploads/2023/12/sealy-lunch-learn-jan.png
END:VEVENT
BEGIN:VEVENT
DTSTART;TZID=America/Chicago:20240103T110000
DTEND;TZID=America/Chicago:20240103T130000
DTSTAMP:20260419T163439
CREATED:20231227T144212Z
LAST-MODIFIED:20231227T144212Z
UID:44678-1704279600-1704286800@ktex.com
SUMMARY:Cards Club
DESCRIPTION:
URL:https://ktex.com/event/cards-club/
LOCATION:Blue Bell Aquatic Center\, 1800 E Tom Green St\, Brenham\, TX\, 77833\, United States
CATEGORIES:Community Events
ATTACH;FMTTYPE=image/jpeg:https://ktex.com/wp-content/uploads/2023/12/cards-club.jpg
END:VEVENT
BEGIN:VEVENT
DTSTART;TZID=America/Chicago:20240103T120000
DTEND;TZID=America/Chicago:20240103T160000
DTSTAMP:20260419T163439
CREATED:20231228T153948Z
LAST-MODIFIED:20231228T153948Z
UID:44730-1704283200-1704297600@ktex.com
SUMMARY:Softball Skills Camp (Columbus)
DESCRIPTION:
URL:https://ktex.com/event/softball-skills-camp-columbus/
LOCATION:Columbus Little League Softball Fields\, Columbus\, TX\, 78934\, United States
CATEGORIES:Community Events
ATTACH;FMTTYPE=image/jpeg:https://ktex.com/wp-content/uploads/2023/12/softball-skills-camp.jpg
END:VEVENT
BEGIN:VEVENT
DTSTART;VALUE=DATE:20240104
DTEND;VALUE=DATE:20240105
DTSTAMP:20260419T163439
CREATED:20231213T175909Z
LAST-MODIFIED:20231213T175909Z
UID:44552-1704326400-1704412799@ktex.com
SUMMARY:Ribbon Cutting-Grand Opening Brenham Housing Authority-Fairview Terrace
DESCRIPTION:
URL:https://ktex.com/event/ribbon-cutting-grand-opening-brenham-housing-authority-fairview-terrace/
LOCATION:Brenham Housing Authority-Fairview Terrace\, 909 Hasskarl Dr.\, Brenham\, TX\, 77833\, United States
CATEGORIES:Community Events
ATTACH;FMTTYPE=image/jpeg:https://ktex.com/wp-content/uploads/2023/11/coc-washington-county-ribbon-cutting.jpg
END:VEVENT
BEGIN:VEVENT
DTSTART;VALUE=DATE:20240104
DTEND;VALUE=DATE:20240105
DTSTAMP:20260419T163439
CREATED:20231220T155230Z
LAST-MODIFIED:20231220T155230Z
UID:44606-1704326400-1704412799@ktex.com
SUMMARY:NAMI Connection Recovery Support Group Meetings
DESCRIPTION:Weekly meeting on Thursdays\, 6:30 – 8:00 pm CST at St. Peters Episcopal Church in Brenham\n\nNAMI-Brazos Valley serves a seven-county area (Brazos Valley):  Brazos\, Burleson\, Grimes\, Leon\, Madison\, Roberts\, and Washington Counties\nWebsite:  NamiBV.org\nPhone:  979 774-4713
URL:https://ktex.com/event/nami-connection-recovery-support-group-meetings/
LOCATION:St. Peter’s Episcopal Church (Brenham)\, 2310 Airline Dr.\, Brenham\, TX\, 77833\, United States
CATEGORIES:Community Events
ATTACH;FMTTYPE=image/png:https://ktex.com/wp-content/uploads/2023/12/nami-connection-recovery-supp-gr.png
END:VEVENT
BEGIN:VEVENT
DTSTART;VALUE=DATE:20240104
DTEND;VALUE=DATE:20240120
DTSTAMP:20260419T163439
CREATED:20240104T145545Z
LAST-MODIFIED:20240104T145545Z
UID:44896-1704326400-1705708799@ktex.com
SUMMARY:Government-in-Action Youth Tour
DESCRIPTION:Government-in-Action Youth Tour: Washington\, D.C. tour and $1\,000 scholarship for high school students. Applications will open on Nov. 1\, 2023\, and will close on Jan. 19\, 2024.  Fill out application online at:  bluebonnet.coop/scholarships
URL:https://ktex.com/event/government-in-action-youth-tour/
LOCATION:TX
CATEGORIES:Community Events
ATTACH;FMTTYPE=image/jpeg:https://ktex.com/wp-content/uploads/2024/01/bluebonnet-gov-tour.jpg
END:VEVENT
BEGIN:VEVENT
DTSTART;VALUE=DATE:20240105
DTEND;VALUE=DATE:20240106
DTSTAMP:20260419T163439
CREATED:20231220T160104Z
LAST-MODIFIED:20231220T160104Z
UID:44619-1704412800-1704499199@ktex.com
SUMMARY:Texas Farm Bureau Scholarships Now Open
DESCRIPTION:
URL:https://ktex.com/event/texas-farm-bureau-scholarships-now-open/
LOCATION:TX
CATEGORIES:Community Events
ATTACH;FMTTYPE=image/jpeg:https://ktex.com/wp-content/uploads/2023/12/tx-farm-bureau-scholarships.jpg
END:VEVENT
BEGIN:VEVENT
DTSTART;VALUE=DATE:20240105
DTEND;VALUE=DATE:20240106
DTSTAMP:20260419T163439
CREATED:20231226T202417Z
LAST-MODIFIED:20231226T202417Z
UID:44673-1704412800-1704499199@ktex.com
SUMMARY:VFW Post 7104 Steak Supper
DESCRIPTION:James F. Dillon VFW Post 7104 will be having a barbecue beef sirloin steak\, pork steak and pork sausage supper on Friday\, Jan. 5\, doors will open at 6:00 and the meal will be served at 7:00\, call 979 203-5586\, 979 277-5061 to make reservation by 12:00 noon on the date of the meal – You may also call the post home at 979 830-8776 (leave a message)\, the meal is open to the public. The cost of the meal is $15
URL:https://ktex.com/event/vfw-post-7104-steak-supper-5/
LOCATION:James F. Dillion VFW Post 7104\, 1200 East Tom Green Street\, Brenham\, TX\, 77833\, United States
CATEGORIES:Community Events
ATTACH;FMTTYPE=image/jpeg:https://ktex.com/wp-content/uploads/2023/12/vfw.jpg
END:VEVENT
BEGIN:VEVENT
DTSTART;VALUE=DATE:20240105
DTEND;VALUE=DATE:20240106
DTSTAMP:20260419T163439
CREATED:20240105T153115Z
LAST-MODIFIED:20240105T153115Z
UID:44915-1704412800-1704499199@ktex.com
SUMMARY:Cub Basketball Game Night
DESCRIPTION:
URL:https://ktex.com/event/cub-basketball-game-night/
LOCATION:Brenham High School\, 525 A H Ehrig Drive\, Brenham\, TX\, 77833\, United States
CATEGORIES:Community Events
ATTACH;FMTTYPE=image/jpeg:https://ktex.com/wp-content/uploads/2024/01/cub-bb-jan-5.jpg
END:VEVENT
BEGIN:VEVENT
DTSTART;TZID=America/Chicago:20240106T080000
DTEND;TZID=America/Chicago:20240106T110000
DTSTAMP:20260419T163439
CREATED:20231215T203749Z
LAST-MODIFIED:20231215T203749Z
UID:44572-1704528000-1704538800@ktex.com
SUMMARY:Polar Bear Slide benefitting Brenham Waves Special Olympic Swim Team
DESCRIPTION:We know it is cold outside but slide into 2024 on the Big Yellow Slide and help us raise money for our Brenham Waves Special Olympic Swim Team. Recruit some friends\, put on a costume and slide into the leisure pool! Each person who donates $10 gets you a ride down the slide\, and $20 will get you a shirt as well! Don’t forget you can donate the money yourself or you can raise them through friends\, family or businesses!\nStep 1: Register – https://forms.office.com/g/fSFykqghKT\nStep 2: Donate – https://givebutter.com/BrenhamWaves\nStep 3: Email Donation confirmations to ktoy@cityofbrenham.org
URL:https://ktex.com/event/polar-bear-slide-benefitting-brenham-waves-special-olympic-swim-team/
LOCATION:Blue Bell Aquatic Center\, 1800 E Tom Green St\, Brenham\, TX\, 77833\, United States
CATEGORIES:Community Events
ATTACH;FMTTYPE=image/jpeg:https://ktex.com/wp-content/uploads/2023/12/polar-bear-slide.jpg
END:VEVENT
END:VCALENDAR