BEGIN:VCALENDAR
VERSION:2.0
PRODID:-//KTEX 106.1 - ECPv6.15.20//NONSGML v1.0//EN
CALSCALE:GREGORIAN
METHOD:PUBLISH
X-WR-CALNAME:KTEX 106.1
X-ORIGINAL-URL:https://ktex.com
X-WR-CALDESC:Events for KTEX 106.1
REFRESH-INTERVAL;VALUE=DURATION:PT1H
X-Robots-Tag:noindex
X-PUBLISHED-TTL:PT1H
BEGIN:VTIMEZONE
TZID:America/Chicago
BEGIN:DAYLIGHT
TZOFFSETFROM:-0600
TZOFFSETTO:-0500
TZNAME:CDT
DTSTART:20230312T080000
END:DAYLIGHT
BEGIN:STANDARD
TZOFFSETFROM:-0500
TZOFFSETTO:-0600
TZNAME:CST
DTSTART:20231105T070000
END:STANDARD
BEGIN:DAYLIGHT
TZOFFSETFROM:-0600
TZOFFSETTO:-0500
TZNAME:CDT
DTSTART:20240310T080000
END:DAYLIGHT
BEGIN:STANDARD
TZOFFSETFROM:-0500
TZOFFSETTO:-0600
TZNAME:CST
DTSTART:20241103T070000
END:STANDARD
BEGIN:DAYLIGHT
TZOFFSETFROM:-0600
TZOFFSETTO:-0500
TZNAME:CDT
DTSTART:20250309T080000
END:DAYLIGHT
BEGIN:STANDARD
TZOFFSETFROM:-0500
TZOFFSETTO:-0600
TZNAME:CST
DTSTART:20251102T070000
END:STANDARD
END:VTIMEZONE
BEGIN:VEVENT
DTSTART;VALUE=DATE:20240303
DTEND;VALUE=DATE:20240304
DTSTAMP:20260419T163222
CREATED:20240229T150431Z
LAST-MODIFIED:20240229T150431Z
UID:45966-1709424000-1709510399@ktex.com
SUMMARY:Greater Macedonia Church Dedication
DESCRIPTION:
URL:https://ktex.com/event/greater-macedonia-church-dedication/
LOCATION:Greater Macedonia Baptist Church\, 1302 Washington\, Brenham\, TX\, 77833\, United States
CATEGORIES:Community Events
ATTACH;FMTTYPE=image/jpeg:https://ktex.com/wp-content/uploads/2024/02/greater-macedonia.jpg
END:VEVENT
BEGIN:VEVENT
DTSTART;TZID=America/Chicago:20240303T110000
DTEND;TZID=America/Chicago:20240303T130000
DTSTAMP:20260419T163222
CREATED:20240226T203237Z
LAST-MODIFIED:20240226T203237Z
UID:45922-1709463600-1709470800@ktex.com
SUMMARY:Industry Lioness Club Chicken Spaghetti Dinner Fundraiser
DESCRIPTION:
URL:https://ktex.com/event/industry-lioness-club-chicken-spaghetti-dinner-fundraiser/
LOCATION:Industry Catholic Parish Hall\, 15994 TX-159\, Industry\, TX\, 78944\, United States
CATEGORIES:Community Events
ATTACH;FMTTYPE=image/png:https://ktex.com/wp-content/uploads/2024/02/industry-lioness-cl-dinner-mar-3.png
END:VEVENT
BEGIN:VEVENT
DTSTART;VALUE=DATE:20240304
DTEND;VALUE=DATE:20240305
DTSTAMP:20260419T163222
CREATED:20240221T181158Z
LAST-MODIFIED:20240221T181158Z
UID:45844-1709510400-1709596799@ktex.com
SUMMARY:Washington County Genealogical Society Meeting
DESCRIPTION:
URL:https://ktex.com/event/washington-county-genealogical-society-meeting-6/
LOCATION:Nancy Carol Roberts Memorial Library\, 100 Martin Luther King Jr. Parkway\, Brenham\, Texas\, 77833
CATEGORIES:Community Events
ATTACH;FMTTYPE=image/png:https://ktex.com/wp-content/uploads/2024/02/pickard-hs-undertold-legacy-mar-2024.png
END:VEVENT
BEGIN:VEVENT
DTSTART;VALUE=DATE:20240306
DTEND;VALUE=DATE:20240307
DTSTAMP:20260419T163222
CREATED:20231208T145413Z
LAST-MODIFIED:20231208T145413Z
UID:44461-1709683200-1709769599@ktex.com
SUMMARY:Washington County Lunch-N-Learn Gardening Series
DESCRIPTION:
URL:https://ktex.com/event/washington-county-lunch-n-learn-gardening-series/
LOCATION:Washington County Expo Event Center\, 1305 E. Blue Bell Rd.\, Brenham\, TX\, 77833\, United States
CATEGORIES:Community Events
ATTACH;FMTTYPE=image/png:https://ktex.com/wp-content/uploads/2023/12/wc-lunch-learn-24.png
END:VEVENT
BEGIN:VEVENT
DTSTART;VALUE=DATE:20240306
DTEND;VALUE=DATE:20240307
DTSTAMP:20260419T163222
CREATED:20231229T224449Z
LAST-MODIFIED:20231229T224449Z
UID:44761-1709683200-1709769599@ktex.com
SUMMARY:Greater Sealy Area COC Lunch Learn
DESCRIPTION:
URL:https://ktex.com/event/greater-sealy-area-coc-lunch-learn-3/
LOCATION:Knights of Columbus with Columbus Club Hall\, 1310 Hwy. 90\, Sealy\, TX\, 77474\, United States
CATEGORIES:Community Events
ATTACH;FMTTYPE=image/png:https://ktex.com/wp-content/uploads/2023/12/sealy-lunch-learn-march.png
END:VEVENT
BEGIN:VEVENT
DTSTART;VALUE=DATE:20240306
DTEND;VALUE=DATE:20240307
DTSTAMP:20260419T163222
CREATED:20240226T203430Z
LAST-MODIFIED:20240226T203430Z
UID:45926-1709683200-1709769599@ktex.com
SUMMARY:Blood Drive (Bellville)
DESCRIPTION:
URL:https://ktex.com/event/blood-drive-bellville-3/
LOCATION:Faith Academy of Bellville\, 12177 Hwy. 36\, Bellville\, TX\, 77418\, United States
CATEGORIES:Community Events
ATTACH;FMTTYPE=image/jpeg:https://ktex.com/wp-content/uploads/2024/02/blood-drive-mar-6.jpg
END:VEVENT
BEGIN:VEVENT
DTSTART;TZID=America/Chicago:20240306T110000
DTEND;TZID=America/Chicago:20240306T130000
DTSTAMP:20260419T163222
CREATED:20231227T144450Z
LAST-MODIFIED:20231227T144450Z
UID:44683-1709722800-1709730000@ktex.com
SUMMARY:Cards Club
DESCRIPTION:
URL:https://ktex.com/event/cards-club-3/
LOCATION:Blue Bell Aquatic Center\, 1800 E Tom Green St\, Brenham\, TX\, 77833\, United States
CATEGORIES:Community Events
ATTACH;FMTTYPE=image/jpeg:https://ktex.com/wp-content/uploads/2023/12/cards-club.jpg
END:VEVENT
BEGIN:VEVENT
DTSTART;VALUE=DATE:20240307
DTEND;VALUE=DATE:20240308
DTSTAMP:20260419T163222
CREATED:20231220T155456Z
LAST-MODIFIED:20231220T155456Z
UID:44611-1709769600-1709855999@ktex.com
SUMMARY:NAMI Connection Recovery Support Group Meetings
DESCRIPTION:Weekly meeting on Thursdays\, 6:30 – 8:00 pm CST at St. Peters Episcopal Church in Brenham\n\nNAMI-Brazos Valley serves a seven-county area (Brazos Valley):  Brazos\, Burleson\, Grimes\, Leon\, Madison\, Roberts\, and Washington Counties\nWebsite:  NamiBV.org\nPhone:  979 774-4713
URL:https://ktex.com/event/nami-connection-recovery-support-group-meetings-3/
LOCATION:St. Peter’s Episcopal Church (Brenham)\, 2310 Airline Dr.\, Brenham\, TX\, 77833\, United States
CATEGORIES:Community Events
ATTACH;FMTTYPE=image/png:https://ktex.com/wp-content/uploads/2023/12/nami-connection-recovery-supp-gr.png
END:VEVENT
BEGIN:VEVENT
DTSTART;VALUE=DATE:20240307
DTEND;VALUE=DATE:20240308
DTSTAMP:20260419T163222
CREATED:20240215T224251Z
LAST-MODIFIED:20240215T224251Z
UID:45785-1709769600-1709855999@ktex.com
SUMMARY:Washington County Chamber Ribbon Cutting-Hoity Toity Peacock
DESCRIPTION:
URL:https://ktex.com/event/washington-county-chamber-ribbon-cutting-hoity-toity-peacock/
LOCATION:Hoity Toity Peacock\, 905 Hwy 105\, Brenham\, TX\, 77833\, United States
CATEGORIES:Community Events
ATTACH;FMTTYPE=image/jpeg:https://ktex.com/wp-content/uploads/2024/02/ribbon-cut-mar-7.jpg
END:VEVENT
BEGIN:VEVENT
DTSTART;VALUE=DATE:20240307
DTEND;VALUE=DATE:20240310
DTSTAMP:20260419T163222
CREATED:20240208T155429Z
LAST-MODIFIED:20240208T155429Z
UID:45577-1709769600-1710028799@ktex.com
SUMMARY:Spring Open Collection Days for CITY RESIDENTS ONLY
DESCRIPTION:
URL:https://ktex.com/event/spring-open-collection-days-for-city-residents-only/
LOCATION:BVR Collection & Transfer Station\, 2009 Old Chappell Hill Rd\, Brenham\, Texas\, 77833
CATEGORIES:Community Events
ATTACH;FMTTYPE=image/jpeg:https://ktex.com/wp-content/uploads/2024/02/spring-open-collection-days.jpg
END:VEVENT
BEGIN:VEVENT
DTSTART;VALUE=DATE:20240307
DTEND;VALUE=DATE:20240319
DTSTAMP:20260419T163222
CREATED:20240311T185445Z
LAST-MODIFIED:20240311T185445Z
UID:46093-1709769600-1710806399@ktex.com
SUMMARY:Navasota ISD Spring Break & Student Holiday
DESCRIPTION:
URL:https://ktex.com/event/navasota-isd-spring-break-student-holiday/
LOCATION:TX
CATEGORIES:Community Events
ATTACH;FMTTYPE=image/png:https://ktex.com/wp-content/uploads/2024/03/nisd-spring-break.png
END:VEVENT
BEGIN:VEVENT
DTSTART;VALUE=DATE:20240308
DTEND;VALUE=DATE:20240309
DTSTAMP:20260419T163222
CREATED:20240108T195513Z
LAST-MODIFIED:20240108T195513Z
UID:44989-1709856000-1709942399@ktex.com
SUMMARY:Sons of Hermann Lodge 6 Monthly Meeting
DESCRIPTION:MEETING INFORMATION\n2nd Friday\, Monthly\nMeal at 6:30 PM Meeting at 7:15 PM\n@ HERMANN SONS LIFE HALL\nEFFECTIVE JANUARY 1\, 2024.  REGUALR MEETINGS\, MEAL WILL BE SERVED AT 6:30 AND MEETING WILL START AT 7:15.  PLEASE MAKE NOTE OF TIME CHANGE.  Make an effort to come to all meetings and support your lodge.
URL:https://ktex.com/event/sons-of-hermann-lodge-6-monthly-meeting-3/
LOCATION:Hermann Sons Life Hall (Brenham)\, 304 E. Germania Street\, Brenham\, TX\, 77833\, United States
CATEGORIES:Community Events
ATTACH;FMTTYPE=image/png:https://ktex.com/wp-content/uploads/2024/01/hermann-sons-life-logo.png
END:VEVENT
BEGIN:VEVENT
DTSTART;VALUE=DATE:20240308
DTEND;VALUE=DATE:20240309
DTSTAMP:20260419T163222
CREATED:20240201T152502Z
LAST-MODIFIED:20240201T153029Z
UID:45436-1709856000-1709942399@ktex.com
SUMMARY:Meyersville VFD Fried Fish Dinner Fundraiser
DESCRIPTION:
URL:https://ktex.com/event/meyersville-vfd-fried-fish-dinner-fundraiser/
LOCATION:Cowboy Church of Brenham\, 4400 HWY 105\, Brenham\, TX\, 77833\, United States
CATEGORIES:Community Events
ATTACH;FMTTYPE=image/jpeg:https://ktex.com/wp-content/uploads/2024/02/meyersville-vfd-fish-dinner-march.jpg
END:VEVENT
BEGIN:VEVENT
DTSTART;VALUE=DATE:20240308
DTEND;VALUE=DATE:20240309
DTSTAMP:20260419T163222
CREATED:20240202T192102Z
LAST-MODIFIED:20240202T192102Z
UID:45469-1709856000-1709942399@ktex.com
SUMMARY:Prayer at the Pole (Burton)
DESCRIPTION:
URL:https://ktex.com/event/prayer-at-the-pole-burton/
LOCATION:Burton Elementary School\, 12504 W Cedar St.\, Burton\, TX\, 77835\, United States
CATEGORIES:Community Events
ATTACH;FMTTYPE=image/jpeg:https://ktex.com/wp-content/uploads/2024/02/prayer-at-the-pole-march.jpg
END:VEVENT
BEGIN:VEVENT
DTSTART;TZID=America/Chicago:20240308T170000
DTEND;TZID=America/Chicago:20240308T190000
DTSTAMP:20260419T163222
CREATED:20240213T150752Z
LAST-MODIFIED:20240213T150752Z
UID:45681-1709917200-1709924400@ktex.com
SUMMARY:Fish Fry C.H.A.M.P.
DESCRIPTION:
URL:https://ktex.com/event/fish-fry-c-h-a-m-p-4/
LOCATION:Sealy American Legion Hall\, 1630 Meyer Street\, Sealy\, TX\, 77474\, United States
CATEGORIES:Community Events
ATTACH;FMTTYPE=image/jpeg:https://ktex.com/wp-content/uploads/2024/02/fish-fry-champ.jpg
END:VEVENT
BEGIN:VEVENT
DTSTART;TZID=America/Chicago:20240308T173000
DTEND;TZID=America/Chicago:20240308T193000
DTSTAMP:20260419T163222
CREATED:20240109T143536Z
LAST-MODIFIED:20240109T143536Z
UID:45018-1709919000-1709926200@ktex.com
SUMMARY:(Child) Pizza BINGO
DESCRIPTION:
URL:https://ktex.com/event/child-pizza-bingo-3/
LOCATION:Blue Bell Aquatic Center\, 1800 E Tom Green St\, Brenham\, TX\, 77833\, United States
CATEGORIES:Community Events
ATTACH;FMTTYPE=image/jpeg:https://ktex.com/wp-content/uploads/2024/01/pizza-bingo.jpg
END:VEVENT
BEGIN:VEVENT
DTSTART;TZID=America/Chicago:20240308T173000
DTEND;TZID=America/Chicago:20240308T200000
DTSTAMP:20260419T163222
CREATED:20240201T153855Z
LAST-MODIFIED:20240201T153855Z
UID:45446-1709919000-1709928000@ktex.com
SUMMARY:Frelsburg KC Fish Fry
DESCRIPTION:
URL:https://ktex.com/event/frelsburg-kc-fish-fry-4/
LOCATION:Sts. Peter & Paul Diamond Center (Frelsburg)\, 1031 Church Lane\, New Ulm\, TX\, 78950\, United States
CATEGORIES:Community Events
ATTACH;FMTTYPE=image/jpeg:https://ktex.com/wp-content/uploads/2024/02/frelsburg-kc-fish-fry-feb.jpg
END:VEVENT
BEGIN:VEVENT
DTSTART;TZID=America/Chicago:20240308T173000
DTEND;TZID=America/Chicago:20240308T200000
DTSTAMP:20260419T163222
CREATED:20240222T212306Z
LAST-MODIFIED:20240222T212306Z
UID:45880-1709919000-1709928000@ktex.com
SUMMARY:Round Top Rifle Hall Fish Fry
DESCRIPTION:
URL:https://ktex.com/event/round-top-rifle-hall-fish-fry/
LOCATION:Round Top Rifle Association\, 710 FM 1457\, Round Top\, TX\, 78954\, United States
CATEGORIES:Community Events
ATTACH;FMTTYPE=image/png:https://ktex.com/wp-content/uploads/2024/02/rt-rifle-hall-fish-fry-mar-8.png
END:VEVENT
BEGIN:VEVENT
DTSTART;VALUE=DATE:20240309
DTEND;VALUE=DATE:20240310
DTSTAMP:20260419T163222
CREATED:20240208T154417Z
LAST-MODIFIED:20240208T154417Z
UID:45564-1709942400-1710028799@ktex.com
SUMMARY:Texas Ranger Day
DESCRIPTION:
URL:https://ktex.com/event/texas-ranger-day/
LOCATION:TX
CATEGORIES:Community Events
ATTACH;FMTTYPE=image/jpeg:https://ktex.com/wp-content/uploads/2024/02/tx-ranger-day-2024.jpg
END:VEVENT
BEGIN:VEVENT
DTSTART;VALUE=DATE:20240309
DTEND;VALUE=DATE:20240310
DTSTAMP:20260419T163222
CREATED:20240220T212531Z
LAST-MODIFIED:20240305T164424Z
UID:45839-1709942400-1710028799@ktex.com
SUMMARY:Texas Ranger Day 2024
DESCRIPTION:Throw on your badge and your spurs and head to Burton for the annual Texas Ranger Day! Grayson will be there for his very first KTEX outing! Catch him from noon – one while you learn about the old Texas Rangers!
URL:https://ktex.com/event/texas-ranger-day-2024/
LOCATION:Burton Cotton Gin Museum\, 307 North Main St.\, Burton\, 77835
CATEGORIES:KTEX on the Road
END:VEVENT
BEGIN:VEVENT
DTSTART;VALUE=DATE:20240309
DTEND;VALUE=DATE:20240310
DTSTAMP:20260419T163222
CREATED:20240226T203603Z
LAST-MODIFIED:20240226T203922Z
UID:45930-1709942400-1710028799@ktex.com
SUMMARY:Pop-Up Play Day
DESCRIPTION:
URL:https://ktex.com/event/pop-up-play-day/
LOCATION:Jerry Wilson Park\, 900 E. Alamo Street\, Brenham\, TX\, 77833\, United States
CATEGORIES:Community Events
ATTACH;FMTTYPE=image/png:https://ktex.com/wp-content/uploads/2024/02/pop-up-mar.png
END:VEVENT
BEGIN:VEVENT
DTSTART;TZID=America/Chicago:20240309T090000
DTEND;TZID=America/Chicago:20240309T130000
DTSTAMP:20260419T163222
CREATED:20240212T223837Z
LAST-MODIFIED:20240212T223837Z
UID:45662-1709974800-1709989200@ktex.com
SUMMARY:Austin County Cruisers Classic Car Stampede
DESCRIPTION:
URL:https://ktex.com/event/austin-county-cruisers-classic-car-stampede/
LOCATION:Downtown Bellville\, Bellville\, TX\, United States
CATEGORIES:Community Events
ATTACH;FMTTYPE=image/jpeg:https://ktex.com/wp-content/uploads/2024/02/ac-cruisers-classic-car-stampede-mar-9.jpg
END:VEVENT
BEGIN:VEVENT
DTSTART;TZID=America/Chicago:20240309T090000
DTEND;TZID=America/Chicago:20240309T130000
DTSTAMP:20260419T163222
CREATED:20240213T151338Z
LAST-MODIFIED:20240213T151338Z
UID:45689-1709974800-1709989200@ktex.com
SUMMARY:Navasota Farmers Market
DESCRIPTION:
URL:https://ktex.com/event/navasota-farmers-market-5/
LOCATION:Navasota Public Library parking lot\, 1411 E Washington Ave\, Navasota\, TX\, 77838\, United States
CATEGORIES:Community Events
ATTACH;FMTTYPE=image/png:https://ktex.com/wp-content/uploads/2024/02/Farmers-Market-Navasota-march.png
END:VEVENT
BEGIN:VEVENT
DTSTART;TZID=America/Chicago:20240309T150000
DTEND;TZID=America/Chicago:20240309T190000
DTSTAMP:20260419T163222
CREATED:20240108T152550Z
LAST-MODIFIED:20240108T152550Z
UID:44958-1709996400-1710010800@ktex.com
SUMMARY:LaGrange Uncorked
DESCRIPTION:La Grange Uncorked will be happening on Saturday\, March 9th\, 2024 from 3-7pm.  There will be many different wineries set up around downtown La Grange for some delicious sampling. You will also be able to enjoy high-quality live music while sitting on the Fayette County Courthouse lawn under the big Texas oak trees. You can purchase tickets online or in person at the Historic Casino Hall located at 254 N Jefferson St. in La Grange.
URL:https://ktex.com/event/lagrange-uncorked/
LOCATION:Downtown La Grange\, 78945
CATEGORIES:Community Events
ATTACH;FMTTYPE=image/jpeg:https://ktex.com/wp-content/uploads/2024/01/lagrange-uncorked.jpg
END:VEVENT
BEGIN:VEVENT
DTSTART;VALUE=DATE:20240310
DTEND;VALUE=DATE:20240311
DTSTAMP:20260419T163222
CREATED:20240103T172724Z
LAST-MODIFIED:20240103T172724Z
UID:44821-1710028800-1710115199@ktex.com
SUMMARY:PFLAG Brenham Meeting
DESCRIPTION:PFLAG Brenham meets on the second Sunday of each month at 5:30 pm.  We are a support group for families\, friends and allies of the LGBTQ+ community.  Let us walk with you on your journey.  For more information\, visit www.facebook.com/BrenhamPFLAG or send an email to pflagbrenham@gmail.com
URL:https://ktex.com/event/pflag-brenham-meeting-3/
LOCATION:TX
CATEGORIES:Community Events
ATTACH;FMTTYPE=image/jpeg:https://ktex.com/wp-content/uploads/2024/01/PFLAG-Brenham-new.jpg
END:VEVENT
BEGIN:VEVENT
DTSTART;VALUE=DATE:20240310
DTEND;VALUE=DATE:20240311
DTSTAMP:20260419T163222
CREATED:20240214T151653Z
LAST-MODIFIED:20240214T151653Z
UID:45704-1710028800-1710115199@ktex.com
SUMMARY:Family & Friends Day at New Hope Community Church
DESCRIPTION:
URL:https://ktex.com/event/family-friends-day-at-new-hope-community-church/
LOCATION:New Hope Community Church (Brenham)\, 12221 FM 390 E\, Brenham\, TX\, 77833\, United States
CATEGORIES:Community Events
ATTACH;FMTTYPE=image/jpeg:https://ktex.com/wp-content/uploads/2024/02/new-hope-comm-ch-family-friends-day.jpg
END:VEVENT
BEGIN:VEVENT
DTSTART;VALUE=DATE:20240311
DTEND;VALUE=DATE:20240316
DTSTAMP:20260419T163222
CREATED:20240311T181204Z
LAST-MODIFIED:20240311T181204Z
UID:46038-1710115200-1710547199@ktex.com
SUMMARY:Splish Splash Spring Break at BBAC
DESCRIPTION:
URL:https://ktex.com/event/splish-splash-spring-break-at-bbac/
LOCATION:Blue Bell Aquatic Center\, 1800 E Tom Green St\, Brenham\, TX\, 77833\, United States
CATEGORIES:Community Events
ATTACH;FMTTYPE=image/jpeg:https://ktex.com/wp-content/uploads/2024/03/bbac-spring-break.jpg
END:VEVENT
BEGIN:VEVENT
DTSTART;VALUE=DATE:20240311
DTEND;VALUE=DATE:20240316
DTSTAMP:20260419T163222
CREATED:20240311T181814Z
LAST-MODIFIED:20240311T181814Z
UID:46047-1710115200-1710547199@ktex.com
SUMMARY:WCF Online Entries Now Open
DESCRIPTION:
URL:https://ktex.com/event/wcf-online-entries-now-open/
LOCATION:TX
CATEGORIES:Community Events
ATTACH;FMTTYPE=image/jpeg:https://ktex.com/wp-content/uploads/2024/03/wcf-online-entries-mar-15.jpg
END:VEVENT
BEGIN:VEVENT
DTSTART;VALUE=DATE:20240313
DTEND;VALUE=DATE:20240314
DTSTAMP:20260419T163222
CREATED:20240312T135147Z
LAST-MODIFIED:20240312T135147Z
UID:46112-1710288000-1710374399@ktex.com
SUMMARY:Brahmanette Softball Camp
DESCRIPTION:
URL:https://ktex.com/event/brahmanette-softball-camp/
LOCATION:Bellville High School\, 850 Schumann Rd\, Bellville\, TX\, 77418\, United States
CATEGORIES:Community Events
ATTACH;FMTTYPE=image/jpeg:https://ktex.com/wp-content/uploads/2024/03/brahmanette-softball-camp.jpg
END:VEVENT
BEGIN:VEVENT
DTSTART;TZID=America/Chicago:20240313T100000
DTEND;TZID=America/Chicago:20240313T143000
DTSTAMP:20260419T163222
CREATED:20240223T213748Z
LAST-MODIFIED:20240223T213748Z
UID:45886-1710324000-1710340200@ktex.com
SUMMARY:Blood Drive at Hospice BV
DESCRIPTION:Hospice BV is hosting a blood drive on Wednesday\, March 13\, from 10am – 2:30pm\, the donor coach will be located at 302 East Blue Bell Rd.
URL:https://ktex.com/event/blood-drive-at-hospice-bv/
LOCATION:Hospice Brazos Valley (Brenham)\, 302 E Blue Bell Road\, Brenham\, TX\, 77833\, United States
CATEGORIES:Community Events
ATTACH;FMTTYPE=image/png:https://ktex.com/wp-content/uploads/2024/02/hospice-bv-logo-all-green-NEW.png
END:VEVENT
END:VCALENDAR