BEGIN:VCALENDAR
VERSION:2.0
PRODID:-//KTEX 106.1 - ECPv6.15.20//NONSGML v1.0//EN
CALSCALE:GREGORIAN
METHOD:PUBLISH
X-ORIGINAL-URL:https://ktex.com
X-WR-CALDESC:Events for KTEX 106.1
REFRESH-INTERVAL;VALUE=DURATION:PT1H
X-Robots-Tag:noindex
X-PUBLISHED-TTL:PT1H
BEGIN:VTIMEZONE
TZID:America/Chicago
BEGIN:DAYLIGHT
TZOFFSETFROM:-0600
TZOFFSETTO:-0500
TZNAME:CDT
DTSTART:20230312T080000
END:DAYLIGHT
BEGIN:STANDARD
TZOFFSETFROM:-0500
TZOFFSETTO:-0600
TZNAME:CST
DTSTART:20231105T070000
END:STANDARD
BEGIN:DAYLIGHT
TZOFFSETFROM:-0600
TZOFFSETTO:-0500
TZNAME:CDT
DTSTART:20240310T080000
END:DAYLIGHT
BEGIN:STANDARD
TZOFFSETFROM:-0500
TZOFFSETTO:-0600
TZNAME:CST
DTSTART:20241103T070000
END:STANDARD
BEGIN:DAYLIGHT
TZOFFSETFROM:-0600
TZOFFSETTO:-0500
TZNAME:CDT
DTSTART:20250309T080000
END:DAYLIGHT
BEGIN:STANDARD
TZOFFSETFROM:-0500
TZOFFSETTO:-0600
TZNAME:CST
DTSTART:20251102T070000
END:STANDARD
END:VTIMEZONE
BEGIN:VEVENT
DTSTART;VALUE=DATE:20240414
DTEND;VALUE=DATE:20240415
DTSTAMP:20260419T135433
CREATED:20240408T153940Z
LAST-MODIFIED:20240408T153940Z
UID:46626-1713052800-1713139199@ktex.com
SUMMARY:BVB annual Bluebonnets & Bumpers Car Show
DESCRIPTION:
URL:https://ktex.com/event/bvb-annual-bluebonnets-bumpers-car-show/
LOCATION:Brazos Valley Brewing Company-Brenham\, 206 S. Jackson St.\, Brenham\, TX\, 77833\, United States
CATEGORIES:Community Events
ATTACH;FMTTYPE=image/png:https://ktex.com/wp-content/uploads/2024/04/bluebonnet-bumpers-car-show.png
END:VEVENT
BEGIN:VEVENT
DTSTART;VALUE=DATE:20240414
DTEND;VALUE=DATE:20240418
DTSTAMP:20260419T135433
CREATED:20240402T193207Z
LAST-MODIFIED:20240402T193207Z
UID:46548-1713052800-1713398399@ktex.com
SUMMARY:Revival Services at Historic Independence Baptist Church
DESCRIPTION:
URL:https://ktex.com/event/revival-services-at-historic-independence-baptist-church/
LOCATION:Historic Independence Baptist Church\, 10405 FM-50\, Brenham\, TX\, 77833\, United States
CATEGORIES:Community Events
ATTACH;FMTTYPE=image/png:https://ktex.com/wp-content/uploads/2024/04/revival-services-april.png
END:VEVENT
BEGIN:VEVENT
DTSTART;TZID=America/Chicago:20240414T110000
DTEND;TZID=America/Chicago:20240414T130000
DTSTAMP:20260419T135433
CREATED:20240327T214113Z
LAST-MODIFIED:20240327T214113Z
UID:46476-1713092400-1713099600@ktex.com
SUMMARY:Somerville VFD Crawfish/Shrimp Fundraiser
DESCRIPTION:
URL:https://ktex.com/event/somerville-vfd-crawfish-shrimp-fundraiser/
LOCATION:Somerville Fire Station\, 742 Memory Lane\, Somerville\, TX\, 77879\, United States
CATEGORIES:Community Events
ATTACH;FMTTYPE=image/jpeg:https://ktex.com/wp-content/uploads/2024/03/somerville-vfd-fundraiser-april.jpg
END:VEVENT
BEGIN:VEVENT
DTSTART;VALUE=DATE:20240415
DTEND;VALUE=DATE:20240416
DTSTAMP:20260419T135433
CREATED:20240320T140321Z
LAST-MODIFIED:20240320T140321Z
UID:46288-1713139200-1713225599@ktex.com
SUMMARY:Developmental Volleyball Camp
DESCRIPTION:
URL:https://ktex.com/event/developmental-volleyball-camp-2/
LOCATION:St. Mary’s Gym (the PAC)\, 701 Church Street\, Brenham\, TX\, 77833\, United States
CATEGORIES:Community Events
ATTACH;FMTTYPE=image/jpeg:https://ktex.com/wp-content/uploads/2024/03/vb-camp-april.jpg
END:VEVENT
BEGIN:VEVENT
DTSTART;VALUE=DATE:20240415
DTEND;VALUE=DATE:20240501
DTSTAMP:20260419T135433
CREATED:20240117T191658Z
LAST-MODIFIED:20240318T193131Z
UID:45205-1713139200-1714521599@ktex.com
SUMMARY:Washington County Juneteenth 2024 Events
DESCRIPTION:ALL REGISTRATION FORMS DUE MAY 1st 
URL:https://ktex.com/event/washington-county-ja-june19teenth-celebration-3/
LOCATION:TX
CATEGORIES:Community Events
ATTACH;FMTTYPE=image/jpeg:https://ktex.com/wp-content/uploads/2024/01/juneteenth-2024-events-calendar.jpg
END:VEVENT
BEGIN:VEVENT
DTSTART;VALUE=DATE:20240416
DTEND;VALUE=DATE:20240417
DTSTAMP:20260419T135433
CREATED:20231208T150742Z
LAST-MODIFIED:20231208T150742Z
UID:44480-1713225600-1713311999@ktex.com
SUMMARY:Austin Co. Lunch-N-Learn Series (Spring)
DESCRIPTION:
URL:https://ktex.com/event/austin-co-lunch-n-learn-series-spring-4/
LOCATION:Austin County Courthouse (basement meeting room)\, 1 E Main Street\, Bellville\, TX\, 77418\, United States
CATEGORIES:Community Events
ATTACH;FMTTYPE=image/jpeg:https://ktex.com/wp-content/uploads/2023/12/ac-lunch-learn-series-24.jpg
END:VEVENT
BEGIN:VEVENT
DTSTART;TZID=America/Chicago:20240416T080000
DTEND;TZID=America/Chicago:20240416T170000
DTSTAMP:20260419T135433
CREATED:20240412T145628Z
LAST-MODIFIED:20240412T145628Z
UID:46765-1713254400-1713286800@ktex.com
SUMMARY:Brenham Cub Baseball Youth Night
DESCRIPTION:
URL:https://ktex.com/event/brenham-cub-baseball-youth-night/
LOCATION:City of Brenham Fireman’s Park\, 901 N. Park Street\, Brenham\, TX\, 77833\, United States
CATEGORIES:Community Events
ATTACH;FMTTYPE=image/jpeg:https://ktex.com/wp-content/uploads/2024/04/baseball-youth-night.jpg
END:VEVENT
BEGIN:VEVENT
DTSTART;TZID=America/Chicago:20240416T160000
DTEND;TZID=America/Chicago:20240416T180000
DTSTAMP:20260419T135433
CREATED:20240404T134550Z
LAST-MODIFIED:20240404T134550Z
UID:46575-1713283200-1713290400@ktex.com
SUMMARY:Washington County Chamber Connect after Four Event
DESCRIPTION:
URL:https://ktex.com/event/washington-county-chamber-connect-after-four-event-4/
LOCATION:D.R. Horton – Liberty Village\, 1116 Fannin St.\, Brenham\, TX\, 77833\, United States
CATEGORIES:Community Events
ATTACH;FMTTYPE=image/jpeg:https://ktex.com/wp-content/uploads/2024/04/connect-after-four-april.jpg
END:VEVENT
BEGIN:VEVENT
DTSTART;VALUE=DATE:20240417
DTEND;VALUE=DATE:20240501
DTSTAMP:20260419T135433
CREATED:20240417T201328Z
LAST-MODIFIED:20240417T201328Z
UID:46823-1713312000-1714521599@ktex.com
SUMMARY:Brenham Trails Resident spearhead Benefit Fundraiser
DESCRIPTION:
URL:https://ktex.com/event/brenham-trails-resident-spearhead-benefit-fundraiser/
LOCATION:TX
CATEGORIES:Community Events
ATTACH;FMTTYPE=image/png:https://ktex.com/wp-content/uploads/2024/04/brenham-trails-benefit-fundraiser.png
END:VEVENT
BEGIN:VEVENT
DTSTART;TZID=America/Chicago:20240417T174000
DTEND;TZID=America/Chicago:20240417T201000
DTSTAMP:20260419T135433
CREATED:20240322T201253Z
LAST-MODIFIED:20240322T201253Z
UID:46353-1713375600-1713384600@ktex.com
SUMMARY:American Red Cross CPR Certification
DESCRIPTION:
URL:https://ktex.com/event/american-red-cross-cpr-certification/
LOCATION:TX
CATEGORIES:Community Events
ATTACH;FMTTYPE=image/jpeg:https://ktex.com/wp-content/uploads/2024/03/CPR-certification.jpg
END:VEVENT
BEGIN:VEVENT
DTSTART;VALUE=DATE:20240418
DTEND;VALUE=DATE:20240419
DTSTAMP:20260419T135433
CREATED:20240408T203043Z
LAST-MODIFIED:20240408T203043Z
UID:46645-1713398400-1713484799@ktex.com
SUMMARY:Burton Community Center Drive-Thru Meals
DESCRIPTION:
URL:https://ktex.com/event/burton-community-center-drive-thru-meals-6/
LOCATION:Burton Community Center\, 6301 Rehburg Rd.\, Burton\, TX\, 77835\, United States
CATEGORIES:Community Events
ATTACH;FMTTYPE=image/jpeg:https://ktex.com/wp-content/uploads/2024/04/burton-comm-center-april-thru-aug.jpg
END:VEVENT
BEGIN:VEVENT
DTSTART;VALUE=DATE:20240418
DTEND;VALUE=DATE:20240419
DTSTAMP:20260419T135433
CREATED:20240411T194454Z
LAST-MODIFIED:20240411T194454Z
UID:46734-1713398400-1713484799@ktex.com
SUMMARY:Southern Charm Holiday-Special Travel Presentation
DESCRIPTION:More information is available by contacting \nMarita Mikeska (979-451-9244\, maritamikeska630@gmail.com\nor Renee Mueller (979-830-3596\, renee_mueller@hotmail.com
URL:https://ktex.com/event/southern-charm-holiday-special-travel-presentation/
LOCATION:Blinn College District\, Brenham Campus student center\, 1007 Walter Schwartz Way\, Brenham\, TX\, 77833\, United States
CATEGORIES:Community Events
ATTACH;FMTTYPE=image/jpeg:https://ktex.com/wp-content/uploads/2024/04/southern-charm-holiday.jpg
END:VEVENT
BEGIN:VEVENT
DTSTART;VALUE=DATE:20240418
DTEND;VALUE=DATE:20240419
DTSTAMP:20260419T135433
CREATED:20240418T193926Z
LAST-MODIFIED:20240418T193926Z
UID:46842-1713398400-1713484799@ktex.com
SUMMARY:Friends of Bluebonnet Opry - LIVE
DESCRIPTION:
URL:https://ktex.com/event/friends-of-bluebonnet-opry-live/
LOCATION:Silver Wings Ballroom\, 4100 State Highway 105\, Brenham\, TX\, 77833\, United States
CATEGORIES:Community Events
ATTACH;FMTTYPE=image/png:https://ktex.com/wp-content/uploads/2024/04/friends-of-bluebonnet-opry-april.png
END:VEVENT
BEGIN:VEVENT
DTSTART;TZID=America/Chicago:20240418T080000
DTEND;TZID=America/Chicago:20240418T170000
DTSTAMP:20260419T135433
CREATED:20240418T155128Z
LAST-MODIFIED:20240418T155159Z
UID:46838-1713427200-1713459600@ktex.com
SUMMARY:Larry's Feed and Seed Alfalfa Sale
DESCRIPTION:Farmers\, ranchers\, and horse owners…this one’s for you! Larry’s Feed and Seed\, behind Mr. Gatti’s in Brenham\, is having a sale from 1 – 4 on Saturday\, April 27th! Courtney will be there to help you buy some premium hay from Lucky Circle M Ranch! They’ll have burgers\, hot dogs\, and giveaways\, and we’ll bring the Wagon Wheel of Prizes!
URL:https://ktex.com/event/larrys-feed-and-seed-alfalfa-sale-2/
LOCATION:TX
CATEGORIES:KTEX on the Road
END:VEVENT
BEGIN:VEVENT
DTSTART;TZID=America/Chicago:20240418T170000
DTEND;TZID=America/Chicago:20240418T190000
DTSTAMP:20260419T135433
CREATED:20240415T201723Z
LAST-MODIFIED:20240415T201723Z
UID:46791-1713459600-1713466800@ktex.com
SUMMARY:Austin County Mixer - Business Networking
DESCRIPTION:
URL:https://ktex.com/event/austin-county-mixer-business-networking/
LOCATION:Amsler Hills Winery\, 6226 FM 969\, Sealy\, TX\, 77474\, United States
CATEGORIES:Community Events
ATTACH;FMTTYPE=image/png:https://ktex.com/wp-content/uploads/2024/04/ac-mixer-april.png
END:VEVENT
BEGIN:VEVENT
DTSTART;VALUE=DATE:20240419
DTEND;VALUE=DATE:20240420
DTSTAMP:20260419T135433
CREATED:20240314T135638Z
LAST-MODIFIED:20240314T135638Z
UID:46184-1713484800-1713571199@ktex.com
SUMMARY:Chappell Hill Chamber of Commerce Recognition Banquet
DESCRIPTION:Mark your calendars…for the Chappell Hill Chamber of Commerce Annual Recognition Banquet on Friday\, April 19\, 2024! Join us in the fun\, and cheer on our Man of the Year\, Woman of the Year and Business of the Year! Denim & Diamonds in Chappell Hill! Great food\, fellowship and amazing drawing items and more! You don’t want to miss this annual event in Chappell Hill! Stay tuned for more details. #annualrecognitionbanquet
URL:https://ktex.com/event/chappell-hill-chamber-of-commerce-recognition-banquet/
LOCATION:TX
CATEGORIES:Community Events
ATTACH;FMTTYPE=image/png:https://ktex.com/wp-content/uploads/2024/03/denim-and-diamonds-april.png
END:VEVENT
BEGIN:VEVENT
DTSTART;VALUE=DATE:20240419
DTEND;VALUE=DATE:20240420
DTSTAMP:20260419T135433
CREATED:20240410T201840Z
LAST-MODIFIED:20240410T201840Z
UID:46711-1713484800-1713571199@ktex.com
SUMMARY:Brenham Belles Spring Show
DESCRIPTION:
URL:https://ktex.com/event/brenham-belles-spring-show/
LOCATION:Brenham High School Auditorium\, 525 A H Ehrig Drive\, Brenham\, TX\, 77833\, United States
CATEGORIES:Community Events
ATTACH;FMTTYPE=image/jpeg:https://ktex.com/wp-content/uploads/2024/04/belles-great-american-tour.jpg
END:VEVENT
BEGIN:VEVENT
DTSTART;VALUE=DATE:20240419
DTEND;VALUE=DATE:20240420
DTSTAMP:20260419T135433
CREATED:20240418T204139Z
LAST-MODIFIED:20240418T204139Z
UID:46845-1713484800-1713571199@ktex.com
SUMMARY:Brenham Pregnancy Center Open House
DESCRIPTION:The Brenham Pregnancy Center is inviting the public to Open House on Friday morning\, April 19.  Starting at 10am\, visitors will be able to take tours of their facility.  The Brenham Pregnancy Center is a tax-exempt organization that offers free pregnancy services to those who need them.  Services that they offer include: pregnancy testing\, options counseling\, parenting classes\, childbirth classes\, counseling for men\, and an after-abortion support group. \nFor more information\, visit www.brenhampregnancycenter.org\, or the Brenham Pregnancy Center Facebook Page.
URL:https://ktex.com/event/brenham-pregnancy-center-open-house/
LOCATION:Brenham Pregnancy Center\, 1016 East Blue Bell Rd.\, Brenham\, TX\, 77833\, United States
CATEGORIES:Community Events
ATTACH;FMTTYPE=image/jpeg:https://ktex.com/wp-content/uploads/2024/04/BrenhamPregnancyCenterLogoFeature.jpg
END:VEVENT
BEGIN:VEVENT
DTSTART;VALUE=DATE:20240419
DTEND;VALUE=DATE:20240421
DTSTAMP:20260419T135433
CREATED:20231120T194950Z
LAST-MODIFIED:20231120T194950Z
UID:44155-1713484800-1713657599@ktex.com
SUMMARY:Texas Assoc. of First Responders Wild Game Cook-Off
DESCRIPTION:
URL:https://ktex.com/event/texas-assoc-of-first-responders-wild-game-cook-off/
LOCATION:Waller County Fairgrounds\, 21988 FM-359\, Waller\, TX\, 77445\, United States
CATEGORIES:Community Events
ATTACH;FMTTYPE=image/png:https://ktex.com/wp-content/uploads/2023/11/ta-first-responders-wild-game-24.png
END:VEVENT
BEGIN:VEVENT
DTSTART;VALUE=DATE:20240419
DTEND;VALUE=DATE:20240421
DTSTAMP:20260419T135433
CREATED:20240322T200941Z
LAST-MODIFIED:20240322T200941Z
UID:46350-1713484800-1713657599@ktex.com
SUMMARY:Rodeo Giddings
DESCRIPTION:
URL:https://ktex.com/event/rodeo-giddings/
LOCATION:LCSP Covered Arena\, Giddings
CATEGORIES:Community Events
ATTACH;FMTTYPE=image/png:https://ktex.com/wp-content/uploads/2024/03/rodeo-giddings-april-19-20.png
END:VEVENT
BEGIN:VEVENT
DTSTART;VALUE=DATE:20240419
DTEND;VALUE=DATE:20240421
DTSTAMP:20260419T135433
CREATED:20240402T184951Z
LAST-MODIFIED:20240402T184951Z
UID:46541-1713484800-1713657599@ktex.com
SUMMARY:Fayette County Sheriff's Posse Ram Rodeo
DESCRIPTION:
URL:https://ktex.com/event/fayette-county-sheriffs-posse-ram-rodeo/
LOCATION:Fayette County Fairgrounds\, 400 Fair Grounds\, La Grange\, 78945\, United States
CATEGORIES:Community Events
ATTACH;FMTTYPE=image/jpeg:https://ktex.com/wp-content/uploads/2024/04/ram-rodeo-2024.jpg
END:VEVENT
BEGIN:VEVENT
DTSTART;VALUE=DATE:20240419
DTEND;VALUE=DATE:20240421
DTSTAMP:20260419T135433
CREATED:20240411T210041Z
LAST-MODIFIED:20240411T210041Z
UID:46751-1713484800-1713657599@ktex.com
SUMMARY:Brenham Firefighters two-day Blood Drive
DESCRIPTION:There will be coffee and donuts all day with a light lunch being served from 11am to 2pm.  You will receive a Limited Edition Umbrella for all successful donations.  While an appointment is not necessary\, it is highly encouraged.  For appointments\, visit www.giveblood.org and enter Sponsor Code L126; or your can call Rob Aguilar at 979 451-2612.  You may complete your health history questionnaire the day of you donation online at CFL Express at the email address above.  Eat\, Drink\, and Bring you I.D. \n                                Give the Gift of Life
URL:https://ktex.com/event/brenham-firefighters-two-day-blood-drive/
LOCATION:Calvary Baptist Church Fellowship Hall\, 1100 Niebuhr Street\, Brenham\, TX\, 77833\, United States
CATEGORIES:Community Events
ATTACH;FMTTYPE=image/png:https://ktex.com/wp-content/uploads/2024/04/blood-drive-apr-19-20.png
END:VEVENT
BEGIN:VEVENT
DTSTART;VALUE=DATE:20240419
DTEND;VALUE=DATE:20240421
DTSTAMP:20260419T135433
CREATED:20240416T205021Z
LAST-MODIFIED:20240416T205021Z
UID:46809-1713484800-1713657599@ktex.com
SUMMARY:Christian Women Connection Prayer Retreat
DESCRIPTION:Pre-registration is encouraged for planning purposes\, registration on site will be accepted.
URL:https://ktex.com/event/christian-women-connection-prayer-retreat/
LOCATION:New Life Church of God\, Brenham\, 1990 FM389\, Brenham\, TX\, 77833\, United States
CATEGORIES:Community Events
ATTACH;FMTTYPE=image/png:https://ktex.com/wp-content/uploads/2024/04/REFRESH.png
END:VEVENT
BEGIN:VEVENT
DTSTART;VALUE=DATE:20240420
DTEND;VALUE=DATE:20240421
DTSTAMP:20260419T135433
CREATED:20240123T152734Z
LAST-MODIFIED:20240123T153719Z
UID:45306-1713571200-1713657599@ktex.com
SUMMARY:Burton Cotton Gin Festival Parade Contest 2024
DESCRIPTION: 35th Annual Burton Cotton Gin Festival\nSaturday\, April 20\, 2024 from 10am to 6pm.\nCome out to Burton\, home of the 1914 Burton Farmers Gin\, and celebrate the Annual Burton Cotton Gin Festival! This is a FREE\, family friendly event featuring a day full of fun and history! The day begins with a parade through Burton\, and continues at the grounds of the Texas Cotton Gin Museum. Shop and eat in our Arts & Crafts Vendor Area\, and Food Court. Watch Folklife skills demonstrations like Blacksmithing and butter churning\, and spoon carving. Enjoy our Tractor\, Engine\, and Classic Cars on Display\, and take part in fun Contests\, and Games. Live Music begins at 11am. AND new this year\, we will have two step dance classes 12:30-1:30 with Hill Country Two Steph! Tours of the Burton Farmers Gin from 11am to 2pm.  At 3 PM the Oldest Operating Cotton Gin in America will come to life\, and a bale of cotton will be ginned. 
URL:https://ktex.com/event/burton-cotton-gin-festival-parade-contest-2024/
LOCATION:TX
CATEGORIES:Community Events
ATTACH;FMTTYPE=image/png:https://ktex.com/wp-content/uploads/2024/01/burton-cotton-gine-fest-24.png
END:VEVENT
BEGIN:VEVENT
DTSTART;VALUE=DATE:20240420
DTEND;VALUE=DATE:20240421
DTSTAMP:20260419T135433
CREATED:20240320T182017Z
LAST-MODIFIED:20240320T182017Z
UID:46301-1713571200-1713657599@ktex.com
SUMMARY:Burton Cotton Gin Festival
DESCRIPTION:The 35th Annual Burton Cotton Gin Festival is being held on Saturday\, April 20\, from 10am-6pm.  The festival is a free\, family friendly event featuring a day full of fun and history.  The day begins with a parade through Burton\, and continues at the grounds of the Texas Cotton Gin Museum. \n\ncontests and games\narts and crafts vendor area\, as well as a food court\ntractor\, engine\, and classic cars on display\nfolklife skills demonstrations such as blacksmithing\, butter churning\, and spoon carving.\ntours of the Burton Farmers Gin from 11am-2pm at 3pm\, the Oldest Operating Cotton Gin in America will come to life\, and bale of cotton will be ginned\nHill Country Two Step is offering two-step dance classes from 12:30-1:30pm\n\nThe festival’s live music schedule begins with Annie Rost and Mike Stroup from 11am-noon. Sean Orr and Texas Gold follows from noon-2:30pm. Das is Lustig will perform from 2:30-4pm. Then\, the afternoon wraps up with the Czechaholics from 4-6pm. \nFor more information about the 35th Annual Burton Cotton Gin Festival\, \nwww.texascottonginmuseum.org\, or their Facebook event page.
URL:https://ktex.com/event/burton-cotton-gin-festival/
LOCATION:TX
CATEGORIES:Community Events
ATTACH;FMTTYPE=image/png:https://ktex.com/wp-content/uploads/2024/03/Screenshot-2024-03-14-131649.png
END:VEVENT
BEGIN:VEVENT
DTSTART;VALUE=DATE:20240420
DTEND;VALUE=DATE:20240421
DTSTAMP:20260419T135433
CREATED:20240320T195415Z
LAST-MODIFIED:20240320T195415Z
UID:46303-1713571200-1713657599@ktex.com
SUMMARY:Yellow Rose Boot Scoot Fundraiser
DESCRIPTION:The Yellow Rose Boot Scoot is a family\, friendly\, fun gathering.  Enjoy a catered meal from the Kenney Store\, craft beer from Huff Brewing Co.  This event blends past traditions with a modern mission to advance medical research\, (to stop inflammatory breast cancer forever by funding research).  Music by David Lewis\, with is amazing guitar picking and classic vocal sounds.
URL:https://ktex.com/event/yellow-rose-boot-scoot-fundraiser/
LOCATION:Bellville Turnverein\, 966 East Main\, Bellville\, TX\, 77418\, United States
CATEGORIES:Community Events
ATTACH;FMTTYPE=image/png:https://ktex.com/wp-content/uploads/2024/03/yellow-rose-boot-scoot-apr.png
END:VEVENT
BEGIN:VEVENT
DTSTART;VALUE=DATE:20240420
DTEND;VALUE=DATE:20240421
DTSTAMP:20260419T135433
CREATED:20240405T173411Z
LAST-MODIFIED:20240418T171606Z
UID:46611-1713571200-1713657599@ktex.com
SUMMARY:A.R. Pickard H.S. Reunion Association Scholarship Banquet
DESCRIPTION:KEYNOTE SPEAKER:  Dr. Constance Blunt is a native of Brenham\, TX.  She graduated from Brenham High School in 2003.  She then attended Baylor University in Waco\, TX\, where she received a Bachelor of Science in Forensic Science.  She later obtained her Doctor of Medicine at Texas A&M Health Science Center in Temple\, TX.  In 2018\, she completer her Hematology and Oncology fellowship training at LSU Health Science Center.  She is licensed by the Louisiana State Board of Medical Examiners and is board-certified in Internal Medicine and Medical Oncology. \nDr. Blunt currently works at Mary Bird Perkins Cancer Center in Baton Rouge\, Louisiana.  She enjoys treating a variety of cancer types and blood disorders.  Dr. Blunt in passionate about women’s oncology\, and over half of her practice is treating breast and gynecologic cancers.  She is currently serving as the medical director for cancer outreach and prevention.  In this role\, she educates and brings cancer screenings to medically underserved and black populations in Louisiana. \nDr. Blunt is married to Raymond Blunt\, and together\, they are raising two beautiful children\, Zuri and Kai.  She is the proud daughter of Timothy and Margaret Cole and sister to Tim\, Jr. and Malik Cole.
URL:https://ktex.com/event/a-r-pickard-h-s-reunion-association-scholarship-banquet/
LOCATION:Blinn College Student Center\, 902 College Avenue\, Brenham\, TX\, 77833\, United States
CATEGORIES:Community Events
ATTACH;FMTTYPE=image/jpeg:https://ktex.com/wp-content/uploads/2024/04/ar-pickard-scholarship-banquet.jpg
END:VEVENT
BEGIN:VEVENT
DTSTART;VALUE=DATE:20240420
DTEND;VALUE=DATE:20240421
DTSTAMP:20260419T135433
CREATED:20240411T151818Z
LAST-MODIFIED:20240411T151818Z
UID:46717-1713571200-1713657599@ktex.com
SUMMARY:FREE Sewing Workshop for Students
DESCRIPTION:
URL:https://ktex.com/event/free-sewing-workshop-for-students/
LOCATION:Nancy Carol Roberts Memorial Library\, 100 Martin Luther King Jr. Parkway\, Brenham\, Texas\, 77833
CATEGORIES:Community Events
ATTACH;FMTTYPE=image/jpeg:https://ktex.com/wp-content/uploads/2024/04/sew-a-little-love.jpg
END:VEVENT
BEGIN:VEVENT
DTSTART;VALUE=DATE:20240420
DTEND;VALUE=DATE:20240421
DTSTAMP:20260419T135433
CREATED:20240412T152039Z
LAST-MODIFIED:20240412T152039Z
UID:46772-1713571200-1713657599@ktex.com
SUMMARY:Burton Cotton Gin Festival
DESCRIPTION:Celebrate the 35th year of the Burton Cotton Gin Festival with KTEX! Courtney will be there in the KTEX Country Cruiser catching all the folk life demonstrations an shopping the vendors!
URL:https://ktex.com/event/burton-cotton-gin-festival-2/
LOCATION:Burton Cotton Gin Museum\, 307 North Main St.\, Burton\, 77835
CATEGORIES:KTEX on the Road
END:VEVENT
BEGIN:VEVENT
DTSTART;VALUE=DATE:20240420
DTEND;VALUE=DATE:20240421
DTSTAMP:20260419T135433
CREATED:20240416T195909Z
LAST-MODIFIED:20240416T195909Z
UID:46805-1713571200-1713657599@ktex.com
SUMMARY:Bluebonnet House & Garden Center Monthly Program
DESCRIPTION:Join our friends at the Bluebonnet House & Garden Center for a program on Salvias.  Guest speaker will be Heather Thormahien-Molik\, a specialist on many plants and primarily the Salvia.  The program begins at 10AM\, Saturday\, April 20 and will take place at the Masonic Lodge\, 6066 Main Street.  Fee is $10.00 per person and call 713-562-6191 for more information.
URL:https://ktex.com/event/bluebonnet-house-garden-center-monthly-program/
LOCATION:Masonic Lodge (Chappell Hill)\, 6066 Main Street\, Chappell Hill\, TX\, 77426\, United States
CATEGORIES:Community Events
ATTACH;FMTTYPE=image/jpeg:https://ktex.com/wp-content/uploads/2024/04/bluebonnet-house-garden-april.jpg
END:VEVENT
END:VCALENDAR