BEGIN:VCALENDAR
VERSION:2.0
PRODID:-//KTEX 106.1 - ECPv6.15.20//NONSGML v1.0//EN
CALSCALE:GREGORIAN
METHOD:PUBLISH
X-ORIGINAL-URL:https://ktex.com
X-WR-CALDESC:Events for KTEX 106.1
REFRESH-INTERVAL;VALUE=DURATION:PT1H
X-Robots-Tag:noindex
X-PUBLISHED-TTL:PT1H
BEGIN:VTIMEZONE
TZID:America/Chicago
BEGIN:DAYLIGHT
TZOFFSETFROM:-0600
TZOFFSETTO:-0500
TZNAME:CDT
DTSTART:20230312T080000
END:DAYLIGHT
BEGIN:STANDARD
TZOFFSETFROM:-0500
TZOFFSETTO:-0600
TZNAME:CST
DTSTART:20231105T070000
END:STANDARD
BEGIN:DAYLIGHT
TZOFFSETFROM:-0600
TZOFFSETTO:-0500
TZNAME:CDT
DTSTART:20240310T080000
END:DAYLIGHT
BEGIN:STANDARD
TZOFFSETFROM:-0500
TZOFFSETTO:-0600
TZNAME:CST
DTSTART:20241103T070000
END:STANDARD
BEGIN:DAYLIGHT
TZOFFSETFROM:-0600
TZOFFSETTO:-0500
TZNAME:CDT
DTSTART:20250309T080000
END:DAYLIGHT
BEGIN:STANDARD
TZOFFSETFROM:-0500
TZOFFSETTO:-0600
TZNAME:CST
DTSTART:20251102T070000
END:STANDARD
END:VTIMEZONE
BEGIN:VEVENT
DTSTART;TZID=America/Chicago:20240409T170000
DTEND;TZID=America/Chicago:20240409T203000
DTSTAMP:20260419T112313
CREATED:20240305T172638Z
LAST-MODIFIED:20240305T172638Z
UID:46033-1712682000-1712694600@ktex.com
SUMMARY:Taste of Aggieland
DESCRIPTION:All the best food in the Brazos Valley under one roof! Taste of Aggieland is a foodies dream! Look for Eilish in the KTEX Country Cruiser as she samples EVERYTHING!
URL:https://ktex.com/event/taste-of-aggieland/
LOCATION:Brazos County Expo Complex\, 5827 Leonard Rd.\, Bryan\, TX\, 77807\, United States
CATEGORIES:KTEX on the Road
END:VEVENT
BEGIN:VEVENT
DTSTART;VALUE=DATE:20240411
DTEND;VALUE=DATE:20240412
DTSTAMP:20260419T112313
CREATED:20240325T135024Z
LAST-MODIFIED:20240325T135024Z
UID:46364-1712793600-1712879999@ktex.com
SUMMARY:Diamonettes Spring Show
DESCRIPTION:Purchase your wristbands at the Navasota High School front desk
URL:https://ktex.com/event/diamonettes-spring-show/
LOCATION:Navasota High School\, 1 Rattler Drive\, Navasota\, TX\, 77868\, United States
CATEGORIES:Community Events
ATTACH;FMTTYPE=image/png:https://ktex.com/wp-content/uploads/2024/03/diamonettes-spring-show.png
END:VEVENT
BEGIN:VEVENT
DTSTART;VALUE=DATE:20240411
DTEND;VALUE=DATE:20240412
DTSTAMP:20260419T112313
CREATED:20240402T140527Z
LAST-MODIFIED:20240402T140527Z
UID:46532-1712793600-1712879999@ktex.com
SUMMARY:VFW Post 7104 & Auxiliary Meeting
DESCRIPTION:VFW Post 7104 & Auxiliary regular monthly meeting is Thursday\, April 11th starting at 7:00pm at the post home
URL:https://ktex.com/event/vfw-post-7104-auxiliary-meeting/
LOCATION:James F. Dillion VFW Post 7104\, 1200 East Tom Green Street\, Brenham\, TX\, 77833\, United States
CATEGORIES:Community Events
ATTACH;FMTTYPE=image/jpeg:https://ktex.com/wp-content/uploads/2024/03/vfw-2.jpg
END:VEVENT
BEGIN:VEVENT
DTSTART;VALUE=DATE:20240411
DTEND;VALUE=DATE:20240412
DTSTAMP:20260419T112313
CREATED:20240404T202030Z
LAST-MODIFIED:20240404T202030Z
UID:46596-1712793600-1712879999@ktex.com
SUMMARY:Fortnightly Club of Brenham Meeting
DESCRIPTION:The Fortnightly Club of Brenham will hold its April General Meeting on Thursday\, April 11\, at 11:30 a.m. at the Nancy Carol Roberts Memorial Library.  The program\, “Don’t Fall – You Won’t Like It”\, will be presented by Amy Supak\, Physical Therapist.  All members are urged to attend.
URL:https://ktex.com/event/fortnightly-club-of-brenham-meeting/
LOCATION:Nancy Carol Roberts Memorial Library\, 100 Martin Luther King Jr. Parkway\, Brenham\, Texas\, 77833
CATEGORIES:Community Events
ATTACH;FMTTYPE=image/jpeg:https://ktex.com/wp-content/uploads/2024/04/fortnightly-club-of-brenham-Picture1.jpg
END:VEVENT
BEGIN:VEVENT
DTSTART;VALUE=DATE:20240411
DTEND;VALUE=DATE:20240501
DTSTAMP:20260419T112313
CREATED:20240411T201812Z
LAST-MODIFIED:20240411T201812Z
UID:46745-1712793600-1714521599@ktex.com
SUMMARY:Austin Co. Feral Hog Bounty Program
DESCRIPTION:
URL:https://ktex.com/event/austin-co-feral-hog-bounty-program/
LOCATION:TX
CATEGORIES:Community Events
ATTACH;FMTTYPE=image/png:https://ktex.com/wp-content/uploads/2024/04/ac-Feral-Hog-Bounty-Flier-003.png
END:VEVENT
BEGIN:VEVENT
DTSTART;VALUE=DATE:20240412
DTEND;VALUE=DATE:20240413
DTSTAMP:20260419T112313
CREATED:20240108T195743Z
LAST-MODIFIED:20240108T195743Z
UID:44991-1712880000-1712966399@ktex.com
SUMMARY:Sons of Hermann Lodge 6 Monthly Meeting
DESCRIPTION:MEETING INFORMATION\n2nd Friday\, Monthly\nMeal at 6:30 PM Meeting at 7:15 PM\n@ HERMANN SONS LIFE HALL\nEFFECTIVE JANUARY 1\, 2024.  REGUALR MEETINGS\, MEAL WILL BE SERVED AT 6:30 AND MEETING WILL START AT 7:15.  PLEASE MAKE NOTE OF TIME CHANGE.  Make an effort to come to all meetings and support your lodge.
URL:https://ktex.com/event/sons-of-hermann-lodge-6-monthly-meeting-4/
LOCATION:Hermann Sons Life Hall (Brenham)\, 304 E. Germania Street\, Brenham\, TX\, 77833\, United States
CATEGORIES:Community Events
ATTACH;FMTTYPE=image/png:https://ktex.com/wp-content/uploads/2024/01/hermann-sons-life-logo.png
END:VEVENT
BEGIN:VEVENT
DTSTART;VALUE=DATE:20240412
DTEND;VALUE=DATE:20240413
DTSTAMP:20260419T112313
CREATED:20240325T190612Z
LAST-MODIFIED:20240325T190612Z
UID:46420-1712880000-1712966399@ktex.com
SUMMARY:Austin County Go Texan Crawfish Boil
DESCRIPTION:
URL:https://ktex.com/event/austin-county-go-texan-crawfish-boil/
LOCATION:TX
CATEGORIES:Community Events
ATTACH;FMTTYPE=image/jpeg:https://ktex.com/wp-content/uploads/2024/03/ac-go-txn-crawfish-boil-april.jpg
END:VEVENT
BEGIN:VEVENT
DTSTART;VALUE=DATE:20240412
DTEND;VALUE=DATE:20240413
DTSTAMP:20260419T112313
CREATED:20240405T134449Z
LAST-MODIFIED:20240405T134449Z
UID:46599-1712880000-1712966399@ktex.com
SUMMARY:Sons of Hermann Lodge 6 Meeting
DESCRIPTION:Sons of Hermann Lodge 6 meeting is Friday\, April 12\, doors open at 5:00\, meal served at 6:30 and the meeting will start at 7:15 at the Hermann Sons Life Hall-Brenham.  This month serving sausage\, sauerkraut and beans\, members are asked to bring a dessert
URL:https://ktex.com/event/sons-of-hermann-lodge-6-meeting-6/
LOCATION:Hermann Sons Life Hall (Brenham)\, 304 E. Germania Street\, Brenham\, TX\, 77833\, United States
CATEGORIES:Community Events
ATTACH;FMTTYPE=image/png:https://ktex.com/wp-content/uploads/2024/04/sons-of-hermann.png
END:VEVENT
BEGIN:VEVENT
DTSTART;TZID=America/Chicago:20240412T173000
DTEND;TZID=America/Chicago:20240412T193000
DTSTAMP:20260419T112313
CREATED:20240109T143721Z
LAST-MODIFIED:20240109T143721Z
UID:45020-1712943000-1712950200@ktex.com
SUMMARY:(Child) Pizza BINGO
DESCRIPTION:
URL:https://ktex.com/event/child-pizza-bingo-4/
LOCATION:Blue Bell Aquatic Center\, 1800 E Tom Green St\, Brenham\, TX\, 77833\, United States
CATEGORIES:Community Events
ATTACH;FMTTYPE=image/jpeg:https://ktex.com/wp-content/uploads/2024/01/pizza-bingo.jpg
END:VEVENT
BEGIN:VEVENT
DTSTART;TZID=America/Chicago:20240412T180000
DTEND;TZID=America/Chicago:20240412T220000
DTSTAMP:20260419T112313
CREATED:20240409T153218Z
LAST-MODIFIED:20240409T153218Z
UID:46676-1712944800-1712959200@ktex.com
SUMMARY:Brenham Fitness Center Parking Lot Party
DESCRIPTION:19th Annual Member Appreciation & Membership Drive\nAll current\, previous and potential members are invited!
URL:https://ktex.com/event/brenham-fitness-center-parking-lot-party/
LOCATION:Brenham Fitness Center (Prairie Lea Street)\, 11113 Prairie Lea Street\, Brenham\, TX\, 77833\, United States
CATEGORIES:Community Events
ATTACH;FMTTYPE=image/jpeg:https://ktex.com/wp-content/uploads/2024/04/brenham-fitness-cen-april.jpg
END:VEVENT
BEGIN:VEVENT
DTSTART;VALUE=DATE:20240413
DTEND;VALUE=DATE:20240414
DTSTAMP:20260419T112313
CREATED:20240201T142711Z
LAST-MODIFIED:20240201T142711Z
UID:45429-1712966400-1713052799@ktex.com
SUMMARY:Navasota HS Night at the Disco
DESCRIPTION:
URL:https://ktex.com/event/navasota-hs-night-at-the-disco/
LOCATION:Brazos Center\, 3232 Briarcrest Dr.\, Bryan\, TX\, 77802\, United States
CATEGORIES:Community Events
ATTACH;FMTTYPE=image/png:https://ktex.com/wp-content/uploads/2024/02/night-at-the-disco-navasota.png
END:VEVENT
BEGIN:VEVENT
DTSTART;VALUE=DATE:20240413
DTEND;VALUE=DATE:20240414
DTSTAMP:20260419T112313
CREATED:20240208T154805Z
LAST-MODIFIED:20240208T154805Z
UID:45570-1712966400-1713052799@ktex.com
SUMMARY:Somerville HS Prom
DESCRIPTION:
URL:https://ktex.com/event/somerville-hs-prom/
LOCATION:Double Creek Crossing\, 590 FM 1362\, Caldwell\, TX\, 77836
CATEGORIES:Community Events
ATTACH;FMTTYPE=image/jpeg:https://ktex.com/wp-content/uploads/2024/02/somerville-hs-prom.jpg
END:VEVENT
BEGIN:VEVENT
DTSTART;VALUE=DATE:20240413
DTEND;VALUE=DATE:20240414
DTSTAMP:20260419T112313
CREATED:20240318T194337Z
LAST-MODIFIED:20240318T194337Z
UID:46256-1712966400-1713052799@ktex.com
SUMMARY:Breaking Chains Ministry at New Beginning MB Church
DESCRIPTION:
URL:https://ktex.com/event/breaking-chains-ministry-at-new-beginning-mb-church/
LOCATION:New Beginning Missionary Baptist Church\, 2105 FM 2935\, Brenham\, TX\, 77833\, United States
CATEGORIES:Community Events
ATTACH;FMTTYPE=image/jpeg:https://ktex.com/wp-content/uploads/2024/03/new-beginning-breaking-chains.jpg
END:VEVENT
BEGIN:VEVENT
DTSTART;VALUE=DATE:20240413
DTEND;VALUE=DATE:20240414
DTSTAMP:20260419T112313
CREATED:20240322T200654Z
LAST-MODIFIED:20240322T200654Z
UID:46344-1712966400-1713052799@ktex.com
SUMMARY:Bluebonnet Master Gardener Annual Plant Sale
DESCRIPTION:
URL:https://ktex.com/event/bluebonnet-master-gardener-annual-plant-sale/
LOCATION:Levine Park Pavilion (Sealy)\, 406 Main Street\, Sealy\, TX\, 77474\, United States
CATEGORIES:Community Events
ATTACH;FMTTYPE=image/png:https://ktex.com/wp-content/uploads/2024/03/Plant-Sale-2024-002.png
END:VEVENT
BEGIN:VEVENT
DTSTART;VALUE=DATE:20240413
DTEND;VALUE=DATE:20240415
DTSTAMP:20260419T112313
CREATED:20240325T212410Z
LAST-MODIFIED:20240325T212410Z
UID:46435-1712966400-1713139199@ktex.com
SUMMARY:Chappell Hill Bluebonnet Festival
DESCRIPTION:
URL:https://ktex.com/event/chappell-hill-bluebonnet-festival-2/
LOCATION:Downtown Chappell Hill
CATEGORIES:Community Events
ATTACH;FMTTYPE=image/png:https://ktex.com/wp-content/uploads/2024/03/ch-bluebonnet-festival-2024.png
END:VEVENT
BEGIN:VEVENT
DTSTART;TZID=America/Chicago:20240413T080000
DTEND;TZID=America/Chicago:20240413T170000
DTSTAMP:20260419T112313
CREATED:20240305T172839Z
LAST-MODIFIED:20240305T172839Z
UID:46035-1712995200-1713027600@ktex.com
SUMMARY:Chappell Hill Bluebonnet Festival
DESCRIPTION:Every spring\, people flock to Chappell Hill for the annual Bluebonnet Festival! Hundreds of vendors\, food trucks\, and bluebonnets for you to explore! Look for Eilish while you spend the weekend shopping your paycheck away!
URL:https://ktex.com/event/chappell-hill-bluebonnet-festival/
LOCATION:Downtown Chappell Hill
CATEGORIES:KTEX on the Road
END:VEVENT
BEGIN:VEVENT
DTSTART;TZID=America/Chicago:20240413T083000
DTEND;TZID=America/Chicago:20240413T150000
DTSTAMP:20260419T112313
CREATED:20240315T210137Z
LAST-MODIFIED:20240315T210137Z
UID:46230-1712997000-1713020400@ktex.com
SUMMARY:Spring Fling Plant & Craft Sale
DESCRIPTION:
URL:https://ktex.com/event/spring-fling-plant-craft-sale/
LOCATION:Harmony Baptist Church (Caldwell)\, 6670 St. Hwy. 36 South\, Caldwell\, TX\, 77836\, United States
CATEGORIES:Community Events
ATTACH;FMTTYPE=image/jpeg:https://ktex.com/wp-content/uploads/2024/03/spring-fling-plant-craft-sale-scaled.jpg
END:VEVENT
BEGIN:VEVENT
DTSTART;TZID=America/Chicago:20240413T090000
DTEND;TZID=America/Chicago:20240413T160000
DTSTAMP:20260419T112313
CREATED:20240319T193200Z
LAST-MODIFIED:20240319T193200Z
UID:46263-1712998800-1713024000@ktex.com
SUMMARY:Navasota Farmers Market
DESCRIPTION:
URL:https://ktex.com/event/navasota-farmers-market-6/
LOCATION:Navasota Public Library parking lot\, 1411 E Washington Ave\, Navasota\, TX\, 77838\, United States
CATEGORIES:Community Events
ATTACH;FMTTYPE=image/png:https://ktex.com/wp-content/uploads/2024/03/navasota-Farmers-Market-april.png
END:VEVENT
BEGIN:VEVENT
DTSTART;TZID=America/Chicago:20240413T110000
DTEND;TZID=America/Chicago:20240413T140000
DTSTAMP:20260419T112313
CREATED:20240227T222306Z
LAST-MODIFIED:20240227T222306Z
UID:45947-1713006000-1713016800@ktex.com
SUMMARY:Rainbow Fellowship Brunch
DESCRIPTION:
URL:https://ktex.com/event/rainbow-fellowship-brunch/
LOCATION:St. Peter’s Episcopal Church (Brenham)\, 2310 Airline Dr.\, Brenham\, TX\, 77833\, United States
CATEGORIES:Community Events
ATTACH;FMTTYPE=image/png:https://ktex.com/wp-content/uploads/2024/02/rainbow-fellowship-brunch-apr.png
END:VEVENT
BEGIN:VEVENT
DTSTART;TZID=America/Chicago:20240413T180000
DTEND;TZID=America/Chicago:20240413T210000
DTSTAMP:20260419T112313
CREATED:20240408T141438Z
LAST-MODIFIED:20240408T141438Z
UID:46621-1713031200-1713042000@ktex.com
SUMMARY:American Heritage Girls-Daddy Daughter Dance
DESCRIPTION:
URL:https://ktex.com/event/american-heritage-girls-daddy-daughter-dance/
LOCATION:St. Mary’s Catholic Church-PAC\, 701 Church Street\, Brenham\, TX\, 77833\, United States
CATEGORIES:Community Events
ATTACH;FMTTYPE=image/jpeg:https://ktex.com/wp-content/uploads/2024/04/daddy-daughter-dance-april.jpg
END:VEVENT
BEGIN:VEVENT
DTSTART;VALUE=DATE:20240414
DTEND;VALUE=DATE:20240415
DTSTAMP:20260419T112313
CREATED:20240103T172834Z
LAST-MODIFIED:20240103T172834Z
UID:44827-1713052800-1713139199@ktex.com
SUMMARY:PFLAG Brenham Meeting
DESCRIPTION:PFLAG Brenham meets on the second Sunday of each month at 5:30 pm.  We are a support group for families\, friends and allies of the LGBTQ+ community.  Let us walk with you on your journey.  For more information\, visit www.facebook.com/BrenhamPFLAG or send an email to pflagbrenham@gmail.com
URL:https://ktex.com/event/pflag-brenham-meeting-4/
LOCATION:TX
CATEGORIES:Community Events
ATTACH;FMTTYPE=image/jpeg:https://ktex.com/wp-content/uploads/2024/01/PFLAG-Brenham-new.jpg
END:VEVENT
BEGIN:VEVENT
DTSTART;VALUE=DATE:20240414
DTEND;VALUE=DATE:20240415
DTSTAMP:20260419T112313
CREATED:20240320T211826Z
LAST-MODIFIED:20240320T211826Z
UID:46318-1713052800-1713139199@ktex.com
SUMMARY:Cemetery Program at Pilgrim Rest Primitive Baptist Church
DESCRIPTION:
URL:https://ktex.com/event/cemetery-program-at-pilgrim-rest-primitive-baptist-church/
LOCATION:Pilgrim Rest Primitive Baptist Church (Giddings)\, Giddings\, TX\, 78942\, United States
CATEGORIES:Community Events
ATTACH;FMTTYPE=image/png:https://ktex.com/wp-content/uploads/2024/03/cemetery-program-april.png
END:VEVENT
BEGIN:VEVENT
DTSTART;VALUE=DATE:20240414
DTEND;VALUE=DATE:20240415
DTSTAMP:20260419T112313
CREATED:20240402T193010Z
LAST-MODIFIED:20240402T193010Z
UID:46544-1713052800-1713139199@ktex.com
SUMMARY:Gospel Concert featuring the Southern Plainsmen Quartet
DESCRIPTION:
URL:https://ktex.com/event/gospel-concert-featuring-the-southern-plainsmen-quartet/
LOCATION:Historic Independence Baptist Church\, 10405 FM-50\, Brenham\, TX\, 77833\, United States
CATEGORIES:Community Events
ATTACH;FMTTYPE=image/png:https://ktex.com/wp-content/uploads/2024/04/gospel-concert-apr-14.png
END:VEVENT
BEGIN:VEVENT
DTSTART;VALUE=DATE:20240414
DTEND;VALUE=DATE:20240415
DTSTAMP:20260419T112313
CREATED:20240405T172729Z
LAST-MODIFIED:20240405T172729Z
UID:46605-1713052800-1713139199@ktex.com
SUMMARY:Sons of Hermann (Shelby) Meeting
DESCRIPTION:MEETING INFORMATION \n2nd Sunday\nJanuary\, April\, August\, December\n5:00 p.m. \nHARMONIE HALL \n509 West FM 389\nFayetteville\, TX 78940
URL:https://ktex.com/event/sons-of-hermann-shelby-meeting/
LOCATION:Harmonie Hall (Shelby)\, 509 FM 389 West\, Shelby\, TX\, 78940\, United States
CATEGORIES:Community Events
ATTACH;FMTTYPE=image/png:https://ktex.com/wp-content/uploads/2024/03/hermann-sons-life-logo.png
END:VEVENT
BEGIN:VEVENT
DTSTART;VALUE=DATE:20240414
DTEND;VALUE=DATE:20240415
DTSTAMP:20260419T112313
CREATED:20240408T153940Z
LAST-MODIFIED:20240408T153940Z
UID:46626-1713052800-1713139199@ktex.com
SUMMARY:BVB annual Bluebonnets & Bumpers Car Show
DESCRIPTION:
URL:https://ktex.com/event/bvb-annual-bluebonnets-bumpers-car-show/
LOCATION:Brazos Valley Brewing Company-Brenham\, 206 S. Jackson St.\, Brenham\, TX\, 77833\, United States
CATEGORIES:Community Events
ATTACH;FMTTYPE=image/png:https://ktex.com/wp-content/uploads/2024/04/bluebonnet-bumpers-car-show.png
END:VEVENT
BEGIN:VEVENT
DTSTART;VALUE=DATE:20240414
DTEND;VALUE=DATE:20240418
DTSTAMP:20260419T112313
CREATED:20240402T193207Z
LAST-MODIFIED:20240402T193207Z
UID:46548-1713052800-1713398399@ktex.com
SUMMARY:Revival Services at Historic Independence Baptist Church
DESCRIPTION:
URL:https://ktex.com/event/revival-services-at-historic-independence-baptist-church/
LOCATION:Historic Independence Baptist Church\, 10405 FM-50\, Brenham\, TX\, 77833\, United States
CATEGORIES:Community Events
ATTACH;FMTTYPE=image/png:https://ktex.com/wp-content/uploads/2024/04/revival-services-april.png
END:VEVENT
BEGIN:VEVENT
DTSTART;TZID=America/Chicago:20240414T110000
DTEND;TZID=America/Chicago:20240414T130000
DTSTAMP:20260419T112313
CREATED:20240327T214113Z
LAST-MODIFIED:20240327T214113Z
UID:46476-1713092400-1713099600@ktex.com
SUMMARY:Somerville VFD Crawfish/Shrimp Fundraiser
DESCRIPTION:
URL:https://ktex.com/event/somerville-vfd-crawfish-shrimp-fundraiser/
LOCATION:Somerville Fire Station\, 742 Memory Lane\, Somerville\, TX\, 77879\, United States
CATEGORIES:Community Events
ATTACH;FMTTYPE=image/jpeg:https://ktex.com/wp-content/uploads/2024/03/somerville-vfd-fundraiser-april.jpg
END:VEVENT
BEGIN:VEVENT
DTSTART;VALUE=DATE:20240415
DTEND;VALUE=DATE:20240416
DTSTAMP:20260419T112313
CREATED:20240320T140321Z
LAST-MODIFIED:20240320T140321Z
UID:46288-1713139200-1713225599@ktex.com
SUMMARY:Developmental Volleyball Camp
DESCRIPTION:
URL:https://ktex.com/event/developmental-volleyball-camp-2/
LOCATION:St. Mary’s Gym (the PAC)\, 701 Church Street\, Brenham\, TX\, 77833\, United States
CATEGORIES:Community Events
ATTACH;FMTTYPE=image/jpeg:https://ktex.com/wp-content/uploads/2024/03/vb-camp-april.jpg
END:VEVENT
BEGIN:VEVENT
DTSTART;VALUE=DATE:20240415
DTEND;VALUE=DATE:20240501
DTSTAMP:20260419T112313
CREATED:20240117T191658Z
LAST-MODIFIED:20240318T193131Z
UID:45205-1713139200-1714521599@ktex.com
SUMMARY:Washington County Juneteenth 2024 Events
DESCRIPTION:ALL REGISTRATION FORMS DUE MAY 1st 
URL:https://ktex.com/event/washington-county-ja-june19teenth-celebration-3/
LOCATION:TX
CATEGORIES:Community Events
ATTACH;FMTTYPE=image/jpeg:https://ktex.com/wp-content/uploads/2024/01/juneteenth-2024-events-calendar.jpg
END:VEVENT
BEGIN:VEVENT
DTSTART;VALUE=DATE:20240416
DTEND;VALUE=DATE:20240417
DTSTAMP:20260419T112313
CREATED:20231208T150742Z
LAST-MODIFIED:20231208T150742Z
UID:44480-1713225600-1713311999@ktex.com
SUMMARY:Austin Co. Lunch-N-Learn Series (Spring)
DESCRIPTION:
URL:https://ktex.com/event/austin-co-lunch-n-learn-series-spring-4/
LOCATION:Austin County Courthouse (basement meeting room)\, 1 E Main Street\, Bellville\, TX\, 77418\, United States
CATEGORIES:Community Events
ATTACH;FMTTYPE=image/jpeg:https://ktex.com/wp-content/uploads/2023/12/ac-lunch-learn-series-24.jpg
END:VEVENT
END:VCALENDAR