BEGIN:VCALENDAR
VERSION:2.0
PRODID:-//KTEX 106.1 - ECPv6.15.20//NONSGML v1.0//EN
CALSCALE:GREGORIAN
METHOD:PUBLISH
X-ORIGINAL-URL:https://ktex.com
X-WR-CALDESC:Events for KTEX 106.1
REFRESH-INTERVAL;VALUE=DURATION:PT1H
X-Robots-Tag:noindex
X-PUBLISHED-TTL:PT1H
BEGIN:VTIMEZONE
TZID:America/Chicago
BEGIN:DAYLIGHT
TZOFFSETFROM:-0600
TZOFFSETTO:-0500
TZNAME:CDT
DTSTART:20230312T080000
END:DAYLIGHT
BEGIN:STANDARD
TZOFFSETFROM:-0500
TZOFFSETTO:-0600
TZNAME:CST
DTSTART:20231105T070000
END:STANDARD
BEGIN:DAYLIGHT
TZOFFSETFROM:-0600
TZOFFSETTO:-0500
TZNAME:CDT
DTSTART:20240310T080000
END:DAYLIGHT
BEGIN:STANDARD
TZOFFSETFROM:-0500
TZOFFSETTO:-0600
TZNAME:CST
DTSTART:20241103T070000
END:STANDARD
BEGIN:DAYLIGHT
TZOFFSETFROM:-0600
TZOFFSETTO:-0500
TZNAME:CDT
DTSTART:20250309T080000
END:DAYLIGHT
BEGIN:STANDARD
TZOFFSETFROM:-0500
TZOFFSETTO:-0600
TZNAME:CST
DTSTART:20251102T070000
END:STANDARD
END:VTIMEZONE
BEGIN:VEVENT
DTSTART;VALUE=DATE:20240207
DTEND;VALUE=DATE:20240208
DTSTAMP:20260419T151118
CREATED:20231229T224221Z
LAST-MODIFIED:20231229T224221Z
UID:44758-1707264000-1707350399@ktex.com
SUMMARY:Greater Sealy Area COC Lunch Learn
DESCRIPTION:
URL:https://ktex.com/event/greater-sealy-area-coc-lunch-learn-2/
LOCATION:Sealy American Legion Hall\, 1630 Meyer Street\, Sealy\, TX\, 77474\, United States
CATEGORIES:Community Events
ATTACH;FMTTYPE=image/png:https://ktex.com/wp-content/uploads/2023/12/sealy-lunch-learn-feb.png
END:VEVENT
BEGIN:VEVENT
DTSTART;TZID=America/Chicago:20240207T083000
DTEND;TZID=America/Chicago:20240207T123000
DTSTAMP:20260419T151118
CREATED:20240119T180036Z
LAST-MODIFIED:20240119T180036Z
UID:45237-1707294600-1707309000@ktex.com
SUMMARY:Water Well Owners Educational Event
DESCRIPTION:
URL:https://ktex.com/event/water-well-owners-educational-event/
LOCATION:Kenney Agricultural Hall\, 444 Hall Rd.\, Kenney\, TX\, 77418\, United States
CATEGORIES:Community Events
ATTACH;FMTTYPE=image/jpeg:https://ktex.com/wp-content/uploads/2024/01/Mill-Creek-WE_Flyer-Feb-2024-002.jpg
END:VEVENT
BEGIN:VEVENT
DTSTART;TZID=America/Chicago:20240207T090000
DTEND;TZID=America/Chicago:20240207T120000
DTSTAMP:20260419T151118
CREATED:20240201T143030Z
LAST-MODIFIED:20240201T143030Z
UID:45432-1707296400-1707307200@ktex.com
SUMMARY:Grimes County Public Schools In Person Transition Fair
DESCRIPTION:
URL:https://ktex.com/event/grimes-county-public-schools-in-person-transition-fair/
LOCATION:Navasota High School Library\, 1 Rattler Drive\, Navasota\, TX\, 77868\, United States
CATEGORIES:Community Events
ATTACH;FMTTYPE=image/png:https://ktex.com/wp-content/uploads/2024/02/grimes-co-transition-fair.png
END:VEVENT
BEGIN:VEVENT
DTSTART;TZID=America/Chicago:20240207T110000
DTEND;TZID=America/Chicago:20240207T130000
DTSTAMP:20260419T151118
CREATED:20231227T144339Z
LAST-MODIFIED:20231227T144339Z
UID:44681-1707303600-1707310800@ktex.com
SUMMARY:Cards Club
DESCRIPTION:
URL:https://ktex.com/event/cards-club-2/
LOCATION:Blue Bell Aquatic Center\, 1800 E Tom Green St\, Brenham\, TX\, 77833\, United States
CATEGORIES:Community Events
ATTACH;FMTTYPE=image/jpeg:https://ktex.com/wp-content/uploads/2023/12/cards-club.jpg
END:VEVENT
BEGIN:VEVENT
DTSTART;TZID=America/Chicago:20240207T173000
DTEND;TZID=America/Chicago:20240207T183000
DTSTAMP:20260419T151118
CREATED:20240201T224940Z
LAST-MODIFIED:20240201T224940Z
UID:45465-1707327000-1707330600@ktex.com
SUMMARY:Brenham Heritage Museum presents Traditions in Black Trail-Riding
DESCRIPTION:
URL:https://ktex.com/event/brenham-heritage-museum-presents-traditions-in-black-trail-riding/
LOCATION:Brenham Heritage Museum @ Bus Depot\, 313 East Alamo Street\, Brenham\, TX\, 77833\, United States
CATEGORIES:Community Events
ATTACH;FMTTYPE=image/jpeg:https://ktex.com/wp-content/uploads/2024/02/traditions-in-black-trailriding.jpg
END:VEVENT
BEGIN:VEVENT
DTSTART;VALUE=DATE:20240208
DTEND;VALUE=DATE:20240209
DTSTAMP:20260419T151118
CREATED:20240123T201740Z
LAST-MODIFIED:20240123T201740Z
UID:45313-1707350400-1707436799@ktex.com
SUMMARY:Open House Introduction to Trail Life USA
DESCRIPTION:Abiding Word Lutheran Church will be hosting an open house on February 8th for Trail Life Troop TX-777. Trail Life is an alternative to Boys Scouts of America for young boys and men only. It is Christ-centered and pan-Christian. We will begin at 6 PM. Bring the whole family and please let Abiding Word Lutheran know you are interested so we know the count.  You can find out more at www.abidingword.org
URL:https://ktex.com/event/open-house-introduction-to-trail-life-usa/
LOCATION:Abiding Word Lutheran Church (Brenham)\, 464 Oak Tree Crossing\, Brenham\, TX\, 77833\, United States
CATEGORIES:Community Events
ATTACH;FMTTYPE=image/jpeg:https://ktex.com/wp-content/uploads/2024/01/trail-life-brenham.jpg
END:VEVENT
BEGIN:VEVENT
DTSTART;VALUE=DATE:20240208
DTEND;VALUE=DATE:20240209
DTSTAMP:20260419T151118
CREATED:20240124T184233Z
LAST-MODIFIED:20240124T184233Z
UID:45348-1707350400-1707436799@ktex.com
SUMMARY:68th Annual Washington County Spelling Bee
DESCRIPTION:
URL:https://ktex.com/event/68th-annual-washington-county-spelling-bee/
LOCATION:Brenham High School Auditorium\, 525 A H Ehrig Drive\, Brenham\, TX\, 77833\, United States
CATEGORIES:Community Events
ATTACH;FMTTYPE=image/jpeg:https://ktex.com/wp-content/uploads/2024/01/wc-spelling-bee-24.jpg
END:VEVENT
BEGIN:VEVENT
DTSTART;VALUE=DATE:20240208
DTEND;VALUE=DATE:20240226
DTSTAMP:20260419T151118
CREATED:20240117T214254Z
LAST-MODIFIED:20240117T214254Z
UID:45219-1707350400-1708905599@ktex.com
SUMMARY:Unity Theatre presents "The Crucible"
DESCRIPTION:In the spring of 1682 a Salem village reverend discovers a group of teenage girls dancing around a fire in the woods. When his daughter exhibits strange symptoms the next morning\, the town becomes frenzied with talk of witchcraft.  Neighbor is pitted against neighbor and the deeply religious community is torn apart. The Crucible is a timeless parable about morality and the consequences when fear takes root in a community. The play won the 1953 Tony Award for Best Play and is considered a landmark work in the canon of American drama.
URL:https://ktex.com/event/unity-theatre-presents-the-crucible/
LOCATION:Unity Theatre\, 300 Church Rd\, Brenham\, 77833
CATEGORIES:Community Events
ATTACH;FMTTYPE=image/jpeg:https://ktex.com/wp-content/uploads/2024/01/the-crucible.jpg
END:VEVENT
BEGIN:VEVENT
DTSTART;TZID=America/Chicago:20240208T120000
DTEND;TZID=America/Chicago:20240208T200000
DTSTAMP:20260419T151118
CREATED:20240112T214631Z
LAST-MODIFIED:20240112T214631Z
UID:45096-1707393600-1707422400@ktex.com
SUMMARY:Chocolate Walk (Bellville)
DESCRIPTION:
URL:https://ktex.com/event/chocolate-walk-bellville/
LOCATION:Downtown Bellville\, Bellville\, TX\, United States
CATEGORIES:Community Events
ATTACH;FMTTYPE=image/png:https://ktex.com/wp-content/uploads/2024/01/Chocolate-Walk-Flyer-002.png
END:VEVENT
BEGIN:VEVENT
DTSTART;VALUE=DATE:20240209
DTEND;VALUE=DATE:20240210
DTSTAMP:20260419T151118
CREATED:20240108T195301Z
LAST-MODIFIED:20240108T195301Z
UID:44987-1707436800-1707523199@ktex.com
SUMMARY:Sons of Hermann Lodge 6 Monthly Meeting
DESCRIPTION:MEETING INFORMATION\n2nd Friday\, Monthly\nMeal at 6:30 PM Meeting at 7:15 PM\n@ HERMANN SONS LIFE HALL\nEFFECTIVE JANUARY 1\, 2024.  REGUALR MEETINGS\, MEAL WILL BE SERVED AT 6:30 AND MEETING WILL START AT 7:15.  PLEASE MAKE NOTE OF TIME CHANGE.  Make an effort to come to all meetings and support your lodge.
URL:https://ktex.com/event/sons-of-hermann-lodge-6-monthly-meeting-2/
LOCATION:Hermann Sons Life Hall (Brenham)\, 304 E. Germania Street\, Brenham\, TX\, 77833\, United States
CATEGORIES:Community Events
ATTACH;FMTTYPE=image/png:https://ktex.com/wp-content/uploads/2024/01/hermann-sons-life-logo.png
END:VEVENT
BEGIN:VEVENT
DTSTART;VALUE=DATE:20240209
DTEND;VALUE=DATE:20240210
DTSTAMP:20260419T151118
CREATED:20240109T211253Z
LAST-MODIFIED:20240109T211253Z
UID:45038-1707436800-1707523199@ktex.com
SUMMARY:The YES Tour
DESCRIPTION:
URL:https://ktex.com/event/the-yes-tour/
LOCATION:Southern Folly\, 209 S. Market Street\, Brenham\, TX\, 77833\, United States
CATEGORIES:Community Events
ATTACH;FMTTYPE=image/png:https://ktex.com/wp-content/uploads/2024/01/The-YES-Tour-Brenham-002.png
END:VEVENT
BEGIN:VEVENT
DTSTART;VALUE=DATE:20240209
DTEND;VALUE=DATE:20240210
DTSTAMP:20260419T151118
CREATED:20240117T191424Z
LAST-MODIFIED:20240202T222939Z
UID:45203-1707436800-1707523199@ktex.com
SUMMARY:Washington County JA June19Teenth Celebration
DESCRIPTION:REGISTRATION is now OPEN!   JUNETEENTH 2024 CELEBRATION \nThe annual WCJA Celebration will be Saturday\, June 15\, 2024 @ 10:30 a.m. in downtown Brenham. EVERYONE is invited‼ \nPlease scan the QR code on the flyer to register. If you prefer paper forms\, please let us know. \n� ROYALTY Registration \n� PARADE Registration \n� SOUVENIR BOOK Ads \n� VENDOR Registration \n*You may obtain PAPER FORMS from any of the following members…Betty Wilson\,\nMrs. Janis Miles\, Mr. Frank Atkinson\, Yvonda Cookie Bell Adams\, Faith Clay-Dorsey \nAdvisors:  Mrs. Loretta Johnson\, Dr. Tina B. Henderson\, Attorney Alisa R. Lister \n�REGISTRATION DEADLINE is on the FLYER and FORMS.
URL:https://ktex.com/event/washington-county-ja-june19teenth-celebration-2/
LOCATION:TX
CATEGORIES:Community Events
ATTACH;FMTTYPE=image/jpeg:https://ktex.com/wp-content/uploads/2024/01/juneteenth-24.jpg
END:VEVENT
BEGIN:VEVENT
DTSTART;TZID=America/Chicago:20240209T173000
DTEND;TZID=America/Chicago:20240209T193000
DTSTAMP:20260419T151118
CREATED:20240109T143406Z
LAST-MODIFIED:20240109T143406Z
UID:45016-1707499800-1707507000@ktex.com
SUMMARY:(Child) Pizza BINGO
DESCRIPTION:
URL:https://ktex.com/event/child-pizza-bingo-2/
LOCATION:Blue Bell Aquatic Center\, 1800 E Tom Green St\, Brenham\, TX\, 77833\, United States
CATEGORIES:Community Events
ATTACH;FMTTYPE=image/jpeg:https://ktex.com/wp-content/uploads/2024/01/pizza-bingo.jpg
END:VEVENT
BEGIN:VEVENT
DTSTART;TZID=America/Chicago:20240209T180000
DTEND;TZID=America/Chicago:20240209T200000
DTSTAMP:20260419T151118
CREATED:20240130T224917Z
LAST-MODIFIED:20240130T224917Z
UID:45414-1707501600-1707508800@ktex.com
SUMMARY:Boots & Beauties Daddy-Daughter Dance
DESCRIPTION:
URL:https://ktex.com/event/boots-beauties-daddy-daughter-dance/
LOCATION:Krause Elementary School\, 2201 E Stone St\, Brenham\, TX\, 77833\, United States
CATEGORIES:Community Events
ATTACH;FMTTYPE=image/jpeg:https://ktex.com/wp-content/uploads/2024/01/boots-beauties.jpg
END:VEVENT
BEGIN:VEVENT
DTSTART;TZID=America/Chicago:20240209T180000
DTEND;TZID=America/Chicago:20240209T200000
DTSTAMP:20260419T151118
CREATED:20240130T225120Z
LAST-MODIFIED:20240130T225120Z
UID:45417-1707501600-1707508800@ktex.com
SUMMARY:Botas & Bellezas Baile Papas - Hijas
DESCRIPTION:
URL:https://ktex.com/event/botas-bellezas-baile-papas-hijas/
LOCATION:Krause Elementary School\, 2201 E Stone St\, Brenham\, TX\, 77833\, United States
CATEGORIES:Community Events
ATTACH;FMTTYPE=image/jpeg:https://ktex.com/wp-content/uploads/2024/01/botas-belesas.jpg
END:VEVENT
BEGIN:VEVENT
DTSTART;VALUE=DATE:20240210
DTEND;VALUE=DATE:20240211
DTSTAMP:20260419T151118
CREATED:20240130T201946Z
LAST-MODIFIED:20240207T162352Z
UID:45411-1707523200-1707609599@ktex.com
SUMMARY:Backyard Butchers Pop-Up
DESCRIPTION:What’s better than All American\, Farm Raised beef ribeyes? How about twenty of them for $39? Or if you’re more of a seafood foodie\, you can get two pounds of King Crab legs for $39! Get yours at the Backyard Butcher Pop-up at Tractor Supply in Brenham! Look for the Big White Truck with Trailboss Troy in the KTEX Country Cruiser!
URL:https://ktex.com/event/backyard-butchers-pop-up/
LOCATION:mccoys building supply\, 1803 Hwy 290 E\, Brenham\, TX\, 77833\, United States
CATEGORIES:KTEX on the Road
END:VEVENT
BEGIN:VEVENT
DTSTART;VALUE=DATE:20240210
DTEND;VALUE=DATE:20240211
DTSTAMP:20260419T151118
CREATED:20240104T161621Z
LAST-MODIFIED:20240122T221245Z
UID:44899-1707523200-1707609599@ktex.com
SUMMARY:BAA Black History Breakfast
DESCRIPTION:For tickets or more information call\n979 451-0863\n979 203-3566
URL:https://ktex.com/event/baa-black-history-breakfast/
LOCATION:New Life Church of God Brenham (Activity Center)\, 1990 FM 389\, Brenham\, TX\, 77833\, United States
CATEGORIES:Community Events
ATTACH;FMTTYPE=image/jpeg:https://ktex.com/wp-content/uploads/2024/01/black-history-breakfast-24-1.jpg
END:VEVENT
BEGIN:VEVENT
DTSTART;VALUE=DATE:20240210
DTEND;VALUE=DATE:20240211
DTSTAMP:20260419T151118
CREATED:20240122T155448Z
LAST-MODIFIED:20240122T155448Z
UID:45261-1707523200-1707609599@ktex.com
SUMMARY:Valentine Dance at Harmonie Hall
DESCRIPTION:
URL:https://ktex.com/event/valentine-dance-at-harmonie-hall/
LOCATION:Harmonie Hall (Shelby)\, 509 FM 389 West\, Shelby\, TX\, 78940\, United States
CATEGORIES:Community Events
ATTACH;FMTTYPE=image/png:https://ktex.com/wp-content/uploads/2024/01/valentine-dance-harmonie-hall.png
END:VEVENT
BEGIN:VEVENT
DTSTART;VALUE=DATE:20240210
DTEND;VALUE=DATE:20240211
DTSTAMP:20260419T151118
CREATED:20240207T212929Z
LAST-MODIFIED:20240207T215224Z
UID:45549-1707523200-1707609599@ktex.com
SUMMARY:Caldwell HS Class of 2024 Project Graduation Valentine Dance
DESCRIPTION:All proceeds will go to the 2024 Caldwell Project Graduation
URL:https://ktex.com/event/caldwell-hs-class-of-2024-project-graduation-valentine-dance/
LOCATION:Deanville Hall\, 6785 FM 111\, Deanville\, TX\, 77852\, United States
CATEGORIES:Community Events
ATTACH;FMTTYPE=image/jpeg:https://ktex.com/wp-content/uploads/2024/02/caldwell-hs-valentine-dance-1.jpg
END:VEVENT
BEGIN:VEVENT
DTSTART;TZID=America/Chicago:20240210T100000
DTEND;TZID=America/Chicago:20240210T130000
DTSTAMP:20260419T151118
CREATED:20240117T160911Z
LAST-MODIFIED:20240117T162457Z
UID:45187-1707559200-1707570000@ktex.com
SUMMARY:Benefit BBQ Dinner for Tracer Kruzel
DESCRIPTION:drive thru only\, chicken\, sausage\, potato salad\, beans\, cake\, bread and drinks\, FOR TICKET INFO contact FREEMAN MILLER 832-989-7319\, JASON SMALLEY 979-525-7911\, TARIK MADISON 979-270-2740
URL:https://ktex.com/event/benefit-bbq-dinner-for-tracer-kruzel/
LOCATION:Austin County Fairgrounds\, 1076 East Hill\, Bellville\, TX\, 77418\, United States
CATEGORIES:Community Events
ATTACH;FMTTYPE=image/jpeg:https://ktex.com/wp-content/uploads/2024/01/tracer-kruzel-benefit.jpg
END:VEVENT
BEGIN:VEVENT
DTSTART;TZID=America/Chicago:20240210T110000
DTEND;TZID=America/Chicago:20240210T160000
DTSTAMP:20260419T151118
CREATED:20240206T153540Z
LAST-MODIFIED:20240206T153540Z
UID:45517-1707562800-1707580800@ktex.com
SUMMARY:Chappell Hill Valentine's Wine & Chocolate Stroll
DESCRIPTION:
URL:https://ktex.com/event/chappell-hill-valentines-wine-chocolate-stroll/
LOCATION:Downtown Chappell Hill
CATEGORIES:Community Events
ATTACH;FMTTYPE=image/jpeg:https://ktex.com/wp-content/uploads/2024/02/ch-valentines-wine-chocolate-walk.jpg
END:VEVENT
BEGIN:VEVENT
DTSTART;VALUE=DATE:20240211
DTEND;VALUE=DATE:20240212
DTSTAMP:20260419T151118
CREATED:20240103T172618Z
LAST-MODIFIED:20240103T172618Z
UID:44814-1707609600-1707695999@ktex.com
SUMMARY:PFLAG Brenham Meeting
DESCRIPTION:PFLAG Brenham meets on the second Sunday of each month at 5:30 pm.  We are a support group for families\, friends and allies of the LGBTQ+ community.  Let us walk with you on your journey.  For more information\, visit www.facebook.com/BrenhamPFLAG or send an email to pflagbrenham@gmail.com
URL:https://ktex.com/event/pflag-brenham-meeting-2/
LOCATION:TX
CATEGORIES:Community Events
ATTACH;FMTTYPE=image/jpeg:https://ktex.com/wp-content/uploads/2024/01/PFLAG-Brenham-new.jpg
END:VEVENT
BEGIN:VEVENT
DTSTART;VALUE=DATE:20240211
DTEND;VALUE=DATE:20240212
DTSTAMP:20260419T151118
CREATED:20240126T142556Z
LAST-MODIFIED:20240126T142556Z
UID:45374-1707609600-1707695999@ktex.com
SUMMARY:6th Pastor's Anniversary Celebration at Main Street Church
DESCRIPTION:
URL:https://ktex.com/event/6th-pastors-anniversary-celebration-at-main-street-church-2/
LOCATION:Main Street Missionary Baptist Church (Brenham)\, 905 East Main Street\, Brenham\, TX\, 77833\, United States
CATEGORIES:Community Events
ATTACH;FMTTYPE=image/jpeg:https://ktex.com/wp-content/uploads/2024/01/main-street-appreciation.jpg
END:VEVENT
BEGIN:VEVENT
DTSTART;VALUE=DATE:20240212
DTEND;VALUE=DATE:20240213
DTSTAMP:20260419T151118
CREATED:20240110T144118Z
LAST-MODIFIED:20240110T144118Z
UID:45055-1707696000-1707782399@ktex.com
SUMMARY:Food Handler Course
DESCRIPTION:
URL:https://ktex.com/event/food-handler-course/
LOCATION:Washington County Extension Conference Room\, 1305 Blue Bell Road\, Brenham\, TX\, 77833\, United States
CATEGORIES:Community Events
ATTACH;FMTTYPE=image/png:https://ktex.com/wp-content/uploads/2024/01/food-handler-course-feb-apr-june.png
END:VEVENT
BEGIN:VEVENT
DTSTART;VALUE=DATE:20240212
DTEND;VALUE=DATE:20240213
DTSTAMP:20260419T151118
CREATED:20240207T191606Z
LAST-MODIFIED:20240207T191606Z
UID:45545-1707696000-1707782399@ktex.com
SUMMARY:Washington County Ladies Lions Club Meeting
DESCRIPTION:The Washington County Ladies Lions Club will meet Monday\, February 12\, at noon\, at the Cannery Kitchen in downtown Brenham. Details of the Valentine Flower deliveries and annual fundraiser will be discussed.  The public is invited to attend\, RSVP not required\, lunch is available.
URL:https://ktex.com/event/washington-county-ladies-lions-club-meeting-8/
LOCATION:Cannery Kitchen\, 314 East Alamo Street\, Brenham\, TX\, 77833\, United States
CATEGORIES:Community Events
ATTACH;FMTTYPE=image/jpeg:https://ktex.com/wp-content/uploads/2024/02/wc-ladies-lions-banner.jpg
END:VEVENT
BEGIN:VEVENT
DTSTART;VALUE=DATE:20240212
DTEND;VALUE=DATE:20240213
DTSTAMP:20260419T151118
CREATED:20240208T213344Z
LAST-MODIFIED:20240208T213344Z
UID:45620-1707696000-1707782399@ktex.com
SUMMARY:Jury Trial CANCELED
DESCRIPTION:The Jury Trial for Monday\, February 12\, 2024 at 9:00 a.m. with the Honorable Judge J.D. Langley has been “CANCELED”.  You do not have to appear for jury service.
URL:https://ktex.com/event/jury-trial-canceled-2/
LOCATION:TX
CATEGORIES:Community Events
ATTACH;FMTTYPE=image/jpeg:https://ktex.com/wp-content/uploads/2023/10/jurytrialcanceledFEATURE.jpg
END:VEVENT
BEGIN:VEVENT
DTSTART;TZID=America/Chicago:20240212T180000
DTEND;TZID=America/Chicago:20240212T193000
DTSTAMP:20260419T151118
CREATED:20231227T145612Z
LAST-MODIFIED:20240124T154850Z
UID:44697-1707760800-1707766200@ktex.com
SUMMARY:James Emerson Dennis Jr. Memorial Black History Series
DESCRIPTION:
URL:https://ktex.com/event/james-emerson-dennis-jr-memorial-black-history-forum-2/
LOCATION:Cannery Kitchen\, 314 East Alamo Street\, Brenham\, TX\, 77833\, United States
CATEGORIES:Community Events
ATTACH;FMTTYPE=image/jpeg:https://ktex.com/wp-content/uploads/2023/12/feb-12.jpg
END:VEVENT
BEGIN:VEVENT
DTSTART;VALUE=DATE:20240213
DTEND;VALUE=DATE:20240214
DTSTAMP:20260419T151118
CREATED:20240112T214342Z
LAST-MODIFIED:20240112T214342Z
UID:45093-1707782400-1707868799@ktex.com
SUMMARY:The Pilot Club's Spring Fundraiser
DESCRIPTION:
URL:https://ktex.com/event/the-pilot-clubs-spring-fundraiser/
LOCATION:American Legion Hall Brenham\, 903 North Park\, Brenham\, TX\, 77833\, United States
CATEGORIES:Community Events
ATTACH;FMTTYPE=image/png:https://ktex.com/wp-content/uploads/2024/01/pilot-club-fundraiser-24.png
END:VEVENT
BEGIN:VEVENT
DTSTART;VALUE=DATE:20240213
DTEND;VALUE=DATE:20240214
DTSTAMP:20260419T151118
CREATED:20240207T184219Z
LAST-MODIFIED:20240207T184219Z
UID:45542-1707782400-1707868799@ktex.com
SUMMARY:Republican Club of Washington County Monthly Meeting
DESCRIPTION:The Republican Club of Washington County will hold its monthly meeting on Tuesday\, February 13\, at the Cannery Kitchen.  Registration and social time start at 5:50 pm\, dinner at 6:00 pm and Bill Ely will present at or before 6:30 pm.  Delicious dinners are available for $20 each for non-members.  Being with us to hear our speaker is free of charge.\nBill Ely will give a complete overview of Article V of the US Constitution.   He will talk about the problem\, the solution\, how it works and the strategy and how to get Involved.  There will be time of Q and A.\nThe public is welcome.  Please RSVP for dinner by sending an email to wcrepublicanclub@gmail.com.
URL:https://ktex.com/event/republican-club-of-washington-county-monthly-meeting/
LOCATION:Cannery Kitchen\, 314 East Alamo Street\, Brenham\, TX\, 77833\, United States
CATEGORIES:Community Events
ATTACH;FMTTYPE=image/jpeg:https://ktex.com/wp-content/uploads/2024/02/wc-republican-club-Picture1.jpg
END:VEVENT
BEGIN:VEVENT
DTSTART;VALUE=DATE:20240213
DTEND;VALUE=DATE:20240214
DTSTAMP:20260419T151118
CREATED:20240213T150300Z
LAST-MODIFIED:20240213T150300Z
UID:45671-1707782400-1707868799@ktex.com
SUMMARY:Cub Basketball Season Finale
DESCRIPTION:
URL:https://ktex.com/event/cub-basketball-season-finale/
LOCATION:A&M Consolidated High School\,  1801 Harvey Mitchell Pkwy S.\, College Station\, 77845
CATEGORIES:Community Events
ATTACH;FMTTYPE=image/jpeg:https://ktex.com/wp-content/uploads/2024/02/cubs-season-finale.jpg
END:VEVENT
END:VCALENDAR