BEGIN:VCALENDAR
VERSION:2.0
PRODID:-//KTEX 106.1 - ECPv6.15.20//NONSGML v1.0//EN
CALSCALE:GREGORIAN
METHOD:PUBLISH
X-ORIGINAL-URL:https://ktex.com
X-WR-CALDESC:Events for KTEX 106.1
REFRESH-INTERVAL;VALUE=DURATION:PT1H
X-Robots-Tag:noindex
X-PUBLISHED-TTL:PT1H
BEGIN:VTIMEZONE
TZID:America/Chicago
BEGIN:DAYLIGHT
TZOFFSETFROM:-0600
TZOFFSETTO:-0500
TZNAME:CDT
DTSTART:20220313T080000
END:DAYLIGHT
BEGIN:STANDARD
TZOFFSETFROM:-0500
TZOFFSETTO:-0600
TZNAME:CST
DTSTART:20221106T070000
END:STANDARD
BEGIN:DAYLIGHT
TZOFFSETFROM:-0600
TZOFFSETTO:-0500
TZNAME:CDT
DTSTART:20230312T080000
END:DAYLIGHT
BEGIN:STANDARD
TZOFFSETFROM:-0500
TZOFFSETTO:-0600
TZNAME:CST
DTSTART:20231105T070000
END:STANDARD
BEGIN:DAYLIGHT
TZOFFSETFROM:-0600
TZOFFSETTO:-0500
TZNAME:CDT
DTSTART:20240310T080000
END:DAYLIGHT
BEGIN:STANDARD
TZOFFSETFROM:-0500
TZOFFSETTO:-0600
TZNAME:CST
DTSTART:20241103T070000
END:STANDARD
END:VTIMEZONE
BEGIN:VEVENT
DTSTART;TZID=America/Chicago:20231005T183000
DTEND;TZID=America/Chicago:20231005T200000
DTSTAMP:20260421T213009
CREATED:20230919T205619Z
LAST-MODIFIED:20230919T205619Z
UID:42865-1696530600-1696536000@ktex.com
SUMMARY:Breast Cancer Seminar
DESCRIPTION:
URL:https://ktex.com/event/breast-cancer-seminar/
LOCATION:Nancy Carol Roberts Memorial Library\, 100 Martin Luther King Jr. Parkway\, Brenham\, Texas\, 77833
CATEGORIES:Community Events
ATTACH;FMTTYPE=image/png:https://ktex.com/wp-content/uploads/2023/09/breast-cancer-seminar-oct.png
END:VEVENT
BEGIN:VEVENT
DTSTART;VALUE=DATE:20231006
DTEND;VALUE=DATE:20231007
DTSTAMP:20260421T213009
CREATED:20230127T203857Z
LAST-MODIFIED:20230127T203857Z
UID:32622-1696550400-1696636799@ktex.com
SUMMARY:Downtown Brenham Farmer & Artisan Market
DESCRIPTION:Downtown Brenham’s First Fridays Farmer & Artisan Market is held on the first Friday of each month on Baylor Street\, right in the heart of beautiful Downtown Brenham!  Check out our website and Facebook page for information on our fantastic vendors or to inquire about becoming a vendor!\nMarket Schedule\nFeb\nFriday: 3:00pm – 6:00pm \nMar – Sep\nFriday: 4:00pm – 7:00pm \nOct – Dec\nFriday: 3:00pm – 6:00pm
URL:https://ktex.com/event/downtown-brenham-farmer-artisan-market-9/
LOCATION:Downtown Brenham
CATEGORIES:Community Events
ATTACH;FMTTYPE=image/jpeg:https://ktex.com/wp-content/uploads/2023/01/brenham-farmer-artisan-market.png.jpg
END:VEVENT
BEGIN:VEVENT
DTSTART;VALUE=DATE:20231006
DTEND;VALUE=DATE:20231007
DTSTAMP:20260421T213009
CREATED:20230901T193836Z
LAST-MODIFIED:20230901T193836Z
UID:42473-1696550400-1696636799@ktex.com
SUMMARY:Boys & Girls Club of Washington Co. Charity Golf Tournament
DESCRIPTION:Click below to register:\nhttps://bit.ly/3OWUPzh
URL:https://ktex.com/event/boys-girls-club-of-washington-co-charity-golf-tournament/
LOCATION:Brenham Country Club\, 4107 Hwy 105\, Brenham1\, 77833
CATEGORIES:Community Events
ATTACH;FMTTYPE=image/jpeg:https://ktex.com/wp-content/uploads/2023/09/boys-girls-club-charity-golf-tour.jpg
END:VEVENT
BEGIN:VEVENT
DTSTART;VALUE=DATE:20231006
DTEND;VALUE=DATE:20231007
DTSTAMP:20260421T213009
CREATED:20230912T200749Z
LAST-MODIFIED:20230912T200749Z
UID:42733-1696550400-1696636799@ktex.com
SUMMARY:Bellville Masonic Lodge Sporting Clay Tournament
DESCRIPTION:
URL:https://ktex.com/event/bellville-masonic-lodge-sporting-clay-tournament/
LOCATION:Texas Premier Sporting Arms (Sealy)\, 7311 Hwy. 36 South\, Sealy\, TX\, 77474\, United States
CATEGORIES:Community Events
ATTACH;FMTTYPE=image/png:https://ktex.com/wp-content/uploads/2023/09/sporting-clay-tournament-bellville-oct.png
END:VEVENT
BEGIN:VEVENT
DTSTART;VALUE=DATE:20231006
DTEND;VALUE=DATE:20231007
DTSTAMP:20260421T213009
CREATED:20230925T142429Z
LAST-MODIFIED:20230925T142429Z
UID:42964-1696550400-1696636799@ktex.com
SUMMARY:VFW Post 7104 Steak Supper
DESCRIPTION:James F. Dillon VFW Post 7104 will be having a barbecue beef sirloin steak\, pork steak and pork sausage supper on Friday\, October 6\, doors will open at 6:00 and the meal will be served at 7:00\, call 979 203-5586\, 979 277-5061 to make reservation by 12:00 noon on the date of the meal – You may also call the post home at 979 830-8776 (leave a message)\, the meal is open to the public.
URL:https://ktex.com/event/vfw-post-7104-steak-supper-3/
LOCATION:James F. Dillion VFW Post 7104\, 1200 East Tom Green Street\, Brenham\, TX\, 77833\, United States
CATEGORIES:Community Events
ATTACH;FMTTYPE=image/jpeg:https://ktex.com/wp-content/uploads/2023/09/vfw.jpg
END:VEVENT
BEGIN:VEVENT
DTSTART;VALUE=DATE:20231006
DTEND;VALUE=DATE:20231007
DTSTAMP:20260421T213009
CREATED:20231004T194243Z
LAST-MODIFIED:20231004T194243Z
UID:43222-1696550400-1696636799@ktex.com
SUMMARY:Washington County District Court Jury Trial Canceled
DESCRIPTION:The Jury Trial scheduled for Friday October 6\, 2023 in the Washington County District Court in Brenham\, TX before Judge J.D. Langley has CANCELED
URL:https://ktex.com/event/washington-county-district-court-jury-trial-canceled/
LOCATION:TX
CATEGORIES:Community Events
ATTACH;FMTTYPE=image/jpeg:https://ktex.com/wp-content/uploads/2023/10/jurytrialcanceledFEATURE.jpg
END:VEVENT
BEGIN:VEVENT
DTSTART;VALUE=DATE:20231006
DTEND;VALUE=DATE:20231008
DTSTAMP:20260421T213009
CREATED:20230815T214045Z
LAST-MODIFIED:20230815T214045Z
UID:42119-1696550400-1696723199@ktex.com
SUMMARY:Anderson VFD Championship BBQ Cookoff
DESCRIPTION:
URL:https://ktex.com/event/anderson-vfd-championship-bbq-cookoff/
LOCATION:GRIMES COUNTY EXPO CENTER/FAIRGROUNDS\, 5220 F.M. 3455\, Navasota\, TX\, 77868\, United States
CATEGORIES:Community Events
ATTACH;FMTTYPE=image/jpeg:https://ktex.com/wp-content/uploads/2023/08/anderson-vfd-bbq-cookoff.jpg
END:VEVENT
BEGIN:VEVENT
DTSTART;VALUE=DATE:20231006
DTEND;VALUE=DATE:20231008
DTSTAMP:20260421T213009
CREATED:20231003T142306Z
LAST-MODIFIED:20231003T142306Z
UID:43188-1696550400-1696723199@ktex.com
SUMMARY:Oktoberfest-Black Bridge Festival & Mini Marathon
DESCRIPTION:
URL:https://ktex.com/event/oktoberfest-black-bridge-festival-mini-marathon/
LOCATION:Downtown Dime Box\, Dime Box\, TX\, 77853\, United States
CATEGORIES:Community Events
ATTACH;FMTTYPE=image/jpeg:https://ktex.com/wp-content/uploads/2023/10/black-bridge-fest-oct-6-7.jpg
END:VEVENT
BEGIN:VEVENT
DTSTART;VALUE=DATE:20231006
DTEND;VALUE=DATE:20231016
DTSTAMP:20260421T213009
CREATED:20230724T143422Z
LAST-MODIFIED:20230724T143422Z
UID:41690-1696550400-1697414399@ktex.com
SUMMARY:Austin County Fair
DESCRIPTION:
URL:https://ktex.com/event/austin-county-fair/
LOCATION:Austin County Fairgrounds\, 1076 East Hill\, Bellville\, TX\, 77418\, United States
CATEGORIES:Community Events
ATTACH;FMTTYPE=image/jpeg:https://ktex.com/wp-content/uploads/2023/07/austin-co-fair-2023.jpg
END:VEVENT
BEGIN:VEVENT
DTSTART;TZID=America/Chicago:20231006T090000
DTEND;TZID=America/Chicago:20231006T120000
DTSTAMP:20260421T213009
CREATED:20230710T193316Z
LAST-MODIFIED:20230710T193316Z
UID:35743-1696582800-1696593600@ktex.com
SUMMARY:Austin County Fall Forage Seminar
DESCRIPTION:
URL:https://ktex.com/event/austin-county-fall-forage-seminar-2/
LOCATION:Austin County Fairgrounds\, 1076 East Hill\, Bellville\, TX\, 77418\, United States
CATEGORIES:Community Events
ATTACH;FMTTYPE=image/png:https://ktex.com/wp-content/uploads/2023/07/ac-hay-show.png
END:VEVENT
BEGIN:VEVENT
DTSTART;TZID=America/Chicago:20231006T160000
DTEND;TZID=America/Chicago:20231006T190000
DTSTAMP:20260421T213009
CREATED:20231005T133718Z
LAST-MODIFIED:20231005T133718Z
UID:43231-1696608000-1696618800@ktex.com
SUMMARY:Shawanda Mosley Benefit Drive-Thru
DESCRIPTION:
URL:https://ktex.com/event/shawanda-mosley-benefit-drive-thru/
LOCATION:Jackson Street Park Pavilion\, 904 West Mansfield St.\, Brenham\, TX\, 77833\, United States
CATEGORIES:Community Events
ATTACH;FMTTYPE=image/jpeg:https://ktex.com/wp-content/uploads/2023/10/benefit-shawannda.jpg
END:VEVENT
BEGIN:VEVENT
DTSTART;TZID=America/Chicago:20231006T190000
DTEND;TZID=America/Chicago:20231006T220000
DTSTAMP:20260421T213009
CREATED:20230919T164002Z
LAST-MODIFIED:20230919T164002Z
UID:42855-1696618800-1696629600@ktex.com
SUMMARY:Friday Face-Off: Somerville Yeguas vs Snook Blue Jays
DESCRIPTION:Courtney Cartwright is heading to Snook to cheer on the Yeguas to victory! But she’s not going empty handed! Thanks to our sponsors Citizen’s State Bank\, Mama’s Kitchen\, Wine & Roses\, and BASF – Catalyst Metals! Catch her in the KTEX County Cruiser before kickoff at 7!
URL:https://ktex.com/event/friday-face-off-somerville-yeguas-vs-snook-blue-jays/
LOCATION:Blue Jay Stadium\, 10110 FM2155\, Snook\, TX\, 77879\, United States
CATEGORIES:KTEX on the Road
END:VEVENT
BEGIN:VEVENT
DTSTART;VALUE=DATE:20231007
DTEND;VALUE=DATE:20231008
DTSTAMP:20260421T213009
CREATED:20230824T201119Z
LAST-MODIFIED:20230824T201119Z
UID:42218-1696636800-1696723199@ktex.com
SUMMARY:Making Strides Against Breast Cancer Walk
DESCRIPTION:
URL:https://ktex.com/event/making-strides-against-breast-cancer-walk/
LOCATION:Hohlt Park\, 2425 N Park St\, Brenham\, TX\, 77833\, United States
CATEGORIES:Community Events
ATTACH;FMTTYPE=image/png:https://ktex.com/wp-content/uploads/2023/08/strides-against-breast-cancer.png
END:VEVENT
BEGIN:VEVENT
DTSTART;VALUE=DATE:20231007
DTEND;VALUE=DATE:20231008
DTSTAMP:20260421T213009
CREATED:20230825T142119Z
LAST-MODIFIED:20230825T142119Z
UID:42240-1696636800-1696723199@ktex.com
SUMMARY:Bellville Market Day & Farmers Market
DESCRIPTION:
URL:https://ktex.com/event/bellville-market-day-farmers-market-2/
LOCATION:TX
CATEGORIES:Community Events
ATTACH;FMTTYPE=image/jpeg:https://ktex.com/wp-content/uploads/2023/08/bellville-market-day-farmers-market-sep-oct-nov-dec.jpg
END:VEVENT
BEGIN:VEVENT
DTSTART;VALUE=DATE:20231007
DTEND;VALUE=DATE:20231008
DTSTAMP:20260421T213009
CREATED:20230906T133534Z
LAST-MODIFIED:20230906T133534Z
UID:42529-1696636800-1696723199@ktex.com
SUMMARY:Rufus Lange Memorial Cookoff
DESCRIPTION:
URL:https://ktex.com/event/rufus-lange-memorial-cookoff/
LOCATION:Gay Hill Fire Station\, 7500 Old Gay Hill Road\, Brenham\, TX\, 77833\, United States
CATEGORIES:Community Events
ATTACH;FMTTYPE=image/jpeg:https://ktex.com/wp-content/uploads/2023/09/rufus-lange-memorial-cookoff-oct.jpg
END:VEVENT
BEGIN:VEVENT
DTSTART;VALUE=DATE:20231007
DTEND;VALUE=DATE:20231008
DTSTAMP:20260421T213009
CREATED:20230912T133210Z
LAST-MODIFIED:20230912T133210Z
UID:42715-1696636800-1696723199@ktex.com
SUMMARY:Welcome Warriors Fundraiser
DESCRIPTION:
URL:https://ktex.com/event/welcome-warriors-fundraiser/
LOCATION:Industry City Park\, 725 Main Street\, Industry\, TX\, 78944\, United States
CATEGORIES:Community Events
ATTACH;FMTTYPE=image/jpeg:https://ktex.com/wp-content/uploads/2023/09/ninja-5k-oct.jpg
END:VEVENT
BEGIN:VEVENT
DTSTART;VALUE=DATE:20231007
DTEND;VALUE=DATE:20231008
DTSTAMP:20260421T213009
CREATED:20230919T165005Z
LAST-MODIFIED:20230922T190007Z
UID:42860-1696636800-1696723199@ktex.com
SUMMARY:Austin County Fair
DESCRIPTION:Opening weekend of Austin County Fair is finally here! We’re kicking it off with the Little and the Jr Mr. & Miss Contests\, Mustton Bustin’ Queen’s Contest\, Bull Riding\, and some amazing live music from Dos Borrachos! Catch the Courtney Cartwright there in the KTEX Country Crusier!
URL:https://ktex.com/event/austin-county-fair-2/
LOCATION:Austin County Fairgrounds\, 1076 East Hill\, Bellville\, TX\, 77418\, United States
CATEGORIES:KTEX on the Road
END:VEVENT
BEGIN:VEVENT
DTSTART;VALUE=DATE:20231007
DTEND;VALUE=DATE:20231008
DTSTAMP:20260421T213009
CREATED:20230921T173114Z
LAST-MODIFIED:20230921T173156Z
UID:42907-1696636800-1696723199@ktex.com
SUMMARY:Oktoberfest - LaGrange
DESCRIPTION:Oktoberfest on the Square in La Grange is filled with tons of fun.  It’s a true family event.  Bring the kids to enjoy activities and games.  There will be two live bands under the event tent for adults alone with over 60 different kinds of craft beer to sample.  Don’t forget the homemade schnitzel and German noodles.\nGeneral admission tickets include admission to the Event Tent\, a complimentary beer glass\, beer tasting\, and the opportunity to purchase beers. \nMeal tickets include one plate with schnitzel\, German noodles\, sauerkraut\, sausage\, and a cup of applesauce. \nDesignated Driver tickets include admission to the Event Tent and a soda voucher. \nKids’ tickets include admission to the Event Tent and use of the children’s activities on the courthouse lawn.
URL:https://ktex.com/event/oktoberfest-lagrange/
LOCATION:Downtown La Grange\, 78945
CATEGORIES:Community Events
ATTACH;FMTTYPE=image/jpeg:https://ktex.com/wp-content/uploads/2023/09/oktoberfest-beer-wine-fest.jpg
END:VEVENT
BEGIN:VEVENT
DTSTART;TZID=America/Chicago:20231007T080000
DTEND;TZID=America/Chicago:20231007T110000
DTSTAMP:20260421T213009
CREATED:20230831T205129Z
LAST-MODIFIED:20230831T205129Z
UID:42463-1696665600-1696676400@ktex.com
SUMMARY:Independence Community Events Car Show
DESCRIPTION:
URL:https://ktex.com/event/independence-community-events-car-show/
LOCATION:TX
CATEGORIES:Community Events
ATTACH;FMTTYPE=image/jpeg:https://ktex.com/wp-content/uploads/2023/08/ind-comm-events-car-show-002.jpg
END:VEVENT
BEGIN:VEVENT
DTSTART;TZID=America/Chicago:20231007T110000
DTEND;TZID=America/Chicago:20231007T130000
DTSTAMP:20260421T213009
CREATED:20231002T133451Z
LAST-MODIFIED:20231002T133451Z
UID:43155-1696676400-1696683600@ktex.com
SUMMARY:Breast Cancer Awareness Memorial
DESCRIPTION:
URL:https://ktex.com/event/breast-cancer-awareness-memorial/
LOCATION:Brazos County Health Department\, 201 North Texas Avenue\, Bryan\, TX\, 77803\, United States
CATEGORIES:Community Events
ATTACH;FMTTYPE=image/jpeg:https://ktex.com/wp-content/uploads/2023/10/breast-cancer-awareness-oct.jpg
END:VEVENT
BEGIN:VEVENT
DTSTART;TZID=America/Chicago:20231008T083000
DTEND;TZID=America/Chicago:20231008T130000
DTSTAMP:20260421T213009
CREATED:20230926T210547Z
LAST-MODIFIED:20230926T210547Z
UID:43058-1696753800-1696770000@ktex.com
SUMMARY:Blood Drive at Grace Lutheran Church-Brenham
DESCRIPTION:
URL:https://ktex.com/event/blood-drive-at-grace-lutheran-church-brenham/
LOCATION:Grace Lutheran Church of Brenham (Family Activity Center)\, 1212 West Jefferson\, Brenham\, TX\, 77833\, United States
CATEGORIES:Community Events
ATTACH;FMTTYPE=image/png:https://ktex.com/wp-content/uploads/2023/09/blood-drive-oct-8.png
END:VEVENT
BEGIN:VEVENT
DTSTART;TZID=America/Chicago:20231008T110000
DTEND;TZID=America/Chicago:20231008T130000
DTSTAMP:20260421T213009
CREATED:20230920T144534Z
LAST-MODIFIED:20230920T144534Z
UID:42875-1696762800-1696770000@ktex.com
SUMMARY:Burton VFD BBQ Drive-Thru
DESCRIPTION:
URL:https://ktex.com/event/burton-vfd-bbq-drive-thru/
LOCATION:Burton VFD Station #2\, 1627 FM 1697\, Burton\, TX\, 77835\, United States
CATEGORIES:Community Events
ATTACH;FMTTYPE=image/png:https://ktex.com/wp-content/uploads/2023/09/burton-vfd-fundr-oct.png
END:VEVENT
BEGIN:VEVENT
DTSTART;TZID=America/Chicago:20231008T130000
DTEND;TZID=America/Chicago:20231008T170000
DTSTAMP:20260421T213009
CREATED:20230927T145334Z
LAST-MODIFIED:20230927T145334Z
UID:43072-1696770000-1696784400@ktex.com
SUMMARY:Round Top Family present Author Author Book Fair
DESCRIPTION:
URL:https://ktex.com/event/round-top-family-present-author-author-book-fair/
LOCATION:Round Top Family Library Annex Porch\, 206 W. Mill Street\, Round Top\, TX\, 78954\, United States
CATEGORIES:Community Events
ATTACH;FMTTYPE=image/jpeg:https://ktex.com/wp-content/uploads/2023/09/rt-family-library-oct.jpg
END:VEVENT
BEGIN:VEVENT
DTSTART;VALUE=DATE:20231009
DTEND;VALUE=DATE:20231010
DTSTAMP:20260421T213009
CREATED:20231006T140230Z
LAST-MODIFIED:20231006T140230Z
UID:43264-1696809600-1696895999@ktex.com
SUMMARY:Washington County Ladies Lions Club Meeting
DESCRIPTION:The Washington County Ladies Lions Club will meet Monday October 9 at Noon at the Cannery Kitchen. Members are to bring used eyeglasses\, items for the Senior Citizens and Casa for Kids collections.  RSVP is not required\, The public is invited to attend. Lunch is available.
URL:https://ktex.com/event/washington-county-ladies-lions-club-meeting-3/
LOCATION:Cannery Kitchen\, 314 East Alamo Street\, Brenham\, TX\, 77833\, United States
CATEGORIES:Community Events
ATTACH;FMTTYPE=image/jpeg:https://ktex.com/wp-content/uploads/2023/10/wc-ladies-lions-banner.jpg
END:VEVENT
BEGIN:VEVENT
DTSTART;VALUE=DATE:20231010
DTEND;VALUE=DATE:20231011
DTSTAMP:20260421T213009
CREATED:20230922T201927Z
LAST-MODIFIED:20230922T201927Z
UID:42945-1696896000-1696982399@ktex.com
SUMMARY:Ribbon Cutting-The Hill Top at Brenham
DESCRIPTION:Washington County Chamber Ribbon Cutting for The Hill Top at Brenham is Tuesday\, October 10\, at 11:00am
URL:https://ktex.com/event/ribbon-cutting-the-hill-top-at-brenham/
LOCATION:The Hill Top at Brenham\, 3170 North Park St.\, Brenham\, TX\, 77833\, United States
CATEGORIES:Community Events
ATTACH;FMTTYPE=image/jpeg:https://ktex.com/wp-content/uploads/2023/09/coc-washington-county-ribbon-cutting.jpg
END:VEVENT
BEGIN:VEVENT
DTSTART;VALUE=DATE:20231010
DTEND;VALUE=DATE:20231011
DTSTAMP:20260421T213009
CREATED:20230927T150040Z
LAST-MODIFIED:20230927T150040Z
UID:43077-1696896000-1696982399@ktex.com
SUMMARY:Medicare Education Class at RT Family Library
DESCRIPTION:Also at Round Top Family Library is Homeschool Play Date\, October 10th\, 10:00am – Noon
URL:https://ktex.com/event/medicare-education-class-at-rt-family-library/
LOCATION:Round Top Family Library Annex Porch\, 206 W. Mill Street\, Round Top\, TX\, 78954\, United States
CATEGORIES:Community Events
ATTACH;FMTTYPE=image/jpeg:https://ktex.com/wp-content/uploads/2023/09/rt-family-library-oct.jpg
END:VEVENT
BEGIN:VEVENT
DTSTART;TZID=America/Chicago:20231010T084500
DTEND;TZID=America/Chicago:20231010T100000
DTSTAMP:20260421T213009
CREATED:20231004T133250Z
LAST-MODIFIED:20231004T140728Z
UID:43204-1696927500-1696932000@ktex.com
SUMMARY:Home Buying 101 Breakfast Event
DESCRIPTION:Must RSVP by October 6 at 979 836-3695
URL:https://ktex.com/event/ribbon-cutting-home-buying-101-breakfast/
LOCATION:Citizen’s State Bank (Brenham)\, 2007 S. Day Street\, Brenham\, TX\, 77833\, United States
CATEGORIES:Community Events
ATTACH;FMTTYPE=image/jpeg:https://ktex.com/wp-content/uploads/2023/09/coc-washington-county-ribbon-cutting.jpg
END:VEVENT
BEGIN:VEVENT
DTSTART;TZID=America/Chicago:20231010T180000
DTEND;TZID=America/Chicago:20231010T200000
DTSTAMP:20260421T213009
CREATED:20231005T141828Z
LAST-MODIFIED:20231005T141828Z
UID:43234-1696960800-1696968000@ktex.com
SUMMARY:ARTS for Rural Texas-Fayetteville Music Series
DESCRIPTION:
URL:https://ktex.com/event/arts-for-rural-texas-fayetteville-music-series/
LOCATION:Downtown Fayetteville\, Fayetteville\, TX\, 78940\, United States
CATEGORIES:Community Events
ATTACH;FMTTYPE=image/jpeg:https://ktex.com/wp-content/uploads/2023/10/arts-for-rural-tx-fayetteville.jpg
END:VEVENT
BEGIN:VEVENT
DTSTART;VALUE=DATE:20231011
DTEND;VALUE=DATE:20231012
DTSTAMP:20260421T213009
CREATED:20230922T202154Z
LAST-MODIFIED:20230922T202154Z
UID:42948-1696982400-1697068799@ktex.com
SUMMARY:Ribbon Cutting - T-Mobile
DESCRIPTION:Washington County Chamber  Ribbon Cutting for T-Mobile is Wednesday\, October 11\, at 11:00am
URL:https://ktex.com/event/ribbon-cutting-t-mobile/
LOCATION:T-Mobile\, 910 Hwy 290 East\, Brenham\, TX\, 77833\, United States
CATEGORIES:Community Events
ATTACH;FMTTYPE=image/jpeg:https://ktex.com/wp-content/uploads/2023/09/coc-washington-county-ribbon-cutting.jpg
END:VEVENT
BEGIN:VEVENT
DTSTART;TZID=America/Chicago:20231011T090000
DTEND;TZID=America/Chicago:20231011T150000
DTSTAMP:20260421T213009
CREATED:20230919T164358Z
LAST-MODIFIED:20230919T164358Z
UID:42858-1697014800-1697036400@ktex.com
SUMMARY:BCS Youth to Career Fair
DESCRIPTION:Eilish and Courtney Cartwright are going out to show the youth of Brazos Valley why their job is the best! Students from across the Brazos Valley are driving over to the Brazos County Expo to learn all about the future careers they could have! Catch them their in the KTEX Country Cruiser!
URL:https://ktex.com/event/bcs-youth-to-career-fair/
LOCATION:Brazos County Expo\, 5827 Leonard Rd\, Bryan\, TX\, 77807\, United States
CATEGORIES:KTEX on the Road
END:VEVENT
END:VCALENDAR