BEGIN:VCALENDAR
VERSION:2.0
PRODID:-//KTEX 106.1 - ECPv6.15.20//NONSGML v1.0//EN
CALSCALE:GREGORIAN
METHOD:PUBLISH
X-WR-CALNAME:KTEX 106.1
X-ORIGINAL-URL:https://ktex.com
X-WR-CALDESC:Events for KTEX 106.1
REFRESH-INTERVAL;VALUE=DURATION:PT1H
X-Robots-Tag:noindex
X-PUBLISHED-TTL:PT1H
BEGIN:VTIMEZONE
TZID:America/Chicago
BEGIN:DAYLIGHT
TZOFFSETFROM:-0600
TZOFFSETTO:-0500
TZNAME:CDT
DTSTART:20220313T080000
END:DAYLIGHT
BEGIN:STANDARD
TZOFFSETFROM:-0500
TZOFFSETTO:-0600
TZNAME:CST
DTSTART:20221106T070000
END:STANDARD
BEGIN:DAYLIGHT
TZOFFSETFROM:-0600
TZOFFSETTO:-0500
TZNAME:CDT
DTSTART:20230312T080000
END:DAYLIGHT
BEGIN:STANDARD
TZOFFSETFROM:-0500
TZOFFSETTO:-0600
TZNAME:CST
DTSTART:20231105T070000
END:STANDARD
BEGIN:DAYLIGHT
TZOFFSETFROM:-0600
TZOFFSETTO:-0500
TZNAME:CDT
DTSTART:20240310T080000
END:DAYLIGHT
BEGIN:STANDARD
TZOFFSETFROM:-0500
TZOFFSETTO:-0600
TZNAME:CST
DTSTART:20241103T070000
END:STANDARD
END:VTIMEZONE
BEGIN:VEVENT
DTSTART;TZID=America/Chicago:20231031T173000
DTEND;TZID=America/Chicago:20231031T193000
DTSTAMP:20260421T173916
CREATED:20231024T212609Z
LAST-MODIFIED:20231024T212609Z
UID:43577-1698773400-1698780600@ktex.com
SUMMARY:FRIGHTNIGHT 2023
DESCRIPTION:
URL:https://ktex.com/event/frightnight-2023/
LOCATION:Downtown Independence\, Independence\, Texas\, 77833
CATEGORIES:Community Events
ATTACH;FMTTYPE=image/jpeg:https://ktex.com/wp-content/uploads/2023/10/ph-vfd-frightnight.jpg
END:VEVENT
BEGIN:VEVENT
DTSTART;TZID=America/Chicago:20231031T180000
DTEND;TZID=America/Chicago:20231031T200000
DTSTAMP:20260421T173916
CREATED:20231005T133314Z
LAST-MODIFIED:20231005T133314Z
UID:43228-1698775200-1698782400@ktex.com
SUMMARY:Light the Night Fellowship
DESCRIPTION:
URL:https://ktex.com/event/light-the-night-fellowship/
LOCATION:Brenham Bible Church\, 2804 Gun and Rod Rd\, Brenham\, TX\, 77833\, United States
CATEGORIES:Community Events
ATTACH;FMTTYPE=image/png:https://ktex.com/wp-content/uploads/2023/10/light-the-night.png
END:VEVENT
BEGIN:VEVENT
DTSTART;TZID=America/Chicago:20231031T180000
DTEND;TZID=America/Chicago:20231031T200000
DTSTAMP:20260421T173916
CREATED:20231005T142244Z
LAST-MODIFIED:20231005T142244Z
UID:43241-1698775200-1698782400@ktex.com
SUMMARY:ARTS for Rural Texas-Fayetteville Music Series
DESCRIPTION:
URL:https://ktex.com/event/arts-for-rural-texas-fayetteville-music-series-4/
LOCATION:Downtown Fayetteville\, Fayetteville\, TX\, 78940\, United States
CATEGORIES:Community Events
ATTACH;FMTTYPE=image/jpeg:https://ktex.com/wp-content/uploads/2023/10/arts-for-rural-tx-fayetteville.jpg
END:VEVENT
BEGIN:VEVENT
DTSTART;TZID=America/Chicago:20231031T180000
DTEND;TZID=America/Chicago:20231031T200000
DTSTAMP:20260421T173916
CREATED:20231016T210444Z
LAST-MODIFIED:20231016T210444Z
UID:43374-1698775200-1698782400@ktex.com
SUMMARY:Brenham Boo Bash
DESCRIPTION:
URL:https://ktex.com/event/brenham-boo-bash/
LOCATION:TX
CATEGORIES:Community Events
ATTACH;FMTTYPE=image/jpeg:https://ktex.com/wp-content/uploads/2023/10/brenham-boo-bash.jpg
END:VEVENT
BEGIN:VEVENT
DTSTART;TZID=America/Chicago:20231031T180000
DTEND;TZID=America/Chicago:20231031T200000
DTSTAMP:20260421T173916
CREATED:20231023T183354Z
LAST-MODIFIED:20231023T183354Z
UID:43512-1698775200-1698782400@ktex.com
SUMMARY:Halloween Candy Drive Thru
DESCRIPTION:
URL:https://ktex.com/event/halloween-candy-drive-thru/
LOCATION:Max Donuts (Brenham) parking lot\, 1901 S. Market Street\, Brenham\, TX\, 77833\, United States
CATEGORIES:Community Events
ATTACH;FMTTYPE=image/png:https://ktex.com/wp-content/uploads/2023/10/halloween-candy-drive.png
END:VEVENT
BEGIN:VEVENT
DTSTART;TZID=America/Chicago:20231031T190000
DTEND;TZID=America/Chicago:20231031T210000
DTSTAMP:20260421T173916
CREATED:20231003T195510Z
LAST-MODIFIED:20231003T195510Z
UID:43195-1698778800-1698786000@ktex.com
SUMMARY:Boys & Girls Club of Austin County Halloween Trunk or Treat
DESCRIPTION:
URL:https://ktex.com/event/boys-girls-club-of-austin-county-halloween-trunk-or-treat/
LOCATION:Boys & Girls Club of Austin County\, 1815 S. Tesch St.\, Bellville\, TX\, 77418\, United States
CATEGORIES:Community Events
ATTACH;FMTTYPE=image/jpeg:https://ktex.com/wp-content/uploads/2023/10/bellville-halloween-trunk-or-treat.jpg
END:VEVENT
BEGIN:VEVENT
DTSTART;VALUE=DATE:20231101
DTEND;VALUE=DATE:20231102
DTSTAMP:20260421T173916
CREATED:20230728T201232Z
LAST-MODIFIED:20230728T201232Z
UID:41770-1698796800-1698883199@ktex.com
SUMMARY:Lunch-N-Learn Series-Butterflies
DESCRIPTION:
URL:https://ktex.com/event/lunch-n-learn-series-butterflies/
LOCATION:Washington County Expo Event Center\, 1305 E. Blue Bell Rd.\, Brenham\, TX\, 77833\, United States
CATEGORIES:Community Events
ATTACH;FMTTYPE=image/png:https://ktex.com/wp-content/uploads/2023/07/bb-master-gardeners-assoc-aug-oct-nov.png
END:VEVENT
BEGIN:VEVENT
DTSTART;VALUE=DATE:20231101
DTEND;VALUE=DATE:20231211
DTSTAMP:20260421T173916
CREATED:20231101T140654Z
LAST-MODIFIED:20231101T140654Z
UID:43687-1698796800-1702252799@ktex.com
SUMMARY:Toys for Tots Drop off location
DESCRIPTION:It’s a magical time of the year!!  #CSB Brenham branch is a drop off location for the Toys for Tots Washington County TX drive! All donations collected will stay within Washington County for our local kids. Any donations are greatly appreciated and we personally thank you for spreading Christmas cheer!\nFor more info check out https://www.toysfortots.org/
URL:https://ktex.com/event/toys-for-tots-drop-off-location/
LOCATION:Citizen’s State Bank (Brenham)\, 2007 S. Day Street\, Brenham\, TX\, 77833\, United States
CATEGORIES:Community Events
ATTACH;FMTTYPE=image/jpeg:https://ktex.com/wp-content/uploads/2023/11/toys-for-tots-csb.jpg
END:VEVENT
BEGIN:VEVENT
DTSTART;VALUE=DATE:20231102
DTEND;VALUE=DATE:20231103
DTSTAMP:20260421T173916
CREATED:20231018T164412Z
LAST-MODIFIED:20231018T164412Z
UID:43409-1698883200-1698969599@ktex.com
SUMMARY:St. Paul's CDS Spirit Night
DESCRIPTION:
URL:https://ktex.com/event/st-pauls-cds-spirit-night/
LOCATION:mr. gatti’s pizza (Brenham)\, 2855 US Hwy 290 W\, Brenham\, TX\, 77833\, United States
CATEGORIES:Community Events
ATTACH;FMTTYPE=image/jpeg:https://ktex.com/wp-content/uploads/2023/10/st-pauls-cds-spirit-night.jpg
END:VEVENT
BEGIN:VEVENT
DTSTART;VALUE=DATE:20231102
DTEND;VALUE=DATE:20231103
DTSTAMP:20260421T173916
CREATED:20231023T175329Z
LAST-MODIFIED:20231023T175329Z
UID:43506-1698883200-1698969599@ktex.com
SUMMARY:Brenham HS Theater Department Spirit Night
DESCRIPTION:
URL:https://ktex.com/event/brenham-hs-theater-department-spirit-night/
LOCATION:Pioneer Smokehouse and Mercantile\, 309 South Park\, Brenham\, TX\, 77833\, United States
CATEGORIES:Community Events
ATTACH;FMTTYPE=image/jpeg:https://ktex.com/wp-content/uploads/2023/10/bhs-theater-spirit-night.jpg
END:VEVENT
BEGIN:VEVENT
DTSTART;VALUE=DATE:20231102
DTEND;VALUE=DATE:20231107
DTSTAMP:20260421T173916
CREATED:20231030T202440Z
LAST-MODIFIED:20231030T202527Z
UID:43674-1698883200-1699315199@ktex.com
SUMMARY:WCF Exhibitor Checks Pickup Dates
DESCRIPTION:Washington County Fair exhibitor checks will be available for pickup at the fair office on:\nThursday\, 11/2\nFriday\, 11/3\nMonday\, 11/6\nFrom 8 – 5 daily\, including the lunch hour.  Any checks not picked up will be mailed on Tuesday\, 11/7
URL:https://ktex.com/event/wcf-exhibitor-checks-pickup-dates/
LOCATION:Washington County Fair Office\, 1305 East Blue Bell Road\, Brenham\, TX\, 77833\, United States
CATEGORIES:Community Events
ATTACH;FMTTYPE=image/png:https://ktex.com/wp-content/uploads/2023/10/PSA-red-color.png
END:VEVENT
BEGIN:VEVENT
DTSTART;TZID=America/Chicago:20231102T090000
DTEND;TZID=America/Chicago:20231102T130000
DTSTAMP:20260421T173916
CREATED:20231019T201523Z
LAST-MODIFIED:20231019T201523Z
UID:43447-1698915600-1698930000@ktex.com
SUMMARY:Hiring Red\, White & You Event
DESCRIPTION:
URL:https://ktex.com/event/hiring-red-white-you-event/
LOCATION:Legends Event Center (Bryan)\, 2533 Midtown Park Blvd.\, Bryan\, TX\, 77801\, United States
CATEGORIES:Community Events
ATTACH;FMTTYPE=image/png:https://ktex.com/wp-content/uploads/2023/10/hiring-red-wh-you.png
END:VEVENT
BEGIN:VEVENT
DTSTART;VALUE=DATE:20231103
DTEND;VALUE=DATE:20231104
DTSTAMP:20260421T173916
CREATED:20231023T175653Z
LAST-MODIFIED:20231023T175653Z
UID:43509-1698969600-1699055999@ktex.com
SUMMARY:VFW Post 7104 Steak Supper
DESCRIPTION:James F. Dillon VFW Post 7104 will be having a barbecue beef sirloin steak\, pork steak and pork sausage supper on Friday\, Nov. 3\, doors will open at 6:00 and the meal will be served at 7:00\, call 979 203-5586\, 979 277-5061 to make reservation by 12:00 noon on the date of the meal – You may also call the post home at 979 830-8776 (leave a message)\, the meal is open to the public.
URL:https://ktex.com/event/vfw-post-7104-steak-supper-4/
LOCATION:James F. Dillion VFW Post 7104\, 1200 East Tom Green Street\, Brenham\, TX\, 77833\, United States
CATEGORIES:Community Events
ATTACH;FMTTYPE=image/jpeg:https://ktex.com/wp-content/uploads/2023/10/vfw.jpg
END:VEVENT
BEGIN:VEVENT
DTSTART;VALUE=DATE:20231103
DTEND;VALUE=DATE:20231105
DTSTAMP:20260421T173916
CREATED:20231016T215422Z
LAST-MODIFIED:20231016T215422Z
UID:43382-1698969600-1699142399@ktex.com
SUMMARY:Lyons Christmas Cottage
DESCRIPTION:
URL:https://ktex.com/event/lyons-christmas-cottage/
LOCATION:American Legion Hall Somerville\, 517 8th Street\, Somerville\, TX\, 77879\, United States
CATEGORIES:Community Events
ATTACH;FMTTYPE=image/jpeg:https://ktex.com/wp-content/uploads/2023/10/lyons-christmas-cottage-scaled.jpg
END:VEVENT
BEGIN:VEVENT
DTSTART;VALUE=DATE:20231103
DTEND;VALUE=DATE:20231105
DTSTAMP:20260421T173916
CREATED:20231023T175041Z
LAST-MODIFIED:20231023T175041Z
UID:43503-1698969600-1699142399@ktex.com
SUMMARY:Holiday House Craft & Bake Sale
DESCRIPTION:Raising funds for Brenham Animal Services
URL:https://ktex.com/event/holiday-house-craft-bake-sale/
LOCATION:Washington County Expo\, 1305 E. Blue Bell Rd.\, Brenham\, TX\, 77833\, United States
CATEGORIES:Community Events
ATTACH;FMTTYPE=image/jpeg:https://ktex.com/wp-content/uploads/2023/10/holiday-house-craft-bake-sale-nov.jpg
END:VEVENT
BEGIN:VEVENT
DTSTART;VALUE=DATE:20231103
DTEND;VALUE=DATE:20231106
DTSTAMP:20260421T173916
CREATED:20231006T140814Z
LAST-MODIFIED:20231006T140814Z
UID:43273-1698969600-1699228799@ktex.com
SUMMARY:Round Top Wine Fest
DESCRIPTION:
URL:https://ktex.com/event/round-top-wine-fest/
LOCATION:TX
CATEGORIES:Community Events
ATTACH;FMTTYPE=image/jpeg:https://ktex.com/wp-content/uploads/2023/10/rt-wine-fest.jpg
END:VEVENT
BEGIN:VEVENT
DTSTART;TZID=America/Chicago:20231103T190000
DTEND;TZID=America/Chicago:20231103T220000
DTSTAMP:20260421T173916
CREATED:20231005T195311Z
LAST-MODIFIED:20231005T195311Z
UID:43260-1699038000-1699048800@ktex.com
SUMMARY:Friday Face-Off: Giddings vs Gonzales
DESCRIPTION:Catch Eilish in the KTEX Country Cruiser for our final Friday Face-Off! It’s Giddings vs Gonzales in a fight to the finish! Thanks to our sponsors – Rental Solutions\, Ben’s Body and Paint\, and Round Top State Bank!
URL:https://ktex.com/event/friday-face-off-giddings-vs-gonzales/
LOCATION:Giddings High School\, 2337 N Main St\, Giddings\, TX\, 78942\, United States
CATEGORIES:KTEX on the Road
END:VEVENT
BEGIN:VEVENT
DTSTART;VALUE=DATE:20231104
DTEND;VALUE=DATE:20231105
DTSTAMP:20260421T173916
CREATED:20230510T135023Z
LAST-MODIFIED:20230510T135023Z
UID:34512-1699056000-1699142399@ktex.com
SUMMARY:Bellville Celebrating 175 Years
DESCRIPTION:
URL:https://ktex.com/event/bellville-celebrating-175-years/
LOCATION:TX
CATEGORIES:Community Events
ATTACH;FMTTYPE=image/jpeg:https://ktex.com/wp-content/uploads/2023/05/bellville-celebrating-175-years.jpg
END:VEVENT
BEGIN:VEVENT
DTSTART;VALUE=DATE:20231104
DTEND;VALUE=DATE:20231105
DTSTAMP:20260421T173916
CREATED:20230825T142209Z
LAST-MODIFIED:20230825T142209Z
UID:42242-1699056000-1699142399@ktex.com
SUMMARY:Bellville Market Day & Farmers Market
DESCRIPTION:
URL:https://ktex.com/event/bellville-market-day-farmers-market-3/
LOCATION:TX
CATEGORIES:Community Events
ATTACH;FMTTYPE=image/jpeg:https://ktex.com/wp-content/uploads/2023/08/bellville-market-day-farmers-market-sep-oct-nov-dec.jpg
END:VEVENT
BEGIN:VEVENT
DTSTART;VALUE=DATE:20231105
DTEND;VALUE=DATE:20231106
DTSTAMP:20260421T173916
CREATED:20230926T133531Z
LAST-MODIFIED:20230926T133531Z
UID:42978-1699142400-1699228799@ktex.com
SUMMARY:New Beginning MBC 18th Church Anniversary
DESCRIPTION:
URL:https://ktex.com/event/new-beginning-mbc-18th-church-anniversary/
LOCATION:New Beginning Missionary Baptist Church\, 2105 FM 2935\, Brenham\, TX\, 77833\, United States
CATEGORIES:Community Events
ATTACH;FMTTYPE=image/jpeg:https://ktex.com/wp-content/uploads/2023/09/new-beginning-ch-anniv-nov.jpg
END:VEVENT
BEGIN:VEVENT
DTSTART;VALUE=DATE:20231106
DTEND;VALUE=DATE:20231107
DTSTAMP:20260421T173916
CREATED:20231101T141002Z
LAST-MODIFIED:20231101T141002Z
UID:43690-1699228800-1699315199@ktex.com
SUMMARY:Washington County Genealogical Society Meeting
DESCRIPTION:Washington County Genealogical Society Meeting will be held Monday\, November 6\, 1 p.m. at the Nancy Carol Roberts Memorial Library.  The program for the meeting will be presented by Paul Chamberlain\, a descendant of the founders of the King Ranch.  The public is invited.
URL:https://ktex.com/event/washington-county-genealogical-society-meeting-3/
LOCATION:Nancy Carol Roberts Memorial Library\, 100 Martin Luther King Jr. Parkway\, Brenham\, Texas\, 77833
CATEGORIES:Community Events
ATTACH;FMTTYPE=image/jpeg:https://ktex.com/wp-content/uploads/2023/11/wc-genealogical-society.jpg
END:VEVENT
BEGIN:VEVENT
DTSTART;VALUE=DATE:20231107
DTEND;VALUE=DATE:20231108
DTSTAMP:20260421T173916
CREATED:20230801T203958Z
LAST-MODIFIED:20230801T203958Z
UID:41905-1699315200-1699401599@ktex.com
SUMMARY:Fun & Fellowship Game Time
DESCRIPTION:Adults of all ages WELCOME!
URL:https://ktex.com/event/fun-fellowship-game-time-3/
LOCATION:Bellville Methodist Church\, 234 South Masonic\, Bellville\, TX\, 77418\, United States
CATEGORIES:Community Events
ATTACH;FMTTYPE=image/png:https://ktex.com/wp-content/uploads/2023/08/game-time-aug-through-dec.png
END:VEVENT
BEGIN:VEVENT
DTSTART;VALUE=DATE:20231107
DTEND;VALUE=DATE:20231108
DTSTAMP:20260421T173916
CREATED:20231019T213451Z
LAST-MODIFIED:20231019T215706Z
UID:43457-1699315200-1699401599@ktex.com
SUMMARY:Wake Up\, Washington County Networking Breakfast
DESCRIPTION:
URL:https://ktex.com/event/wake-up-washington-county-networking-breakfast/
LOCATION:Brenham Memorial Chapel\, 2300 Stringer Street\, Brenham\, TX\, 77833\, United States
CATEGORIES:Community Events
ATTACH;FMTTYPE=image/jpeg:https://ktex.com/wp-content/uploads/2023/10/networking-breakfast-nov.jpg
END:VEVENT
BEGIN:VEVENT
DTSTART;VALUE=DATE:20231107
DTEND;VALUE=DATE:20231108
DTSTAMP:20260421T173916
CREATED:20231101T140339Z
LAST-MODIFIED:20231101T140339Z
UID:43684-1699315200-1699401599@ktex.com
SUMMARY:Gay Hill Sons of Hermann Lodge Quarterly Meeting
DESCRIPTION:The Gay Hill Sons of Hermann Lodge will meet  on Tuesday\,  November 7th at 6:00 at the Burton Short Stop for their quarterly meeting.
URL:https://ktex.com/event/gay-hill-sons-of-hermann-lodge-quarterly-meeting/
LOCATION:Burton Short Stop\, 12400 FM 390 W\, Burton\, TX\, 77835\, United States
CATEGORIES:Community Events
ATTACH;FMTTYPE=image/jpeg:https://ktex.com/wp-content/uploads/2023/11/herman-sons-Life.jpg
END:VEVENT
BEGIN:VEVENT
DTSTART;VALUE=DATE:20231107
DTEND;VALUE=DATE:20231108
DTSTAMP:20260421T173916
CREATED:20231107T142601Z
LAST-MODIFIED:20231107T142601Z
UID:43969-1699315200-1699401599@ktex.com
SUMMARY:Cubette Girls Basketball Time Change
DESCRIPTION:
URL:https://ktex.com/event/cubette-girls-basketball-time-change/
LOCATION:Brenham High School\, 525 A H Ehrig Drive\, Brenham\, TX\, 77833\, United States
CATEGORIES:Community Events
ATTACH;FMTTYPE=image/jpeg:https://ktex.com/wp-content/uploads/2023/11/girls-basketball.jpg
END:VEVENT
BEGIN:VEVENT
DTSTART;TZID=America/Chicago:20231107T120000
DTEND;TZID=America/Chicago:20231107T130000
DTSTAMP:20260421T173916
CREATED:20230929T202753Z
LAST-MODIFIED:20230929T202753Z
UID:43147-1699358400-1699362000@ktex.com
SUMMARY:Walk With a Doc-Brenham
DESCRIPTION:Attention Brenham! Are you ready to WALK your way to better health? Join us for our monthly Walk With A Doc event on the 1st Tuesday of each month at noon at the Kruse Center-Blinn College. Walk at your own pace and distance\, and learn more about Health & Nutrition at this FREE community event! Learn more at www.walkwithadoc.org. #WWAD #cityofbrenham
URL:https://ktex.com/event/walk-with-a-doc-brenham-2/
LOCATION:Kruse Center – Blinn College\, 208 Blinn Boulevard\, Brenham\, TX\, 77833\, United States
CATEGORIES:Community Events
ATTACH;FMTTYPE=image/jpeg:https://ktex.com/wp-content/uploads/2023/09/WWAD-new-flyer.jpg
END:VEVENT
BEGIN:VEVENT
DTSTART;VALUE=DATE:20231108
DTEND;VALUE=DATE:20231109
DTSTAMP:20260421T173916
CREATED:20231107T142755Z
LAST-MODIFIED:20231107T142755Z
UID:43972-1699401600-1699487999@ktex.com
SUMMARY:Bellville Brahmas Parking Lot Pep Rally
DESCRIPTION:
URL:https://ktex.com/event/bellville-brahmas-parking-lot-pep-rally/
LOCATION:TX
CATEGORIES:Community Events
ATTACH;FMTTYPE=image/jpeg:https://ktex.com/wp-content/uploads/2023/11/bellville-pep-rally.jpg
END:VEVENT
BEGIN:VEVENT
DTSTART;VALUE=DATE:20231108
DTEND;VALUE=DATE:20231215
DTSTAMP:20260421T173916
CREATED:20231108T194214Z
LAST-MODIFIED:20231108T194214Z
UID:44030-1699401600-1702598399@ktex.com
SUMMARY:Evvaylois Academy School of Beauty Fundraiser
DESCRIPTION:
URL:https://ktex.com/event/evvaylois-academy-school-of-beauty-fundraiser/
LOCATION:Evvaylois Academy School of Beauty\, 2244 S. Market\, Brenham\, TX\, 77833\, United States
CATEGORIES:Community Events
ATTACH;FMTTYPE=image/jpeg:https://ktex.com/wp-content/uploads/2023/11/evvaylois-fundraiser-e1699472518147.jpg
END:VEVENT
BEGIN:VEVENT
DTSTART;TZID=America/Chicago:20231108T180000
DTEND;TZID=America/Chicago:20231108T200000
DTSTAMP:20260421T173916
CREATED:20231030T181620Z
LAST-MODIFIED:20231030T181620Z
UID:43665-1699466400-1699473600@ktex.com
SUMMARY:Cub Art Pride presents Paint Night
DESCRIPTION:
URL:https://ktex.com/event/cub-art-pride-presents-paint-night/
LOCATION:Brenham High School\, 525 A H Ehrig Drive\, Brenham\, TX\, 77833\, United States
CATEGORIES:Community Events
ATTACH;FMTTYPE=image/jpeg:https://ktex.com/wp-content/uploads/2023/10/paint-night-nov.jpg
END:VEVENT
BEGIN:VEVENT
DTSTART;VALUE=DATE:20231109
DTEND;VALUE=DATE:20231110
DTSTAMP:20260421T173916
CREATED:20231102T171248Z
LAST-MODIFIED:20231102T171248Z
UID:43708-1699488000-1699574399@ktex.com
SUMMARY:Fortnightly Club of Brenham General Meeting
DESCRIPTION:The November General Meeting of the Fortnightly Club of Brenham will be held on Thursday\, November 9\, 2023 at 11:30 a.m. at the Nancy Carol Roberts Memorial Library.  The program will be presented by Alesia Whaley of Adam’s Angels Ministry.
URL:https://ktex.com/event/fortnightly-club-of-brenham-general-meeting/
LOCATION:Nancy Carol Roberts Memorial Library\, 100 Martin Luther King Jr. Parkway\, Brenham\, Texas\, 77833
CATEGORIES:Community Events
ATTACH;FMTTYPE=image/jpeg:https://ktex.com/wp-content/uploads/2023/11/fortnightly-club-of-brenham-Picture1.jpg
END:VEVENT
END:VCALENDAR