BEGIN:VCALENDAR
VERSION:2.0
PRODID:-//KTEX 106.1 - ECPv6.15.20//NONSGML v1.0//EN
CALSCALE:GREGORIAN
METHOD:PUBLISH
X-WR-CALNAME:KTEX 106.1
X-ORIGINAL-URL:https://ktex.com
X-WR-CALDESC:Events for KTEX 106.1
REFRESH-INTERVAL;VALUE=DURATION:PT1H
X-Robots-Tag:noindex
X-PUBLISHED-TTL:PT1H
BEGIN:VTIMEZONE
TZID:America/Chicago
BEGIN:DAYLIGHT
TZOFFSETFROM:-0600
TZOFFSETTO:-0500
TZNAME:CDT
DTSTART:20250309T080000
END:DAYLIGHT
BEGIN:STANDARD
TZOFFSETFROM:-0500
TZOFFSETTO:-0600
TZNAME:CST
DTSTART:20251102T070000
END:STANDARD
BEGIN:DAYLIGHT
TZOFFSETFROM:-0600
TZOFFSETTO:-0500
TZNAME:CDT
DTSTART:20260308T080000
END:DAYLIGHT
BEGIN:STANDARD
TZOFFSETFROM:-0500
TZOFFSETTO:-0600
TZNAME:CST
DTSTART:20261101T070000
END:STANDARD
BEGIN:DAYLIGHT
TZOFFSETFROM:-0600
TZOFFSETTO:-0500
TZNAME:CDT
DTSTART:20270314T080000
END:DAYLIGHT
BEGIN:STANDARD
TZOFFSETFROM:-0500
TZOFFSETTO:-0600
TZNAME:CST
DTSTART:20271107T070000
END:STANDARD
END:VTIMEZONE
BEGIN:VEVENT
DTSTART;TZID=America/Chicago:20260506T180000
DTEND;TZID=America/Chicago:20260506T200000
DTSTAMP:20260421T205206
CREATED:20260406T154009Z
LAST-MODIFIED:20260406T154009Z
UID:58824-1778090400-1778097600@ktex.com
SUMMARY:Brenham Maifest Kickoff Picnic
DESCRIPTION:
URL:https://ktex.com/event/brenham-maifest-kickoff-picnic/
LOCATION:City of Brenham Fireman’s Park\, 901 N. Park Street\, Brenham\, TX\, 77833\, United States
CATEGORIES:Community Events
ATTACH;FMTTYPE=image/jpeg:https://ktex.com/wp-content/uploads/2026/04/maifest-kickoff-picnic-may-6.jpg
END:VEVENT
BEGIN:VEVENT
DTSTART;VALUE=DATE:20260507
DTEND;VALUE=DATE:20260508
DTSTAMP:20260421T205206
CREATED:20260326T144250Z
LAST-MODIFIED:20260326T144250Z
UID:58693-1778112000-1778198399@ktex.com
SUMMARY:American Legion Quade-Werchan Post #338 and Auxiliary Meeting (Round Top)
DESCRIPTION:American Legion Quade-Werchan Post #338 and Auxiliary meeting; Thursday\, May 7\, 6 PM fellowship\, 6:30 meeting\, at the post hall in Round Top.
URL:https://ktex.com/event/american-legion-quade-werchan-post-338-and-auxiliary-meeting-round-top-4/
LOCATION:American Legion Hall Round Top\, 1503 N. State Hwy. 237\, Round Top\, TX\, 78954\, United States
CATEGORIES:Community Events
ATTACH;FMTTYPE=image/png:https://ktex.com/wp-content/uploads/2026/03/american-legion-post-auxiliary-logos.png
END:VEVENT
BEGIN:VEVENT
DTSTART;VALUE=DATE:20260507
DTEND;VALUE=DATE:20260508
DTSTAMP:20260421T205206
CREATED:20260408T212157Z
LAST-MODIFIED:20260408T212157Z
UID:58968-1778112000-1778198399@ktex.com
SUMMARY:Gay Hill Lodge of Hermann Sons Life Meeting (Burton)
DESCRIPTION:The Gay Hill Lodge of Hermann Sons Life meeting will be held on Thursday\, May 7\, 6:00 PM @ Burton Short Stop
URL:https://ktex.com/event/gay-hill-lodge-of-hermann-sons-life-meeting-burton/
LOCATION:Burton Short Stop\, 12400 FM 390 W\, Burton\, TX\, 77835\, United States
CATEGORIES:Community Events
ATTACH;FMTTYPE=image/png:https://ktex.com/wp-content/uploads/2026/01/hermann-sons-life-logo.png
END:VEVENT
BEGIN:VEVENT
DTSTART;VALUE=DATE:20260507
DTEND;VALUE=DATE:20260508
DTSTAMP:20260421T205206
CREATED:20260417T212231Z
LAST-MODIFIED:20260417T212552Z
UID:59128-1778112000-1778198399@ktex.com
SUMMARY:National Day of Prayer at Friedens Church of Washington Pavilion
DESCRIPTION:
URL:https://ktex.com/event/national-day-of-prayer-at-friedens-church-of-washington/
LOCATION:Friedens Church of Washington\, 20301 FM 1155 E\, Washington\, TX\, 77880\, United States
CATEGORIES:Community Events
ATTACH;FMTTYPE=image/png:https://ktex.com/wp-content/uploads/2026/04/SEEKING-HIM-may-7.png
END:VEVENT
BEGIN:VEVENT
DTSTART;VALUE=DATE:20260507
DTEND;VALUE=DATE:20260509
DTSTAMP:20260421T205206
CREATED:20260415T200654Z
LAST-MODIFIED:20260415T200654Z
UID:59073-1778112000-1778284799@ktex.com
SUMMARY:Navasota ISD UIL Physicals Information
DESCRIPTION:DEADLINE TO TURN IN FORMS AND PAYMENT:  Wednesday\, May 6th  
URL:https://ktex.com/event/navasota-isd-uil-physicals-information/
CATEGORIES:Community Events
ATTACH;FMTTYPE=image/jpeg:https://ktex.com/wp-content/uploads/2026/04/UIL-physicals-navasota-may-7-8.jpg
END:VEVENT
BEGIN:VEVENT
DTSTART;VALUE=DATE:20260507
DTEND;VALUE=DATE:20260510
DTSTAMP:20260421T205206
CREATED:20260415T200921Z
LAST-MODIFIED:20260415T200921Z
UID:59076-1778112000-1778371199@ktex.com
SUMMARY:Navasota HS Rattler Theatre Company presents The Outsiders
DESCRIPTION:
URL:https://ktex.com/event/navasota-hs-rattler-theatre-company-presents-the-outsiders/
LOCATION:Brosig Performing Arts Center\, 105 Brosig Ave.\, Navasota\, TX\, 77868\, United States
CATEGORIES:Community Events
ATTACH;FMTTYPE=image/png:https://ktex.com/wp-content/uploads/2026/04/the-outsiders-may-7-8-9.png
END:VEVENT
BEGIN:VEVENT
DTSTART;TZID=America/Chicago:20260507T080000
DTEND;TZID=America/Chicago:20260507T100000
DTSTAMP:20260421T205206
CREATED:20260115T150552Z
LAST-MODIFIED:20260115T150552Z
UID:57465-1778140800-1778148000@ktex.com
SUMMARY:Coffee & Donuts for Veterans (Bryan)
DESCRIPTION:
URL:https://ktex.com/event/coffee-donuts-for-veterans-bryan-2/
LOCATION:Earl Graham Post 159\, 101 Waco Street\, Bryan\, TX\, 77803\, United States
CATEGORIES:Community Events
ATTACH;FMTTYPE=image/jpeg:https://ktex.com/wp-content/uploads/2026/01/coffee-donuts-bryan.jpg
END:VEVENT
BEGIN:VEVENT
DTSTART;TZID=America/Chicago:20260507T113000
DTEND;TZID=America/Chicago:20260507T130000
DTSTAMP:20260421T205206
CREATED:20260317T142746Z
LAST-MODIFIED:20260317T142746Z
UID:58540-1778153400-1778158800@ktex.com
SUMMARY:Brenham Police Department 100 Year Celebration Luncheon
DESCRIPTION:
URL:https://ktex.com/event/brenham-police-department-100-year-celebration-luncheon/
LOCATION:Washington County Expo Event Center\, 1305 E. Blue Bell Rd.\, Brenham\, TX\, 77833\, United States
CATEGORIES:Community Events
ATTACH;FMTTYPE=image/jpeg:https://ktex.com/wp-content/uploads/2026/03/Brenham-PD-may-7.jpg
END:VEVENT
BEGIN:VEVENT
DTSTART;VALUE=DATE:20260508
DTEND;VALUE=DATE:20260510
DTSTAMP:20260421T205206
CREATED:20260213T164712Z
LAST-MODIFIED:20260213T164712Z
UID:58037-1778198400-1778371199@ktex.com
SUMMARY:Chappell Hill VFD Cookoff Fundraiser
DESCRIPTION:
URL:https://ktex.com/event/chappell-hill-vfd-cookoff-fundraiser/
LOCATION:Washington County Expo\, 1305 E. Blue Bell Rd.\, Brenham\, TX\, 77833\, United States
CATEGORIES:Community Events
ATTACH;FMTTYPE=image/png:https://ktex.com/wp-content/uploads/2026/02/ch-vfd-may-8-9.png
END:VEVENT
BEGIN:VEVENT
DTSTART;TZID=America/Chicago:20260508T183000
DTEND;TZID=America/Chicago:20260508T203000
DTSTAMP:20260421T205206
CREATED:20260417T194117Z
LAST-MODIFIED:20260417T194117Z
UID:59122-1778265000-1778272200@ktex.com
SUMMARY:Lincoln VFD sponsored Crawfish Boil
DESCRIPTION:
URL:https://ktex.com/event/lincoln-vfd-sponsored-crawfish-boil/
LOCATION:Lincoln Community Hall (grounds)\, 1066 Main St.\, Lincoln\, TX\, 78948\, United States
CATEGORIES:Community Events
ATTACH;FMTTYPE=image/jpeg:https://ktex.com/wp-content/uploads/2026/04/crawfish-boil-may-8-lincoln.jpg
END:VEVENT
BEGIN:VEVENT
DTSTART;VALUE=DATE:20260509
DTEND;VALUE=DATE:20260510
DTSTAMP:20260421T205206
CREATED:20260309T191115Z
LAST-MODIFIED:20260309T191115Z
UID:58385-1778284800-1778371199@ktex.com
SUMMARY:Lee County Fair Parade
DESCRIPTION:2026 THEME:  VIVA LAS VEGAS!
URL:https://ktex.com/event/lee-county-fair-parade/
CATEGORIES:Community Events
ATTACH;FMTTYPE=image/jpeg:https://ktex.com/wp-content/uploads/2026/03/lee-co-parade-may-9.jpg
END:VEVENT
BEGIN:VEVENT
DTSTART;VALUE=DATE:20260509
DTEND;VALUE=DATE:20260510
DTSTAMP:20260421T205206
CREATED:20260420T195017Z
LAST-MODIFIED:20260420T195017Z
UID:59137-1778284800-1778371199@ktex.com
SUMMARY:Mill Creek Spring Cleanup Event (Bellville)
DESCRIPTION:The Texas A&M AgriLife Extension Service\, Texas State Soil and Water Conservation Board and the Mill Creek Watershed Partnership will host a Spring Stream Cleanup event on May 9 in Bellville\, at 2245 Farm-to-Market Road 2429\, and litter will be picked up from 9 a.m. to noon. \nParticipants must preregister at the Mill Creek Partnership website at tx.ag/MillCreek or by calling 979-321-5921. \nThe public is invited to attend and help clean bridge sites in the Mill Creek Watershed. Volunteers will pick up litter and remove tires at the bridge over Mill Creek. There will also be satellite locations where selected volunteers will be deployed after the initial meeting.
URL:https://ktex.com/event/mill-creek-spring-cleanup-event-bellville/
CATEGORIES:Community Events
ATTACH;FMTTYPE=image/jpeg:https://ktex.com/wp-content/uploads/2026/04/water-conservation-may-9.jpg
END:VEVENT
BEGIN:VEVENT
DTSTART;VALUE=DATE:20260509
DTEND;VALUE=DATE:20260510
DTSTAMP:20260421T205206
CREATED:20260421T185900Z
LAST-MODIFIED:20260421T185900Z
UID:59150-1778284800-1778371199@ktex.com
SUMMARY:St. Paul Lutheran Church hosting a Fish Fry (Brenham)
DESCRIPTION:PLUS A DRAWING FOR PRIZES
URL:https://ktex.com/event/st-paul-lutheran-church-hosting-a-fish-fry-brenham/
LOCATION:St. Paul Lutheran Church (Phillipsburg Church Rd.)\, 2739 Phillipsburg Church Rd.\, Brenham\, TX\, 77833\, United States
CATEGORIES:Community Events
ATTACH;FMTTYPE=image/jpeg:https://ktex.com/wp-content/uploads/2026/04/fish-fry-st-paul-may-9.jpg
END:VEVENT
BEGIN:VEVENT
DTSTART;TZID=America/Chicago:20260509T090000
DTEND;TZID=America/Chicago:20260509T130000
DTSTAMP:20260421T205206
CREATED:20260225T212611Z
LAST-MODIFIED:20260225T212611Z
UID:58264-1778317200-1778331600@ktex.com
SUMMARY:C.A.S.T. for Kids Camp Journey (Bellville)
DESCRIPTION:
URL:https://ktex.com/event/c-a-s-t-for-kids-camp-journey-bellville-2/
LOCATION:Camp Journey in the Woods\, 5321 TX-36\, Bellville\, TX\, 77418\, United States
CATEGORIES:Community Events
ATTACH;FMTTYPE=image/jpeg:https://ktex.com/wp-content/uploads/2026/02/C.A.S.T-may-9.jpg
END:VEVENT
BEGIN:VEVENT
DTSTART;TZID=America/Chicago:20260509T193000
DTEND;TZID=America/Chicago:20260509T230000
DTSTAMP:20260421T205206
CREATED:20260319T142341Z
LAST-MODIFIED:20260319T142341Z
UID:58613-1778355000-1778367600@ktex.com
SUMMARY:Bryan High School Junior Class Prom 2026
DESCRIPTION:TICKETS GO ON SALE APRIL 20th DURING ALL LUNCHES\nBEGINNING MAY 4th PRICE WILL INCREAST\nCASH ONLY FOR TICKET PURCHASES
URL:https://ktex.com/event/bryan-high-school-junior-class-prom-2026/
LOCATION:The Brazos Center\, 3232 Briarcrest Dr.\, Bryan\, TX\, 77802\, United States
CATEGORIES:Community Events
ATTACH;FMTTYPE=image/jpeg:https://ktex.com/wp-content/uploads/2026/03/enchanted-evening-may-9.jpg
END:VEVENT
BEGIN:VEVENT
DTSTART;VALUE=DATE:20260510
DTEND;VALUE=DATE:20260511
DTSTAMP:20260421T205206
CREATED:20251211T144937Z
LAST-MODIFIED:20251212T164908Z
UID:56855-1778371200-1778457599@ktex.com
SUMMARY:PFLAG Brenham Meeting
DESCRIPTION:PFLAG Brenham meets on the second Sunday of each month at 5:30pm * for more information visit www.facebook.com/BrenhamPFLAG or send an email to pflagbrenham@gmail.com * this is  a support group for families\, friends and allies of the LGBTQ+ community
URL:https://ktex.com/event/pflag-brenham-meeting-29/
CATEGORIES:Community Events
ATTACH;FMTTYPE=image/jpeg:https://ktex.com/wp-content/uploads/2025/12/PFLAG-Logo-brenham-2000x1500-002.jpg
END:VEVENT
BEGIN:VEVENT
DTSTART;VALUE=DATE:20260510
DTEND;VALUE=DATE:20260511
DTSTAMP:20260421T205206
CREATED:20260106T214953Z
LAST-MODIFIED:20260106T214953Z
UID:57238-1778371200-1778457599@ktex.com
SUMMARY:See a Child Riding Unrestrained? Help us Keep Kids Safe!
DESCRIPTION:
URL:https://ktex.com/event/see-a-child-riding-unrestrained-help-us-keep-kids-safe-3/
CATEGORIES:Community Events
ATTACH;FMTTYPE=image/jpeg:https://ktex.com/wp-content/uploads/2026/01/see-a-child-end-dec-2026.jpg
END:VEVENT
BEGIN:VEVENT
DTSTART;VALUE=DATE:20260511
DTEND;VALUE=DATE:20260512
DTSTAMP:20260421T205206
CREATED:20260415T195820Z
LAST-MODIFIED:20260415T195820Z
UID:59063-1778457600-1778543999@ktex.com
SUMMARY:BCFA Floral Design & Miniscapes Mandatory Meeting (Caldwell)
DESCRIPTION:
URL:https://ktex.com/event/bcfa-floral-design-miniscapes-mandatory-meeting-caldwell/
LOCATION:Burleson County Fair Association Expo Center\, 905 TX-36\, Caldwell\, TX\, 77836\, United States
CATEGORIES:Community Events
ATTACH;FMTTYPE=image/jpeg:https://ktex.com/wp-content/uploads/2026/04/bcfa-foral-design-may-11.jpg
END:VEVENT
BEGIN:VEVENT
DTSTART;VALUE=DATE:20260512
DTEND;VALUE=DATE:20260515
DTSTAMP:20260421T205206
CREATED:20260415T195145Z
LAST-MODIFIED:20260415T195145Z
UID:59057-1778544000-1778803199@ktex.com
SUMMARY:Annual Revival at Harris Spring AME Church (Brenham)
DESCRIPTION:
URL:https://ktex.com/event/annual-revival-at-harris-spring-ame-church-brenham/
LOCATION:Harris Spring A.M.E. Church\, 3507 Harris Spring Lane\, Brenham\, TX\, 77833\, United States
CATEGORIES:Community Events
ATTACH;FMTTYPE=image/png:https://ktex.com/wp-content/uploads/2026/04/revival-may-12-14.png
END:VEVENT
BEGIN:VEVENT
DTSTART;TZID=America/Chicago:20260512T163000
DTEND;TZID=America/Chicago:20260512T183000
DTSTAMP:20260421T205206
CREATED:20260326T134250Z
LAST-MODIFIED:20260326T134250Z
UID:58686-1778603400-1778610600@ktex.com
SUMMARY:Brenham JH 7th Grade Cheerleaders Fundraiser Dinner
DESCRIPTION:
URL:https://ktex.com/event/brenham-jh-7th-grade-cheerleaders-fundraiser-dinner/
LOCATION:Brenham Junior High School bus ramp\, 1200 Carlee Street\, Brenham\, TX\, 77833\, United States
CATEGORIES:Community Events
ATTACH;FMTTYPE=image/jpeg:https://ktex.com/wp-content/uploads/2026/03/drive-thru-dinner-may-12.jpg
END:VEVENT
BEGIN:VEVENT
DTSTART;TZID=America/Chicago:20260514T100000
DTEND;TZID=America/Chicago:20260514T113000
DTSTAMP:20260421T205206
CREATED:20251211T220001Z
LAST-MODIFIED:20251211T220001Z
UID:56892-1778752800-1778758200@ktex.com
SUMMARY:Grimes Mobile Pantry (Navasota)
DESCRIPTION:
URL:https://ktex.com/event/grimes-mobile-pantry-navasota-5/
LOCATION:Grimes County Expo Center\, 5220 FM 3455\, Navasota\, TX\, 77868\, United States
CATEGORIES:Community Events
ATTACH;FMTTYPE=image/jpeg:https://ktex.com/wp-content/uploads/2025/12/grimes-mobil-pantry-2026.jpg
END:VEVENT
BEGIN:VEVENT
DTSTART;VALUE=DATE:20260516
DTEND;VALUE=DATE:20260517
DTSTAMP:20260421T205206
CREATED:20260218T181717Z
LAST-MODIFIED:20260218T181717Z
UID:58123-1778889600-1778975999@ktex.com
SUMMARY:First Aid & CPR Training Dates (Bellville)
DESCRIPTION:
URL:https://ktex.com/event/first-aid-cpr-training-dates-bellville-2/
CATEGORIES:Community Events
ATTACH;FMTTYPE=image/jpeg:https://ktex.com/wp-content/uploads/2026/02/first-aid-training-end-nov-21.jpg
END:VEVENT
BEGIN:VEVENT
DTSTART;VALUE=DATE:20260516
DTEND;VALUE=DATE:20260517
DTSTAMP:20260421T205206
CREATED:20260401T140041Z
LAST-MODIFIED:20260401T140041Z
UID:58800-1778889600-1778975999@ktex.com
SUMMARY:Broadway Dreams presented by Brenham Children's Chorus
DESCRIPTION:
URL:https://ktex.com/event/broadway-dreams-presented-by-brenham-childrens-chorus/
LOCATION:Dr. W.W. O’Donnell Performing Arts Center\, 600 Blinn Blvd\, Brenham\, TX\, 77833\, United States
CATEGORIES:Community Events
ATTACH;FMTTYPE=image/jpeg:https://ktex.com/wp-content/uploads/2026/04/broadway-dreams-may-16.jpg
END:VEVENT
BEGIN:VEVENT
DTSTART;VALUE=DATE:20260516
DTEND;VALUE=DATE:20260517
DTSTAMP:20260421T205206
CREATED:20260421T190141Z
LAST-MODIFIED:20260421T190141Z
UID:59153-1778889600-1778975999@ktex.com
SUMMARY:Cruise-In & Grand Opening-Top Floor Cars (Brenham)
DESCRIPTION:
URL:https://ktex.com/event/cruise-in-grand-opening-top-floor-cars-brenham/
LOCATION:Top Floor Cars\, 3100 William B. Travis Lane\, Brenham\, TX\, 77833\, United States
CATEGORIES:Community Events
ATTACH;FMTTYPE=image/jpeg:https://ktex.com/wp-content/uploads/2026/04/cruise-in-grand-opening-may-16.jpg
END:VEVENT
BEGIN:VEVENT
DTSTART;TZID=America/Chicago:20260516T090000
DTEND;TZID=America/Chicago:20260516T130000
DTSTAMP:20260421T205206
CREATED:20260406T153648Z
LAST-MODIFIED:20260406T153648Z
UID:58822-1778922000-1778936400@ktex.com
SUMMARY:Chappell Hill Farmers Market
DESCRIPTION:
URL:https://ktex.com/event/chappell-hill-farmers-market-4/
LOCATION:Downtown Chappell Hill
CATEGORIES:Community Events
ATTACH;FMTTYPE=image/jpeg:https://ktex.com/wp-content/uploads/2026/04/ch-farmers-apr-18-may-16.jpg
END:VEVENT
BEGIN:VEVENT
DTSTART;TZID=America/Chicago:20260516T113000
DTEND;TZID=America/Chicago:20260516T133000
DTSTAMP:20260421T205206
CREATED:20260408T202056Z
LAST-MODIFIED:20260408T202056Z
UID:58962-1778931000-1778938200@ktex.com
SUMMARY:First UMC College Station Manna Market
DESCRIPTION:
URL:https://ktex.com/event/first-umc-college-station-manna-market-2/
LOCATION:First United Methodist Church (College Station)\, 1125 Wellborn Road\, College Station\, TX\, 77840\, United States
CATEGORIES:Community Events
ATTACH;FMTTYPE=image/jpeg:https://ktex.com/wp-content/uploads/2026/04/manna-market-end-july-11.jpg
END:VEVENT
BEGIN:VEVENT
DTSTART;TZID=America/Chicago:20260516T193000
DTEND;TZID=America/Chicago:20260516T213000
DTSTAMP:20260421T205206
CREATED:20260225T204944Z
LAST-MODIFIED:20260225T204944Z
UID:58225-1778959800-1778967000@ktex.com
SUMMARY:Sounds of Navasota
DESCRIPTION:
URL:https://ktex.com/event/sounds-of-navasota/
CATEGORIES:Community Events
ATTACH;FMTTYPE=image/jpeg:https://ktex.com/wp-content/uploads/2026/02/sounds-of-nava-end-aug-15.jpg
END:VEVENT
BEGIN:VEVENT
DTSTART;VALUE=DATE:20260517
DTEND;VALUE=DATE:20260518
DTSTAMP:20260421T205206
CREATED:20260409T194504Z
LAST-MODIFIED:20260409T194504Z
UID:58972-1778976000-1779062399@ktex.com
SUMMARY:Bleiblerville VFD Fish Fry
DESCRIPTION:
URL:https://ktex.com/event/bleiblerville-vfd-fish-fry-2/
LOCATION:Bleiblerville Fire Station\, 3342 FM 2502\, Bellville\, TX\, 77418\, United States
CATEGORIES:Community Events
ATTACH;FMTTYPE=image/png:https://ktex.com/wp-content/uploads/2026/04/bleiblerville-fish-fry-may-17.png
END:VEVENT
BEGIN:VEVENT
DTSTART;TZID=America/Chicago:20260518T160000
DTEND;TZID=America/Chicago:20260518T180000
DTSTAMP:20260421T205206
CREATED:20260406T155049Z
LAST-MODIFIED:20260406T155049Z
UID:58837-1779120000-1779127200@ktex.com
SUMMARY:Navasota ISD PK & Kindergarten Roundup
DESCRIPTION:
URL:https://ktex.com/event/navasota-isd-pk-kindergarten-roundup/
LOCATION:Navasota Elementary Campuses\, Navasota\, TX\, 77868\, United States
CATEGORIES:Community Events
ATTACH;FMTTYPE=image/png:https://ktex.com/wp-content/uploads/2026/04/nisd-round-up-may-18-july-27.png
END:VEVENT
BEGIN:VEVENT
DTSTART;VALUE=DATE:20260519
DTEND;VALUE=DATE:20260520
DTSTAMP:20260421T205206
CREATED:20260206T221054Z
LAST-MODIFIED:20260206T221054Z
UID:57932-1779148800-1779235199@ktex.com
SUMMARY:Austin County Lunch N Learn Series-Spring (Bellville)
DESCRIPTION:
URL:https://ktex.com/event/austin-county-lunch-n-learn-series-spring-bellville-4/
LOCATION:Austin County AgriLife Extension Office\, 20 S Holland St. \, Bellville\, TX\, 77418\, United States
CATEGORIES:Community Events
ATTACH;FMTTYPE=image/jpeg:https://ktex.com/wp-content/uploads/2026/02/lunch-n-learn-series-spring-end-may-19.jpg
END:VEVENT
END:VCALENDAR