BEGIN:VCALENDAR
VERSION:2.0
PRODID:-//KTEX 106.1 - ECPv6.15.20//NONSGML v1.0//EN
CALSCALE:GREGORIAN
METHOD:PUBLISH
X-ORIGINAL-URL:https://ktex.com
X-WR-CALDESC:Events for KTEX 106.1
REFRESH-INTERVAL;VALUE=DURATION:PT1H
X-Robots-Tag:noindex
X-PUBLISHED-TTL:PT1H
BEGIN:VTIMEZONE
TZID:America/Chicago
BEGIN:DAYLIGHT
TZOFFSETFROM:-0600
TZOFFSETTO:-0500
TZNAME:CDT
DTSTART:20220313T080000
END:DAYLIGHT
BEGIN:STANDARD
TZOFFSETFROM:-0500
TZOFFSETTO:-0600
TZNAME:CST
DTSTART:20221106T070000
END:STANDARD
BEGIN:DAYLIGHT
TZOFFSETFROM:-0600
TZOFFSETTO:-0500
TZNAME:CDT
DTSTART:20230312T080000
END:DAYLIGHT
BEGIN:STANDARD
TZOFFSETFROM:-0500
TZOFFSETTO:-0600
TZNAME:CST
DTSTART:20231105T070000
END:STANDARD
BEGIN:DAYLIGHT
TZOFFSETFROM:-0600
TZOFFSETTO:-0500
TZNAME:CDT
DTSTART:20240310T080000
END:DAYLIGHT
BEGIN:STANDARD
TZOFFSETFROM:-0500
TZOFFSETTO:-0600
TZNAME:CST
DTSTART:20241103T070000
END:STANDARD
END:VTIMEZONE
BEGIN:VEVENT
DTSTART;TZID=America/Chicago:20231001T130000
DTEND;TZID=America/Chicago:20231001T160000
DTSTAMP:20260421T190116
CREATED:20230911T140627Z
LAST-MODIFIED:20230911T141025Z
UID:42672-1696165200-1696176000@ktex.com
SUMMARY:Mini Cheer & Mascot Camp-Brenham
DESCRIPTION:
URL:https://ktex.com/event/mini-cheer-mascot-camp/
LOCATION:Brenham High School\, 525 A H Ehrig Drive\, Brenham\, TX\, 77833\, United States
CATEGORIES:Community Events
ATTACH;FMTTYPE=image/jpeg:https://ktex.com/wp-content/uploads/2023/09/mini-cheer-oct.jpg
END:VEVENT
BEGIN:VEVENT
DTSTART;VALUE=DATE:20231002
DTEND;VALUE=DATE:20231003
DTSTAMP:20260421T190116
CREATED:20230922T201152Z
LAST-MODIFIED:20230922T201152Z
UID:42940-1696204800-1696291199@ktex.com
SUMMARY:Ribbon Cutting-Brazos Valley Gives Kick-Off
DESCRIPTION:Washington County Chamber Kick-Off Ribbon Cutting for Brazos Valley Gives is Monday\, October 2nd\, at 10:00am at the Washington County Chamber of Commerce.
URL:https://ktex.com/event/ribbon-cutting-brazos-valley-gives-kick-off/
LOCATION:Washington County Chamber Office\, 314 S. Austin Street\, Brenham\, TX\, 77833\, United States
CATEGORIES:Community Events
ATTACH;FMTTYPE=image/jpeg:https://ktex.com/wp-content/uploads/2023/09/coc-washington-county-ribbon-cutting.jpg
END:VEVENT
BEGIN:VEVENT
DTSTART;VALUE=DATE:20231002
DTEND;VALUE=DATE:20231003
DTSTAMP:20260421T190116
CREATED:20230926T194331Z
LAST-MODIFIED:20230926T194331Z
UID:43024-1696204800-1696291199@ktex.com
SUMMARY:Washington County Genealogical Society Meeting
DESCRIPTION:Washington County Genealogical Society meeting will be held Monday\, October 2\, 1:00pm at the Nancy Carol Roberts Memorial Library.  The program for the meeting will be presented by Perry Gotcher\, a descendant of one of the early Texas families.  The public is invited.
URL:https://ktex.com/event/washington-county-genealogical-society-meeting-2/
LOCATION:Nancy Carol Roberts Memorial Library\, 100 Martin Luther King Jr. Parkway\, Brenham\, Texas\, 77833
CATEGORIES:Community Events
ATTACH;FMTTYPE=image/jpeg:https://ktex.com/wp-content/uploads/2023/09/wc-genealogical-society-1.jpg
END:VEVENT
BEGIN:VEVENT
DTSTART;VALUE=DATE:20231002
DTEND;VALUE=DATE:20231020
DTSTAMP:20260421T190116
CREATED:20231016T210334Z
LAST-MODIFIED:20231016T210334Z
UID:43371-1696204800-1697759999@ktex.com
SUMMARY:FBCS Annual Poinsettia Fundraiser
DESCRIPTION:
URL:https://ktex.com/event/fbcs-annual-poinsettia-fundraiser/
LOCATION:TX
CATEGORIES:Community Events
ATTACH;FMTTYPE=image/jpeg:https://ktex.com/wp-content/uploads/2023/10/fbcs-poinsettia-fundraiser.jpg
END:VEVENT
BEGIN:VEVENT
DTSTART;TZID=America/Chicago:20231002T160000
DTEND;TZID=America/Chicago:20231002T190000
DTSTAMP:20260421T190116
CREATED:20230926T135135Z
LAST-MODIFIED:20230926T135135Z
UID:42996-1696262400-1696273200@ktex.com
SUMMARY:Ribbon Cutting & Opening-Something to Crow About
DESCRIPTION:
URL:https://ktex.com/event/ribbon-cutting-opening-something-to-crow-about/
LOCATION:Something to Crow About\, 16 East Main\, Bellville\, TX\, 77418\, United States
CATEGORIES:Community Events
ATTACH;FMTTYPE=image/png:https://ktex.com/wp-content/uploads/2023/09/something-to-crow-about-ribbon-cut-oct.png
END:VEVENT
BEGIN:VEVENT
DTSTART;VALUE=DATE:20231003
DTEND;VALUE=DATE:20231004
DTSTAMP:20260421T190116
CREATED:20230801T203140Z
LAST-MODIFIED:20230801T203140Z
UID:41903-1696291200-1696377599@ktex.com
SUMMARY:Fun & Fellowship Game Time
DESCRIPTION:Adults of all ages WELCOME!
URL:https://ktex.com/event/fun-fellowship-game-time-2/
LOCATION:Bellville Methodist Church\, 234 South Masonic\, Bellville\, TX\, 77418\, United States
CATEGORIES:Community Events
ATTACH;FMTTYPE=image/png:https://ktex.com/wp-content/uploads/2023/08/game-time-aug-through-dec.png
END:VEVENT
BEGIN:VEVENT
DTSTART;VALUE=DATE:20231003
DTEND;VALUE=DATE:20231004
DTSTAMP:20260421T190116
CREATED:20230921T143942Z
LAST-MODIFIED:20230921T143942Z
UID:42891-1696291200-1696377599@ktex.com
SUMMARY:National Night Out-Latium VFD
DESCRIPTION:Come join the Latium Volunteer Fire Department for National Night Out on October 3rd\, starting at 6pm.  Enjoy hotdogs\, hamburgers and goodie bags for the kids.  Come meet your neighbors and local firefighters.  The fire department is located at 12255 FM 389\, on the corner of 389 and Sacred Hart Road.
URL:https://ktex.com/event/national-night-out-latium-vfd/
LOCATION:Latium Wesley Greenvine VFD Fire Station\, 12255 FM 389\, Burton\, TX\, 77835\, United States
CATEGORIES:Community Events
ATTACH;FMTTYPE=image/jpeg:https://ktex.com/wp-content/uploads/2023/09/latium-wesley-greenvine-vfd.jpg
END:VEVENT
BEGIN:VEVENT
DTSTART;TZID=America/Chicago:20231003T080000
DTEND;TZID=America/Chicago:20231003T170000
DTSTAMP:20260421T190116
CREATED:20231003T204210Z
LAST-MODIFIED:20231003T204210Z
UID:43198-1696320000-1696352400@ktex.com
SUMMARY:National Night Out
DESCRIPTION:Catch the KTEX Posse out and about for National Night Out! \nDean will be at the Burton Fire Department \nCourtney Cartwright will be in Caldwell and Somerville! \nEilish will be in Giddings at Veterans Park! \nTrailboss Troy will be in Chappell Hill and Meyersville VFDs!
URL:https://ktex.com/event/national-night-out/
LOCATION:TX
CATEGORIES:KTEX on the Road
END:VEVENT
BEGIN:VEVENT
DTSTART;TZID=America/Chicago:20231003T110000
DTEND;TZID=America/Chicago:20231003T130000
DTSTAMP:20260421T190116
CREATED:20230919T160028Z
LAST-MODIFIED:20230919T160028Z
UID:42851-1696330800-1696338000@ktex.com
SUMMARY:Brenham High School's Fall Job Fair
DESCRIPTION:Eilish is heading over to Brenham High School’s Fall Job Fair to tell the future leaders why she has the best job in the whole world! She’ll be there in the KTEX Country Cruiser for all three lunch periods!
URL:https://ktex.com/event/brenham-high-schools-fall-job-fair/
LOCATION:Brenham High School\, 525 A H Ehrig Drive\, Brenham\, TX\, 77833\, United States
CATEGORIES:KTEX on the Road
END:VEVENT
BEGIN:VEVENT
DTSTART;TZID=America/Chicago:20231003T111500
DTEND;TZID=America/Chicago:20231003T124500
DTSTAMP:20260421T190116
CREATED:20230830T212534Z
LAST-MODIFIED:20230830T212534Z
UID:42446-1696331700-1696337100@ktex.com
SUMMARY:Brenham HS Fall Job Fair
DESCRIPTION:If you would like to participate as a vendor\, please complete the form located here  https://buff.ly/3YHw1zX
URL:https://ktex.com/event/brenham-hs-fall-job-fair/
LOCATION:Brenham High School\, 525 A H Ehrig Drive\, Brenham\, TX\, 77833\, United States
CATEGORIES:Community Events
ATTACH;FMTTYPE=image/jpeg:https://ktex.com/wp-content/uploads/2023/08/bhs-fall-job-fair.jpg
END:VEVENT
BEGIN:VEVENT
DTSTART;TZID=America/Chicago:20231003T120000
DTEND;TZID=America/Chicago:20231003T130000
DTSTAMP:20260421T190116
CREATED:20230929T202631Z
LAST-MODIFIED:20230929T202631Z
UID:43144-1696334400-1696338000@ktex.com
SUMMARY:Walk With a Doc-Brenham
DESCRIPTION:Attention Brenham! Are you ready to WALK your way to better health? Join us for our monthly Walk With A Doc event on the 1st Tuesday of each month at noon at the Kruse Center-Blinn College. Walk at your own pace and distance\, and learn more about Health & Nutrition at this FREE community event! Learn more at www.walkwithadoc.org. #WWAD #cityofbrenham
URL:https://ktex.com/event/walk-with-a-doc-brenham/
LOCATION:Kruse Center – Blinn College\, 208 Blinn Boulevard\, Brenham\, TX\, 77833\, United States
CATEGORIES:Community Events
ATTACH;FMTTYPE=image/jpeg:https://ktex.com/wp-content/uploads/2023/09/WWAD-new-flyer.jpg
END:VEVENT
BEGIN:VEVENT
DTSTART;TZID=America/Chicago:20231003T173000
DTEND;TZID=America/Chicago:20231003T193000
DTSTAMP:20260421T190116
CREATED:20230907T213754Z
LAST-MODIFIED:20230907T213754Z
UID:42656-1696354200-1696361400@ktex.com
SUMMARY:NNO-Bellville
DESCRIPTION:
URL:https://ktex.com/event/nno-bellville/
LOCATION:TX
CATEGORIES:Community Events
ATTACH;FMTTYPE=image/jpeg:https://ktex.com/wp-content/uploads/2023/09/NNO-bellville.jpg
END:VEVENT
BEGIN:VEVENT
DTSTART;TZID=America/Chicago:20231003T173000
DTEND;TZID=America/Chicago:20231003T193000
DTSTAMP:20260421T190116
CREATED:20230911T140445Z
LAST-MODIFIED:20230911T140445Z
UID:42669-1696354200-1696361400@ktex.com
SUMMARY:National Night Out-Burton
DESCRIPTION:
URL:https://ktex.com/event/national-night-out-burton/
LOCATION:Oliver Whitener – Roy Winkler Pavilions\, 307 North Main St.\, Burton\, TX\, 77835\, United States
CATEGORIES:Community Events
ATTACH;FMTTYPE=image/jpeg:https://ktex.com/wp-content/uploads/2023/09/NNO-burton.jpg
END:VEVENT
BEGIN:VEVENT
DTSTART;TZID=America/Chicago:20231003T180000
DTEND;TZID=America/Chicago:20231003T200000
DTSTAMP:20260421T190116
CREATED:20230921T141927Z
LAST-MODIFIED:20230921T141927Z
UID:42888-1696356000-1696363200@ktex.com
SUMMARY:National Night Out-Prairie Hill-Rocky Hill VFD
DESCRIPTION:
URL:https://ktex.com/event/national-night-out-prairie-hill-rocky-hill-vfd/
LOCATION:Prairie Hill Volunteer Fire Hall\, 7559 FM 50\, Brenham\, TX\, 77833\, United States
CATEGORIES:Community Events
ATTACH;FMTTYPE=image/jpeg:https://ktex.com/wp-content/uploads/2023/09/nno-prairie-hill-rocky-hill-vfd.jpg
END:VEVENT
BEGIN:VEVENT
DTSTART;TZID=America/Chicago:20231003T180000
DTEND;TZID=America/Chicago:20231003T200000
DTSTAMP:20260421T190116
CREATED:20230922T134213Z
LAST-MODIFIED:20230922T134213Z
UID:42926-1696356000-1696363200@ktex.com
SUMMARY:National Night Out-Giddings * Dime Box * Lexington
DESCRIPTION:
URL:https://ktex.com/event/national-night-out-giddings-dime-box-lexington/
LOCATION:TX
CATEGORIES:Community Events
ATTACH;FMTTYPE=image/jpeg:https://ktex.com/wp-content/uploads/2023/09/nno-giddings-dime-box-lexington.jpg
END:VEVENT
BEGIN:VEVENT
DTSTART;TZID=America/Chicago:20231003T180000
DTEND;TZID=America/Chicago:20231003T200000
DTSTAMP:20260421T190116
CREATED:20230922T173919Z
LAST-MODIFIED:20230922T173919Z
UID:42930-1696356000-1696363200@ktex.com
SUMMARY:National Night Out-Salem Lutheran Church
DESCRIPTION:Salem Lutheran Church is hosting a National Night Out event for the community on Tuesday October 3\, from 6:00-8:00pm\, there will be Games\, Food\, Music\, along with First Responders
URL:https://ktex.com/event/national-night-out-salem-lutheran-church/
LOCATION:Salem Lutheran Church\, 1500 Salem Road\, Brenham\, TX\, 77833\, United States
CATEGORIES:Community Events
ATTACH;FMTTYPE=image/jpeg:https://ktex.com/wp-content/uploads/2023/09/salem-lutheran-church.jpg
END:VEVENT
BEGIN:VEVENT
DTSTART;TZID=America/Chicago:20231003T180000
DTEND;TZID=America/Chicago:20231003T200000
DTSTAMP:20260421T190116
CREATED:20230926T140106Z
LAST-MODIFIED:20230926T140106Z
UID:43009-1696356000-1696363200@ktex.com
SUMMARY:National Night Out-Giddings
DESCRIPTION:
URL:https://ktex.com/event/national-night-out-giddings/
LOCATION:Giddings Veterans Park\, 200 Raymond St.\, Giddings\, TX\, 78942\, United States
CATEGORIES:Community Events
ATTACH;FMTTYPE=image/png:https://ktex.com/wp-content/uploads/2023/09/nno-giddings.png
END:VEVENT
BEGIN:VEVENT
DTSTART;TZID=America/Chicago:20231003T180000
DTEND;TZID=America/Chicago:20231003T200000
DTSTAMP:20260421T190116
CREATED:20231003T134258Z
LAST-MODIFIED:20231003T134258Z
UID:43185-1696356000-1696363200@ktex.com
SUMMARY:National Night Out-Millheim Community
DESCRIPTION:
URL:https://ktex.com/event/national-night-out-millheim-community/
LOCATION:Millheim Harmonie Hall\, 4460 FM 949\, Sealy\, TX\, 77474\, United States
CATEGORIES:Community Events
ATTACH;FMTTYPE=image/jpeg:https://ktex.com/wp-content/uploads/2023/10/nno-millheim-community.jpg
END:VEVENT
BEGIN:VEVENT
DTSTART;TZID=America/Chicago:20231003T180000
DTEND;TZID=America/Chicago:20231003T203000
DTSTAMP:20260421T190116
CREATED:20230921T182219Z
LAST-MODIFIED:20230921T182219Z
UID:42912-1696356000-1696365000@ktex.com
SUMMARY:National Night Out-Washington County First Responders
DESCRIPTION:Local first responders will take part in National Night Out.  The annual effort to get neighbors and first responders to meet one another is set for Tuesday\, October 3\, from 6:00 to 8:30pm.  The theme for this year is support your favorite sports team\, so be sure to have all of your favorite tail-gate options\, your favorite game day gear on\, and head outside to meet your neighbors. \nAnyone wishing to register a block party inside Brenham city limits can contact Brenham Police Department Sergeant Steven Eilert (979 337-7326).  All registered party information will be shared with Brenham Fire Department\, Washington County Sheriff’s Office\, and Washington County EMS. \n\nAnyone wanting to register a block party outside of the city limits can contact Washington County Sheriff’s Office at (979 277-6251).\nParties must be registered by 5pm on September 29th\, to ensure they are on the list for attendance. \n\nThe Brenham Police Department this year will also be partnering up with Blinn College for a National Night Out party located at the Blinn Student Center – parking lot (107 Walter Schwartz Way) that is open to the public.
URL:https://ktex.com/event/national-night-out-washington-county-first-responders/
LOCATION:TX
CATEGORIES:Community Events
ATTACH;FMTTYPE=image/jpeg:https://ktex.com/wp-content/uploads/2023/09/brenham-police-shield.jpg
END:VEVENT
BEGIN:VEVENT
DTSTART;TZID=America/Chicago:20231003T180000
DTEND;TZID=America/Chicago:20231003T210000
DTSTAMP:20260421T190116
CREATED:20230926T133323Z
LAST-MODIFIED:20230926T133323Z
UID:42974-1696356000-1696366800@ktex.com
SUMMARY:National Night Out-Rocky Creek VFD
DESCRIPTION:
URL:https://ktex.com/event/national-night-out-rocky-creek-vfd/
LOCATION:Rocky Creek Volunteer Fire Department\, 9771 Longpoint Road\, Burton\, TX\, 77835\, United States
CATEGORIES:Community Events
ATTACH;FMTTYPE=image/jpeg:https://ktex.com/wp-content/uploads/2023/09/nno-rocky-creek-vfd.jpg
END:VEVENT
BEGIN:VEVENT
DTSTART;TZID=America/Chicago:20231003T180000
DTEND;TZID=America/Chicago:20231003T210000
DTSTAMP:20260421T190116
CREATED:20230927T134850Z
LAST-MODIFIED:20230927T134850Z
UID:43066-1696356000-1696366800@ktex.com
SUMMARY:National Night Out-Blinn Brenham Campus Police
DESCRIPTION:
URL:https://ktex.com/event/national-night-out-blinn-brenham-campus-police/
LOCATION:Blinn College Student Center\, 902 College Avenue\, Brenham\, TX\, 77833\, United States
CATEGORIES:Community Events
ATTACH;FMTTYPE=image/jpeg:https://ktex.com/wp-content/uploads/2023/09/Blinn-Police-National-Night-Out-2023_TV-002.jpg
END:VEVENT
BEGIN:VEVENT
DTSTART;TZID=America/Chicago:20231003T183000
DTEND;TZID=America/Chicago:20231003T203000
DTSTAMP:20260421T190116
CREATED:20230928T152753Z
LAST-MODIFIED:20230928T152753Z
UID:43101-1696357800-1696365000@ktex.com
SUMMARY:National Night Out-Somerville
DESCRIPTION:
URL:https://ktex.com/event/national-night-out-somerville/
LOCATION:TX
CATEGORIES:Community Events
ATTACH;FMTTYPE=image/png:https://ktex.com/wp-content/uploads/2023/09/nno-somerville.png
END:VEVENT
BEGIN:VEVENT
DTSTART;VALUE=DATE:20231004
DTEND;VALUE=DATE:20231005
DTSTAMP:20260421T190116
CREATED:20230227T210750Z
LAST-MODIFIED:20230227T210750Z
UID:33125-1696377600-1696463999@ktex.com
SUMMARY:Austin County Game Day
DESCRIPTION:
URL:https://ktex.com/event/austin-county-game-day-8/
LOCATION:Sens Activity Center\, 200 Briar Ridge Dr.\, Bellville\, Texas\, 77418\, United States
CATEGORIES:Community Events
ATTACH;FMTTYPE=image/jpeg:https://ktex.com/wp-content/uploads/2023/02/ac-game-day.jpg
END:VEVENT
BEGIN:VEVENT
DTSTART;VALUE=DATE:20231004
DTEND;VALUE=DATE:20231005
DTSTAMP:20260421T190116
CREATED:20230728T201053Z
LAST-MODIFIED:20230728T201053Z
UID:41768-1696377600-1696463999@ktex.com
SUMMARY:Lunch-N-Learn Series-Texas Superstar Plants
DESCRIPTION:
URL:https://ktex.com/event/lunch-n-learn-series-texas-superstar-plants/
LOCATION:Washington County Expo Event Center\, 1305 E. Blue Bell Rd.\, Brenham\, TX\, 77833\, United States
CATEGORIES:Community Events
ATTACH;FMTTYPE=image/png:https://ktex.com/wp-content/uploads/2023/07/bb-master-gardeners-assoc-aug-oct-nov.png
END:VEVENT
BEGIN:VEVENT
DTSTART;VALUE=DATE:20231005
DTEND;VALUE=DATE:20231006
DTSTAMP:20260421T190116
CREATED:20230831T141100Z
LAST-MODIFIED:20230831T141100Z
UID:42452-1696464000-1696550399@ktex.com
SUMMARY:PROST FEST
DESCRIPTION:Tickets are on sale for a new event led by the Brenham Maifest Association.  The evening will feature live German music\, a traditional meal from a local vendor\, and a live auction.  Proceeds from Prostfest will be used to support local children and future Maifest activities.  Individual tickets and tables are available at https://brenhammaifest.com.
URL:https://ktex.com/event/prost-fest/
LOCATION:Brenham Fire Department Training Center\, 1101 Hwy 290 West\, Brenham\, TX\, 77833\, United States
CATEGORIES:Community Events
ATTACH;FMTTYPE=image/jpeg:https://ktex.com/wp-content/uploads/2023/08/prost-fest-maifest.jpg
END:VEVENT
BEGIN:VEVENT
DTSTART;VALUE=DATE:20231005
DTEND;VALUE=DATE:20231006
DTSTAMP:20260421T190116
CREATED:20230922T201604Z
LAST-MODIFIED:20230922T201604Z
UID:42943-1696464000-1696550399@ktex.com
SUMMARY:Ribbon Cutting-Brenham Heritage Museum (Maifest Exhibit Reveal)
DESCRIPTION:Washington County Chamber Maifest Exhibit Reveal Ribbon Cutting at Brenham Heritage Museum is Thursday\, October 5\, at 4:30pm
URL:https://ktex.com/event/ribbon-cutting-brenham-heritage-museum-maifest-exhibit-reveal/
LOCATION:Brenham Heritage Museum\, 105 S. Market St.\, Brenham\, TX\, 77833\, United States
CATEGORIES:Community Events
ATTACH;FMTTYPE=image/jpeg:https://ktex.com/wp-content/uploads/2023/09/coc-washington-county-ribbon-cutting.jpg
END:VEVENT
BEGIN:VEVENT
DTSTART;VALUE=DATE:20231005
DTEND;VALUE=DATE:20231006
DTSTAMP:20260421T190116
CREATED:20230926T134450Z
LAST-MODIFIED:20230926T134450Z
UID:42987-1696464000-1696550399@ktex.com
SUMMARY:National Night Out-Carmine
DESCRIPTION:
URL:https://ktex.com/event/national-night-out-carmine/
LOCATION:Carmine Fire Station
CATEGORIES:Community Events
ATTACH;FMTTYPE=image/png:https://ktex.com/wp-content/uploads/2023/09/nno-carmine.png
END:VEVENT
BEGIN:VEVENT
DTSTART;TZID=America/Chicago:20231005T183000
DTEND;TZID=America/Chicago:20231005T200000
DTSTAMP:20260421T190116
CREATED:20230919T205619Z
LAST-MODIFIED:20230919T205619Z
UID:42865-1696530600-1696536000@ktex.com
SUMMARY:Breast Cancer Seminar
DESCRIPTION:
URL:https://ktex.com/event/breast-cancer-seminar/
LOCATION:Nancy Carol Roberts Memorial Library\, 100 Martin Luther King Jr. Parkway\, Brenham\, Texas\, 77833
CATEGORIES:Community Events
ATTACH;FMTTYPE=image/png:https://ktex.com/wp-content/uploads/2023/09/breast-cancer-seminar-oct.png
END:VEVENT
BEGIN:VEVENT
DTSTART;VALUE=DATE:20231006
DTEND;VALUE=DATE:20231007
DTSTAMP:20260421T190116
CREATED:20230127T203857Z
LAST-MODIFIED:20230127T203857Z
UID:32622-1696550400-1696636799@ktex.com
SUMMARY:Downtown Brenham Farmer & Artisan Market
DESCRIPTION:Downtown Brenham’s First Fridays Farmer & Artisan Market is held on the first Friday of each month on Baylor Street\, right in the heart of beautiful Downtown Brenham!  Check out our website and Facebook page for information on our fantastic vendors or to inquire about becoming a vendor!\nMarket Schedule\nFeb\nFriday: 3:00pm – 6:00pm \nMar – Sep\nFriday: 4:00pm – 7:00pm \nOct – Dec\nFriday: 3:00pm – 6:00pm
URL:https://ktex.com/event/downtown-brenham-farmer-artisan-market-9/
LOCATION:Downtown Brenham
CATEGORIES:Community Events
ATTACH;FMTTYPE=image/jpeg:https://ktex.com/wp-content/uploads/2023/01/brenham-farmer-artisan-market.png.jpg
END:VEVENT
BEGIN:VEVENT
DTSTART;VALUE=DATE:20231006
DTEND;VALUE=DATE:20231007
DTSTAMP:20260421T190116
CREATED:20230901T193836Z
LAST-MODIFIED:20230901T193836Z
UID:42473-1696550400-1696636799@ktex.com
SUMMARY:Boys & Girls Club of Washington Co. Charity Golf Tournament
DESCRIPTION:Click below to register:\nhttps://bit.ly/3OWUPzh
URL:https://ktex.com/event/boys-girls-club-of-washington-co-charity-golf-tournament/
LOCATION:Brenham Country Club\, 4107 Hwy 105\, Brenham1\, 77833
CATEGORIES:Community Events
ATTACH;FMTTYPE=image/jpeg:https://ktex.com/wp-content/uploads/2023/09/boys-girls-club-charity-golf-tour.jpg
END:VEVENT
END:VCALENDAR