BEGIN:VCALENDAR
VERSION:2.0
PRODID:-//KTEX 106.1 - ECPv6.15.20//NONSGML v1.0//EN
CALSCALE:GREGORIAN
METHOD:PUBLISH
X-WR-CALNAME:KTEX 106.1
X-ORIGINAL-URL:https://ktex.com
X-WR-CALDESC:Events for KTEX 106.1
REFRESH-INTERVAL;VALUE=DURATION:PT1H
X-Robots-Tag:noindex
X-PUBLISHED-TTL:PT1H
BEGIN:VTIMEZONE
TZID:America/Chicago
BEGIN:DAYLIGHT
TZOFFSETFROM:-0600
TZOFFSETTO:-0500
TZNAME:CDT
DTSTART:20230312T080000
END:DAYLIGHT
BEGIN:STANDARD
TZOFFSETFROM:-0500
TZOFFSETTO:-0600
TZNAME:CST
DTSTART:20231105T070000
END:STANDARD
BEGIN:DAYLIGHT
TZOFFSETFROM:-0600
TZOFFSETTO:-0500
TZNAME:CDT
DTSTART:20240310T080000
END:DAYLIGHT
BEGIN:STANDARD
TZOFFSETFROM:-0500
TZOFFSETTO:-0600
TZNAME:CST
DTSTART:20241103T070000
END:STANDARD
BEGIN:DAYLIGHT
TZOFFSETFROM:-0600
TZOFFSETTO:-0500
TZNAME:CDT
DTSTART:20250309T080000
END:DAYLIGHT
BEGIN:STANDARD
TZOFFSETFROM:-0500
TZOFFSETTO:-0600
TZNAME:CST
DTSTART:20251102T070000
END:STANDARD
END:VTIMEZONE
BEGIN:VEVENT
DTSTART;TZID=America/Chicago:20240113T090000
DTEND;TZID=America/Chicago:20240113T150000
DTSTAMP:20260419T095936
CREATED:20240102T145537Z
LAST-MODIFIED:20240102T145537Z
UID:44765-1705136400-1705158000@ktex.com
SUMMARY:Blood Drive (Bellville)
DESCRIPTION:
URL:https://ktex.com/event/blood-drive-bellville/
LOCATION:Bellville Masonic Lodge #223\, 7 E Glenn St.\, Bellville\, TX\, 77418\, United States
CATEGORIES:Community Events
ATTACH;FMTTYPE=image/png:https://ktex.com/wp-content/uploads/2024/01/blood-drive-jan-13.png
END:VEVENT
BEGIN:VEVENT
DTSTART;TZID=America/Chicago:20240113T140000
DTEND;TZID=America/Chicago:20240113T180000
DTSTAMP:20260419T095936
CREATED:20231129T203823Z
LAST-MODIFIED:20231219T171316Z
UID:44282-1705154400-1705168800@ktex.com
SUMMARY:Uptown Swirl 2024
DESCRIPTION:It’s wine o’clock somewhere\, am I right? Join Courtney Cartwright as she spends some time wine-ing and shopping their way through Downtown Brenham! Sample wines\, champagnes\, and holiday cocktails!
URL:https://ktex.com/event/uptown-swirl-2024/
LOCATION:Downtown Brenham
CATEGORIES:KTEX on the Road
END:VEVENT
BEGIN:VEVENT
DTSTART;TZID=America/Chicago:20240113T150000
DTEND;TZID=America/Chicago:20240113T190000
DTSTAMP:20260419T095936
CREATED:20231208T153925Z
LAST-MODIFIED:20231208T153925Z
UID:44487-1705158000-1705172400@ktex.com
SUMMARY:Uptown Swirl Downtown Brenham
DESCRIPTION:
URL:https://ktex.com/event/uptown-swirl-downtown-brenham/
LOCATION:Downtown Brenham
CATEGORIES:Community Events
ATTACH;FMTTYPE=image/png:https://ktex.com/wp-content/uploads/2023/12/uptown-swirl-24.png
END:VEVENT
BEGIN:VEVENT
DTSTART;TZID=America/Chicago:20240113T173000
DTEND;TZID=America/Chicago:20240113T210000
DTSTAMP:20260419T095936
CREATED:20231121T205415Z
LAST-MODIFIED:20231121T205415Z
UID:44173-1705167000-1705179600@ktex.com
SUMMARY:Brenham Softball Ribeye Dinner & Auction
DESCRIPTION:
URL:https://ktex.com/event/brenham-softball-ribeye-dinner-auction/
LOCATION:Brenham Fire Department Training Center\, 1101 Hwy 290 West\, Brenham\, TX\, 77833\, United States
CATEGORIES:Community Events
ATTACH;FMTTYPE=image/jpeg:https://ktex.com/wp-content/uploads/2023/11/brenham-softball-dinner-auction.jpg
END:VEVENT
BEGIN:VEVENT
DTSTART;VALUE=DATE:20240114
DTEND;VALUE=DATE:20240115
DTSTAMP:20260419T095936
CREATED:20231212T194833Z
LAST-MODIFIED:20231212T194833Z
UID:44529-1705190400-1705276799@ktex.com
SUMMARY:New Hope Community Church New Location
DESCRIPTION:
URL:https://ktex.com/event/new-hope-community-church-new-location-2/
LOCATION:New Hope Community Church (Brenham)\, 12221 FM 390 E\, Brenham\, TX\, 77833\, United States
CATEGORIES:Community Events
ATTACH;FMTTYPE=image/jpeg:https://ktex.com/wp-content/uploads/2023/12/new-hope-comm-ch-new-location.jpg
END:VEVENT
BEGIN:VEVENT
DTSTART;VALUE=DATE:20240114
DTEND;VALUE=DATE:20240115
DTSTAMP:20260419T095936
CREATED:20240103T172132Z
LAST-MODIFIED:20240103T172132Z
UID:44811-1705190400-1705276799@ktex.com
SUMMARY:PFLAG Brenham Meeting
DESCRIPTION:PFLAG Brenham meets on the second Sunday of each month at 5:30 pm.  We are a support group for families\, friends and allies of the LGBTQ+ community.  Let us walk with you on your journey.  For more information\, visit www.facebook.com/BrenhamPFLAG or send an email to pflagbrenham@gmail.com
URL:https://ktex.com/event/pflag-brenham-meeting/
LOCATION:TX
CATEGORIES:Community Events
ATTACH;FMTTYPE=image/jpeg:https://ktex.com/wp-content/uploads/2024/01/PFLAG-Brenham-new.jpg
END:VEVENT
BEGIN:VEVENT
DTSTART;VALUE=DATE:20240114
DTEND;VALUE=DATE:20240115
DTSTAMP:20260419T095936
CREATED:20240109T204237Z
LAST-MODIFIED:20240112T224429Z
UID:45030-1705190400-1705276799@ktex.com
SUMMARY:Maifest Serenade
DESCRIPTION:Join us on Sunday\, January 14th at 2 pm at The Barnhill Center *  the 2024 Junior and Senior Royalty will be announced
URL:https://ktex.com/event/maifest-serenade/
LOCATION:The Barnhill Center at Historic Simon Theatre\, 111 W. Main Street\, Brenham\, TX\, 77833\, United States
CATEGORIES:Community Events
ATTACH;FMTTYPE=image/jpeg:https://ktex.com/wp-content/uploads/2024/01/maifest-serenade-logo.jpg
END:VEVENT
BEGIN:VEVENT
DTSTART;VALUE=DATE:20240114
DTEND;VALUE=DATE:20240118
DTSTAMP:20260419T095936
CREATED:20240112T222541Z
LAST-MODIFIED:20240112T222541Z
UID:45099-1705190400-1705535999@ktex.com
SUMMARY:BCCAC Offering Warming Center
DESCRIPTION:
URL:https://ktex.com/event/bccac-offering-warming-center/
LOCATION:VFW Post 4692 (Bryan)\, 794 N Harvey Mitchell Parkway\, Bryan\, TX\, 77807\, United States
CATEGORIES:Community Events
ATTACH;FMTTYPE=image/jpeg:https://ktex.com/wp-content/uploads/2024/01/warming-center.jpg
END:VEVENT
BEGIN:VEVENT
DTSTART;VALUE=DATE:20240114
DTEND;VALUE=DATE:20240118
DTSTAMP:20260419T095936
CREATED:20240112T223547Z
LAST-MODIFIED:20240112T223547Z
UID:45102-1705190400-1705535999@ktex.com
SUMMARY:Volunteers needed at BCCAC Warming Center
DESCRIPTION:
URL:https://ktex.com/event/volunteers-needed-at-bccac-warming-center/
LOCATION:VFW Post 4692 (Bryan)\, 794 N Harvey Mitchell Parkway\, Bryan\, TX\, 77807\, United States
CATEGORIES:Community Events
ATTACH;FMTTYPE=image/jpeg:https://ktex.com/wp-content/uploads/2024/01/warming-certer-volunteers-needed.jpg
END:VEVENT
BEGIN:VEVENT
DTSTART;VALUE=DATE:20240115
DTEND;VALUE=DATE:20240116
DTSTAMP:20260419T095936
CREATED:20240103T215957Z
LAST-MODIFIED:20240111T205855Z
UID:44893-1705276800-1705363199@ktex.com
SUMMARY:POSTPONED-WCJA Inaugural Martin Luther King Jr. Day Parade
DESCRIPTION:📣WE NEED…. \n👉Churches\n👉Clubs/Organizations\n👉Dance Groups\n👉Car Clubs\n👉High School Class Representation\n👉Bands\n👉Slingshots\n👉Trail Ride Groups\n👉Truck Clubs\n👉Themed Trucks w/Trailers\n👉Businesses\n👉Jeep Clubs\n👉Motorcycle Groups\n👉Drum Lines\n👉Horse Clubs\n👉 Fraternities & Sororities\n…if unsure about an entry\, just ask! \n🗣THERE IS NO ENTRY FEE‼\n*PULL UP & LINE-UP (starting @ 8a) \nAbout THIS event… \n👉 START: HATTIE MAE FLOWERS PARK\n700 MLK Jr Pkwy\nBrenham\, Texas 77833 \n👉 END and CELEBRATION SITE:\nHENDERSON PARK\n804 Old N. Market St.\nBrenham\, Texas 77833 \n👉 This event is open to ALL ethnicities. \n*VENDORS NEEDED
URL:https://ktex.com/event/wcja-inaugural-martin-luther-king-jr-day-parade/
LOCATION:TX
CATEGORIES:Community Events
ATTACH;FMTTYPE=image/jpeg:https://ktex.com/wp-content/uploads/2024/01/mlk-parade-postponed.jpg
END:VEVENT
BEGIN:VEVENT
DTSTART;TZID=America/Chicago:20240115T180000
DTEND;TZID=America/Chicago:20240115T190000
DTSTAMP:20260419T095936
CREATED:20240102T212723Z
LAST-MODIFIED:20240111T212243Z
UID:44786-1705341600-1705345200@ktex.com
SUMMARY:BAA Annual Dr. King Candle Light Vigil
DESCRIPTION:If inclement weather the event will be held at Cannery Kitchen
URL:https://ktex.com/event/annual-dr-king-candle-light-vigil/
LOCATION:Downtown Brenham
CATEGORIES:Community Events
ATTACH;FMTTYPE=image/jpeg:https://ktex.com/wp-content/uploads/2024/01/baa-candlelight-vigil.jpg
END:VEVENT
BEGIN:VEVENT
DTSTART;VALUE=DATE:20240116
DTEND;VALUE=DATE:20240117
DTSTAMP:20260419T095936
CREATED:20231208T150313Z
LAST-MODIFIED:20231208T150313Z
UID:44471-1705363200-1705449599@ktex.com
SUMMARY:Austin Co. Lunch-N-Learn Series (Spring)
DESCRIPTION:
URL:https://ktex.com/event/austin-co-lunch-n-learn-series-spring/
LOCATION:Austin County Courthouse (basement meeting room)\, 1 E Main Street\, Bellville\, TX\, 77418\, United States
CATEGORIES:Community Events
ATTACH;FMTTYPE=image/jpeg:https://ktex.com/wp-content/uploads/2023/12/ac-lunch-learn-series-24.jpg
END:VEVENT
BEGIN:VEVENT
DTSTART;VALUE=DATE:20240116
DTEND;VALUE=DATE:20240201
DTSTAMP:20260419T095936
CREATED:20240116T223851Z
LAST-MODIFIED:20240116T223851Z
UID:45178-1705363200-1706745599@ktex.com
SUMMARY:Junior Maifest Invitation
DESCRIPTION:
URL:https://ktex.com/event/junior-maifest-invitation/
LOCATION:TX
CATEGORIES:Community Events
ATTACH;FMTTYPE=image/png:https://ktex.com/wp-content/uploads/2024/01/jr-maifest-invitation-english.png
END:VEVENT
BEGIN:VEVENT
DTSTART;VALUE=DATE:20240116
DTEND;VALUE=DATE:20240201
DTSTAMP:20260419T095936
CREATED:20240116T224009Z
LAST-MODIFIED:20240116T224009Z
UID:45181-1705363200-1706745599@ktex.com
SUMMARY:Invitación Junior Maifest
DESCRIPTION:
URL:https://ktex.com/event/invitacion-junior-maifest/
LOCATION:TX
CATEGORIES:Community Events
ATTACH;FMTTYPE=image/png:https://ktex.com/wp-content/uploads/2024/01/jr-maifest-invitation-spanish.png
END:VEVENT
BEGIN:VEVENT
DTSTART;VALUE=DATE:20240116
DTEND;VALUE=DATE:20240203
DTSTAMP:20260419T095936
CREATED:20240116T200920Z
LAST-MODIFIED:20240116T200920Z
UID:45161-1705363200-1706918399@ktex.com
SUMMARY:The Great Candy Bouquet Sale
DESCRIPTION:Brenham HS Floral Design class is currently taking Pre-Orders for their Valentine Candy Bouquet Sale! This is the perfect gift for your little Valentine!\nEnjoy a 1/2 dozen ($15) or Dozen ($20) FULL-SIZED Candy bouquet. (Orders can be customized to the candy of your choice!)  Orders and Payment will be due February 2nd. Please email etaylor@brenhamk-12.net to place your order!
URL:https://ktex.com/event/the-great-candy-bouquet-sale/
LOCATION:TX
CATEGORIES:Community Events
ATTACH;FMTTYPE=image/jpeg:https://ktex.com/wp-content/uploads/2024/01/candy-bouquet.jpg
END:VEVENT
BEGIN:VEVENT
DTSTART;TZID=America/Chicago:20240116T163000
DTEND;TZID=America/Chicago:20240116T190000
DTSTAMP:20260419T095936
CREATED:20240108T192356Z
LAST-MODIFIED:20240108T192356Z
UID:44966-1705422600-1705431600@ktex.com
SUMMARY:Methodist Men Pancake Supper (Bellville)
DESCRIPTION:
URL:https://ktex.com/event/methodist-men-pancake-supper-bellville/
LOCATION:Bellville Methodist Church\, 234 South Masonic\, Bellville\, TX\, 77418\, United States
CATEGORIES:Community Events
ATTACH;FMTTYPE=image/jpeg:https://ktex.com/wp-content/uploads/2024/01/methodist-men-pancake-supper-jan-16.jpg
END:VEVENT
BEGIN:VEVENT
DTSTART;VALUE=DATE:20240117
DTEND;VALUE=DATE:20240118
DTSTAMP:20260419T095936
CREATED:20231221T145828Z
LAST-MODIFIED:20240111T205747Z
UID:44630-1705449600-1705535999@ktex.com
SUMMARY:RESCHEDULED-Cub Football Banquet
DESCRIPTION:Tickets to the Football Banquet are $15 for adults\, $12 for kids ages 12 and under\, while the athletes get in for free.  To purchase your tickets to the event\, go on-line to www.brenhamcubs.net \nNEW DATE IS WEDNESDAY\, JANUARY 17\, 2024
URL:https://ktex.com/event/cub-football-banquet/
LOCATION:Brenham Fire Department Training Center\, 1101 Hwy 290 West\, Brenham\, TX\, 77833\, United States
CATEGORIES:Community Events
ATTACH;FMTTYPE=image/jpeg:https://ktex.com/wp-content/uploads/2023/12/cub-banquet-canceled.jpg
END:VEVENT
BEGIN:VEVENT
DTSTART;VALUE=DATE:20240117
DTEND;VALUE=DATE:20240203
DTSTAMP:20260419T095936
CREATED:20240117T191003Z
LAST-MODIFIED:20240117T191003Z
UID:45194-1705449600-1706918399@ktex.com
SUMMARY:Brenham Belles Nothing bundt Cakes Fundraiser
DESCRIPTION:
URL:https://ktex.com/event/brenham-belles-nothing-bundt-cakes-fundraiser/
LOCATION:TX
CATEGORIES:Community Events
ATTACH;FMTTYPE=image/jpeg:https://ktex.com/wp-content/uploads/2024/01/belles-bundt-cakes.jpg
END:VEVENT
BEGIN:VEVENT
DTSTART;TZID=America/Chicago:20240117T180000
DTEND;TZID=America/Chicago:20240117T200000
DTSTAMP:20260419T095936
CREATED:20231219T154303Z
LAST-MODIFIED:20231219T154303Z
UID:44583-1705514400-1705521600@ktex.com
SUMMARY:Cub Art Pride presents Paint Night
DESCRIPTION:
URL:https://ktex.com/event/cub-art-pride-presents-paint-night-2/
LOCATION:Brenham High School\, 525 A H Ehrig Drive\, Brenham\, TX\, 77833\, United States
CATEGORIES:Community Events
ATTACH;FMTTYPE=image/jpeg:https://ktex.com/wp-content/uploads/2023/12/paint-night-jan.jpg
END:VEVENT
BEGIN:VEVENT
DTSTART;VALUE=DATE:20240118
DTEND;VALUE=DATE:20240119
DTSTAMP:20260419T095936
CREATED:20240108T192705Z
LAST-MODIFIED:20240108T192705Z
UID:44969-1705536000-1705622399@ktex.com
SUMMARY:Friends of Bluebonnet Opry Concert
DESCRIPTION:This month Country Gospel Concert
URL:https://ktex.com/event/friends-of-bluebonnet-opry-concert/
LOCATION:Silver Wings Ballroom\, 4100 State Highway 105\, Brenham\, TX\, 77833\, United States
CATEGORIES:Community Events
ATTACH;FMTTYPE=image/jpeg:https://ktex.com/wp-content/uploads/2024/01/bluebonnet-opry-jan-24.jpg
END:VEVENT
BEGIN:VEVENT
DTSTART;VALUE=DATE:20240118
DTEND;VALUE=DATE:20240119
DTSTAMP:20260419T095936
CREATED:20240112T153925Z
LAST-MODIFIED:20240112T153925Z
UID:45083-1705536000-1705622399@ktex.com
SUMMARY:Washington County A&M Club hosts Thirsty 3rd Thursday
DESCRIPTION:
URL:https://ktex.com/event/washington-county-am-club-hosts-thirsty-3rd-thursday/
LOCATION:BT Longhorn Steak & Seafood House\, 205 S. Baylor St.\, Brenham\, TX\, 77833\, United States
CATEGORIES:Community Events
ATTACH;FMTTYPE=image/png:https://ktex.com/wp-content/uploads/2024/01/thirsty-thurs-jan.png
END:VEVENT
BEGIN:VEVENT
DTSTART;TZID=America/Chicago:20240118T170000
DTEND;TZID=America/Chicago:20240118T183000
DTSTAMP:20260419T095936
CREATED:20231114T191236Z
LAST-MODIFIED:20231114T191236Z
UID:44094-1705597200-1705602600@ktex.com
SUMMARY:Burton Community Center Drive-Thru Meals
DESCRIPTION:
URL:https://ktex.com/event/burton-community-center-drive-thru-meals-3/
LOCATION:TX
CATEGORIES:Community Events
ATTACH;FMTTYPE=image/jpeg:https://ktex.com/wp-content/uploads/2023/11/burton-comm-drive-thru-nov-thru-mar.jpg
END:VEVENT
BEGIN:VEVENT
DTSTART;VALUE=DATE:20240119
DTEND;VALUE=DATE:20240120
DTSTAMP:20260419T095936
CREATED:20240109T204447Z
LAST-MODIFIED:20240109T204447Z
UID:45033-1705622400-1705708799@ktex.com
SUMMARY:Ribbon Cutting-Nine Seven Nine
DESCRIPTION:
URL:https://ktex.com/event/ribbon-cutting-nine-seven-nine/
LOCATION:Nine Seven Nine\, 210 E. Alamo Street\, Brenham\, TX\, 77833\, United States
CATEGORIES:Community Events
ATTACH;FMTTYPE=image/jpeg:https://ktex.com/wp-content/uploads/2024/01/nin-seven-nine.jpg
END:VEVENT
BEGIN:VEVENT
DTSTART;VALUE=DATE:20240119
DTEND;VALUE=DATE:20240121
DTSTAMP:20260419T095936
CREATED:20240104T185418Z
LAST-MODIFIED:20240104T185418Z
UID:44903-1705622400-1705795199@ktex.com
SUMMARY:Washington County Go Texan Fundraiser
DESCRIPTION:
URL:https://ktex.com/event/washington-county-go-texan-fundraiser/
LOCATION:LaBahia Hall\, Hwy. 237\, Burton\, TX\, 77835\, United States
CATEGORIES:Community Events
ATTACH;FMTTYPE=image/jpeg:https://ktex.com/wp-content/uploads/2024/01/wc-go-texan-fundraiser-24.jpg
END:VEVENT
BEGIN:VEVENT
DTSTART;TZID=America/Chicago:20240119T110000
DTEND;TZID=America/Chicago:20240119T130000
DTSTAMP:20260419T095936
CREATED:20240115T175442Z
LAST-MODIFIED:20240115T175614Z
UID:45127-1705662000-1705669200@ktex.com
SUMMARY:Brenham Quality Meat Market's 2nd Anniversary
DESCRIPTION:KTEX is screaming a happy anniversary to Brenham Quality Meat Market in Brenham! And what better way to celebrate than with some hot one day only deals and some fresh sausage! Oh\, and the Wagon Wheel of Prizes of course! Trailboss Troy will be broadcasting live in the KTEX Country Cruiser from 11 – 1!
URL:https://ktex.com/event/brenham-quality-meat-markets-2nd-anniversary/
LOCATION:Brenham Quality Meat Market\, 509 S. Market St.\, Brenham\, TX\, 77833\, United States
CATEGORIES:KTEX on the Road
END:VEVENT
BEGIN:VEVENT
DTSTART;VALUE=DATE:20240120
DTEND;VALUE=DATE:20240121
DTSTAMP:20260419T095936
CREATED:20240102T211209Z
LAST-MODIFIED:20240102T211209Z
UID:44781-1705708800-1705795199@ktex.com
SUMMARY:George Ducas in Concert
DESCRIPTION:
URL:https://ktex.com/event/george-ducas-in-concert/
LOCATION:Round Top Dance Hall\, 550 N Washington Street\, Round Top\, TX\, 78954\, United States
CATEGORIES:Community Events
ATTACH;FMTTYPE=image/png:https://ktex.com/wp-content/uploads/2024/01/george-ducas.png
END:VEVENT
BEGIN:VEVENT
DTSTART;TZID=America/Chicago:20240120T120000
DTEND;TZID=America/Chicago:20240120T150000
DTSTAMP:20260419T095936
CREATED:20240119T153437Z
LAST-MODIFIED:20240119T153437Z
UID:45233-1705752000-1705762800@ktex.com
SUMMARY:Boots & BBQ Arts Council
DESCRIPTION:Contact Information \nArts Council of the Brazos Valley \n4180 HWY 6 SOUTH\nCOLLEGE STATION\, TX 77845 \n979-696-2787 \nhttp://acbv.org \n \n\n\n\n\n\n\n\n\nTag us on: \nFacebook: @bvarts1970 \nInstagram: @bvarts1970 \nTwitter: @bvarts1970
URL:https://ktex.com/event/boots-bbq-arts-council/
LOCATION:Arts Council of Brazos Valley\, 4180 Hwy 6 South\, College Station\, TX\, 77845\, United States
CATEGORIES:Community Events
ATTACH;FMTTYPE=image/png:https://ktex.com/wp-content/uploads/2024/01/boots-bbq-arts-council.png
END:VEVENT
BEGIN:VEVENT
DTSTART;TZID=America/Chicago:20240120T170000
DTEND;TZID=America/Chicago:20240120T210000
DTSTAMP:20260419T095936
CREATED:20240110T161357Z
LAST-MODIFIED:20240110T161357Z
UID:45066-1705770000-1705784400@ktex.com
SUMMARY:Washington County and Brazos County Go Texan
DESCRIPTION:Trailboss Troy is on the move! He’s heading out to to La Bahia Hall to party it up at the Washington County Go Texan and to catch the winners of the cook off! After that he’ll head to the Brazos County Go Texan at the Expo Center to hang out for the dance! Find him in the KTEX County Cruiser!
URL:https://ktex.com/event/washington-county-and-brazos-county-go-texan/
LOCATION:La Bahia Hall\, on TX 237 just a few miles south of US 290 West.\, Burton\, TX\, 77835\, United States
CATEGORIES:KTEX on the Road
END:VEVENT
BEGIN:VEVENT
DTSTART;VALUE=DATE:20240121
DTEND;VALUE=DATE:20240122
DTSTAMP:20260419T095936
CREATED:20240108T192914Z
LAST-MODIFIED:20240108T192914Z
UID:44972-1705795200-1705881599@ktex.com
SUMMARY:Bellville Historical Society Gathering
DESCRIPTION:
URL:https://ktex.com/event/bellville-historical-society-gathering/
LOCATION:Bellville Turnverein Pavilion\, 966 E. Main St.\, Bellville\, 77418
CATEGORIES:Community Events
ATTACH;FMTTYPE=image/png:https://ktex.com/wp-content/uploads/2024/01/bellville-hist-soc-meeting-jan.png
END:VEVENT
BEGIN:VEVENT
DTSTART;VALUE=DATE:20240121
DTEND;VALUE=DATE:20240122
DTSTAMP:20260419T095936
CREATED:20240117T193419Z
LAST-MODIFIED:20240117T193419Z
UID:45207-1705795200-1705881599@ktex.com
SUMMARY:First Christian Church of Brenham 125th Anniversary
DESCRIPTION:The First Christian Church of Brenham would like to invite the public to join them in celebration of their 125th Anniversary. The special worship service will begin at 10:45 on Sunday\, January 21\, 2024\, at 10:45 with a reception immediately following the service. If you are unable to attend the service\, please come for the open house from 2:00-4:00 on Sunday\, January 21.
URL:https://ktex.com/event/first-christian-church-of-brenham-125th-anniversary/
LOCATION:First Christian Church of Brenham\, 306 Cottonwood\, Brenham\, TX\, 77833\, United States
CATEGORIES:Community Events
ATTACH;FMTTYPE=image/jpeg:https://ktex.com/wp-content/uploads/2024/01/first-christian-ch-@-brenham.jpg
END:VEVENT
END:VCALENDAR