BEGIN:VCALENDAR
VERSION:2.0
PRODID:-//KTEX 106.1 - ECPv6.15.20//NONSGML v1.0//EN
CALSCALE:GREGORIAN
METHOD:PUBLISH
X-WR-CALNAME:KTEX 106.1
X-ORIGINAL-URL:https://ktex.com
X-WR-CALDESC:Events for KTEX 106.1
REFRESH-INTERVAL;VALUE=DURATION:PT1H
X-Robots-Tag:noindex
X-PUBLISHED-TTL:PT1H
BEGIN:VTIMEZONE
TZID:America/Chicago
BEGIN:DAYLIGHT
TZOFFSETFROM:-0600
TZOFFSETTO:-0500
TZNAME:CDT
DTSTART:20220313T080000
END:DAYLIGHT
BEGIN:STANDARD
TZOFFSETFROM:-0500
TZOFFSETTO:-0600
TZNAME:CST
DTSTART:20221106T070000
END:STANDARD
BEGIN:DAYLIGHT
TZOFFSETFROM:-0600
TZOFFSETTO:-0500
TZNAME:CDT
DTSTART:20230312T080000
END:DAYLIGHT
BEGIN:STANDARD
TZOFFSETFROM:-0500
TZOFFSETTO:-0600
TZNAME:CST
DTSTART:20231105T070000
END:STANDARD
BEGIN:DAYLIGHT
TZOFFSETFROM:-0600
TZOFFSETTO:-0500
TZNAME:CDT
DTSTART:20240310T080000
END:DAYLIGHT
BEGIN:STANDARD
TZOFFSETFROM:-0500
TZOFFSETTO:-0600
TZNAME:CST
DTSTART:20241103T070000
END:STANDARD
BEGIN:DAYLIGHT
TZOFFSETFROM:-0600
TZOFFSETTO:-0500
TZNAME:CDT
DTSTART:20250309T080000
END:DAYLIGHT
BEGIN:STANDARD
TZOFFSETFROM:-0500
TZOFFSETTO:-0600
TZNAME:CST
DTSTART:20251102T070000
END:STANDARD
END:VTIMEZONE
BEGIN:VEVENT
DTSTART;VALUE=DATE:20231206
DTEND;VALUE=DATE:20231207
DTSTAMP:20260419T095938
CREATED:20231130T214716Z
LAST-MODIFIED:20231201T182128Z
UID:44298-1701820800-1701907199@ktex.com
SUMMARY:Ribbon Cutting-Chick-fil-A Brenham
DESCRIPTION:.
URL:https://ktex.com/event/ribbon-cutting-chick-fil-a/
LOCATION:Chick-fil-A Brenham\, 1161 US Hwy 290 E\, Brenham\, TX\, 77833\, United States
CATEGORIES:Community Events
ATTACH;FMTTYPE=image/jpeg:https://ktex.com/wp-content/uploads/2023/11/ribbon-cutting-chick-fil-a.jpg
END:VEVENT
BEGIN:VEVENT
DTSTART;VALUE=DATE:20231206
DTEND;VALUE=DATE:20231207
DTSTAMP:20260419T095938
CREATED:20231206T151103Z
LAST-MODIFIED:20231206T151103Z
UID:44370-1701820800-1701907199@ktex.com
SUMMARY:Cub Art Pride Paint Night
DESCRIPTION:
URL:https://ktex.com/event/cub-art-pride-paint-night/
LOCATION:Brenham High School\, 525 A H Ehrig Drive\, Brenham\, TX\, 77833\, United States
CATEGORIES:Community Events
ATTACH;FMTTYPE=image/jpeg:https://ktex.com/wp-content/uploads/2023/12/paint-night-dec.jpg
END:VEVENT
BEGIN:VEVENT
DTSTART;VALUE=DATE:20231206
DTEND;VALUE=DATE:20231216
DTSTAMP:20260419T095938
CREATED:20231206T220101Z
LAST-MODIFIED:20231206T220101Z
UID:44432-1701820800-1702684799@ktex.com
SUMMARY:Brenham ISD GT Nominations
DESCRIPTION:K-12 students may participate in the GT nomination\, assessment\, screening and identification process.  Brenham Independent School District will utilize multiple assessments to identify gifted and talented learners and their needs. \nSteps for nomination into the Brenham ISD Gifted and Talented Education Program for the 2024-2025 school year: \nBeginning December 1st\, you may receive the Request for Screening Form and the Parent Checklist by picking up a hard copy from your child’s campus counselor or Brenham ISD Central Administration Building. \nThe deadline to submit forms back to your child’s campus counselor is Friday\, December 15\, 2023.\n_____________________ \nLos estudiantes de K-12 pueden participar en el proceso de nominación\, evaluación\, selección e identificación de GT. El Distrito Escolar Independiente de Brenham utilizará múltiples evaluaciones para identificar a los estudiantes talentosos y sus necesidades. \nPasos para la nominación en el Programa de Educación para Talentosos de Brenham ISD para el año escolar 2024-2025: \n \nA partir del 1 de diciembre\, puede recibir el Formulario de solicitud de evaluación y la verificación al recoger una copia impresa del consejero/a de la escuela de su hijo. \nLa fecha límite para enviar los formularios al consejero/a de la escuela de su hijo es el Viernes 15 de Diciembre de 2023. \n 
URL:https://ktex.com/event/brenham-isd-gt-nominations/
LOCATION:TX
CATEGORIES:Community Events
ATTACH;FMTTYPE=image/jpeg:https://ktex.com/wp-content/uploads/2023/12/BISD-logo.jpg
END:VEVENT
BEGIN:VEVENT
DTSTART;VALUE=DATE:20231206
DTEND;VALUE=DATE:20231219
DTSTAMP:20260419T095938
CREATED:20231206T203825Z
LAST-MODIFIED:20231206T203825Z
UID:44421-1701820800-1702943999@ktex.com
SUMMARY:CASA for Kids Playhouse Drawing
DESCRIPTION:
URL:https://ktex.com/event/casa-for-kids-playhouse-drawing/
LOCATION:TX
CATEGORIES:Community Events
ATTACH;FMTTYPE=image/jpeg:https://ktex.com/wp-content/uploads/2023/12/casa-workshop-drawing.jpg
END:VEVENT
BEGIN:VEVENT
DTSTART;TZID=America/Chicago:20231206T060000
DTEND;TZID=America/Chicago:20231206T190000
DTSTAMP:20260419T095938
CREATED:20231106T211555Z
LAST-MODIFIED:20231106T211555Z
UID:43961-1701842400-1701889200@ktex.com
SUMMARY:Food for Families Food Drive
DESCRIPTION:Donations remain in your county \nMIDSOUTH OPERATIONS FACILITY\nNavasota\n6:00 am – 7:00pm\nOn December 6\, you may deliver food or monetary donations to the location listed above.  Donations can also be made online at kbtx.com 
URL:https://ktex.com/event/food-for-families-food-drive/
LOCATION:Midsouth Operations Facility\, 9409 N. Hwy. 6 Loop\, Navasota\, TX\, 77868\, United States
CATEGORIES:Community Events
ATTACH;FMTTYPE=image/png:https://ktex.com/wp-content/uploads/2023/11/food-for-families-food-dr.png
END:VEVENT
BEGIN:VEVENT
DTSTART;TZID=America/Chicago:20231206T060000
DTEND;TZID=America/Chicago:20231206T190000
DTSTAMP:20260419T095938
CREATED:20231130T215626Z
LAST-MODIFIED:20231130T215626Z
UID:44306-1701842400-1701889200@ktex.com
SUMMARY:Food Drive at Washington County Expo
DESCRIPTION:
URL:https://ktex.com/event/food-drive-at-washington-county-expo/
LOCATION:Washington County Expo\, 1305 E. Blue Bell Rd.\, Brenham\, TX\, 77833\, United States
CATEGORIES:Community Events
ATTACH;FMTTYPE=image/png:https://ktex.com/wp-content/uploads/2023/11/kbtx-food-for-families.png
END:VEVENT
BEGIN:VEVENT
DTSTART;VALUE=DATE:20231207
DTEND;VALUE=DATE:20231208
DTSTAMP:20260419T095938
CREATED:20231107T215803Z
LAST-MODIFIED:20231115T191808Z
UID:44000-1701907200-1701993599@ktex.com
SUMMARY:Ribbon Cutting-Integrity Urgent Care
DESCRIPTION:Washington County Chamber ribbon cutting for new member Integrity Urgent Care\, Thursday\, December 7\, at 10am.  For more information\, please call the Chamber at 979 836-3695 or email at dawn@brenhamtexas.com
URL:https://ktex.com/event/ribbon-cutting-integrity-urgent-care/
LOCATION:Integrity Urgent Care\, 2608 Hwy. 36 South\, Brenham\, TX\, 77833\, United States
CATEGORIES:Community Events
ATTACH;FMTTYPE=image/jpeg:https://ktex.com/wp-content/uploads/2023/11/coc-washington-county-ribbon-cutting.jpg
END:VEVENT
BEGIN:VEVENT
DTSTART;VALUE=DATE:20231207
DTEND;VALUE=DATE:20231208
DTSTAMP:20260419T095938
CREATED:20231114T192433Z
LAST-MODIFIED:20231114T192433Z
UID:44102-1701907200-1701993599@ktex.com
SUMMARY:Bosom Buddies Breast Cancer Support Group Meeting
DESCRIPTION:Brenham Bosom Buddies Breast Cancer Support Group will meet for dinner at Yumm’s Sweets and Eats on Thursday\, December 7 at 6 p.m.  We invite anyone who is newly diagnosed or wants to meet with other survivors to attend.  We exist to share\, support and encourage.
URL:https://ktex.com/event/bosom-buddies-breast-cancer-support-group-meeting/
LOCATION:Yumm’s Sweets and Eats\, 106 E. Alamo Street\, Brenham\, TX\, 77833\, United States
CATEGORIES:Community Events
ATTACH;FMTTYPE=image/jpeg:https://ktex.com/wp-content/uploads/2023/11/bosom-buddies-brenham.jpg
END:VEVENT
BEGIN:VEVENT
DTSTART;VALUE=DATE:20231207
DTEND;VALUE=DATE:20231210
DTSTAMP:20260419T095938
CREATED:20231201T181851Z
LAST-MODIFIED:20231201T181851Z
UID:44324-1701907200-1702166399@ktex.com
SUMMARY:Bellville Playmakers presents FROZEN
DESCRIPTION:
URL:https://ktex.com/event/bellville-playmakers-presents-frozen/
LOCATION:Bellville High School\, 850 Schumann Rd\, Bellville\, TX\, 77418\, United States
CATEGORIES:Community Events
ATTACH;FMTTYPE=image/jpeg:https://ktex.com/wp-content/uploads/2023/12/bellville-playmakers-frozen.jpg
END:VEVENT
BEGIN:VEVENT
DTSTART;VALUE=DATE:20231207
DTEND;VALUE=DATE:20240112
DTSTAMP:20260419T095938
CREATED:20231207T212138Z
LAST-MODIFIED:20231222T153712Z
UID:44453-1701907200-1705017599@ktex.com
SUMMARY:Washington County Chamber Seeking Award Nominations
DESCRIPTION:The Washington County Chamber of Commerce is now accepting nominations for:\n\n\n2023 Man and Woman of the Year\n\n\n2023 Business of the Year\n\n\n2023 New Business of the Year\n\n\n2023 Non-Profit of the Year\n\n\nReturn completed form(s) by January 11th\, 2024 to the Chamber office (314 S. Austin Street\, Brenham) or via email to: mandy@brenhamtexas.com
URL:https://ktex.com/event/washington-county-chamber-seeking-award-nominations/
LOCATION:TX
CATEGORIES:Community Events
ATTACH;FMTTYPE=image/jpeg:https://ktex.com/wp-content/uploads/2023/12/best-of-the-best.jpg
END:VEVENT
BEGIN:VEVENT
DTSTART;TZID=America/Chicago:20231207T160000
DTEND;TZID=America/Chicago:20231207T180000
DTSTAMP:20260419T095938
CREATED:20231122T203922Z
LAST-MODIFIED:20231122T203922Z
UID:44196-1701964800-1701972000@ktex.com
SUMMARY:WC Chamber Connect After Four
DESCRIPTION:
URL:https://ktex.com/event/wc-chamber-connect-after-four/
LOCATION:Kruse Village\, 1700 E Stone St\, Brenham\, TX\, 77833\, United States
CATEGORIES:Community Events
ATTACH;FMTTYPE=image/png:https://ktex.com/wp-content/uploads/2023/11/connect-after-four-dec.png
END:VEVENT
BEGIN:VEVENT
DTSTART;TZID=America/Chicago:20231207T170000
DTEND;TZID=America/Chicago:20231207T190000
DTSTAMP:20260419T095938
CREATED:20231108T193339Z
LAST-MODIFIED:20231108T193339Z
UID:44019-1701968400-1701975600@ktex.com
SUMMARY:Washington Co Abstract Toy Drive
DESCRIPTION:
URL:https://ktex.com/event/washington-co-abstract-toy-drive/
LOCATION:Washington Co Abstract\, 211 East Main Street\, Brenham\, TX\, 77833\, United States
CATEGORIES:Community Events
ATTACH;FMTTYPE=image/png:https://ktex.com/wp-content/uploads/2023/11/here-comes-santa-brenham.png
END:VEVENT
BEGIN:VEVENT
DTSTART;TZID=America/Chicago:20231207T170000
DTEND;TZID=America/Chicago:20231207T193000
DTSTAMP:20260419T095938
CREATED:20231130T144548Z
LAST-MODIFIED:20231130T144548Z
UID:44291-1701968400-1701977400@ktex.com
SUMMARY:Krause Elementary Winter Karnival
DESCRIPTION:
URL:https://ktex.com/event/krause-elementary-winter-karnival/
LOCATION:Krause Elementary School\, 2201 E Stone St\, Brenham\, TX\, 77833\, United States
CATEGORIES:Community Events
ATTACH;FMTTYPE=image/jpeg:https://ktex.com/wp-content/uploads/2023/11/krause-es-karnival.jpg
END:VEVENT
BEGIN:VEVENT
DTSTART;TZID=America/Chicago:20231207T170000
DTEND;TZID=America/Chicago:20231207T200000
DTSTAMP:20260419T095938
CREATED:20231030T181355Z
LAST-MODIFIED:20231030T181355Z
UID:43662-1701968400-1701979200@ktex.com
SUMMARY:Schmeckenfest
DESCRIPTION:
URL:https://ktex.com/event/schmeckenfest/
LOCATION:Downtown La Grange\, 78945
CATEGORIES:Community Events
ATTACH;FMTTYPE=image/png:https://ktex.com/wp-content/uploads/2023/10/schmeckenfest-dec.png
END:VEVENT
BEGIN:VEVENT
DTSTART;VALUE=DATE:20231208
DTEND;VALUE=DATE:20231209
DTSTAMP:20260419T095938
CREATED:20231122T162432Z
LAST-MODIFIED:20231122T162432Z
UID:44189-1701993600-1702079999@ktex.com
SUMMARY:BV Tuba Christmas
DESCRIPTION:
URL:https://ktex.com/event/bv-tuba-christmas/
LOCATION:First Baptist Church (Bryan)\, 3100 Cambridge Drive\, Bryan\, TX\, 77802\, United States
CATEGORIES:Community Events
ATTACH;FMTTYPE=image/jpeg:https://ktex.com/wp-content/uploads/2023/11/bv-tuba-christmas.jpg
END:VEVENT
BEGIN:VEVENT
DTSTART;VALUE=DATE:20231208
DTEND;VALUE=DATE:20231209
DTSTAMP:20260419T095938
CREATED:20231206T211305Z
LAST-MODIFIED:20231206T213619Z
UID:44425-1701993600-1702079999@ktex.com
SUMMARY:Bellville vs Wimberley State Semi-Finals Football Game
DESCRIPTION:Game Day Information\nBellville (visitors) vs. Wimberley\nThe Pfield – Pflugerville ISD\nAll tickets are online $10\nhttps://www.pfisd.net/Page/8813\nClick on “View Events by School”\nGo to “THE PFIELD EVENTS”\nselect your game (VISITORS) and click “GET TICKETS”\nDISTRICT & BISD ST CITIZEN PASSES WILL BE ACCEPTED\nImportant information\n* all spectators are subject to search\n* all spectators will go through metal detectors\n* clear bag policy is in place
URL:https://ktex.com/event/bellville-vs-wimberley-state-semi-finals-football-game/
LOCATION:The Pfield – Pflugerville ISD\, 1440 W. Pecan Street\, Pflugerville\, TX\, 78660\, United States
CATEGORIES:Community Events
ATTACH;FMTTYPE=image/jpeg:https://ktex.com/wp-content/uploads/2023/12/bellville-fb-dec-8.jpg
END:VEVENT
BEGIN:VEVENT
DTSTART;VALUE=DATE:20231208
DTEND;VALUE=DATE:20231209
DTSTAMP:20260419T095940
CREATED:20231207T174903Z
LAST-MODIFIED:20231207T174903Z
UID:44445-1701993600-1702079999@ktex.com
SUMMARY:Elf Movie showing at The Barnhill Center
DESCRIPTION:
URL:https://ktex.com/event/elf-movie-showing-at-the-barnhill-center/
LOCATION:The Barnhill Center at Historic Simon Theatre\, 111 W. Main Street\, Brenham\, TX\, 77833\, United States
CATEGORIES:Community Events
ATTACH;FMTTYPE=image/png:https://ktex.com/wp-content/uploads/2023/12/elf.png
END:VEVENT
BEGIN:VEVENT
DTSTART;TZID=America/Chicago:20231208T080000
DTEND;TZID=America/Chicago:20231208T150000
DTSTAMP:20260419T095940
CREATED:20231120T195302Z
LAST-MODIFIED:20231120T195302Z
UID:44162-1702022400-1702047600@ktex.com
SUMMARY:Nicholson Lake Road RV Park Donation Drive
DESCRIPTION:
URL:https://ktex.com/event/nicholson-lake-road-rv-park-donation-drive/
LOCATION:Nicholson Lake Road RV Park\, 4200 Nicholson Lake Road\, Chappell Hill\, TX\, 77426\, United States
CATEGORIES:Community Events
ATTACH;FMTTYPE=image/png:https://ktex.com/wp-content/uploads/2023/11/nlr-donation-drive.png
END:VEVENT
BEGIN:VEVENT
DTSTART;TZID=America/Chicago:20231208T130000
DTEND;TZID=America/Chicago:20231208T183000
DTSTAMP:20260419T095940
CREATED:20231127T201639Z
LAST-MODIFIED:20231127T201639Z
UID:44223-1702040400-1702060200@ktex.com
SUMMARY:Austin County 5 Hr. CEU Conference
DESCRIPTION:
URL:https://ktex.com/event/austin-county-5-hr-ceu-conference/
LOCATION:Four County Auction Center\, 11942 Hwy 159\, Industry\, TX\, 78944\, United States
CATEGORIES:Community Events
ATTACH;FMTTYPE=image/png:https://ktex.com/wp-content/uploads/2023/11/ac-ceu-conf.png
END:VEVENT
BEGIN:VEVENT
DTSTART;TZID=America/Chicago:20231208T170000
DTEND;TZID=America/Chicago:20231208T190000
DTSTAMP:20260419T095940
CREATED:20231108T193553Z
LAST-MODIFIED:20231108T193553Z
UID:44023-1702054800-1702062000@ktex.com
SUMMARY:South Land Title Toy Drive
DESCRIPTION:
URL:https://ktex.com/event/south-land-title-toy-drive/
LOCATION:South Land Title-Brenham\, 211 East Main Street\, Brenham\, TX\, 77833\, United States
CATEGORIES:Community Events
ATTACH;FMTTYPE=image/png:https://ktex.com/wp-content/uploads/2023/11/here-comes-santa-navasota.png
END:VEVENT
BEGIN:VEVENT
DTSTART;TZID=America/Chicago:20231208T180000
DTEND;TZID=America/Chicago:20231208T200000
DTSTAMP:20260419T095940
CREATED:20231128T152833Z
LAST-MODIFIED:20231128T152833Z
UID:44242-1702058400-1702065600@ktex.com
SUMMARY:Christmas on the Square (Caldwell)
DESCRIPTION:The Burleson County Chamber of Commerce Presents: Christmas on the Square\nChristmas on the Square is a hometown favorite event. It’s a great time that we celebrate Christmas as a community. We have dance performances\, Caldwell High School Band\, Caldwell High School Honeybees Dance Team performances. The evening starts off with a welcome from the Chamber and local officials.\nAfter all the performances we have the crowd favorite Lighted Parade (parade will begin immediately after the dance performances and will be canceled if there is inclement weather). The parade will begin on Buck St. Parade participants will line up behind the Caldwell Fire Truck on the corner of Buck & Hill Street beginning at 6:45 PM. Chamber volunteers will check you in and assist with line-up. The parade will proceed down Buck St. to Main St.\, and head back to Fox Street.
URL:https://ktex.com/event/christmas-on-the-square-caldwell/
LOCATION:Downtown Caldwell
CATEGORIES:Community Events
ATTACH;FMTTYPE=image/png:https://ktex.com/wp-content/uploads/2023/11/christmas-on-the-square-burleson-county.png
END:VEVENT
BEGIN:VEVENT
DTSTART;VALUE=DATE:20231209
DTEND;VALUE=DATE:20231210
DTSTAMP:20260419T095940
CREATED:20231030T165101Z
LAST-MODIFIED:20231031T162106Z
UID:43655-1702080000-1702166399@ktex.com
SUMMARY:Chappell Hill Christmas Home Tour and Teddy Bear Parade
DESCRIPTION:Homes decorated for the holidays\, story time with Mrs. Claus\, and a parade? Sign us up! The Eilish will be in Downtown Chappell Hill for all the fun!
URL:https://ktex.com/event/chappell-hill-christmas-home-tour-and-teddy-bear-parade/
LOCATION:Downtown Chappell Hill
CATEGORIES:KTEX on the Road
END:VEVENT
BEGIN:VEVENT
DTSTART;VALUE=DATE:20231209
DTEND;VALUE=DATE:20231210
DTSTAMP:20260419T095940
CREATED:20231121T224830Z
LAST-MODIFIED:20231121T224830Z
UID:44179-1702080000-1702166399@ktex.com
SUMMARY:Home for the Holidays Navasota
DESCRIPTION:
URL:https://ktex.com/event/home-for-the-holidays-navasota/
LOCATION:TX
CATEGORIES:Community Events
ATTACH;FMTTYPE=image/jpeg:https://ktex.com/wp-content/uploads/2023/11/home-for-the-holidays-navasota.jpg
END:VEVENT
BEGIN:VEVENT
DTSTART;VALUE=DATE:20231209
DTEND;VALUE=DATE:20231210
DTSTAMP:20260419T095940
CREATED:20231127T201017Z
LAST-MODIFIED:20231127T201017Z
UID:44214-1702080000-1702166399@ktex.com
SUMMARY:VFW Post 7104 Christmas Party
DESCRIPTION:James F. Dillion VFW Post 7104 will have its Christmas party on Saturday\, December 9 at the post home\, the happy hour will start at\n6 pm\, followed by the meal served at 7:00
URL:https://ktex.com/event/vfw-post-7104-christmas-party/
LOCATION:James F. Dillion VFW Post 7104\, 1200 East Tom Green Street\, Brenham\, TX\, 77833\, United States
CATEGORIES:Community Events
ATTACH;FMTTYPE=image/png:https://ktex.com/wp-content/uploads/2023/11/christmas-party.png
END:VEVENT
BEGIN:VEVENT
DTSTART;VALUE=DATE:20231209
DTEND;VALUE=DATE:20231210
DTSTAMP:20260419T095940
CREATED:20231128T171818Z
LAST-MODIFIED:20231128T171818Z
UID:44251-1702080000-1702166399@ktex.com
SUMMARY:Brenham Children's Chorus Christmas Concert
DESCRIPTION:
URL:https://ktex.com/event/brenham-childrens-chorus-christmas-concert/
LOCATION:Dr. W.W. O’Donnell Performing Arts Center\, 600 Blinn Blvd\, Brenham\, TX\, 77833\, United States
CATEGORIES:Community Events
ATTACH;FMTTYPE=image/png:https://ktex.com/wp-content/uploads/2023/11/BCC-carol-of-animals.png
END:VEVENT
BEGIN:VEVENT
DTSTART;VALUE=DATE:20231209
DTEND;VALUE=DATE:20231211
DTSTAMP:20260419T095940
CREATED:20231027T134240Z
LAST-MODIFIED:20231027T134240Z
UID:43608-1702080000-1702252799@ktex.com
SUMMARY:Bethlehem in Independence Live Nativity
DESCRIPTION:
URL:https://ktex.com/event/bethlehem-in-independence-live-nativity/
LOCATION:TX
CATEGORIES:Community Events
ATTACH;FMTTYPE=image/jpeg:https://ktex.com/wp-content/uploads/2023/10/bethlehem-in-independence.jpg
END:VEVENT
BEGIN:VEVENT
DTSTART;VALUE=DATE:20231209
DTEND;VALUE=DATE:20231211
DTSTAMP:20260419T095940
CREATED:20231208T160103Z
LAST-MODIFIED:20231208T160103Z
UID:44490-1702080000-1702252799@ktex.com
SUMMARY:Brenham's First Baptist presents The Majesty of Christmas
DESCRIPTION:
URL:https://ktex.com/event/brenhams-first-baptist-presents-the-majesty-of-christmas/
LOCATION:Brenham’s First Baptist Church\, 2715 South Market Street\, Brenham\, TX\, 77833\, United States
CATEGORIES:Community Events
ATTACH;FMTTYPE=image/png:https://ktex.com/wp-content/uploads/2023/12/majesty-of-christmas.png
END:VEVENT
BEGIN:VEVENT
DTSTART;TZID=America/Chicago:20231209T090000
DTEND;TZID=America/Chicago:20231209T120000
DTSTAMP:20260419T095940
CREATED:20231108T202756Z
LAST-MODIFIED:20231108T202756Z
UID:44037-1702112400-1702123200@ktex.com
SUMMARY:St. Nicholas Festival
DESCRIPTION:Join us Saturday\, December 9th from 9 a.m. – 12 p.m. for a family-friendly event that promises to bring the magic of the Christmas season to life. Learn about the real Saint Nicholas whose generosity inspired Santa Claus. Come enjoy traditional Christmas carols\, story time with St. Nicholas\, Christmas crafts\, and lots of holiday snacks! Get ready for a day filled with joy\, laughter\, and the true spirit of Christmas.\nAdmission is free\, so invite your friends\, family\, and neighbors to join in the festivities. Don’t forget to wear your coziest holiday sweater and your brightest smiles!\n🍳 Breakfast Plates • 📖 St. Nicholas Story Time • 🎶 Traditional Carols • 🍰 International Bake Sale • 🎨 Kids’ Christmas Crafts • 🏰 Bounce House • 🎨 Face Painting\n\nEvent Details: https://fb.me/e/gJpmXBRAG
URL:https://ktex.com/event/st-nicholas-festival/
LOCATION:St. Peter’s Episcopal Church (Brenham)\, 2310 Airline Dr.\, Brenham\, TX\, 77833\, United States
CATEGORIES:Community Events
ATTACH;FMTTYPE=image/png:https://ktex.com/wp-content/uploads/2023/11/nicholas-festival.png
END:VEVENT
BEGIN:VEVENT
DTSTART;TZID=America/Chicago:20231209T090000
DTEND;TZID=America/Chicago:20231209T130000
DTSTAMP:20260419T095940
CREATED:20231114T175052Z
LAST-MODIFIED:20231114T175052Z
UID:44076-1702112400-1702126800@ktex.com
SUMMARY:Navasota Christmas Farmer's Market
DESCRIPTION:
URL:https://ktex.com/event/navasota-christmas-farmers-market/
LOCATION:Navasota Public Library\, 1411 E Washington Ave\, Navasota\, TX\, 77868\, United States
CATEGORIES:Community Events
ATTACH;FMTTYPE=image/png:https://ktex.com/wp-content/uploads/2023/11/navasota-christmas-farmers-market-002.png
END:VEVENT
BEGIN:VEVENT
DTSTART;TZID=America/Chicago:20231209T100000
DTEND;TZID=America/Chicago:20231209T170000
DTSTAMP:20260419T095940
CREATED:20231030T165548Z
LAST-MODIFIED:20231031T162144Z
UID:43659-1702116000-1702141200@ktex.com
SUMMARY:Home for the Holidays in Navasota
DESCRIPTION:Enjoy Christmas shopping\, live music\, holiday specials\, free Christmas cookies with hot chocolate\, and a story book walk! Dean will be there with their sleigh bells on!
URL:https://ktex.com/event/home-for-the-holidays-in-navasota/
LOCATION:Downtown Navasota
CATEGORIES:KTEX on the Road
END:VEVENT
END:VCALENDAR