BEGIN:VCALENDAR
VERSION:2.0
PRODID:-//KTEX 106.1 - ECPv6.15.20//NONSGML v1.0//EN
CALSCALE:GREGORIAN
METHOD:PUBLISH
X-WR-CALNAME:KTEX 106.1
X-ORIGINAL-URL:https://ktex.com
X-WR-CALDESC:Events for KTEX 106.1
REFRESH-INTERVAL;VALUE=DURATION:PT1H
X-Robots-Tag:noindex
X-PUBLISHED-TTL:PT1H
BEGIN:VTIMEZONE
TZID:America/Chicago
BEGIN:DAYLIGHT
TZOFFSETFROM:-0600
TZOFFSETTO:-0500
TZNAME:CDT
DTSTART:20230312T080000
END:DAYLIGHT
BEGIN:STANDARD
TZOFFSETFROM:-0500
TZOFFSETTO:-0600
TZNAME:CST
DTSTART:20231105T070000
END:STANDARD
BEGIN:DAYLIGHT
TZOFFSETFROM:-0600
TZOFFSETTO:-0500
TZNAME:CDT
DTSTART:20240310T080000
END:DAYLIGHT
BEGIN:STANDARD
TZOFFSETFROM:-0500
TZOFFSETTO:-0600
TZNAME:CST
DTSTART:20241103T070000
END:STANDARD
BEGIN:DAYLIGHT
TZOFFSETFROM:-0600
TZOFFSETTO:-0500
TZNAME:CDT
DTSTART:20250309T080000
END:DAYLIGHT
BEGIN:STANDARD
TZOFFSETFROM:-0500
TZOFFSETTO:-0600
TZNAME:CST
DTSTART:20251102T070000
END:STANDARD
END:VTIMEZONE
BEGIN:VEVENT
DTSTART;VALUE=DATE:20240520
DTEND;VALUE=DATE:20240521
DTSTAMP:20260420T125234
CREATED:20240520T200254Z
LAST-MODIFIED:20240520T200254Z
UID:47347-1716163200-1716249599@ktex.com
SUMMARY:Brenham Cub Spring Game
DESCRIPTION:
URL:https://ktex.com/event/brenham-cub-spring-game/
LOCATION:Cub Stadium\, 1600 
CATEGORIES:Community Events
ATTACH;FMTTYPE=image/jpeg:https://ktex.com/wp-content/uploads/2024/05/cub-spring-game.jpg
END:VEVENT
BEGIN:VEVENT
DTSTART;VALUE=DATE:20240521
DTEND;VALUE=DATE:20240522
DTSTAMP:20260420T125234
CREATED:20231208T150941Z
LAST-MODIFIED:20231208T150941Z
UID:44482-1716249600-1716335999@ktex.com
SUMMARY:Austin Co. Lunch-N-Learn Series (Spring)
DESCRIPTION:
URL:https://ktex.com/event/austin-co-lunch-n-learn-series-spring-5/
LOCATION:Austin County Courthouse (basement meeting room)\, 1 E Main Street\, Bellville\, TX\, 77418\, United States
CATEGORIES:Community Events
ATTACH;FMTTYPE=image/jpeg:https://ktex.com/wp-content/uploads/2023/12/ac-lunch-learn-series-24.jpg
END:VEVENT
BEGIN:VEVENT
DTSTART;VALUE=DATE:20240521
DTEND;VALUE=DATE:20240522
DTSTAMP:20260420T125234
CREATED:20240223T220102Z
LAST-MODIFIED:20240223T220102Z
UID:45896-1716249600-1716335999@ktex.com
SUMMARY:Brenham JH Spring Band Concerts
DESCRIPTION:Tuesday\, May 21\, JH Spring Band Concerts \n6:00pm BHS Auditorium
URL:https://ktex.com/event/brenham-jh-spring-band-concerts/
LOCATION:Brenham High School Auditorium\, 525 A H Ehrig Drive\, Brenham\, TX\, 77833\, United States
CATEGORIES:Community Events
ATTACH;FMTTYPE=image/jpeg:https://ktex.com/wp-content/uploads/2024/02/BISD-logo.jpg
END:VEVENT
BEGIN:VEVENT
DTSTART;VALUE=DATE:20240521
DTEND;VALUE=DATE:20240522
DTSTAMP:20260420T125234
CREATED:20240503T194243Z
LAST-MODIFIED:20240503T194243Z
UID:47089-1716249600-1716335999@ktex.com
SUMMARY:Burton FFA Grilled Pork Steak Meal Fundraiser
DESCRIPTION:Drive-thru locations\nSt. Johns Church in Burton\, 4:00-6:30pm or\nThe Senior Activity Center in Brenham\, 4:30-6:30pm
URL:https://ktex.com/event/burton-ffa-grilled-pork-steak-meal-fundraiser/
LOCATION:TX
CATEGORIES:Community Events
ATTACH;FMTTYPE=image/jpeg:https://ktex.com/wp-content/uploads/2024/05/burton-ffa-may-fundraiser.jpg
END:VEVENT
BEGIN:VEVENT
DTSTART;VALUE=DATE:20240521
DTEND;VALUE=DATE:20240522
DTSTAMP:20260420T125234
CREATED:20240520T184006Z
LAST-MODIFIED:20240520T184006Z
UID:47335-1716249600-1716335999@ktex.com
SUMMARY:Burton High School Senior Scholarship Program
DESCRIPTION:
URL:https://ktex.com/event/burton-high-school-senior-scholarship-program/
LOCATION:Burton High School Auditorium\, 917 N. Main Street\, Burton\, TX\, 77835\, United States
CATEGORIES:Community Events
ATTACH;FMTTYPE=image/jpeg:https://ktex.com/wp-content/uploads/2024/05/burton-hs-sr-scholarships.jpg
END:VEVENT
BEGIN:VEVENT
DTSTART;TZID=America/Chicago:20240521T070000
DTEND;TZID=America/Chicago:20240524T190000
DTSTAMP:20260420T125234
CREATED:20240521T140218Z
LAST-MODIFIED:20240521T140218Z
UID:47350-1716274800-1716577200@ktex.com
SUMMARY:Early Voting Location (Washington County)
DESCRIPTION:Make sure to go vote for the May 28th Runoff \n\nEarly Voting Location: \nCounty Courthouse Annex – Lobby\n100 S. Park Street\nBrenham\, TX 77833 \n\nEarly Voting Dates:                            \nMAY 20\, 2024 – MAY 24\, 2024      \n\nHours:\n7:00 a.m. to 7:00 p.m.  (Monday – Friday)
URL:https://ktex.com/event/early-voting-location-washington-county/
LOCATION:Washington County Courthouse Annex\, 100 South Park\, Brenham\, Texas\, 77833
CATEGORIES:Community Events
ATTACH;FMTTYPE=image/jpeg:https://ktex.com/wp-content/uploads/2024/05/early-voting-MAY.jpg
END:VEVENT
BEGIN:VEVENT
DTSTART;VALUE=DATE:20240522
DTEND;VALUE=DATE:20240523
DTSTAMP:20260420T125234
CREATED:20240429T184259Z
LAST-MODIFIED:20240429T184259Z
UID:46998-1716336000-1716422399@ktex.com
SUMMARY:Program on Healthy Aging w/Diabetes
DESCRIPTION:
URL:https://ktex.com/event/program-on-healthy-aging-w-diabetes-3/
LOCATION:Nancy Carol Roberts Memorial Library\, 200 W Vulcan St\, Brenham\, TX\, United States
CATEGORIES:Community Events
ATTACH;FMTTYPE=image/png:https://ktex.com/wp-content/uploads/2024/04/be-well-may.png
END:VEVENT
BEGIN:VEVENT
DTSTART;VALUE=DATE:20240522
DTEND;VALUE=DATE:20240525
DTSTAMP:20260420T125234
CREATED:20240517T212259Z
LAST-MODIFIED:20240517T212259Z
UID:47316-1716336000-1716595199@ktex.com
SUMMARY:City of Brenham Vegetation Debris Pick Up
DESCRIPTION:
URL:https://ktex.com/event/city-of-brenham-vegetation-debris-pick-up/
LOCATION:TX
CATEGORIES:Community Events
ATTACH;FMTTYPE=image/png:https://ktex.com/wp-content/uploads/2024/05/Vegetation-Debris-Pickup-Flyer-2024May-002.png
END:VEVENT
BEGIN:VEVENT
DTSTART;TZID=America/Chicago:20240522T090000
DTEND;TZID=America/Chicago:20240522T100000
DTSTAMP:20260420T125234
CREATED:20240509T135250Z
LAST-MODIFIED:20240509T135250Z
UID:47154-1716368400-1716372000@ktex.com
SUMMARY:St. Paul's CDS Class of 2024 Senior Walk
DESCRIPTION:
URL:https://ktex.com/event/st-pauls-cds-class-of-2024-senior-walk/
LOCATION:St. Paul’s Christian Day School\, 305 W. 3rd Street\, Brenham\, TX\, 77833\, United States
CATEGORIES:Community Events
ATTACH;FMTTYPE=image/jpeg:https://ktex.com/wp-content/uploads/2024/05/st-paul-cds-class-2024.jpg
END:VEVENT
BEGIN:VEVENT
DTSTART;TZID=America/Chicago:20240522T180000
DTEND;TZID=America/Chicago:20240522T210000
DTSTAMP:20260420T125234
CREATED:20240514T131736Z
LAST-MODIFIED:20240514T131736Z
UID:47218-1716400800-1716411600@ktex.com
SUMMARY:Memorial Oaks Chapel 50 Year Anniversary
DESCRIPTION:
URL:https://ktex.com/event/memorial-oaks-chapel-50-year-anniversary/
LOCATION:Memorial Oaks Chapel\, 1306 W. Main Street\, Brenham\, TX\, 77833\, United States
CATEGORIES:Community Events
ATTACH;FMTTYPE=image/jpeg:https://ktex.com/wp-content/uploads/2024/05/moc-anniversary-may.jpg
END:VEVENT
BEGIN:VEVENT
DTSTART;VALUE=DATE:20240523
DTEND;VALUE=DATE:20240524
DTSTAMP:20260420T125234
CREATED:20240502T165745Z
LAST-MODIFIED:20240502T165745Z
UID:47056-1716422400-1716508799@ktex.com
SUMMARY:Brenham JHS Got Talent
DESCRIPTION:Talent Show will be held in the BJHS Auditorium.\nCommunity is invited.
URL:https://ktex.com/event/brenham-jhs-got-talent/
LOCATION:Brenham Junior High Auditorium\, 1200 Carlee St.\, Brenham\, TX\, 77833\, United States
CATEGORIES:Community Events
ATTACH;FMTTYPE=image/jpeg:https://ktex.com/wp-content/uploads/2024/05/bjhs-got-talent.jpg
END:VEVENT
BEGIN:VEVENT
DTSTART;VALUE=DATE:20240524
DTEND;VALUE=DATE:20240525
DTSTAMP:20260420T125234
CREATED:20240422T204804Z
LAST-MODIFIED:20240520T195351Z
UID:46887-1716508800-1716595199@ktex.com
SUMMARY:Navasota HS Class of 2024 Graduation
DESCRIPTION:
URL:https://ktex.com/event/class-of-2024-navasota-hs-graduation-ceremony/
LOCATION:Rattler Stadium\, 9238 Highway 90 S\,  Navasota \, 77868
CATEGORIES:Community Events
ATTACH;FMTTYPE=image/png:https://ktex.com/wp-content/uploads/2024/04/navasota-hs-grad-24.png
END:VEVENT
BEGIN:VEVENT
DTSTART;VALUE=DATE:20240524
DTEND;VALUE=DATE:20240525
DTSTAMP:20260420T125234
CREATED:20240516T140355Z
LAST-MODIFIED:20240522T132205Z
UID:47254-1716508800-1716595199@ktex.com
SUMMARY:Brenham ISD Staff Recognition & Awards Ceremony
DESCRIPTION:FOR TEACHERS AND STAFF OF BRENHAM ISD ONLY.
URL:https://ktex.com/event/brenham-isd-staff-recognition-awards-ceremony/
LOCATION:Silver Wings Ballroom\, 4100 State Highway 105\, Brenham\, TX\, 77833\, United States
CATEGORIES:Community Events
ATTACH;FMTTYPE=image/jpeg:https://ktex.com/wp-content/uploads/2024/05/bisd-staff-recognition-unbranded-002.jpg
END:VEVENT
BEGIN:VEVENT
DTSTART;VALUE=DATE:20240524
DTEND;VALUE=DATE:20240525
DTSTAMP:20260420T125234
CREATED:20240520T194617Z
LAST-MODIFIED:20240520T194617Z
UID:47342-1716508800-1716595199@ktex.com
SUMMARY:Brenham HS Class of 2024 Graduation
DESCRIPTION:
URL:https://ktex.com/event/brenham-hs-class-of-2024-graduation/
LOCATION:Cub Stadium\, 1600 
CATEGORIES:Community Events
ATTACH;FMTTYPE=image/jpeg:https://ktex.com/wp-content/uploads/2024/05/brenham-hs-graduation.jpg
END:VEVENT
BEGIN:VEVENT
DTSTART;TZID=America/Chicago:20240525T100000
DTEND;TZID=America/Chicago:20240525T160000
DTSTAMP:20260420T125234
CREATED:20240503T172030Z
LAST-MODIFIED:20240503T172030Z
UID:47068-1716631200-1716652800@ktex.com
SUMMARY:Main Street Chappell Hill 5th Annual Artwalk
DESCRIPTION:
URL:https://ktex.com/event/main-street-chappell-hill-5th-annual-artwalk/
LOCATION:TX
CATEGORIES:Community Events
ATTACH;FMTTYPE=image/jpeg:https://ktex.com/wp-content/uploads/2024/05/ch-artwalk-2024.jpg
END:VEVENT
BEGIN:VEVENT
DTSTART;VALUE=DATE:20240526
DTEND;VALUE=DATE:20240527
DTSTAMP:20260420T125234
CREATED:20240419T202747Z
LAST-MODIFIED:20240419T202747Z
UID:46864-1716681600-1716767999@ktex.com
SUMMARY:Shelby VFD Fundraiser
DESCRIPTION:
URL:https://ktex.com/event/shelby-vfd-fundraiser/
LOCATION:Harmonie Hall (Shelby)\, 509 FM 389 West\, Shelby\, TX\, 78940\, United States
CATEGORIES:Community Events
ATTACH;FMTTYPE=image/jpeg:https://ktex.com/wp-content/uploads/2024/04/Shelby-VFD-may-002.jpg
END:VEVENT
BEGIN:VEVENT
DTSTART;VALUE=DATE:20240526
DTEND;VALUE=DATE:20240527
DTSTAMP:20260420T125234
CREATED:20240522T204215Z
LAST-MODIFIED:20240522T204215Z
UID:47374-1716681600-1716767999@ktex.com
SUMMARY:NJCAA World Series Opening Round
DESCRIPTION:BLINN BUCCANEERS vs CROWDER ROUGHRIDERS
URL:https://ktex.com/event/njcaa-world-series-opening-round/
LOCATION:Suplizio Field\, 1315 North Ave.\, Grand Junction\, CO\, 81501\, United States
CATEGORIES:Community Events
ATTACH;FMTTYPE=image/jpeg:https://ktex.com/wp-content/uploads/2024/05/blinn-opening-round.jpg
END:VEVENT
BEGIN:VEVENT
DTSTART;VALUE=DATE:20240527
DTEND;VALUE=DATE:20240528
DTSTAMP:20260420T125234
CREATED:20240521T150702Z
LAST-MODIFIED:20240521T150702Z
UID:47353-1716768000-1716854399@ktex.com
SUMMARY:Carmine Area Memorial Day Ceremony
DESCRIPTION:Carmine Area Memorial Day ceremony is scheduled for Monday\, May 27 at 9 a.m. at Martin Luther Lutheran Church\, in Carmine. Everyone is welcome. Community veterans that served our great country and have died will be remembered and honored. The roster of our great heroes will be read. Light refreshments will be served immediately following the playing of Taps. Bring a lawn chair if you wish.  NOTE THE LOCATION CHANGE!
URL:https://ktex.com/event/carmine-area-memorial-day-ceremony/
LOCATION:Martin Luther Lutheran Church (Carmine)\, 211 Luther Lane\, Carmine\, TX\, 78932\, United States
CATEGORIES:Community Events
ATTACH;FMTTYPE=image/jpeg:https://ktex.com/wp-content/uploads/2024/05/memorial-day.jpg
END:VEVENT
BEGIN:VEVENT
DTSTART;TZID=America/Chicago:20240527T110000
DTEND;TZID=America/Chicago:20240527T130000
DTSTAMP:20260420T125234
CREATED:20240328T144555Z
LAST-MODIFIED:20240328T144555Z
UID:46492-1716807600-1716814800@ktex.com
SUMMARY:Washington Co. Veterans Assoc. Memorial Day BBQ Meal
DESCRIPTION:Washington County Veterans Association Memorial Day BBQ chicken & sausage Meal at Brenham American Legion Post 48 is Monday\, May 27\, drive thru or dine in / 11:00am – 1:00pm.  Advance tickets suggested (Nathan’s Catering)
URL:https://ktex.com/event/washington-co-veterans-assoc-memorial-day-bbq-meal/
LOCATION:American Legion Hall Brenham\, 903 North Park\, Brenham\, TX\, 77833\, United States
CATEGORIES:Community Events
ATTACH;FMTTYPE=image/jpeg:https://ktex.com/wp-content/uploads/2024/03/vfw-2.jpg
END:VEVENT
BEGIN:VEVENT
DTSTART;VALUE=DATE:20240528
DTEND;VALUE=DATE:20240529
DTSTAMP:20260420T125234
CREATED:20240524T201248Z
LAST-MODIFIED:20240524T201248Z
UID:47392-1716854400-1716940799@ktex.com
SUMMARY:Bizzell Academy Graduation Ceremony
DESCRIPTION:
URL:https://ktex.com/event/bizzell-academy-graduation-ceremony/
LOCATION:Brosig Performing Arts Center\, 105 Brosig Ave.\, Navasota\, TX\, 77868\, United States
CATEGORIES:Community Events
ATTACH;FMTTYPE=image/jpeg:https://ktex.com/wp-content/uploads/2024/05/bizzell-academy-graduation.jpg
END:VEVENT
BEGIN:VEVENT
DTSTART;VALUE=DATE:20240528
DTEND;VALUE=DATE:20240601
DTSTAMP:20260420T125234
CREATED:20240311T184051Z
LAST-MODIFIED:20240311T184051Z
UID:46078-1716854400-1717199999@ktex.com
SUMMARY:Bellville ISD Golf Camp
DESCRIPTION:
URL:https://ktex.com/event/bellville-isd-golf-camp/
LOCATION:Bellville Golf & Recreation Club\, 2426 HWY 36 N\, Bellville\, 77418
CATEGORIES:Community Events
ATTACH;FMTTYPE=image/jpeg:https://ktex.com/wp-content/uploads/2024/03/bellville-isd-summer-camps.jpg
END:VEVENT
BEGIN:VEVENT
DTSTART;VALUE=DATE:20240528
DTEND;VALUE=DATE:20240601
DTSTAMP:20260420T125234
CREATED:20240311T184317Z
LAST-MODIFIED:20240311T184317Z
UID:46081-1716854400-1717199999@ktex.com
SUMMARY:Bellville ISD Summer Track Camp
DESCRIPTION:
URL:https://ktex.com/event/bellville-isd-summer-track-camp/
LOCATION:Bellville High School\, 850 Schumann Rd\, Bellville\, TX\, 77418\, United States
CATEGORIES:Community Events
ATTACH;FMTTYPE=image/jpeg:https://ktex.com/wp-content/uploads/2024/03/bellville-isd-summer-camps.jpg
END:VEVENT
BEGIN:VEVENT
DTSTART;VALUE=DATE:20240529
DTEND;VALUE=DATE:20240530
DTSTAMP:20260420T125234
CREATED:20240311T182205Z
LAST-MODIFIED:20240311T182205Z
UID:46055-1716940800-1717027199@ktex.com
SUMMARY:Mental Health First Aid
DESCRIPTION:
URL:https://ktex.com/event/mental-health-first-aid-2/
LOCATION:Brazos County Health District\, 201 North Texas Ave\, Bryan\, TX\, 77803\, United States
CATEGORIES:Community Events
ATTACH;FMTTYPE=image/jpeg:https://ktex.com/wp-content/uploads/2024/03/mental-health-first-aid.jpg
END:VEVENT
BEGIN:VEVENT
DTSTART;VALUE=DATE:20240529
DTEND;VALUE=DATE:20240530
DTSTAMP:20260420T125234
CREATED:20240429T184358Z
LAST-MODIFIED:20240429T184358Z
UID:47000-1716940800-1717027199@ktex.com
SUMMARY:Program on Healthy Aging w/Diabetes
DESCRIPTION:
URL:https://ktex.com/event/program-on-healthy-aging-w-diabetes-4/
LOCATION:Nancy Carol Roberts Memorial Library\, 100 Martin Luther King Jr. Parkway\, Brenham\, Texas\, 77833
CATEGORIES:Community Events
ATTACH;FMTTYPE=image/png:https://ktex.com/wp-content/uploads/2024/04/be-well-may.png
END:VEVENT
BEGIN:VEVENT
DTSTART;VALUE=DATE:20240531
DTEND;VALUE=DATE:20240601
DTSTAMP:20260420T125234
CREATED:20240509T134312Z
LAST-MODIFIED:20240509T134312Z
UID:47143-1717113600-1717199999@ktex.com
SUMMARY:4-H County Camp
DESCRIPTION:REGISTRATION ENDS MAY 16\, 2024
URL:https://ktex.com/event/4-h-county-camp/
LOCATION:Luther Hill Camp & Retreat\, 3782 Luther Hill Rd.\, La Grange\, TX\, 78945\, United States
CATEGORIES:Community Events
ATTACH;FMTTYPE=image/jpeg:https://ktex.com/wp-content/uploads/2024/05/4h-county-camp-2024.jpg
END:VEVENT
BEGIN:VEVENT
DTSTART;VALUE=DATE:20240531
DTEND;VALUE=DATE:20240601
DTSTAMP:20260420T125234
CREATED:20240517T172042Z
LAST-MODIFIED:20240531T181348Z
UID:47302-1717113600-1717199999@ktex.com
SUMMARY:CANCELED Summer MOVIES in the Park
DESCRIPTION:Free to all \nIN THE PARK:  movies start 10 minutes after sundown. Bring your chairs\, blankets and kids for a fun night out. \nFLOATS-n-FLICKS:  bring your float to be in the pool during the movie
URL:https://ktex.com/event/summer-movies-in-the-park/
LOCATION:Blue Bell Aquatic Center\, 1800 E Tom Green St\, Brenham\, TX\, 77833\, United States
CATEGORIES:Community Events
ATTACH;FMTTYPE=image/jpeg:https://ktex.com/wp-content/uploads/2024/05/movie2canceled-002.jpeg
END:VEVENT
BEGIN:VEVENT
DTSTART;VALUE=DATE:20240531
DTEND;VALUE=DATE:20240601
DTSTAMP:20260420T125234
CREATED:20240521T210446Z
LAST-MODIFIED:20240530T182401Z
UID:47364-1717113600-1717199999@ktex.com
SUMMARY:Jury Trial for May 31st (UPDATED INFO)
DESCRIPTION:The jury trial scheduled for May 31\, 2024 @ 10:30 AM for JP3- Judge Duane Houston\, has been cancelled.  Your services are no longer needed.    \nThe 1:00 PM jury trial for May 31\, 2024\, for Washington Co. JP# Court – Judge Duane Houston has been cancelled.  Your services are no longer needed.   \nThe 8:30AM is still as scheduled for May 31\, 2024.
URL:https://ktex.com/event/jury-trial-cancelled-3/
LOCATION:TX
CATEGORIES:Community Events
ATTACH;FMTTYPE=image/jpeg:https://ktex.com/wp-content/uploads/2024/03/jurytrialcanceledFEATURE.jpg
END:VEVENT
BEGIN:VEVENT
DTSTART;VALUE=DATE:20240531
DTEND;VALUE=DATE:20240601
DTSTAMP:20260420T125234
CREATED:20240530T194908Z
LAST-MODIFIED:20240530T202209Z
UID:47438-1717113600-1717199999@ktex.com
SUMMARY:Grimes County Fair Kickoff Dance
DESCRIPTION:The official kickoff to the Grimes County Fair is Friday\, May 31 night featuring a Dance with music by the Emotions at 8pm in the Main Hall. The doors open at 7:30pm\, and tickets are $10.  They are also having the crowning of the Grimes County Fair Queen at 9pm that evening. Look for KTEX 106’s Ryan Stone broadcasting live in the KTEX Country Cruiser. \nOn Saturday\, they are having a kid’s rodeo at 10am\, while the adult rodeo will be that night at 7pm.  Tickets are $10 per person\, while kids $5 and under get in for free. \nThe Fair is hosting a Buyer’s Social and Supper on Thursday\, June 6\, at 5:30pm. They will also have special presentations\, the announcement of scholarship recipients\, and other awards. \nThe premium auction and sale will begin that same evening at 6:30pm. Grayson is going to be out there broadcasting live in the KTEX Country Cruiser. \nThe final day of activities is on Friday\, June 7 with Senior Citizens Day and Childrens Day at 10am. \nOn Friday evening\, they will hold the Ranch Hand Rodeo\, which features teams of five competing in three events: pasture roping\, mugging\, and branding.
URL:https://ktex.com/event/grimes-county-fair-kickoff/
LOCATION:Grimes County Fairgrounds\, 5220 FM 3455 Rd\, Navasota\, TX\, 77868\, United States
CATEGORIES:Community Events
ATTACH;FMTTYPE=image/jpeg:https://ktex.com/wp-content/uploads/2024/05/Grimes-County-Fair-Kickoff-Dance.jpg
END:VEVENT
BEGIN:VEVENT
DTSTART;TZID=America/Chicago:20240531T200000
DTEND;TZID=America/Chicago:20240531T233000
DTSTAMP:20260420T125234
CREATED:20240513T160430Z
LAST-MODIFIED:20240521T175235Z
UID:47197-1717185600-1717198200@ktex.com
SUMMARY:Grimes County Fair Dance
DESCRIPTION:Ryan Stone will be dancing the night away at the Grimes County Fair kickoff dance! The Emotions will be playing while you scoot across the dancefloor!
URL:https://ktex.com/event/grimes-county-fair-dance/
LOCATION:Grimes County Expo Center\, 5220 FM 3455\, Navasota\, TX\, 77868\, United States
CATEGORIES:KTEX on the Road
END:VEVENT
BEGIN:VEVENT
DTSTART;VALUE=DATE:20240601
DTEND;VALUE=DATE:20240602
DTSTAMP:20260420T125234
CREATED:20240318T192454Z
LAST-MODIFIED:20240502T141604Z
UID:46234-1717200000-1717286399@ktex.com
SUMMARY:WC Juneteenth Association Denim & Diamonds Dance
DESCRIPTION:
URL:https://ktex.com/event/wc-juneteenth-association-denim-diamonds-dance/
LOCATION:Brenham Fire Department Training Center\, 1101 Hwy 290 West\, Brenham\, TX\, 77833\, United States
CATEGORIES:Community Events
ATTACH;FMTTYPE=image/jpeg:https://ktex.com/wp-content/uploads/2024/03/denim-and-diamonds-june.jpg
END:VEVENT
END:VCALENDAR