BEGIN:VCALENDAR
VERSION:2.0
PRODID:-//KTEX 106.1 - ECPv6.15.20//NONSGML v1.0//EN
CALSCALE:GREGORIAN
METHOD:PUBLISH
X-ORIGINAL-URL:https://ktex.com
X-WR-CALDESC:Events for KTEX 106.1
REFRESH-INTERVAL;VALUE=DURATION:PT1H
X-Robots-Tag:noindex
X-PUBLISHED-TTL:PT1H
BEGIN:VTIMEZONE
TZID:America/Chicago
BEGIN:DAYLIGHT
TZOFFSETFROM:-0600
TZOFFSETTO:-0500
TZNAME:CDT
DTSTART:20220313T080000
END:DAYLIGHT
BEGIN:STANDARD
TZOFFSETFROM:-0500
TZOFFSETTO:-0600
TZNAME:CST
DTSTART:20221106T070000
END:STANDARD
BEGIN:DAYLIGHT
TZOFFSETFROM:-0600
TZOFFSETTO:-0500
TZNAME:CDT
DTSTART:20230312T080000
END:DAYLIGHT
BEGIN:STANDARD
TZOFFSETFROM:-0500
TZOFFSETTO:-0600
TZNAME:CST
DTSTART:20231105T070000
END:STANDARD
BEGIN:DAYLIGHT
TZOFFSETFROM:-0600
TZOFFSETTO:-0500
TZNAME:CDT
DTSTART:20240310T080000
END:DAYLIGHT
BEGIN:STANDARD
TZOFFSETFROM:-0500
TZOFFSETTO:-0600
TZNAME:CST
DTSTART:20241103T070000
END:STANDARD
END:VTIMEZONE
BEGIN:VEVENT
DTSTART;VALUE=DATE:20230916
DTEND;VALUE=DATE:20230917
DTSTAMP:20260421T114619
CREATED:20230814T210108Z
LAST-MODIFIED:20230814T210108Z
UID:42083-1694822400-1694908799@ktex.com
SUMMARY:Night Moves Trail Races
DESCRIPTION:
URL:https://ktex.com/event/night-moves-trail-races/
LOCATION:Stephen F. Austin State Park\, Park Rd 38\, San Felipe\, TX\, 77473\, United States
CATEGORIES:Community Events
ATTACH;FMTTYPE=image/jpeg:https://ktex.com/wp-content/uploads/2023/08/night-moves-trail-races.jpg
END:VEVENT
BEGIN:VEVENT
DTSTART;VALUE=DATE:20230916
DTEND;VALUE=DATE:20230917
DTSTAMP:20260421T114619
CREATED:20230828T153703Z
LAST-MODIFIED:20230828T153703Z
UID:42260-1694822400-1694908799@ktex.com
SUMMARY:Colorado County Fair
DESCRIPTION:The Colorado County Fair is back in Columbus with Courtney Cartwright! She’ll be there to hang out with Thompson Square and the Texas Dream Band as they hit the stage!
URL:https://ktex.com/event/colorado-county-fair/
LOCATION:Colorado County Fairgrounds\, 1146 Crossroads Blvd\, Columbus\, TX\, 78934\, United States
CATEGORIES:KTEX on the Road
END:VEVENT
BEGIN:VEVENT
DTSTART;VALUE=DATE:20230916
DTEND;VALUE=DATE:20230917
DTSTAMP:20260421T114619
CREATED:20230912T200310Z
LAST-MODIFIED:20230912T200310Z
UID:42723-1694822400-1694908799@ktex.com
SUMMARY:Hispanic Ministry Fundraiser
DESCRIPTION:
URL:https://ktex.com/event/hispanic-ministry-fundraiser/
LOCATION:Sts. Peter & Paul (Fuchs Hall – Bellville)\, 936 S. Front St.\, Bellville\, TX\, 77418\, United States
CATEGORIES:Community Events
ATTACH;FMTTYPE=image/png:https://ktex.com/wp-content/uploads/2023/09/hispanic-ministry-fundraiser.png
END:VEVENT
BEGIN:VEVENT
DTSTART;VALUE=DATE:20230916
DTEND;VALUE=DATE:20230924
DTSTAMP:20260421T114619
CREATED:20230807T134513Z
LAST-MODIFIED:20230807T194439Z
UID:41969-1694822400-1695513599@ktex.com
SUMMARY:155th Washington County Fair Music Lineup
DESCRIPTION:Washington County Fair music lineup\, the opening weekend on Saturday\, September 16th will host the Risky Liver Band. \nTejano Night on Wednesday\, September 20th will feature Los Igualados and Los Cazadores del Cerro. \nFollowing on Thursday\, September 21st will be Trae Pierce & the T-Stones. \nOn Friday\, September 22nd\, Charlie Robison will open for Shane Smith & the Saints. \nThe final acts of the fair on Saturday\, September 23rd will be William Beckmann leading for headliner Gary LeVox\, the former front man for Rascal Flatts who has embarked on a solo career. \nSeason tickets for the fair are now on sale from each of the fair queen candidates and at www.washingtoncofair.com \n  \nWashington County Fair DISCOUNTS \nSenior Day\nThursday\, September 21\, 2023 (9 a.m. – 6 p.m.)\n60 years and Older – $3.00 \nHonor Our Veterans Day\nFriday\, September 22\, 2023 (9 a.m. – 6 p.m.)\n1/2 Price Gate Admission for Veterans (with Proper ID)
URL:https://ktex.com/event/155th-washington-county-fair-music-lineup/
LOCATION:Washington County Expo Grounds\, 1305 East Blue Bell Road\, Brenham\, TX\, 77833\, United States
CATEGORIES:Community Events
ATTACH;FMTTYPE=image/jpeg:https://ktex.com/wp-content/uploads/2023/08/wcf-entertainment.jpg
END:VEVENT
BEGIN:VEVENT
DTSTART;TZID=America/Chicago:20230916T100000
DTEND;TZID=America/Chicago:20230916T140000
DTSTAMP:20260421T114619
CREATED:20230914T203018Z
LAST-MODIFIED:20230914T203018Z
UID:42768-1694858400-1694872800@ktex.com
SUMMARY:Wildflower Market-Local Artisans
DESCRIPTION:
URL:https://ktex.com/event/wildflower-market-local-artisans/
LOCATION:Martha’s Bloomers & Cafe M. Bloomers\, 8101 Hwy 6 Bypass\, Navasota\, TX\, 77868\, United States
CATEGORIES:Community Events
ATTACH;FMTTYPE=image/jpeg:https://ktex.com/wp-content/uploads/2023/09/wildflower-market-marthas-bloomers-sept.jpg
END:VEVENT
BEGIN:VEVENT
DTSTART;TZID=America/Chicago:20230916T103000
DTEND;TZID=America/Chicago:20230916T113000
DTSTAMP:20260421T114619
CREATED:20230807T134026Z
LAST-MODIFIED:20230807T134026Z
UID:41966-1694860200-1694863800@ktex.com
SUMMARY:Washington County Fair Parade
DESCRIPTION:
URL:https://ktex.com/event/washington-county-fair-parade/
LOCATION:Downtown Brenham
CATEGORIES:Community Events
ATTACH;FMTTYPE=image/jpeg:https://ktex.com/wp-content/uploads/2023/08/wcf-parade.jpg
END:VEVENT
BEGIN:VEVENT
DTSTART;TZID=America/Chicago:20230916T103000
DTEND;TZID=America/Chicago:20230916T113000
DTSTAMP:20260421T114619
CREATED:20230828T153440Z
LAST-MODIFIED:20230828T153440Z
UID:42258-1694860200-1694863800@ktex.com
SUMMARY:Washington County Fair Parade
DESCRIPTION:There’s nothing like a fair to kickoff the oldest fair in Texas! Be in Downtown Brenham at 10:30 Saturday morning to see the fair queen candidates\, the best floats\, and Eilish in the KTEX Country Cruiser!
URL:https://ktex.com/event/washington-county-fair-parade-2/
LOCATION:Downtown Brenham
CATEGORIES:KTEX on the Road
END:VEVENT
BEGIN:VEVENT
DTSTART;TZID=America/Chicago:20230916T110000
DTEND;TZID=America/Chicago:20230916T140000
DTSTAMP:20260421T114619
CREATED:20230821T212251Z
LAST-MODIFIED:20230821T212251Z
UID:42155-1694862000-1694872800@ktex.com
SUMMARY:Ladies Salsa Salsa Event
DESCRIPTION:
URL:https://ktex.com/event/ladies-salsa-salsa-event/
LOCATION:St. John Lutheran Church (Bellville)\, 520 N. Holland Street\, Bellville\, TX\, 77418\, United States
CATEGORIES:Community Events
ATTACH;FMTTYPE=image/png:https://ktex.com/wp-content/uploads/2023/08/ladies-salsa-salsa-event.png
END:VEVENT
BEGIN:VEVENT
DTSTART;TZID=America/Chicago:20230916T120000
DTEND;TZID=America/Chicago:20230916T220000
DTSTAMP:20260421T114619
CREATED:20230914T205923Z
LAST-MODIFIED:20230914T205949Z
UID:42772-1694865600-1694901600@ktex.com
SUMMARY:Giddings Fiesta
DESCRIPTION:
URL:https://ktex.com/event/giddings-fiesta/
LOCATION:Giddingd Downtown Plaza\, 199 N. Burleson\, Giddings\, TX\, 78942\, United States
CATEGORIES:Community Events
ATTACH;FMTTYPE=image/jpeg:https://ktex.com/wp-content/uploads/2023/09/giddings-fiesta.jpg
END:VEVENT
BEGIN:VEVENT
DTSTART;TZID=America/Chicago:20230916T140000
DTEND;TZID=America/Chicago:20230916T170000
DTSTAMP:20260421T114619
CREATED:20230828T153956Z
LAST-MODIFIED:20230829T155648Z
UID:42262-1694872800-1694883600@ktex.com
SUMMARY:Washington County Fair Bean Bag Tournament
DESCRIPTION:If there’s one thing Rip Rolling loves\, it’s a competiton. So to say he’s excited for the Bean Bag tournament at the 155th Washington County Fair is an understatement! Catch him in the KTEX Country Cruiser as he cheers on the winners!
URL:https://ktex.com/event/washington-county-fair-bean-bag-tournament/
LOCATION:Washington County Fairgrounds Event Center\, 1305 East Blue Bell Road\, Brenham\, TX\, 77833\, United States
CATEGORIES:KTEX on the Road
END:VEVENT
BEGIN:VEVENT
DTSTART;TZID=America/Chicago:20230916T183000
DTEND;TZID=America/Chicago:20230916T193000
DTSTAMP:20260421T114619
CREATED:20230828T154530Z
LAST-MODIFIED:20230829T155609Z
UID:42264-1694889000-1694892600@ktex.com
SUMMARY:Washington County Fair Queen's Crowning
DESCRIPTION:This is what these candidates have been waiting for… The Queen’s Crowning! And who better to catch the results than Dean! He’ll be there in the KTEX Country Cruiser with the results!
URL:https://ktex.com/event/washington-county-fair-queens-crowning/
LOCATION:Washington County Fairgrounds Event Center\, 1305 East Blue Bell Road\, Brenham\, TX\, 77833\, United States
CATEGORIES:KTEX on the Road
END:VEVENT
BEGIN:VEVENT
DTSTART;VALUE=DATE:20230917
DTEND;VALUE=DATE:20230918
DTSTAMP:20260421T114619
CREATED:20230810T205405Z
LAST-MODIFIED:20230810T205405Z
UID:42045-1694908800-1694995199@ktex.com
SUMMARY:New Ulm VFD Celebration
DESCRIPTION:
URL:https://ktex.com/event/new-ulm-vfd-celebration/
LOCATION:New Ulm Firemen’s Park\, 1899 Track Rd.\, New Ulm\, TX\, 78950\, United States
CATEGORIES:Community Events
ATTACH;FMTTYPE=image/jpeg:https://ktex.com/wp-content/uploads/2023/08/new-ulm-vfd-celebration-sept.jpg
END:VEVENT
BEGIN:VEVENT
DTSTART;VALUE=DATE:20230917
DTEND;VALUE=DATE:20230918
DTSTAMP:20260421T114619
CREATED:20230905T190340Z
LAST-MODIFIED:20230905T190423Z
UID:42511-1694908800-1694995199@ktex.com
SUMMARY:Holman Picnic
DESCRIPTION:The annual Holman Picnic at St. Wenceslaus Catholic Church is on Sunday\, September 17th.  The picnic will again consist of a drive-thru meal and an online auction.  Mark your calendar to pick up some delicious plates!! And soon you can start checking out the great auction items at www.charityauction.bid/HolmanPicnic\nADDITIONAL INFO: \nDrive-thru meal starts at 10:30 am\, $12 per plate. Meal includes fried chicken\, sausage\, buttered potatoes\, sauerkraut\, green beans\, pickle\, and dessert.\nThe online auction runs from Wed 9/13 at 9:00 am until MONDAY 9/18 at 8:00 pm.\nIf you have an item to donate\, please let us know!!
URL:https://ktex.com/event/holman-picnic/
LOCATION:St. Wenceslaus Catholic Church (Holman)\, 9937 FM 1155\, La Grange\, TX\, 78945\, United States
CATEGORIES:Community Events
ATTACH;FMTTYPE=image/jpeg:https://ktex.com/wp-content/uploads/2023/09/holman-picnic-sept.jpg
END:VEVENT
BEGIN:VEVENT
DTSTART;VALUE=DATE:20230918
DTEND;VALUE=DATE:20230923
DTSTAMP:20260421T114619
CREATED:20230807T134734Z
LAST-MODIFIED:20230807T134734Z
UID:41972-1694995200-1695427199@ktex.com
SUMMARY:Fall Revival Services
DESCRIPTION:
URL:https://ktex.com/event/fall-revival-services/
LOCATION:Mount Olive District Campus\, 1502 Mount Olive Street\, Brenham\, TX\, 77833\, United States
CATEGORIES:Community Events
ATTACH;FMTTYPE=image/jpeg:https://ktex.com/wp-content/uploads/2023/08/fall-revival-sept.jpg
END:VEVENT
BEGIN:VEVENT
DTSTART;TZID=America/Chicago:20230918T073000
DTEND;TZID=America/Chicago:20230918T090000
DTSTAMP:20260421T114619
CREATED:20230915T134901Z
LAST-MODIFIED:20230915T134901Z
UID:42780-1695022200-1695027600@ktex.com
SUMMARY:WCF Country Creations Check-In for Baked Goods & Confections
DESCRIPTION:
URL:https://ktex.com/event/wcf-country-creations-check-in-for-baked-goods-confections/
LOCATION:Washington County Expo\, 1305 E. Blue Bell Rd.\, Brenham\, TX\, 77833\, United States
CATEGORIES:Community Events
ATTACH;FMTTYPE=image/jpeg:https://ktex.com/wp-content/uploads/2023/09/country-creations-check-in.jpg
END:VEVENT
BEGIN:VEVENT
DTSTART;VALUE=DATE:20230919
DTEND;VALUE=DATE:20230920
DTSTAMP:20260421T114619
CREATED:20230126T161512Z
LAST-MODIFIED:20230126T161512Z
UID:32566-1695081600-1695167999@ktex.com
SUMMARY:Lunch N Learn Series-Austin County
DESCRIPTION:
URL:https://ktex.com/event/lunch-n-learn-series-austin-county-5/
LOCATION:Austin County AgriLife Extension Office\, 20 S Holland St. \, Bellville\, TX\, 77418\, United States
CATEGORIES:Community Events
ATTACH;FMTTYPE=image/jpeg:https://ktex.com/wp-content/uploads/2023/01/ac-lunch-n-learn-series-bluebonnet-master-gardener-assoc.jpg
END:VEVENT
BEGIN:VEVENT
DTSTART;VALUE=DATE:20230919
DTEND;VALUE=DATE:20230920
DTSTAMP:20260421T114619
CREATED:20230829T203742Z
LAST-MODIFIED:20230829T203742Z
UID:42401-1695081600-1695167999@ktex.com
SUMMARY:Navasota Grimes County Chamber Ribbon Cutting-Fifty Seven Bloom Co.
DESCRIPTION:
URL:https://ktex.com/event/navasota-grimes-county-chamber-ribbon-cutting-fifty-seven-bloom-co/
LOCATION:Fifty Seven Bloom Co.\, 175 S. Main St.\, Anderson\, TX\, 77830\, United States
CATEGORIES:Community Events
ATTACH;FMTTYPE=image/png:https://ktex.com/wp-content/uploads/2023/08/ribbon-cutting-fifty-seven-bloom.png
END:VEVENT
BEGIN:VEVENT
DTSTART;TZID=America/Chicago:20230919T080000
DTEND;TZID=America/Chicago:20230919T170000
DTSTAMP:20260421T114619
CREATED:20230919T160624Z
LAST-MODIFIED:20230919T160624Z
UID:42853-1695110400-1695142800@ktex.com
SUMMARY:National Night Out in KTEX Country
DESCRIPTION:The KTEX Posse is on the trail to party with you for National Night Out! Craig Montana will be in Brenham\, Eilish will be partying it up in Giddings\, Dean Dillion is hanging with his friends in Berlin and Burton\, and Trailboss Troy is heading out to Meyersville and Chappell Hill! We’ll be wherever you are!
URL:https://ktex.com/event/national-night-out-in-ktex-country/
CATEGORIES:KTEX on the Road
END:VEVENT
BEGIN:VEVENT
DTSTART;VALUE=DATE:20230920
DTEND;VALUE=DATE:20230921
DTSTAMP:20260421T114619
CREATED:20230306T204323Z
LAST-MODIFIED:20230306T204323Z
UID:33271-1695168000-1695254399@ktex.com
SUMMARY:Day by Day with Diabetes
DESCRIPTION:
URL:https://ktex.com/event/day-by-day-with-diabetes-8/
LOCATION:Nancy Carol Roberts Memorial Library\, 100 Martin Luther King Jr. Parkway\, Brenham\, Texas\, 77833
CATEGORIES:Community Events
ATTACH;FMTTYPE=image/png:https://ktex.com/wp-content/uploads/2023/03/day-by-day-w-diabetes.png
END:VEVENT
BEGIN:VEVENT
DTSTART;VALUE=DATE:20230920
DTEND;VALUE=DATE:20230921
DTSTAMP:20260421T114619
CREATED:20230912T200130Z
LAST-MODIFIED:20230912T200130Z
UID:42722-1695168000-1695254399@ktex.com
SUMMARY:Washington County Fair Wednesday Events
DESCRIPTION:Wednesday is a big day at Washington County Fair! It’s the Carcass Hog Awards\, Steer\, Lamb\, and Goat Show\, Little Mr. and Miss Contest\, and Mutton Bustin! Dean Dillon and Craig Montana will be there broadcasting all the action as it happens from the KTEX Country Cruiser!
URL:https://ktex.com/event/washington-county-fair-wednesday-events/
LOCATION:Washington County Fairgrounds Event Center\, 1305 East Blue Bell Road\, Brenham\, TX\, 77833\, United States
CATEGORIES:KTEX on the Road
END:VEVENT
BEGIN:VEVENT
DTSTART;VALUE=DATE:20230920
DTEND;VALUE=DATE:20230923
DTSTAMP:20260421T114619
CREATED:20230808T213412Z
LAST-MODIFIED:20230808T213412Z
UID:41993-1695168000-1695427199@ktex.com
SUMMARY:Washington County Fair Mutton Bustin'
DESCRIPTION:
URL:https://ktex.com/event/washington-county-fair-mutton-bustin/
CATEGORIES:Community Events
ATTACH;FMTTYPE=image/jpeg:https://ktex.com/wp-content/uploads/2023/08/mutton-bustin-23.jpg
END:VEVENT
BEGIN:VEVENT
DTSTART;VALUE=DATE:20230921
DTEND;VALUE=DATE:20230922
DTSTAMP:20260421T114619
CREATED:20230526T135812Z
LAST-MODIFIED:20230526T135812Z
UID:34839-1695254400-1695340799@ktex.com
SUMMARY:Burton Community Center Drive-Thru Meals
DESCRIPTION:
URL:https://ktex.com/event/burton-community-center-drive-thru-meals-17/
LOCATION:Burton Community Center\, 6301 Rehburg Rd.\, Burton\, TX\, 77835\, United States
CATEGORIES:Community Events
ATTACH;FMTTYPE=image/png:https://ktex.com/wp-content/uploads/2023/05/burton-comm-center-meals-june-thru-oct.png
END:VEVENT
BEGIN:VEVENT
DTSTART;VALUE=DATE:20230921
DTEND;VALUE=DATE:20230922
DTSTAMP:20260421T114619
CREATED:20230828T155615Z
LAST-MODIFIED:20230828T155615Z
UID:42268-1695254400-1695340799@ktex.com
SUMMARY:Washington County Fair Thursday Entertainment
DESCRIPTION:Get ready to party! Trae Pierce and the T-Stones are taking the Washington County Fair by storm! Get on your feet with Eilish as they blow you away with their party animal antics on Thursday night!
URL:https://ktex.com/event/washington-county-fair-thursday-entertainment/
LOCATION:Washington County Fairgrounds Event Center\, 1305 East Blue Bell Road\, Brenham\, TX\, 77833\, United States
CATEGORIES:KTEX on the Road
END:VEVENT
BEGIN:VEVENT
DTSTART;VALUE=DATE:20230921
DTEND;VALUE=DATE:20230922
DTSTAMP:20260421T114619
CREATED:20230829T203438Z
LAST-MODIFIED:20230829T203504Z
UID:42396-1695254400-1695340799@ktex.com
SUMMARY:After Hours Mixer hosted by WC Tractor-Navasota
DESCRIPTION:
URL:https://ktex.com/event/after-hours-mixer-hosted-by-wc-tractor/
LOCATION:WC Tractor – Navasota\, 10044 HWY 6\, Navasota\, TX\, 77868\, United States
CATEGORIES:Community Events
ATTACH;FMTTYPE=image/png:https://ktex.com/wp-content/uploads/2023/08/after-hours-mixer-sept-wct.png
END:VEVENT
BEGIN:VEVENT
DTSTART;VALUE=DATE:20230921
DTEND;VALUE=DATE:20230922
DTSTAMP:20260421T114619
CREATED:20230830T140210Z
LAST-MODIFIED:20230830T140210Z
UID:42420-1695254400-1695340799@ktex.com
SUMMARY:Friends of Bluebonnet Opry
DESCRIPTION:
URL:https://ktex.com/event/friends-of-bluebonnet-opry/
LOCATION:Silver Wings Ballroom\, 4100 State Highway 105\, Brenham\, TX\, 77833\, United States
CATEGORIES:Community Events
ATTACH;FMTTYPE=image/png:https://ktex.com/wp-content/uploads/2023/08/friends-of-bluebonne-opry-sept.png
END:VEVENT
BEGIN:VEVENT
DTSTART;VALUE=DATE:20230921
DTEND;VALUE=DATE:20230922
DTSTAMP:20260421T114619
CREATED:20230921T135957Z
LAST-MODIFIED:20230921T135957Z
UID:42885-1695254400-1695340799@ktex.com
SUMMARY:Cub Football-Blackout the Pride Land
DESCRIPTION:
URL:https://ktex.com/event/cub-football-blackout-the-pride-land/
LOCATION:Cub Stadium\, 1600 
CATEGORIES:Community Events
ATTACH;FMTTYPE=image/jpeg:https://ktex.com/wp-content/uploads/2023/09/blackout-the-prideland.jpg
END:VEVENT
BEGIN:VEVENT
DTSTART;VALUE=DATE:20230921
DTEND;VALUE=DATE:20231011
DTSTAMP:20260421T114619
CREATED:20230921T210658Z
LAST-MODIFIED:20230921T210658Z
UID:42920-1695254400-1696982399@ktex.com
SUMMARY:The Pilot Club of Brenham Fundraiser
DESCRIPTION:The Pilot Club of Brenham is proud to announce that they are assuming the popular local fundraiser from the Bosom Buddies “Butter Braid Braided Pastries and Rolls”. The sale will run until October 10th and your delicious frozen pastries will be delivered on November 2nd just in time for the Holidays.  Featuring a variety of flavors to choose from. The cost is $17 each with the exception of the Four Cheese & Herb\, Caramel Rolls\, & Cinnamon Rolls which are $18 each. Please text 979-451-9579 or 512-981-9855 to order. Thank you for supporting Pilot Club of Brenham!
URL:https://ktex.com/event/the-pilot-club-of-brenham-fundraiser/
CATEGORIES:Community Events
ATTACH;FMTTYPE=image/jpeg:https://ktex.com/wp-content/uploads/2023/09/butter-braids-pilot-club.jpg
END:VEVENT
BEGIN:VEVENT
DTSTART;VALUE=DATE:20230922
DTEND;VALUE=DATE:20230923
DTSTAMP:20260421T114619
CREATED:20230828T160430Z
LAST-MODIFIED:20230912T200211Z
UID:42270-1695340800-1695427199@ktex.com
SUMMARY:Washington County Fair Friday Entertainment
DESCRIPTION:Hey Yellowstone fans! Shane Smith and the Saints AND William Clark Green are taking the Washington County Fair stage and no one is more excited than Dean! He’s fangirling hard over here. Catch him Friday night in the KTEX Country Cruiser!
URL:https://ktex.com/event/washington-county-fair-friday-entertainment/
LOCATION:Washington County Fairgrounds Event Center\, 1305 East Blue Bell Road\, Brenham\, TX\, 77833\, United States
CATEGORIES:KTEX on the Road
END:VEVENT
BEGIN:VEVENT
DTSTART;TZID=America/Chicago:20230922T193000
DTEND;TZID=America/Chicago:20230922T223000
DTSTAMP:20260421T114619
CREATED:20230829T154520Z
LAST-MODIFIED:20230829T155157Z
UID:42384-1695411000-1695421800@ktex.com
SUMMARY:Friday Face - Off: Navarro Panthers vs Giddings Buffalos
DESCRIPTION:Panthers vs Buffalos…who will win? Eilish will find out! She’ll be there in the KTEX Country Cruiser cheering on the Giddings Buffalos! Thanks to our sponsors – Rental Solutions\, Orsag’s\, H&R Foam Insulation\, and Ben’s Body and Paint!
URL:https://ktex.com/event/friday-face-off-navarro-panthers-vs-giddings-buffalos/
LOCATION:Giddings High School\, 2337 N Main St\, Giddings\, TX\, 78942\, United States
CATEGORIES:KTEX on the Road
END:VEVENT
BEGIN:VEVENT
DTSTART;TZID=America/Chicago:20230923T083000
DTEND;TZID=America/Chicago:20230923T110000
DTSTAMP:20260421T114619
CREATED:20230912T133538Z
LAST-MODIFIED:20230912T134014Z
UID:42718-1695457800-1695466800@ktex.com
SUMMARY:National Seat Check Saturday
DESCRIPTION:
URL:https://ktex.com/event/national-seat-check-saturday/
LOCATION:Brazos Center\, 3232 Briarcrest Dr.\, Bryan\, TX\, 77802\, United States
CATEGORIES:Community Events
ATTACH;FMTTYPE=image/jpeg:https://ktex.com/wp-content/uploads/2023/09/car-seat-check-sept.jpg
END:VEVENT
END:VCALENDAR