BEGIN:VCALENDAR
VERSION:2.0
PRODID:-//KTEX 106.1 - ECPv6.15.20//NONSGML v1.0//EN
CALSCALE:GREGORIAN
METHOD:PUBLISH
X-WR-CALNAME:KTEX 106.1
X-ORIGINAL-URL:https://ktex.com
X-WR-CALDESC:Events for KTEX 106.1
REFRESH-INTERVAL;VALUE=DURATION:PT1H
X-Robots-Tag:noindex
X-PUBLISHED-TTL:PT1H
BEGIN:VTIMEZONE
TZID:America/Chicago
BEGIN:DAYLIGHT
TZOFFSETFROM:-0600
TZOFFSETTO:-0500
TZNAME:CDT
DTSTART:20230312T080000
END:DAYLIGHT
BEGIN:STANDARD
TZOFFSETFROM:-0500
TZOFFSETTO:-0600
TZNAME:CST
DTSTART:20231105T070000
END:STANDARD
BEGIN:DAYLIGHT
TZOFFSETFROM:-0600
TZOFFSETTO:-0500
TZNAME:CDT
DTSTART:20240310T080000
END:DAYLIGHT
BEGIN:STANDARD
TZOFFSETFROM:-0500
TZOFFSETTO:-0600
TZNAME:CST
DTSTART:20241103T070000
END:STANDARD
BEGIN:DAYLIGHT
TZOFFSETFROM:-0600
TZOFFSETTO:-0500
TZNAME:CDT
DTSTART:20250309T080000
END:DAYLIGHT
BEGIN:STANDARD
TZOFFSETFROM:-0500
TZOFFSETTO:-0600
TZNAME:CST
DTSTART:20251102T070000
END:STANDARD
END:VTIMEZONE
BEGIN:VEVENT
DTSTART;VALUE=DATE:20240516
DTEND;VALUE=DATE:20240517
DTSTAMP:20260420T092019
CREATED:20240408T203139Z
LAST-MODIFIED:20240408T203139Z
UID:46648-1715817600-1715903999@ktex.com
SUMMARY:Burton Community Center Drive-Thru Meals
DESCRIPTION:
URL:https://ktex.com/event/burton-community-center-drive-thru-meals-7/
LOCATION:Burton Community Center\, 6301 Rehburg Rd.\, Burton\, TX\, 77835\, United States
CATEGORIES:Community Events
ATTACH;FMTTYPE=image/jpeg:https://ktex.com/wp-content/uploads/2024/04/burton-comm-center-april-thru-aug.jpg
END:VEVENT
BEGIN:VEVENT
DTSTART;VALUE=DATE:20240516
DTEND;VALUE=DATE:20240517
DTSTAMP:20260420T092019
CREATED:20240411T194811Z
LAST-MODIFIED:20240411T194811Z
UID:46739-1715817600-1715903999@ktex.com
SUMMARY:Boys and Girls Club of Washington Co. Celebration Gala
DESCRIPTION:
URL:https://ktex.com/event/boys-and-girls-club-of-washington-co-celebration-gala/
LOCATION:Deep in the Heart Farm\, 8351 TX-105\, Brenham\, TX\, 77833\, United States
CATEGORIES:Community Events
ATTACH;FMTTYPE=image/jpeg:https://ktex.com/wp-content/uploads/2024/04/beyond-the-horizon-gala-may.jpg
END:VEVENT
BEGIN:VEVENT
DTSTART;VALUE=DATE:20240516
DTEND;VALUE=DATE:20240517
DTSTAMP:20260420T092019
CREATED:20240506T184956Z
LAST-MODIFIED:20240506T184956Z
UID:47098-1715817600-1715903999@ktex.com
SUMMARY:Friends of Bluebonnet Opry Live Music & Dancing
DESCRIPTION:
URL:https://ktex.com/event/friends-of-bluebonnet-opry-live-music-dancing-2/
LOCATION:Silver Wings Ballroom\, 4100 State Highway 105\, Brenham\, TX\, 77833\, United States
CATEGORIES:Community Events
ATTACH;FMTTYPE=image/jpeg:https://ktex.com/wp-content/uploads/2024/05/bluebonnet-opry-may.jpg
END:VEVENT
BEGIN:VEVENT
DTSTART;VALUE=DATE:20240516
DTEND;VALUE=DATE:20240517
DTSTAMP:20260420T092019
CREATED:20240513T202233Z
LAST-MODIFIED:20240513T202233Z
UID:47211-1715817600-1715903999@ktex.com
SUMMARY:Washington County A&M Club-Thirsty Thursday Event
DESCRIPTION:
URL:https://ktex.com/event/washington-county-am-club-thirsty-thursday-event-2/
LOCATION:30 North Gastropub\, 302 E Alamo Street\, Brenham\, TX\, 77833\, United States
CATEGORIES:Community Events
ATTACH;FMTTYPE=image/png:https://ktex.com/wp-content/uploads/2024/05/wc-aggie-thirsty-thurs-may.png
END:VEVENT
BEGIN:VEVENT
DTSTART;VALUE=DATE:20240516
DTEND;VALUE=DATE:20240519
DTSTAMP:20260420T092019
CREATED:20240327T151252Z
LAST-MODIFIED:20240327T151252Z
UID:46457-1715817600-1716076799@ktex.com
SUMMARY:Lee County Fair
DESCRIPTION:
URL:https://ktex.com/event/lee-county-fair/
LOCATION:Lee County Fairgrounds\, 289 W Railroad Road\, Giddings\, TX\, 78942\, United States
CATEGORIES:Community Events
ATTACH;FMTTYPE=image/jpeg:https://ktex.com/wp-content/uploads/2024/03/lee-co-fair-may-2024.jpg
END:VEVENT
BEGIN:VEVENT
DTSTART;VALUE=DATE:20240516
DTEND;VALUE=DATE:20240519
DTSTAMP:20260420T092019
CREATED:20240513T155931Z
LAST-MODIFIED:20240513T155931Z
UID:47193-1715817600-1716076799@ktex.com
SUMMARY:Lee County Fair
DESCRIPTION:You can find all the voices of KTEX at Lee County fair! Friday catch them hanging out by the stage to see Dos Borrachos! Saturday\, they’ll be driving the KTEX Country Cruiser in the parade! It’s a weekend full of fun!
URL:https://ktex.com/event/lee-county-fair-2/
LOCATION:Lee County Fairgrounds\, 289 W Railroad Road\, Giddings\, TX\, 78942\, United States
CATEGORIES:KTEX on the Road
END:VEVENT
BEGIN:VEVENT
DTSTART;VALUE=DATE:20240516
DTEND;VALUE=DATE:20240520
DTSTAMP:20260420T092019
CREATED:20240227T221426Z
LAST-MODIFIED:20240227T221426Z
UID:45938-1715817600-1716163199@ktex.com
SUMMARY:Pasadena Strawberry Festival
DESCRIPTION:
URL:https://ktex.com/event/pasadena-strawberry-festival/
LOCATION:Texas
CATEGORIES:Community Events
ATTACH;FMTTYPE=image/png:https://ktex.com/wp-content/uploads/2024/02/strawberry-festival-002.png
END:VEVENT
BEGIN:VEVENT
DTSTART;TZID=America/Chicago:20240516T160000
DTEND;TZID=America/Chicago:20240516T180000
DTSTAMP:20260420T092019
CREATED:20240509T211129Z
LAST-MODIFIED:20240509T211129Z
UID:47160-1715875200-1715882400@ktex.com
SUMMARY:Washington County Chamber Connect after Four Event
DESCRIPTION:
URL:https://ktex.com/event/washington-county-chamber-connect-after-four-event-5/
LOCATION:Blinn College – Brenham Campus\,  902 College Ave\, Brenham\, TX\, 77833
CATEGORIES:Community Events
ATTACH;FMTTYPE=image/jpeg:https://ktex.com/wp-content/uploads/2024/05/connect-after-four-may.jpg
END:VEVENT
BEGIN:VEVENT
DTSTART;TZID=America/Chicago:20240516T170000
DTEND;TZID=America/Chicago:20240516T190000
DTSTAMP:20260420T092019
CREATED:20240430T152515Z
LAST-MODIFIED:20240430T152515Z
UID:47031-1715878800-1715886000@ktex.com
SUMMARY:Brenham HS Visual Fine Arts Gallery Night
DESCRIPTION:
URL:https://ktex.com/event/brenham-hs-visual-fine-arts-gallery-night/
LOCATION:Brenham High School Library\, 525 A H Ehrig Drive\, Brenham\, TX\, 77833\, United States
CATEGORIES:Community Events
ATTACH;FMTTYPE=image/jpeg:https://ktex.com/wp-content/uploads/2024/04/bhs-visual-fine-arts-gallery-night-may.jpg
END:VEVENT
BEGIN:VEVENT
DTSTART;TZID=America/Chicago:20240516T173000
DTEND;TZID=America/Chicago:20240516T183000
DTSTAMP:20260420T092019
CREATED:20240430T151251Z
LAST-MODIFIED:20240430T151251Z
UID:47012-1715880600-1715884200@ktex.com
SUMMARY:Brenham MS Transition Night
DESCRIPTION:
URL:https://ktex.com/event/brenham-ms-transition-night/
LOCATION:Brenham Middle School Cafe\, 1600 S. Blue Bell Road\, Brenham\, TX\, 77833\, United States
CATEGORIES:Community Events
ATTACH;FMTTYPE=image/jpeg:https://ktex.com/wp-content/uploads/2024/04/bms-transition-night.jpg
END:VEVENT
BEGIN:VEVENT
DTSTART;TZID=America/Chicago:20240517T110000
DTEND;TZID=America/Chicago:20240517T150000
DTSTAMP:20260420T092019
CREATED:20240514T140539Z
LAST-MODIFIED:20240514T140539Z
UID:47221-1715943600-1715958000@ktex.com
SUMMARY:Bobcat of the Brazos Valley Grand Opening
DESCRIPTION:
URL:https://ktex.com/event/bobcat-of-the-brazos-valley-grand-opening/
LOCATION:Bobcat of the Brazos Valley\, 3625 US HWY 290 W\, Brenham\, TX\, 77833\, United States
CATEGORIES:Community Events
ATTACH;FMTTYPE=image/jpeg:https://ktex.com/wp-content/uploads/2024/05/grand-opening-bob-cat.jpg
END:VEVENT
BEGIN:VEVENT
DTSTART;VALUE=DATE:20240518
DTEND;VALUE=DATE:20240519
DTSTAMP:20260420T092019
CREATED:20240402T152914Z
LAST-MODIFIED:20240402T152914Z
UID:46534-1715990400-1716076799@ktex.com
SUMMARY:Harrisburg School Reunion
DESCRIPTION:The Harrisburg School Reunion is planned for Saturday\, May 18\, starting at 2pm at the White Horse Tavern in Burton * ALL former students are invited to attend * Dutch treat\n* (the school has been closed 60 years)
URL:https://ktex.com/event/harrisburg-school-reunion/
LOCATION:White Horse Tavern\, 400 N. Main Street\, Burton\, TX\, 77835\, United States
CATEGORIES:Community Events
ATTACH;FMTTYPE=image/png:https://ktex.com/wp-content/uploads/2024/04/school-reunion-two.png
END:VEVENT
BEGIN:VEVENT
DTSTART;VALUE=DATE:20240518
DTEND;VALUE=DATE:20240519
DTSTAMP:20260420T092019
CREATED:20240503T194404Z
LAST-MODIFIED:20240503T194404Z
UID:47092-1715990400-1716076799@ktex.com
SUMMARY:Brenham Children's Chorus presents Bringers of Noise
DESCRIPTION:
URL:https://ktex.com/event/brenham-childrens-chorus-presents-bringers-of-noise/
LOCATION:Dr. W.W. O’Donnell Performing Arts Center\, 600 Blinn Blvd\, Brenham\, TX\, 77833\, United States
CATEGORIES:Community Events
ATTACH;FMTTYPE=image/jpeg:https://ktex.com/wp-content/uploads/2024/05/bcc-bringers-of-noise.jpg
END:VEVENT
BEGIN:VEVENT
DTSTART;VALUE=DATE:20240518
DTEND;VALUE=DATE:20240519
DTSTAMP:20260420T092019
CREATED:20240514T140959Z
LAST-MODIFIED:20240515T133635Z
UID:47225-1715990400-1716076799@ktex.com
SUMMARY:FREE Kids Bike Rodeo & Safety Day
DESCRIPTION:Here are the details: \n\nBRING your bike & helmet\nBIKE helmet giveaways (while supplies last)\nLEARN about bike safety\nRIDE the obstacle course\nLEARN helmet adjustments\nDOOR Prizes – Bike Giveaways\nMEET local public safety\nFREE Diapers (while supplies last)\nSNO CONES & MORE!
URL:https://ktex.com/event/free-kids-bike-rodeo-safety-day/
LOCATION:Blue Bell Aquatic Center\, 1800 E Tom Green St\, Brenham\, TX\, 77833\, United States
CATEGORIES:Community Events
ATTACH;FMTTYPE=image/jpeg:https://ktex.com/wp-content/uploads/2024/05/kids-bike-rodeo-may-1.jpg
END:VEVENT
BEGIN:VEVENT
DTSTART;TZID=America/Chicago:20240518T080000
DTEND;TZID=America/Chicago:20240518T170000
DTSTAMP:20260420T092019
CREATED:20240514T211534Z
LAST-MODIFIED:20240514T211534Z
UID:47228-1716019200-1716051600@ktex.com
SUMMARY:Waller County 4-H BBQ & Fundraiser
DESCRIPTION:BBQ Lunch Tickets $15 in advance – $16 at the door \nServing times 11:30am – 1:30pm / To-go lines will be available  \n4-H Program starts at noon followed by the live auction
URL:https://ktex.com/event/waller-county-4-h-bbq-fundraiser-2/
LOCATION:Waller County Fairgrounds\, 21988 FM-359\, Waller\, TX\, 77445\, United States
CATEGORIES:Community Events
ATTACH;FMTTYPE=image/png:https://ktex.com/wp-content/uploads/2024/05/waller-co-4h-bbq.png
END:VEVENT
BEGIN:VEVENT
DTSTART;TZID=America/Chicago:20240518T083000
DTEND;TZID=America/Chicago:20240518T113000
DTSTAMP:20260420T092019
CREATED:20240508T193102Z
LAST-MODIFIED:20240508T193102Z
UID:47130-1716021000-1716031800@ktex.com
SUMMARY:Waller Co. 4-H Youth BBQ Cook-Off
DESCRIPTION:
URL:https://ktex.com/event/waller-co-4-h-youth-bbq-cook-off/
LOCATION:Waller County Fairgrounds\, 21988 FM-359\, Waller\, TX\, 77445\, United States
CATEGORIES:Community Events
ATTACH;FMTTYPE=image/png:https://ktex.com/wp-content/uploads/2024/05/wc-yth-bbq-cook-off.png
END:VEVENT
BEGIN:VEVENT
DTSTART;TZID=America/Chicago:20240518T090000
DTEND;TZID=America/Chicago:20240518T113000
DTSTAMP:20260420T092019
CREATED:20240515T141342Z
LAST-MODIFIED:20240515T141342Z
UID:47243-1716022800-1716031800@ktex.com
SUMMARY:College Funding Seminar
DESCRIPTION:
URL:https://ktex.com/event/college-funding-seminar/
LOCATION:Faith Mission and Washington County Health and Service Center\, 100 S. Chappell Hill Street\, Suite 101\, Brenham\, TX\, 77833\, United States
CATEGORIES:Community Events
ATTACH;FMTTYPE=image/jpeg:https://ktex.com/wp-content/uploads/2024/05/how-to-pay-for-college.jpg
END:VEVENT
BEGIN:VEVENT
DTSTART;TZID=America/Chicago:20240518T110000
DTEND;TZID=America/Chicago:20240518T130000
DTSTAMP:20260420T092019
CREATED:20240513T160133Z
LAST-MODIFIED:20240513T160133Z
UID:47195-1716030000-1716037200@ktex.com
SUMMARY:Waller County 4 - H BBQ  Fundraiser
DESCRIPTION:Eilish and Cowboy Dave are getting ready to support the youth of Waller County at the annual BBQ! They’ll be hanging out with you\, eating bbq\, and helping you win the best tickets with the Wagon Wheel of Prizes!
URL:https://ktex.com/event/waller-county-4-h-bbq-fundraiser/
LOCATION:Waller County Fairgrounds\, 21988 FM-359\, Waller\, TX\, 77445\, United States
CATEGORIES:KTEX on the Road
END:VEVENT
BEGIN:VEVENT
DTSTART;TZID=America/Chicago:20240518T110000
DTEND;TZID=America/Chicago:20240518T230000
DTSTAMP:20260420T092019
CREATED:20240411T200936Z
LAST-MODIFIED:20240411T200936Z
UID:46742-1716030000-1716073200@ktex.com
SUMMARY:Brenham Shrine Club Benefit Event
DESCRIPTION:
URL:https://ktex.com/event/brenham-shrine-club-benefit-event/
LOCATION:Paw Paw’s Firehouse Cafe\, 2290 S Hwy 237\, Carmine\, TX\, 78932\, United States
CATEGORIES:Community Events
ATTACH;FMTTYPE=image/png:https://ktex.com/wp-content/uploads/2024/04/brenham-shrine-cl-may-002.png
END:VEVENT
BEGIN:VEVENT
DTSTART;TZID=America/Chicago:20240518T120000
DTEND;TZID=America/Chicago:20240518T150000
DTSTAMP:20260420T092019
CREATED:20240506T141502Z
LAST-MODIFIED:20240506T141502Z
UID:47095-1716033600-1716044400@ktex.com
SUMMARY:Harris Spring AME Church Fundraiser
DESCRIPTION:For tickets contact\nSusie Elliott:  979 551-1134\nWillie Ford:  979 551-2184\nLeonard Henderson:  979 661-1613\nLester Elliott:  979 661-9537
URL:https://ktex.com/event/harris-spring-ame-church-fundraiser/
LOCATION:Texas
CATEGORIES:Community Events
ATTACH;FMTTYPE=image/jpeg:https://ktex.com/wp-content/uploads/2024/05/harris-spring-fundraiser.jpg
END:VEVENT
BEGIN:VEVENT
DTSTART;VALUE=DATE:20240519
DTEND;VALUE=DATE:20240520
DTSTAMP:20260420T092019
CREATED:20240429T184605Z
LAST-MODIFIED:20240429T184605Z
UID:47002-1716076800-1716163199@ktex.com
SUMMARY:Bleiblerville VFD Annual Fish Fry
DESCRIPTION:
URL:https://ktex.com/event/bleiblerville-vfd-annual-fish-fry/
LOCATION:Bleiblerville Fire Station\, 3342 FM 2502\, Bellville\, TX\, 77418\, United States
CATEGORIES:Community Events
ATTACH;FMTTYPE=image/png:https://ktex.com/wp-content/uploads/2024/04/bleiblerville-vfd-fish-fry-may.png
END:VEVENT
BEGIN:VEVENT
DTSTART;TZID=America/Chicago:20240519T130000
DTEND;TZID=America/Chicago:20240519T160000
DTSTAMP:20260420T092019
CREATED:20240515T135835Z
LAST-MODIFIED:20240515T135835Z
UID:47240-1716123600-1716134400@ktex.com
SUMMARY:Bellville VFW Post hosting a Variety Shoot
DESCRIPTION:Bellville VFW Post hosting a “Variety Shoot” (aka Turkey Shoot) Sunday\, May 19\, 1:00-4:00pm @ Bellville VFW Post * shoot up to 30 rounds * shotguns only * ammunition will be provided * the winner of each round will receive a $15 gift card from Walmart\, Brookshire Bros.\, or Bellville Meat Market * beverages will be available
URL:https://ktex.com/event/bellville-vfw-post-hosting-a-variety-shoot-2/
LOCATION:Bellville VFW Hall\, 4041 Hwy. 36 North\, Bellville\, TX\, 77418\, United States
CATEGORIES:Community Events
ATTACH;FMTTYPE=image/jpeg:https://ktex.com/wp-content/uploads/2024/05/turkey-shoot.jpg
END:VEVENT
BEGIN:VEVENT
DTSTART;TZID=America/Chicago:20240519T143000
DTEND;TZID=America/Chicago:20240519T160000
DTSTAMP:20260420T092019
CREATED:20240503T172240Z
LAST-MODIFIED:20240503T174914Z
UID:47071-1716129000-1716134400@ktex.com
SUMMARY:GMBC Community Scholarship Program
DESCRIPTION:
URL:https://ktex.com/event/gmbc-community-scholarship-program/
LOCATION:Goodwill Missionary Baptist Church (Brenham)\, 9180 Hwy. 105\, Brenham\, TX\, 77833\, United States
CATEGORIES:Community Events
ATTACH;FMTTYPE=image/png:https://ktex.com/wp-content/uploads/2024/05/gmbc-scholarship-pgm-MAY.png
END:VEVENT
BEGIN:VEVENT
DTSTART;VALUE=DATE:20240520
DTEND;VALUE=DATE:20240521
DTSTAMP:20260420T092019
CREATED:20240517T144509Z
LAST-MODIFIED:20240517T144509Z
UID:47287-1716163200-1716249599@ktex.com
SUMMARY:Jury Trial CANCELED
DESCRIPTION:The Jury Trial scheduled for Monday\, May 20\, 2024 in the Washington County District Court in Brenham\, TX before Judge J.D. Langley has canceled. For anyone summoned to appear\, their services are no longer needed.
URL:https://ktex.com/event/jury-trial-canceled-3/
LOCATION:Texas
CATEGORIES:Community Events
ATTACH;FMTTYPE=image/jpeg:https://ktex.com/wp-content/uploads/2024/05/jurytrialcanceledFEATURE.jpg
END:VEVENT
BEGIN:VEVENT
DTSTART;VALUE=DATE:20240520
DTEND;VALUE=DATE:20240521
DTSTAMP:20260420T092019
CREATED:20240520T200254Z
LAST-MODIFIED:20240520T200254Z
UID:47347-1716163200-1716249599@ktex.com
SUMMARY:Brenham Cub Spring Game
DESCRIPTION:
URL:https://ktex.com/event/brenham-cub-spring-game/
LOCATION:Cub Stadium\, 1600 
CATEGORIES:Community Events
ATTACH;FMTTYPE=image/jpeg:https://ktex.com/wp-content/uploads/2024/05/cub-spring-game.jpg
END:VEVENT
BEGIN:VEVENT
DTSTART;VALUE=DATE:20240521
DTEND;VALUE=DATE:20240522
DTSTAMP:20260420T092019
CREATED:20231208T150941Z
LAST-MODIFIED:20231208T150941Z
UID:44482-1716249600-1716335999@ktex.com
SUMMARY:Austin Co. Lunch-N-Learn Series (Spring)
DESCRIPTION:
URL:https://ktex.com/event/austin-co-lunch-n-learn-series-spring-5/
LOCATION:Austin County Courthouse (basement meeting room)\, 1 E Main Street\, Bellville\, TX\, 77418\, United States
CATEGORIES:Community Events
ATTACH;FMTTYPE=image/jpeg:https://ktex.com/wp-content/uploads/2023/12/ac-lunch-learn-series-24.jpg
END:VEVENT
BEGIN:VEVENT
DTSTART;VALUE=DATE:20240521
DTEND;VALUE=DATE:20240522
DTSTAMP:20260420T092019
CREATED:20240223T220102Z
LAST-MODIFIED:20240223T220102Z
UID:45896-1716249600-1716335999@ktex.com
SUMMARY:Brenham JH Spring Band Concerts
DESCRIPTION:Tuesday\, May 21\, JH Spring Band Concerts \n6:00pm BHS Auditorium
URL:https://ktex.com/event/brenham-jh-spring-band-concerts/
LOCATION:Brenham High School Auditorium\, 525 A H Ehrig Drive\, Brenham\, TX\, 77833\, United States
CATEGORIES:Community Events
ATTACH;FMTTYPE=image/jpeg:https://ktex.com/wp-content/uploads/2024/02/BISD-logo.jpg
END:VEVENT
BEGIN:VEVENT
DTSTART;VALUE=DATE:20240521
DTEND;VALUE=DATE:20240522
DTSTAMP:20260420T092019
CREATED:20240503T194243Z
LAST-MODIFIED:20240503T194243Z
UID:47089-1716249600-1716335999@ktex.com
SUMMARY:Burton FFA Grilled Pork Steak Meal Fundraiser
DESCRIPTION:Drive-thru locations\nSt. Johns Church in Burton\, 4:00-6:30pm or\nThe Senior Activity Center in Brenham\, 4:30-6:30pm
URL:https://ktex.com/event/burton-ffa-grilled-pork-steak-meal-fundraiser/
LOCATION:Texas
CATEGORIES:Community Events
ATTACH;FMTTYPE=image/jpeg:https://ktex.com/wp-content/uploads/2024/05/burton-ffa-may-fundraiser.jpg
END:VEVENT
BEGIN:VEVENT
DTSTART;VALUE=DATE:20240521
DTEND;VALUE=DATE:20240522
DTSTAMP:20260420T092019
CREATED:20240520T184006Z
LAST-MODIFIED:20240520T184006Z
UID:47335-1716249600-1716335999@ktex.com
SUMMARY:Burton High School Senior Scholarship Program
DESCRIPTION:
URL:https://ktex.com/event/burton-high-school-senior-scholarship-program/
LOCATION:Burton High School Auditorium\, 917 N. Main Street\, Burton\, TX\, 77835\, United States
CATEGORIES:Community Events
ATTACH;FMTTYPE=image/jpeg:https://ktex.com/wp-content/uploads/2024/05/burton-hs-sr-scholarships.jpg
END:VEVENT
BEGIN:VEVENT
DTSTART;TZID=America/Chicago:20240521T070000
DTEND;TZID=America/Chicago:20240524T190000
DTSTAMP:20260420T092019
CREATED:20240521T140218Z
LAST-MODIFIED:20240521T140218Z
UID:47350-1716274800-1716577200@ktex.com
SUMMARY:Early Voting Location (Washington County)
DESCRIPTION:Make sure to go vote for the May 28th Runoff \n\nEarly Voting Location: \nCounty Courthouse Annex – Lobby\n100 S. Park Street\nBrenham\, TX 77833 \n\nEarly Voting Dates:                            \nMAY 20\, 2024 – MAY 24\, 2024      \n\nHours:\n7:00 a.m. to 7:00 p.m.  (Monday – Friday)
URL:https://ktex.com/event/early-voting-location-washington-county/
LOCATION:Washington County Courthouse Annex\, 100 South Park\, Brenham\, Texas\, 77833
CATEGORIES:Community Events
ATTACH;FMTTYPE=image/jpeg:https://ktex.com/wp-content/uploads/2024/05/early-voting-MAY.jpg
END:VEVENT
END:VCALENDAR