BEGIN:VCALENDAR
VERSION:2.0
PRODID:-//KTEX 106.1 - ECPv6.15.20//NONSGML v1.0//EN
CALSCALE:GREGORIAN
METHOD:PUBLISH
X-ORIGINAL-URL:https://ktex.com
X-WR-CALDESC:Events for KTEX 106.1
REFRESH-INTERVAL;VALUE=DURATION:PT1H
X-Robots-Tag:noindex
X-PUBLISHED-TTL:PT1H
BEGIN:VTIMEZONE
TZID:America/Chicago
BEGIN:DAYLIGHT
TZOFFSETFROM:-0600
TZOFFSETTO:-0500
TZNAME:CDT
DTSTART:20230312T080000
END:DAYLIGHT
BEGIN:STANDARD
TZOFFSETFROM:-0500
TZOFFSETTO:-0600
TZNAME:CST
DTSTART:20231105T070000
END:STANDARD
BEGIN:DAYLIGHT
TZOFFSETFROM:-0600
TZOFFSETTO:-0500
TZNAME:CDT
DTSTART:20240310T080000
END:DAYLIGHT
BEGIN:STANDARD
TZOFFSETFROM:-0500
TZOFFSETTO:-0600
TZNAME:CST
DTSTART:20241103T070000
END:STANDARD
BEGIN:DAYLIGHT
TZOFFSETFROM:-0600
TZOFFSETTO:-0500
TZNAME:CDT
DTSTART:20250309T080000
END:DAYLIGHT
BEGIN:STANDARD
TZOFFSETFROM:-0500
TZOFFSETTO:-0600
TZNAME:CST
DTSTART:20251102T070000
END:STANDARD
END:VTIMEZONE
BEGIN:VEVENT
DTSTART;VALUE=DATE:20240201
DTEND;VALUE=DATE:20240205
DTSTAMP:20260420T010143
CREATED:20240103T154003Z
LAST-MODIFIED:20240103T154003Z
UID:44797-1706745600-1707091199@ktex.com
SUMMARY:Cub Company presents "The Little Mermaid"
DESCRIPTION:Tickets are on-sale now as the Brenham High School Theatre Arts Department\, also known as Cub Company\, get ready to present Disney’s “The Little Mermaid” tickets can be purchased on-line at www.cubcompany.booktix.net
URL:https://ktex.com/event/cub-company-presents-the-little-mermaid/
LOCATION:Brenham High School Auditorium\, 525 A H Ehrig Drive\, Brenham\, TX\, 77833\, United States
CATEGORIES:Community Events
ATTACH;FMTTYPE=image/jpeg:https://ktex.com/wp-content/uploads/2024/01/Little-Mermaid-1.jpg
END:VEVENT
BEGIN:VEVENT
DTSTART;VALUE=DATE:20240201
DTEND;VALUE=DATE:20240202
DTSTAMP:20260420T010143
CREATED:20231220T155339Z
LAST-MODIFIED:20231220T155339Z
UID:44609-1706745600-1706831999@ktex.com
SUMMARY:NAMI Connection Recovery Support Group Meetings
DESCRIPTION:Weekly meeting on Thursdays\, 6:30 – 8:00 pm CST at St. Peters Episcopal Church in Brenham\n\nNAMI-Brazos Valley serves a seven-county area (Brazos Valley):  Brazos\, Burleson\, Grimes\, Leon\, Madison\, Roberts\, and Washington Counties\nWebsite:  NamiBV.org\nPhone:  979 774-4713
URL:https://ktex.com/event/nami-connection-recovery-support-group-meetings-2/
LOCATION:St. Peter’s Episcopal Church (Brenham)\, 2310 Airline Dr.\, Brenham\, TX\, 77833\, United States
CATEGORIES:Community Events
ATTACH;FMTTYPE=image/png:https://ktex.com/wp-content/uploads/2023/12/nami-connection-recovery-supp-gr.png
END:VEVENT
BEGIN:VEVENT
DTSTART;VALUE=DATE:20240201
DTEND;VALUE=DATE:20240302
DTSTAMP:20260420T010143
CREATED:20240110T144751Z
LAST-MODIFIED:20240110T144751Z
UID:45063-1706745600-1709337599@ktex.com
SUMMARY:Spring Tomato and Pepper Plant Sale
DESCRIPTION:
URL:https://ktex.com/event/spring-tomato-and-pepper-plant-sale/
LOCATION:Texas A&M AgriLife Extension (Washington County)\, 1305 East Blue Bell Road\, Brenham\, TX\, 77833\, United States
CATEGORIES:Community Events
ATTACH;FMTTYPE=image/png:https://ktex.com/wp-content/uploads/2024/01/tomato-pepper-plant-sale-2024.png
END:VEVENT
BEGIN:VEVENT
DTSTART;VALUE=DATE:20240201
DTEND;VALUE=DATE:20240316
DTSTAMP:20260420T010143
CREATED:20240118T143402Z
LAST-MODIFIED:20240118T143402Z
UID:45222-1706745600-1710547199@ktex.com
SUMMARY:Washington County Fair Scholarship Program
DESCRIPTION:The 2024 Washington County Fair Scholarship Application is now open! Updated guidelines and application can be found on our website! >> http://tinyurl.com/k2apkhyz
URL:https://ktex.com/event/washington-county-fair-scholarship-program/
LOCATION:TX
CATEGORIES:Community Events
ATTACH;FMTTYPE=image/jpeg:https://ktex.com/wp-content/uploads/2024/01/wcf-scholarships.jpg
END:VEVENT
BEGIN:VEVENT
DTSTART;TZID=America/Chicago:20240201T173000
DTEND;TZID=America/Chicago:20240201T200000
DTSTAMP:20260420T010143
CREATED:20240104T205253Z
LAST-MODIFIED:20240119T161558Z
UID:44909-1706808600-1706817600@ktex.com
SUMMARY:Washington County Chamber & EDF Banquet
DESCRIPTION:
URL:https://ktex.com/event/washington-county-chamber-edf-banquet/
LOCATION:Brenham Fire Department Training Center\, 1101 Hwy 290 West\, Brenham\, TX\, 77833\, United States
CATEGORIES:Community Events
ATTACH;FMTTYPE=image/jpeg:https://ktex.com/wp-content/uploads/2024/01/2024-annual-banquet.jpg
END:VEVENT
BEGIN:VEVENT
DTSTART;VALUE=DATE:20240202
DTEND;VALUE=DATE:20240203
DTSTAMP:20260420T010143
CREATED:20231220T160200Z
LAST-MODIFIED:20231220T160200Z
UID:44622-1706832000-1706918399@ktex.com
SUMMARY:Texas Farm Bureau Scholarships Now Open
DESCRIPTION:
URL:https://ktex.com/event/texas-farm-bureau-scholarships-now-open-2/
LOCATION:TX
CATEGORIES:Community Events
ATTACH;FMTTYPE=image/jpeg:https://ktex.com/wp-content/uploads/2023/12/tx-farm-bureau-scholarships.jpg
END:VEVENT
BEGIN:VEVENT
DTSTART;VALUE=DATE:20240202
DTEND;VALUE=DATE:20240203
DTSTAMP:20260420T010143
CREATED:20240105T204943Z
LAST-MODIFIED:20240105T204943Z
UID:44935-1706832000-1706918399@ktex.com
SUMMARY:Brenham Elks Friday Night Steak Dinner
DESCRIPTION:The weekly Friday night steak dinner begins at 6:30 PM at Brenham Elks Lodge #979\, with all members and guests invited\n– 16 oz Boneless Ribeye with Baked Potato\, Salad\, and Dessert\n– Chef’s Choice: Pork & Beef Stew with cornbread\, salad and dessert
URL:https://ktex.com/event/brenham-elks-friday-night-steak-dinner-2/
LOCATION:Brenham Elks Lodge 979\, 400 East Germania St.\, Brenham\, 77833
CATEGORIES:Community Events
ATTACH;FMTTYPE=image/jpeg:https://ktex.com/wp-content/uploads/2024/01/elks-steak-supper-24.jpg
END:VEVENT
BEGIN:VEVENT
DTSTART;VALUE=DATE:20240202
DTEND;VALUE=DATE:20240203
DTSTAMP:20260420T010143
CREATED:20240117T191334Z
LAST-MODIFIED:20240117T191334Z
UID:45200-1706832000-1706918399@ktex.com
SUMMARY:Washington County JA June19Teenth Celebration
DESCRIPTION:
URL:https://ktex.com/event/washington-county-ja-june19teenth-celebration/
LOCATION:TX
CATEGORIES:Community Events
ATTACH;FMTTYPE=image/jpeg:https://ktex.com/wp-content/uploads/2024/01/juneteenth-24.jpg
END:VEVENT
BEGIN:VEVENT
DTSTART;VALUE=DATE:20240202
DTEND;VALUE=DATE:20240203
DTSTAMP:20260420T010143
CREATED:20240122T155204Z
LAST-MODIFIED:20240122T155204Z
UID:45258-1706832000-1706918399@ktex.com
SUMMARY:Farmer & Artisan Market (Brenham)
DESCRIPTION:
URL:https://ktex.com/event/farmer-artisan-market-brenham/
LOCATION:Downtown Brenham
CATEGORIES:Community Events
ATTACH;FMTTYPE=image/jpeg:https://ktex.com/wp-content/uploads/2024/01/farmer-artisan-market-brenham-feb.jpg
END:VEVENT
BEGIN:VEVENT
DTSTART;VALUE=DATE:20240202
DTEND;VALUE=DATE:20240203
DTSTAMP:20260420T010143
CREATED:20240124T214957Z
LAST-MODIFIED:20240124T214957Z
UID:45354-1706832000-1706918399@ktex.com
SUMMARY:VFW Post 7104 Steak Supper
DESCRIPTION:James F. Dillon VFW Post 7104 will be having a barbecue beef sirloin steak\, pork steak and pork sausage supper on Friday\, February 2nd\, doors will open at 6:00 and the meal will be served at 7:00\, call 979 203-5586\, 979 277-5061 to make reservation by 12:00 noon on the date of the meal – You may also call the post home at 979 830-8776 (leave a message)\, the meal is open to the public.
URL:https://ktex.com/event/vfw-post-7104-steak-supper-6/
LOCATION:James F. Dillion VFW Post 7104\, 1200 East Tom Green Street\, Brenham\, TX\, 77833\, United States
CATEGORIES:Community Events
ATTACH;FMTTYPE=image/jpeg:https://ktex.com/wp-content/uploads/2024/01/vfw.jpg
END:VEVENT
BEGIN:VEVENT
DTSTART;VALUE=DATE:20240202
DTEND;VALUE=DATE:20240203
DTSTAMP:20260420T010143
CREATED:20240202T192220Z
LAST-MODIFIED:20240202T192220Z
UID:45472-1706832000-1706918399@ktex.com
SUMMARY:Cubs District Match Up
DESCRIPTION:
URL:https://ktex.com/event/cubs-district-match-up/
LOCATION:Brenham High School\, 525 A H Ehrig Drive\, Brenham\, TX\, 77833\, United States
CATEGORIES:Community Events
ATTACH;FMTTYPE=image/jpeg:https://ktex.com/wp-content/uploads/2024/02/cubs-dist-match-up.jpg
END:VEVENT
BEGIN:VEVENT
DTSTART;VALUE=DATE:20240202
DTEND;VALUE=DATE:20240204
DTSTAMP:20260420T010143
CREATED:20240122T155641Z
LAST-MODIFIED:20240122T155641Z
UID:45264-1706832000-1707004799@ktex.com
SUMMARY:Brenham Broadway Kids presents The Rainbow Fish Musical
DESCRIPTION:
URL:https://ktex.com/event/brenham-broadway-kids-presents-the-rainbow-fish-musical/
LOCATION:Dr. W.W. O’Donnell Performing Arts Center\, 600 Blinn Blvd\, Brenham\, TX\, 77833\, United States
CATEGORIES:Community Events
ATTACH;FMTTYPE=image/jpeg:https://ktex.com/wp-content/uploads/2024/01/the-rainbow-fish-musical.jpg
END:VEVENT
BEGIN:VEVENT
DTSTART;TZID=America/Chicago:20240202T150000
DTEND;TZID=America/Chicago:20240202T180000
DTSTAMP:20260420T010143
CREATED:20240124T181758Z
LAST-MODIFIED:20240124T181758Z
UID:45345-1706886000-1706896800@ktex.com
SUMMARY:FREE Pet Microchips & Adoptions
DESCRIPTION:
URL:https://ktex.com/event/free-pet-microchips-adoptions-2/
LOCATION:Downtown Brenham
CATEGORIES:Community Events
ATTACH;FMTTYPE=image/jpeg:https://ktex.com/wp-content/uploads/2024/01/microchips-feb.jpg
END:VEVENT
BEGIN:VEVENT
DTSTART;VALUE=DATE:20240203
DTEND;VALUE=DATE:20240204
DTSTAMP:20260420T010143
CREATED:20231227T145102Z
LAST-MODIFIED:20231227T145102Z
UID:44691-1706918400-1707004799@ktex.com
SUMMARY:21 Men's Club Western Dance
DESCRIPTION:
URL:https://ktex.com/event/21-mens-club-western-dance/
LOCATION:Washington County Expo Event Center\, 1305 E. Blue Bell Rd.\, Brenham\, TX\, 77833\, United States
CATEGORIES:Community Events
ATTACH;FMTTYPE=image/jpeg:https://ktex.com/wp-content/uploads/2023/12/21-mens-cl-dance.jpg
END:VEVENT
BEGIN:VEVENT
DTSTART;VALUE=DATE:20240203
DTEND;VALUE=DATE:20240204
DTSTAMP:20260420T010143
CREATED:20240108T193034Z
LAST-MODIFIED:20240108T193034Z
UID:44975-1706918400-1707004799@ktex.com
SUMMARY:Market Day & Bellville Farmers Market
DESCRIPTION:
URL:https://ktex.com/event/market-day-bellville-farmers-market/
LOCATION:TX
CATEGORIES:Community Events
ATTACH;FMTTYPE=image/png:https://ktex.com/wp-content/uploads/2024/01/market-day-bellville-farmers-market-feb-mar-apr-may.png
END:VEVENT
BEGIN:VEVENT
DTSTART;VALUE=DATE:20240203
DTEND;VALUE=DATE:20240204
DTSTAMP:20260420T010143
CREATED:20240116T215537Z
LAST-MODIFIED:20240116T215537Z
UID:45172-1706918400-1707004799@ktex.com
SUMMARY:Welcome West End Fair Boosters Beef Stew & Turkey Stew
DESCRIPTION:
URL:https://ktex.com/event/welcome-west-end-fair-boosters-beef-stew-turkey-stew/
LOCATION:Bleiblerville Fire Station\, 3342 FM 2502\, Bellville\, TX\, 77418\, United States
CATEGORIES:Community Events
ATTACH;FMTTYPE=image/png:https://ktex.com/wp-content/uploads/2024/01/welcome-west-end-fair-boosters-feb.png
END:VEVENT
BEGIN:VEVENT
DTSTART;VALUE=DATE:20240203
DTEND;VALUE=DATE:20240204
DTSTAMP:20260420T010143
CREATED:20240117T161048Z
LAST-MODIFIED:20240117T161048Z
UID:45190-1706918400-1707004799@ktex.com
SUMMARY:Judy Tiemann Memorial Cook-Off
DESCRIPTION:
URL:https://ktex.com/event/judy-tiemann-memorial-cook-off/
LOCATION:Austin County Fairgrounds\, 1076 East Hill\, Bellville\, TX\, 77418\, United States
CATEGORIES:Community Events
ATTACH;FMTTYPE=image/jpeg:https://ktex.com/wp-content/uploads/2024/01/judy-tiemann-memorial-cook-off.jpg
END:VEVENT
BEGIN:VEVENT
DTSTART;TZID=America/Chicago:20240203T080000
DTEND;TZID=America/Chicago:20240203T150000
DTSTAMP:20260420T010143
CREATED:20240103T152554Z
LAST-MODIFIED:20240103T152554Z
UID:44793-1706947200-1706972400@ktex.com
SUMMARY:Multi-County Child Care Conference
DESCRIPTION:
URL:https://ktex.com/event/multi-county-child-care-conference/
LOCATION:Randolph Recreational Community Center\, 653 E Pearl St.\, La Grange\, TX\, 78945\, United States
CATEGORIES:Community Events
ATTACH;FMTTYPE=image/png:https://ktex.com/wp-content/uploads/2024/01/child-care-conf-feb.png
END:VEVENT
BEGIN:VEVENT
DTSTART;TZID=America/Chicago:20240203T190000
DTEND;TZID=America/Chicago:20240203T203000
DTSTAMP:20260420T010143
CREATED:20240108T193524Z
LAST-MODIFIED:20240108T193524Z
UID:44984-1706986800-1706992200@ktex.com
SUMMARY:St. John Lutheran of Bellville BINGO Night
DESCRIPTION:
URL:https://ktex.com/event/st-john-lutheran-of-bellville-bingo-night/
LOCATION:St. John Faith Center (Bellville)\, 520 N. Holland\, Bellville\, TX\, 77418\, United States
CATEGORIES:Community Events
ATTACH;FMTTYPE=image/png:https://ktex.com/wp-content/uploads/2024/01/family-bingo-feb.png
END:VEVENT
BEGIN:VEVENT
DTSTART;TZID=America/Chicago:20240203T190000
DTEND;TZID=America/Chicago:20240203T223000
DTSTAMP:20260420T010143
CREATED:20240115T174148Z
LAST-MODIFIED:20240123T161956Z
UID:45124-1706986800-1706999400@ktex.com
SUMMARY:Burleson County Go Texan
DESCRIPTION:Celebrate being a Texan in Burleson County at the Burleson County Go Texan! Come dance the night away at the BCFA Event Center with the Crossroads Band and enjoy all the many items the silent auction has to offer! Trailboss Troy will be there with his boots on!
URL:https://ktex.com/event/burleson-county-go-texan/
LOCATION:BCFA Event Center\, Hwy 36 S\, Caldwell\, TX\, 77836\, United States
CATEGORIES:KTEX on the Road
END:VEVENT
BEGIN:VEVENT
DTSTART;VALUE=DATE:20240204
DTEND;VALUE=DATE:20240205
DTSTAMP:20260420T010143
CREATED:20240122T154929Z
LAST-MODIFIED:20240122T154929Z
UID:45252-1707004800-1707091199@ktex.com
SUMMARY:Dessert Auction
DESCRIPTION:
URL:https://ktex.com/event/dessert-auction/
LOCATION:St. Roch Catholic Church Parish Hall
CATEGORIES:Community Events
ATTACH;FMTTYPE=image/jpeg:https://ktex.com/wp-content/uploads/2024/01/dessert-auction-st-roch.jpg
END:VEVENT
BEGIN:VEVENT
DTSTART;VALUE=DATE:20240204
DTEND;VALUE=DATE:20240205
DTSTAMP:20260420T010143
CREATED:20240122T155042Z
LAST-MODIFIED:20240122T155042Z
UID:45255-1707004800-1707091199@ktex.com
SUMMARY:CDA & KC Turkey & Dressing Dinner
DESCRIPTION:
URL:https://ktex.com/event/cda-kc-turkey-dressing-dinner/
LOCATION:St. Roch Catholic Church Parish Hall
CATEGORIES:Community Events
ATTACH;FMTTYPE=image/jpeg:https://ktex.com/wp-content/uploads/2024/01/turkey-dressing-dinner-feb.jpg
END:VEVENT
BEGIN:VEVENT
DTSTART;VALUE=DATE:20240204
DTEND;VALUE=DATE:20240205
DTSTAMP:20260420T010143
CREATED:20240126T142442Z
LAST-MODIFIED:20240126T142442Z
UID:45371-1707004800-1707091199@ktex.com
SUMMARY:6th Pastor's Anniversary Celebration at Main Street Church
DESCRIPTION:
URL:https://ktex.com/event/6th-pastors-anniversary-celebration-at-main-street-church/
LOCATION:Main Street Missionary Baptist Church (Brenham)\, 905 East Main Street\, Brenham\, TX\, 77833\, United States
CATEGORIES:Community Events
ATTACH;FMTTYPE=image/jpeg:https://ktex.com/wp-content/uploads/2024/01/main-street-appreciation.jpg
END:VEVENT
BEGIN:VEVENT
DTSTART;TZID=America/Chicago:20240204T083000
DTEND;TZID=America/Chicago:20240204T130000
DTSTAMP:20260420T010143
CREATED:20240126T214247Z
LAST-MODIFIED:20240126T214247Z
UID:45381-1707035400-1707051600@ktex.com
SUMMARY:Blood Drive hosted by Grace Lutheran Church (Brenham)
DESCRIPTION:
URL:https://ktex.com/event/blood-drive-hosted-by-grace-lutheran-church-brenham/
LOCATION:Grace Lutheran Church of Brenham (Family Activity Center)\, 1212 West Jefferson\, Brenham\, TX\, 77833\, United States
CATEGORIES:Community Events
ATTACH;FMTTYPE=image/png:https://ktex.com/wp-content/uploads/2024/01/blood-drive-feb-4.png
END:VEVENT
BEGIN:VEVENT
DTSTART;VALUE=DATE:20240205
DTEND;VALUE=DATE:20240301
DTSTAMP:20260420T010143
CREATED:20240205T223300Z
LAST-MODIFIED:20240205T223300Z
UID:45502-1707091200-1709251199@ktex.com
SUMMARY:Washington County A&M Club Sponsorship Drive
DESCRIPTION:
URL:https://ktex.com/event/washington-county-am-club-sponsorship-drive/
LOCATION:TX
CATEGORIES:Community Events
ATTACH;FMTTYPE=image/png:https://ktex.com/wp-content/uploads/2024/02/wc-am-club-sponsorships.png
END:VEVENT
BEGIN:VEVENT
DTSTART;TZID=America/Chicago:20240205T180000
DTEND;TZID=America/Chicago:20240205T193000
DTSTAMP:20260420T010143
CREATED:20231227T145342Z
LAST-MODIFIED:20240124T154729Z
UID:44694-1707156000-1707161400@ktex.com
SUMMARY:James Emerson Dennis Jr. Memorial  Black History Series
DESCRIPTION:
URL:https://ktex.com/event/james-emerson-dennis-jr-memorial-black-history-forum/
LOCATION:Cannery Kitchen\, 314 East Alamo Street\, Brenham\, TX\, 77833\, United States
CATEGORIES:Community Events
ATTACH;FMTTYPE=image/jpeg:https://ktex.com/wp-content/uploads/2023/12/feb-5.jpg
END:VEVENT
BEGIN:VEVENT
DTSTART;VALUE=DATE:20240206
DTEND;VALUE=DATE:20240207
DTSTAMP:20260420T010143
CREATED:20240104T205018Z
LAST-MODIFIED:20240104T205018Z
UID:44906-1707177600-1707263999@ktex.com
SUMMARY:Wake Up\, Washington County Networking Breakfast
DESCRIPTION:
URL:https://ktex.com/event/wake-up-washington-county-networking-breakfast-2/
LOCATION:First Baptist Church School (Brenham)\, 302 Pahl Street\, Brenham\, TX\, 77833\, United States
CATEGORIES:Community Events
ATTACH;FMTTYPE=image/jpeg:https://ktex.com/wp-content/uploads/2024/01/wake-up-wc-feb-6.jpg
END:VEVENT
BEGIN:VEVENT
DTSTART;VALUE=DATE:20240207
DTEND;VALUE=DATE:20240208
DTSTAMP:20260420T010143
CREATED:20231208T145301Z
LAST-MODIFIED:20231208T145301Z
UID:44459-1707264000-1707350399@ktex.com
SUMMARY:Washington Co. Lunch-N-Learn Gardening Series
DESCRIPTION:
URL:https://ktex.com/event/washington-co-lunch-n-learn-gardening-series-2/
LOCATION:Washington County Expo Event Center\, 1305 E. Blue Bell Rd.\, Brenham\, TX\, 77833\, United States
CATEGORIES:Community Events
ATTACH;FMTTYPE=image/png:https://ktex.com/wp-content/uploads/2023/12/wc-lunch-learn-24.png
END:VEVENT
BEGIN:VEVENT
DTSTART;VALUE=DATE:20240207
DTEND;VALUE=DATE:20240208
DTSTAMP:20260420T010143
CREATED:20231229T224221Z
LAST-MODIFIED:20231229T224221Z
UID:44758-1707264000-1707350399@ktex.com
SUMMARY:Greater Sealy Area COC Lunch Learn
DESCRIPTION:
URL:https://ktex.com/event/greater-sealy-area-coc-lunch-learn-2/
LOCATION:Sealy American Legion Hall\, 1630 Meyer Street\, Sealy\, TX\, 77474\, United States
CATEGORIES:Community Events
ATTACH;FMTTYPE=image/png:https://ktex.com/wp-content/uploads/2023/12/sealy-lunch-learn-feb.png
END:VEVENT
BEGIN:VEVENT
DTSTART;TZID=America/Chicago:20240207T083000
DTEND;TZID=America/Chicago:20240207T123000
DTSTAMP:20260420T010143
CREATED:20240119T180036Z
LAST-MODIFIED:20240119T180036Z
UID:45237-1707294600-1707309000@ktex.com
SUMMARY:Water Well Owners Educational Event
DESCRIPTION:
URL:https://ktex.com/event/water-well-owners-educational-event/
LOCATION:Kenney Agricultural Hall\, 444 Hall Rd.\, Kenney\, TX\, 77418\, United States
CATEGORIES:Community Events
ATTACH;FMTTYPE=image/jpeg:https://ktex.com/wp-content/uploads/2024/01/Mill-Creek-WE_Flyer-Feb-2024-002.jpg
END:VEVENT
END:VCALENDAR