BEGIN:VCALENDAR
VERSION:2.0
PRODID:-//KTEX 106.1 - ECPv6.15.20//NONSGML v1.0//EN
CALSCALE:GREGORIAN
METHOD:PUBLISH
X-WR-CALNAME:KTEX 106.1
X-ORIGINAL-URL:https://ktex.com
X-WR-CALDESC:Events for KTEX 106.1
REFRESH-INTERVAL;VALUE=DURATION:PT1H
X-Robots-Tag:noindex
X-PUBLISHED-TTL:PT1H
BEGIN:VTIMEZONE
TZID:America/Chicago
BEGIN:DAYLIGHT
TZOFFSETFROM:-0600
TZOFFSETTO:-0500
TZNAME:CDT
DTSTART:20230312T080000
END:DAYLIGHT
BEGIN:STANDARD
TZOFFSETFROM:-0500
TZOFFSETTO:-0600
TZNAME:CST
DTSTART:20231105T070000
END:STANDARD
BEGIN:DAYLIGHT
TZOFFSETFROM:-0600
TZOFFSETTO:-0500
TZNAME:CDT
DTSTART:20240310T080000
END:DAYLIGHT
BEGIN:STANDARD
TZOFFSETFROM:-0500
TZOFFSETTO:-0600
TZNAME:CST
DTSTART:20241103T070000
END:STANDARD
BEGIN:DAYLIGHT
TZOFFSETFROM:-0600
TZOFFSETTO:-0500
TZNAME:CDT
DTSTART:20250309T080000
END:DAYLIGHT
BEGIN:STANDARD
TZOFFSETFROM:-0500
TZOFFSETTO:-0600
TZNAME:CST
DTSTART:20251102T070000
END:STANDARD
END:VTIMEZONE
BEGIN:VEVENT
DTSTART;TZID=America/Chicago:20240503T170000
DTEND;TZID=America/Chicago:20240503T233000
DTSTAMP:20260419T222549
CREATED:20240417T160114Z
LAST-MODIFIED:20240417T160114Z
UID:46818-1714755600-1714779000@ktex.com
SUMMARY:Brenham Maifest "Maifestival"
DESCRIPTION:Maifest is THE event of the year in Brenham! Celebrate with Courtney during the Maifestival on Friday! There’s carnival rides\, the Senior coronation\, and live music from Nite Moves!
URL:https://ktex.com/event/brenham-maifest-maifestival/
LOCATION:Brenham Fireman’s Park\, 910 N Park St\, Brenham\, 77833
CATEGORIES:KTEX on the Road
END:VEVENT
BEGIN:VEVENT
DTSTART;VALUE=DATE:20240504
DTEND;VALUE=DATE:20240505
DTSTAMP:20260419T222549
CREATED:20240311T191844Z
LAST-MODIFIED:20240311T191904Z
UID:46109-1714780800-1714867199@ktex.com
SUMMARY:Caldwell Early Evening Lions Club-Sporting Clay Shoot
DESCRIPTION:
URL:https://ktex.com/event/caldwell-early-evening-lions-club-sporting-clay-shoot/
LOCATION:Boswell Porter 4-H Shotgun Range\, 7885 CR 247\, Caldwell\, TX\, 77836\, United States
CATEGORIES:Community Events
ATTACH;FMTTYPE=image/png:https://ktex.com/wp-content/uploads/2024/03/caldwell-sporting-clay-shoot.png
END:VEVENT
BEGIN:VEVENT
DTSTART;VALUE=DATE:20240504
DTEND;VALUE=DATE:20240505
DTSTAMP:20260419T222549
CREATED:20240108T193335Z
LAST-MODIFIED:20240108T193335Z
UID:44982-1714780800-1714867199@ktex.com
SUMMARY:Market Day & Bellville Farmers Market
DESCRIPTION:
URL:https://ktex.com/event/market-day-bellville-farmers-market-4/
LOCATION:TX
CATEGORIES:Community Events
ATTACH;FMTTYPE=image/png:https://ktex.com/wp-content/uploads/2024/01/market-day-bellville-farmers-market-feb-mar-apr-may.png
END:VEVENT
BEGIN:VEVENT
DTSTART;VALUE=DATE:20240504
DTEND;VALUE=DATE:20240505
DTSTAMP:20260419T222549
CREATED:20240408T202743Z
LAST-MODIFIED:20240408T202743Z
UID:46639-1714780800-1714867199@ktex.com
SUMMARY:Austin Co. 4-H Livestock Project Group Car Show
DESCRIPTION:
URL:https://ktex.com/event/austin-co-4-h-livestock-project-group-car-show/
LOCATION:Austin County Fairgrounds\, 1076 East Hill\, Bellville\, TX\, 77418\, United States
CATEGORIES:Community Events
ATTACH;FMTTYPE=image/jpeg:https://ktex.com/wp-content/uploads/2024/04/ac-4-h-car-show.jpg
END:VEVENT
BEGIN:VEVENT
DTSTART;VALUE=DATE:20240504
DTEND;VALUE=DATE:20240505
DTSTAMP:20260419T222549
CREATED:20240411T214700Z
LAST-MODIFIED:20240411T214725Z
UID:46755-1714780800-1714867199@ktex.com
SUMMARY:Margarita Fest - Caldwell
DESCRIPTION:
URL:https://ktex.com/event/margarita-fest-caldwell/
LOCATION:On the Square (Caldwell)\, Caldwell\, TX\, 77836\, United States
CATEGORIES:Community Events
ATTACH;FMTTYPE=image/png:https://ktex.com/wp-content/uploads/2024/04/margarita-fest-caldwell-2024.png
END:VEVENT
BEGIN:VEVENT
DTSTART;VALUE=DATE:20240504
DTEND;VALUE=DATE:20240505
DTSTAMP:20260419T222549
CREATED:20240501T211633Z
LAST-MODIFIED:20240501T211633Z
UID:47043-1714780800-1714867199@ktex.com
SUMMARY:Youth Mental Health First Aid Virtual Class
DESCRIPTION:
URL:https://ktex.com/event/youth-mental-health-first-aid-virtual-class/
LOCATION:TX
CATEGORIES:Community Events
ATTACH;FMTTYPE=image/png:https://ktex.com/wp-content/uploads/2024/05/yth-mental-health-virtual-class.png
END:VEVENT
BEGIN:VEVENT
DTSTART;VALUE=DATE:20240504
DTEND;VALUE=DATE:20240506
DTSTAMP:20260419T222549
CREATED:20240328T171614Z
LAST-MODIFIED:20240328T171614Z
UID:46496-1714780800-1714953599@ktex.com
SUMMARY:ArtWalk - Fayetteville
DESCRIPTION:
URL:https://ktex.com/event/artwalk-fayetteville/
LOCATION:on the Square (Fayetteville)\, Fayetteville\, TX\, 78940\, United States
CATEGORIES:Community Events
ATTACH;FMTTYPE=image/png:https://ktex.com/wp-content/uploads/2024/03/artwalk-may-2024.png
END:VEVENT
BEGIN:VEVENT
DTSTART;TZID=America/Chicago:20240504T093000
DTEND;TZID=America/Chicago:20240504T113000
DTSTAMP:20260419T222549
CREATED:20240417T160547Z
LAST-MODIFIED:20240417T160955Z
UID:46820-1714815000-1714822200@ktex.com
SUMMARY:Brenham Maifest Parade
DESCRIPTION:You can’t have an event without a parade\, duh! Catch Eilish and Cowboy Dave in Downtown Brenham for the Maifest Parade! They’ll be cruising their way though Main Street and Alamo Street in the KTEX Country Cruiser!
URL:https://ktex.com/event/brenham-maifest-parade/
LOCATION:Downtown Brenham\, 100 E. Main St.\, Brenham\, TX\, United States
CATEGORIES:KTEX on the Road
END:VEVENT
BEGIN:VEVENT
DTSTART;TZID=America/Chicago:20240504T140000
DTEND;TZID=America/Chicago:20240504T180000
DTSTAMP:20260419T222549
CREATED:20240416T185849Z
LAST-MODIFIED:20240416T185849Z
UID:46801-1714831200-1714845600@ktex.com
SUMMARY:Craft Beer Tasting at Brenham Maifest
DESCRIPTION:The Zythological Society of North America\, Texas Chapter will be hosting the 2024 Bierverkostung\, German for beer tasting\, at the Brenham Maifest this year in Brenham. The tasting will be held Saturday\, May 4 from 2p-6p\, under cover\, at the Brenham Fireman’s Park. The craft beer tasting will be $20 per person\, which will include (20) twenty tastings.  Tickets can be purchased at the event\, or online at www.zythological.com
URL:https://ktex.com/event/craft-beer-tasting-at-brenham-maifest/
LOCATION:City of Brenham Fireman’s Park\, 901 N. Park Street\, Brenham\, TX\, 77833\, United States
CATEGORIES:Community Events
ATTACH;FMTTYPE=image/jpeg:https://ktex.com/wp-content/uploads/2024/04/zyth-new-logo-1.jpg
END:VEVENT
BEGIN:VEVENT
DTSTART;TZID=America/Chicago:20240504T170000
DTEND;TZID=America/Chicago:20240504T190000
DTSTAMP:20260419T222549
CREATED:20240409T133554Z
LAST-MODIFIED:20240409T133554Z
UID:46661-1714842000-1714849200@ktex.com
SUMMARY:Greenvine Emmanuel Lutheran Church sponsoring Community Meal
DESCRIPTION:
URL:https://ktex.com/event/greenvine-emmanuel-lutheran-church-sponsoring-community-meal/
LOCATION:Burton Roadhouse\, 518 N. RAILROAD STREET\, Burton
CATEGORIES:Community Events
ATTACH;FMTTYPE=image/jpeg:https://ktex.com/wp-content/uploads/2024/04/community-meal-burton-roadhouse.jpg
END:VEVENT
BEGIN:VEVENT
DTSTART;VALUE=DATE:20240505
DTEND;VALUE=DATE:20240506
DTSTAMP:20260419T222549
CREATED:20240425T191350Z
LAST-MODIFIED:20240425T191350Z
UID:46942-1714867200-1714953599@ktex.com
SUMMARY:Industry Brethren Church Annual Fundraiser
DESCRIPTION:
URL:https://ktex.com/event/industry-brethren-church-annual-fundraiser/
LOCATION:Fireman’s Hall (Industry)\, 16552 Fordtran Blvd.\, Industry\, TX\, 78944\, United States
CATEGORIES:Community Events
ATTACH;FMTTYPE=image/png:https://ktex.com/wp-content/uploads/2024/04/industry-brethren-bbq-fundraiser-2024.png
END:VEVENT
BEGIN:VEVENT
DTSTART;VALUE=DATE:20240505
DTEND;VALUE=DATE:20240506
DTSTAMP:20260419T222549
CREATED:20240430T202522Z
LAST-MODIFIED:20240430T202522Z
UID:47035-1714867200-1714953599@ktex.com
SUMMARY:Cruisin For A Cure (Grimes County)
DESCRIPTION:
URL:https://ktex.com/event/cruisin-for-a-cure-grimes-county/
LOCATION:Grimes County Court House\, 100 S. Main Street\, Anderson\, TX\, 77830\, United States
CATEGORIES:Community Events
ATTACH;FMTTYPE=image/jpeg:https://ktex.com/wp-content/uploads/2024/04/cruisin-for-a-cure-may.jpg
END:VEVENT
BEGIN:VEVENT
DTSTART;VALUE=DATE:20240506
DTEND;VALUE=DATE:20240507
DTSTAMP:20260419T222549
CREATED:20240415T202829Z
LAST-MODIFIED:20240415T202829Z
UID:46798-1714953600-1715039999@ktex.com
SUMMARY:Washington Co. Genealogical Society Meeting
DESCRIPTION:The Washington County Genealogical Society will be meeting Monday\, May 6\, at 1pm in the Nancy Carol Roberts Memorial Library. The speaker will be Washington County Clerk Beth Rothermel. Please join us to learn about the many different types of information that can be found in the County Clerk’s office.
URL:https://ktex.com/event/washington-co-genealogical-society-meeting/
LOCATION:Nancy Carol Roberts Memorial Library\, 100 Martin Luther King Jr. Parkway\, Brenham\, Texas\, 77833
CATEGORIES:Community Events
ATTACH;FMTTYPE=image/jpeg:https://ktex.com/wp-content/uploads/2024/04/wc-genealogical-society.jpg
END:VEVENT
BEGIN:VEVENT
DTSTART;VALUE=DATE:20240506
DTEND;VALUE=DATE:20240507
DTSTAMP:20260419T222549
CREATED:20240426T133926Z
LAST-MODIFIED:20240426T133926Z
UID:46951-1714953600-1715039999@ktex.com
SUMMARY:Washington Co. Republican Women Meeting
DESCRIPTION:Washington County Republican Women are meeting on Monday\, May 6 at the Cannery Kitchen in Brenham.  Lunch begins at 11:30\, with a brief meeting at noon.  Following the meeting\, our speaker\, Republican candidate for sheriff in the November election\, Trey Holleway\, will address issues in law enforcement in Washington County.  The public is invited to attend\, and new members are welcome!
URL:https://ktex.com/event/washington-co-republican-women-meeting/
LOCATION:Cannery Kitchen\, 314 East Alamo Street\, Brenham\, TX\, 77833\, United States
CATEGORIES:Community Events
ATTACH;FMTTYPE=image/jpeg:https://ktex.com/wp-content/uploads/2024/04/wc-republican-women.jpg
END:VEVENT
BEGIN:VEVENT
DTSTART;VALUE=DATE:20240506
DTEND;VALUE=DATE:20240507
DTSTAMP:20260419T222549
CREATED:20240501T211720Z
LAST-MODIFIED:20240501T211720Z
UID:47046-1714953600-1715039999@ktex.com
SUMMARY:Youth Mental Health First Aid Virtual Class
DESCRIPTION:
URL:https://ktex.com/event/youth-mental-health-first-aid-virtual-class-2/
LOCATION:TX
CATEGORIES:Community Events
ATTACH;FMTTYPE=image/png:https://ktex.com/wp-content/uploads/2024/05/yth-mental-health-virtual-class.png
END:VEVENT
BEGIN:VEVENT
DTSTART;VALUE=DATE:20240507
DTEND;VALUE=DATE:20240508
DTSTAMP:20260419T222549
CREATED:20240429T183944Z
LAST-MODIFIED:20240429T183944Z
UID:46993-1715040000-1715126399@ktex.com
SUMMARY:Program on Healthy Aging w/Diabetes
DESCRIPTION:
URL:https://ktex.com/event/program-on-healthy-aging-w-diabetes/
LOCATION:Nancy Carol Roberts Memorial Library\, 100 Martin Luther King Jr. Parkway\, Brenham\, Texas\, 77833
CATEGORIES:Community Events
ATTACH;FMTTYPE=image/png:https://ktex.com/wp-content/uploads/2024/04/be-well-may.png
END:VEVENT
BEGIN:VEVENT
DTSTART;TZID=America/Chicago:20240507T074500
DTEND;TZID=America/Chicago:20240507T090000
DTSTAMP:20260419T222549
CREATED:20240423T191418Z
LAST-MODIFIED:20240423T191418Z
UID:46913-1715067900-1715072400@ktex.com
SUMMARY:Wake Up\, Washington County Networking Breakfast
DESCRIPTION:
URL:https://ktex.com/event/wake-up-washington-county-networking-breakfast-3/
LOCATION:Bluebonnet Abstract & Title (Bellville)\, 17 East Main Street\, Bellville\, TX\, 77418\, United States
CATEGORIES:Community Events
ATTACH;FMTTYPE=image/jpeg:https://ktex.com/wp-content/uploads/2024/04/wake-up-wc-may.jpg
END:VEVENT
BEGIN:VEVENT
DTSTART;VALUE=DATE:20240508
DTEND;VALUE=DATE:20240509
DTSTAMP:20260419T222549
CREATED:20240412T145442Z
LAST-MODIFIED:20240412T145442Z
UID:46762-1715126400-1715212799@ktex.com
SUMMARY:Washington Co. 4-H Record Book Workshop
DESCRIPTION:
URL:https://ktex.com/event/washington-co-4-h-record-book-workshop/
LOCATION:Washington County Expo Event Center\, 1305 E. Blue Bell Rd.\, Brenham\, TX\, 77833\, United States
CATEGORIES:Community Events
ATTACH;FMTTYPE=image/jpeg:https://ktex.com/wp-content/uploads/2024/04/wc-record-book-may.jpg
END:VEVENT
BEGIN:VEVENT
DTSTART;VALUE=DATE:20240508
DTEND;VALUE=DATE:20240509
DTSTAMP:20260419T222549
CREATED:20240424T183517Z
LAST-MODIFIED:20240424T183517Z
UID:46923-1715126400-1715212799@ktex.com
SUMMARY:Explore Italy & France - Agriculture Way (virtual informational meeting)
DESCRIPTION:Have you ever dreamed about seeing the Eiffel Tower or making a wish at the Trevi Fountain? Well\, your wish could now be a reality\, Summer of 2025! Join us next summer as we take a trip to Italy and France to learn all about the amazing Agriculture ventures these countries have to offer. We’ll participate in excursions such as cooking classes\, perfume making\, and tours of various orchards and Farms! This trip is open to any high school student or incoming 9th graders and their families! If you are interested\, scan the QR Code or click the link (https://bit.ly/4aJfRLG) and RSVP for our virtual informational meeting May 8th at 6PM!
URL:https://ktex.com/event/explore-italy-france-agriculture-way-virtual-informational-meeting/
LOCATION:TX
CATEGORIES:Community Events
ATTACH;FMTTYPE=image/png:https://ktex.com/wp-content/uploads/2024/04/agriculture-way.png
END:VEVENT
BEGIN:VEVENT
DTSTART;TZID=America/Chicago:20240508T080000
DTEND;TZID=America/Chicago:20240508T150000
DTSTAMP:20260419T222549
CREATED:20240503T172445Z
LAST-MODIFIED:20240503T172445Z
UID:47074-1715155200-1715180400@ktex.com
SUMMARY:National Small Business Conference
DESCRIPTION:
URL:https://ktex.com/event/national-small-business-conference/
LOCATION:Historic Casino Hall (LaGrange)\, 254 N. Jefferson Street\, La Grange\, TX\, 78945\, United States
CATEGORIES:Community Events
ATTACH;FMTTYPE=image/jpeg:https://ktex.com/wp-content/uploads/2024/05/nat-sm-business-conf.jpg
END:VEVENT
BEGIN:VEVENT
DTSTART;VALUE=DATE:20240509
DTEND;VALUE=DATE:20240510
DTSTAMP:20260419T222549
CREATED:20240223T215912Z
LAST-MODIFIED:20240223T215912Z
UID:45894-1715212800-1715299199@ktex.com
SUMMARY:Brenham HS Spring Band Concerts
DESCRIPTION:Thursday\, May 9\, HS Spring Band Concerts \n     6:00PM at Festival Institute in Round Top \n  \nTuesday\, May 21\, JH Spring Band Concerts \n6:00pm BHS Auditorium
URL:https://ktex.com/event/brenham-hs-spring-band-concerts/
LOCATION:Round Top Festival Institute\, 248 Jaster Rd \, Round Top\, TX\, 78954    \, United States
CATEGORIES:Community Events
ATTACH;FMTTYPE=image/jpeg:https://ktex.com/wp-content/uploads/2024/02/BISD-logo.jpg
END:VEVENT
BEGIN:VEVENT
DTSTART;VALUE=DATE:20240509
DTEND;VALUE=DATE:20240510
DTSTAMP:20260419T222549
CREATED:20240424T183827Z
LAST-MODIFIED:20240424T183827Z
UID:46929-1715212800-1715299199@ktex.com
SUMMARY:Burton Panther Band Concert
DESCRIPTION:
URL:https://ktex.com/event/burton-panther-band-concert/
LOCATION:Burton High School Gym\, 917 N. Main Street\, Burton\, TX\, 77835\, United States
CATEGORIES:Community Events
ATTACH;FMTTYPE=image/jpeg:https://ktex.com/wp-content/uploads/2024/04/burton-panther-band-concert.jpg
END:VEVENT
BEGIN:VEVENT
DTSTART;VALUE=DATE:20240509
DTEND;VALUE=DATE:20240510
DTSTAMP:20260419T222549
CREATED:20240430T151727Z
LAST-MODIFIED:20240430T151727Z
UID:47022-1715212800-1715299199@ktex.com
SUMMARY:Gather n Grace Gala
DESCRIPTION:
URL:https://ktex.com/event/gather-n-grace-gala/
LOCATION:Brenham Fire Department Training Center\, 1101 Hwy 290 West\, Brenham\, TX\, 77833\, United States
CATEGORIES:Community Events
ATTACH;FMTTYPE=image/jpeg:https://ktex.com/wp-content/uploads/2024/04/gather-n-grace-gala-may.jpg
END:VEVENT
BEGIN:VEVENT
DTSTART;VALUE=DATE:20240509
DTEND;VALUE=DATE:20240510
DTSTAMP:20260419T222549
CREATED:20240502T145220Z
LAST-MODIFIED:20240502T145220Z
UID:47054-1715212800-1715299199@ktex.com
SUMMARY:VFW Post #7104 Meeting & Installation of Officers
DESCRIPTION:James F. Dillion VFW Post #7104 & Auxiliary meeting; Thursday\, May 9\, starting at 7pm at the post home\, officers will be installed at this meeting
URL:https://ktex.com/event/vfw-post-7104-meeting-installation-of-officers/
LOCATION:James F. Dillion VFW Post 7104\, 1200 East Tom Green Street\, Brenham\, TX\, 77833\, United States
CATEGORIES:Community Events
ATTACH;FMTTYPE=image/jpeg:https://ktex.com/wp-content/uploads/2024/04/vfw.jpg
END:VEVENT
BEGIN:VEVENT
DTSTART;VALUE=DATE:20240509
DTEND;VALUE=DATE:20240510
DTSTAMP:20260419T222549
CREATED:20240506T193711Z
LAST-MODIFIED:20240506T193711Z
UID:47107-1715212800-1715299199@ktex.com
SUMMARY:Fortnightly Club of Brenham Spring Luncheon
DESCRIPTION:The Fortnightly Club of Brenham will host its Spring Luncheon on Thursday\, May 9th at the Ant Street Inn at 11:30 am.  Following lunch\, a check will be presented to the City of Brenham benefiting the Nancy Carol Roberts Memorial Library from the proceeds of the Club’s annual book sale.  Installation of new officers\, and announcement of Volunteer of the Year will follow.  All members are urged to attend.
URL:https://ktex.com/event/fortnightly-club-of-brenham-spring-luncheon/
LOCATION:Ant Street Inn\, 107 W. Commerce Street\, Brenham\, TX\, 77833\, United States
CATEGORIES:Community Events
ATTACH;FMTTYPE=image/jpeg:https://ktex.com/wp-content/uploads/2024/05/fortnightly-club-of-brenham-Picture1.jpg
END:VEVENT
BEGIN:VEVENT
DTSTART;VALUE=DATE:20240509
DTEND;VALUE=DATE:20240510
DTSTAMP:20260419T222549
CREATED:20240509T134559Z
LAST-MODIFIED:20240509T134559Z
UID:47147-1715212800-1715299199@ktex.com
SUMMARY:Hyundai of Brenham Grand Re-Opening & Ribbon Cutting
DESCRIPTION:
URL:https://ktex.com/event/hyundai-of-brenham-grand-re-opening-ribbon-cutting/
LOCATION:Hyundai of Brenham\, 1710 Hwy 290 West\, Brenham\, TX\, 77833\, United States
CATEGORIES:Community Events
ATTACH;FMTTYPE=image/jpeg:https://ktex.com/wp-content/uploads/2024/05/hyundai.jpg
END:VEVENT
BEGIN:VEVENT
DTSTART;VALUE=DATE:20240509
DTEND;VALUE=DATE:20240512
DTSTAMP:20260419T222549
CREATED:20240426T202629Z
LAST-MODIFIED:20240426T204446Z
UID:46959-1715212800-1715471999@ktex.com
SUMMARY:Navasota Theatre Arts presents CHICAGO Teen Edition
DESCRIPTION:
URL:https://ktex.com/event/navasota-theatre-arts-presents-chicago/
LOCATION:Brosig Performing Arts Center\, 105 Brosig Ave.\, Navasota\, TX\, 77868\, United States
CATEGORIES:Community Events
ATTACH;FMTTYPE=image/jpeg:https://ktex.com/wp-content/uploads/2024/04/navasota-theatre-chicago.jpg
END:VEVENT
BEGIN:VEVENT
DTSTART;VALUE=DATE:20240509
DTEND;VALUE=DATE:20240531
DTSTAMP:20260419T222549
CREATED:20240509T142520Z
LAST-MODIFIED:20240509T142520Z
UID:47157-1715212800-1717113599@ktex.com
SUMMARY:Washington Co. Fair Queen Contest Application is now Available
DESCRIPTION:The 2024 Washington County Fair Queen Contest Application is now available!  Represent Washington County and gain leadership skills\, public speaking skills\, lifelong memories and scholarship money!  Any young woman that will be a junior or senior in the Fall of 2024 and resides in Washington County is eligible to apply and participate. Each contestant must be an active member of at least one school organization\, such as band\, 4-H\, FFA\, athletics\, etc.  Please contact your club/organization or the fair office for an application. Applications are due by May 30\, 2024.
URL:https://ktex.com/event/washington-co-fair-queen-contest-application-is-now-available/
LOCATION:TX
CATEGORIES:Community Events
ATTACH;FMTTYPE=image/jpeg:https://ktex.com/wp-content/uploads/2024/05/wcf-queen-2024.jpg
END:VEVENT
BEGIN:VEVENT
DTSTART;TZID=America/Chicago:20240509T170000
DTEND;TZID=America/Chicago:20240509T190000
DTSTAMP:20260419T222549
CREATED:20240508T192656Z
LAST-MODIFIED:20240508T192656Z
UID:47123-1715274000-1715281200@ktex.com
SUMMARY:Business After Hours (Chappell Hill)
DESCRIPTION:Chappell Hill Chamber of Commerce’s monthly Business After Hours is Thursday\, May 9th\, 5-7pm at Bluebonnet House & Garden Center\, in downtown Chappell Hill. Find out what’s happening in Chappell Hill\, connect with friends and meet a few new ones. Goodies to nibble on\, libations provided by Mike Hopkins Distributing\, door prizes
URL:https://ktex.com/event/business-after-hours-chappell-hill-2/
LOCATION:Bluebonnet House & Garden Center\, 5095 Main Street\, Chappell Hill\, TX\, 77426\, United States
CATEGORIES:Community Events
ATTACH;FMTTYPE=image/jpeg:https://ktex.com/wp-content/uploads/2024/05/bluebonnet-house-garden-logo-for-business-after-hours.jpg
END:VEVENT
BEGIN:VEVENT
DTSTART;VALUE=DATE:20240510
DTEND;VALUE=DATE:20240511
DTSTAMP:20260419T222549
CREATED:20240108T200019Z
LAST-MODIFIED:20240108T200019Z
UID:44997-1715299200-1715385599@ktex.com
SUMMARY:Sons of Hermann Lodge 6 Monthly Meeting
DESCRIPTION:MEETING INFORMATION\n2nd Friday\, Monthly\nMeal at 6:30 PM Meeting at 7:15 PM\n@ HERMANN SONS LIFE HALL\nEFFECTIVE JANUARY 1\, 2024.  REGUALR MEETINGS\, MEAL WILL BE SERVED AT 6:30 AND MEETING WILL START AT 7:15.  PLEASE MAKE NOTE OF TIME CHANGE.  Make an effort to come to all meetings and support your lodge.
URL:https://ktex.com/event/sons-of-hermann-lodge-6-monthly-meeting-5/
LOCATION:Hermann Sons Life Hall (Brenham)\, 304 E. Germania Street\, Brenham\, TX\, 77833\, United States
CATEGORIES:Community Events
ATTACH;FMTTYPE=image/png:https://ktex.com/wp-content/uploads/2024/01/hermann-sons-life-logo.png
END:VEVENT
END:VCALENDAR