BEGIN:VCALENDAR
VERSION:2.0
PRODID:-//KTEX 106.1 - ECPv6.15.20//NONSGML v1.0//EN
CALSCALE:GREGORIAN
METHOD:PUBLISH
X-ORIGINAL-URL:https://ktex.com
X-WR-CALDESC:Events for KTEX 106.1
REFRESH-INTERVAL;VALUE=DURATION:PT1H
X-Robots-Tag:noindex
X-PUBLISHED-TTL:PT1H
BEGIN:VTIMEZONE
TZID:America/Chicago
BEGIN:DAYLIGHT
TZOFFSETFROM:-0600
TZOFFSETTO:-0500
TZNAME:CDT
DTSTART:20230312T080000
END:DAYLIGHT
BEGIN:STANDARD
TZOFFSETFROM:-0500
TZOFFSETTO:-0600
TZNAME:CST
DTSTART:20231105T070000
END:STANDARD
BEGIN:DAYLIGHT
TZOFFSETFROM:-0600
TZOFFSETTO:-0500
TZNAME:CDT
DTSTART:20240310T080000
END:DAYLIGHT
BEGIN:STANDARD
TZOFFSETFROM:-0500
TZOFFSETTO:-0600
TZNAME:CST
DTSTART:20241103T070000
END:STANDARD
BEGIN:DAYLIGHT
TZOFFSETFROM:-0600
TZOFFSETTO:-0500
TZNAME:CDT
DTSTART:20250309T080000
END:DAYLIGHT
BEGIN:STANDARD
TZOFFSETFROM:-0500
TZOFFSETTO:-0600
TZNAME:CST
DTSTART:20251102T070000
END:STANDARD
END:VTIMEZONE
BEGIN:VEVENT
DTSTART;VALUE=DATE:20240315
DTEND;VALUE=DATE:20240518
DTSTAMP:20260419T210731
CREATED:20240314T141105Z
LAST-MODIFIED:20240314T141145Z
UID:46196-1710460800-1715990399@ktex.com
SUMMARY:Lifeguard Classes Offered at BBAC
DESCRIPTION:LIFEGUARD CLASSES STARTING SOON!!!!! \nAre you looking for a flexible job\, that is understanding of school\, sports and family? Are you looking to make a difference in the community? Want to learn how to save lives? Apply today to be a lifeguard at jobs.cityofbrenham.org. We train you for FREE!! \nUpcoming Lifeguard Classes: \nSession 2 │ March 15 – 17 9:00 am – 4:00 pm \nSession 3 │ April 12 5:00 – 9:00pm │ April 13 & 14 9:00 am – 5:00 pm \nSession 4 │ April 26 5:00 – 9:00pm │ April 27 & 28 9:00 am – 5:00 pm \nSession 5 │ May 17 5:00 – 9:00pm │ May 18 & 19 9:00 am – 5:00 pm \n#BBACteam #BBACfun #LifeguardsHaveMoreFun #ParksandRecreation #CityofBrenham
URL:https://ktex.com/event/lifeguard-classes-offered-at-bbac/
LOCATION:Blue Bell Aquatic Center\, 1800 E Tom Green St\, Brenham\, TX\, 77833\, United States
CATEGORIES:Community Events
ATTACH;FMTTYPE=image/png:https://ktex.com/wp-content/uploads/2024/03/bbac-lifeguards.png
END:VEVENT
BEGIN:VEVENT
DTSTART;TZID=America/Chicago:20240315T170000
DTEND;TZID=America/Chicago:20240315T190000
DTSTAMP:20260419T210731
CREATED:20240213T150930Z
LAST-MODIFIED:20240213T150930Z
UID:45683-1710522000-1710529200@ktex.com
SUMMARY:Fish Fry C.H.A.M.P.
DESCRIPTION:
URL:https://ktex.com/event/fish-fry-c-h-a-m-p-5/
LOCATION:Sealy American Legion Hall\, 1630 Meyer Street\, Sealy\, TX\, 77474\, United States
CATEGORIES:Community Events
ATTACH;FMTTYPE=image/jpeg:https://ktex.com/wp-content/uploads/2024/02/fish-fry-champ.jpg
END:VEVENT
BEGIN:VEVENT
DTSTART;TZID=America/Chicago:20240315T173000
DTEND;TZID=America/Chicago:20240315T200000
DTSTAMP:20260419T210731
CREATED:20240201T154010Z
LAST-MODIFIED:20240201T154010Z
UID:45448-1710523800-1710532800@ktex.com
SUMMARY:Frelsburg KC Fish Fry
DESCRIPTION:
URL:https://ktex.com/event/frelsburg-kc-fish-fry-5/
LOCATION:Sts. Peter & Paul Diamond Center (Frelsburg)\, 1031 Church Lane\, New Ulm\, TX\, 78950\, United States
CATEGORIES:Community Events
ATTACH;FMTTYPE=image/jpeg:https://ktex.com/wp-content/uploads/2024/02/frelsburg-kc-fish-fry-feb.jpg
END:VEVENT
BEGIN:VEVENT
DTSTART;VALUE=DATE:20240316
DTEND;VALUE=DATE:20240317
DTSTAMP:20260419T210731
CREATED:20240215T202843Z
LAST-MODIFIED:20240215T202843Z
UID:45772-1710547200-1710633599@ktex.com
SUMMARY:American Legion Shelby Turkey Stew Fundraiser
DESCRIPTION:
URL:https://ktex.com/event/american-legion-shelby-turkey-stew-fundraiser/
LOCATION:American Legion Hall\, Shelby\, 4019 FM 1457\, Shelby\, TX\, United States
CATEGORIES:Community Events
ATTACH;FMTTYPE=image/jpeg:https://ktex.com/wp-content/uploads/2024/02/turkey-stew-2024.jpg
END:VEVENT
BEGIN:VEVENT
DTSTART;VALUE=DATE:20240316
DTEND;VALUE=DATE:20240317
DTSTAMP:20260419T210731
CREATED:20240313T215702Z
LAST-MODIFIED:20240313T215702Z
UID:46181-1710547200-1710633599@ktex.com
SUMMARY:Fundraising Event at New Life Church of God
DESCRIPTION:
URL:https://ktex.com/event/fundraising-event-at-new-life-church-of-god/
LOCATION:New Life Church of God\, Brenham\, 1990 FM389\, Brenham\, TX\, 77833\, United States
CATEGORIES:Community Events
ATTACH;FMTTYPE=image/png:https://ktex.com/wp-content/uploads/2024/03/fundraising-event-NLCOG.png
END:VEVENT
BEGIN:VEVENT
DTSTART;VALUE=DATE:20240316
DTEND;VALUE=DATE:20240318
DTSTAMP:20260419T210731
CREATED:20240311T183434Z
LAST-MODIFIED:20240311T183434Z
UID:46069-1710547200-1710719999@ktex.com
SUMMARY:Flying Horses Carousel
DESCRIPTION:Carousel Hours:\nMarch – May\nSaturday 11am – 4pm\nSunday 1-4pm\nJune – October\nSaturday 11am – 4pm\nAvailable for rentals outside of public hours. #ParksandRecreation #CityofBrenham
URL:https://ktex.com/event/flying-horses-carousel/
LOCATION:City of Brenham Fireman’s Park\, 901 N. Park Street\, Brenham\, TX\, 77833\, United States
CATEGORIES:Community Events
ATTACH;FMTTYPE=image/jpeg:https://ktex.com/wp-content/uploads/2024/03/flying-horses-carousel.jpg
END:VEVENT
BEGIN:VEVENT
DTSTART;TZID=America/Chicago:20240316T173000
DTEND;TZID=America/Chicago:20240316T190000
DTSTAMP:20260419T210731
CREATED:20240311T181634Z
LAST-MODIFIED:20240311T181634Z
UID:46044-1710610200-1710615600@ktex.com
SUMMARY:Worship Journey at New Hope MBC
DESCRIPTION:
URL:https://ktex.com/event/worship-journey-at-new-hope-mbc/
LOCATION:New Hope Missionary Baptist Church (Brenham)\, 704 W. Jefferson St.\, Brenham\, TX\, 77833\, United States
CATEGORIES:Community Events
ATTACH;FMTTYPE=image/jpeg:https://ktex.com/wp-content/uploads/2024/03/nhmbc-mar-16.jpg
END:VEVENT
BEGIN:VEVENT
DTSTART;VALUE=DATE:20240317
DTEND;VALUE=DATE:20240318
DTSTAMP:20260419T210731
CREATED:20240228T223627Z
LAST-MODIFIED:20240311T182728Z
UID:45958-1710633600-1710719999@ktex.com
SUMMARY:Pack-A-Pew Service at Allwise Baptist Church
DESCRIPTION:Allwise Baptist Church in Chappell Hill will have its pack-a-pew service on Sunday\, Mar. 17\, starting at 3pm\, Rev. James McDonald and the Main Street Church congregation will be their guest.  Rev. Garry W. Jones\, Host Pastor
URL:https://ktex.com/event/pack-the-pews-service-at-allwise-baptist-church/
LOCATION:Allwise Missionary Baptist Church (Chappell Hill)\, 885 All Wise Road\, Chappell Hill\, TX\, 77426\, United States
CATEGORIES:Community Events
ATTACH;FMTTYPE=image/jpeg:https://ktex.com/wp-content/uploads/2024/02/pac-a-pew-rally-mar.jpg
END:VEVENT
BEGIN:VEVENT
DTSTART;VALUE=DATE:20240317
DTEND;VALUE=DATE:20240318
DTSTAMP:20260419T210731
CREATED:20240312T140142Z
LAST-MODIFIED:20240312T140142Z
UID:46119-1710633600-1710719999@ktex.com
SUMMARY:Bellville Historical Society Program
DESCRIPTION:
URL:https://ktex.com/event/bellville-historical-society-program-2/
LOCATION:Bellville Turnverein\, 966 East Main\, Bellville\, TX\, 77418\, United States
CATEGORIES:Community Events
ATTACH;FMTTYPE=image/png:https://ktex.com/wp-content/uploads/2024/03/bellville-hist-soc-program-mar-17.png
END:VEVENT
BEGIN:VEVENT
DTSTART;VALUE=DATE:20240318
DTEND;VALUE=DATE:20240319
DTSTAMP:20260419T210731
CREATED:20240312T144652Z
LAST-MODIFIED:20240312T144652Z
UID:46138-1710720000-1710806399@ktex.com
SUMMARY:Eagle Wall Presentation
DESCRIPTION:
URL:https://ktex.com/event/eagle-wall-presentation/
LOCATION:Washington County Courthouse Annex\, 100 South Park\, Brenham\, Texas\, 77833
CATEGORIES:Community Events
ATTACH;FMTTYPE=image/png:https://ktex.com/wp-content/uploads/2024/03/eagle-wall-2024.png
END:VEVENT
BEGIN:VEVENT
DTSTART;VALUE=DATE:20240319
DTEND;VALUE=DATE:20240320
DTSTAMP:20260419T210731
CREATED:20231208T150609Z
LAST-MODIFIED:20231208T150609Z
UID:44478-1710806400-1710892799@ktex.com
SUMMARY:Austin Co. Lunch-N-Learn Series (Spring)
DESCRIPTION:
URL:https://ktex.com/event/austin-co-lunch-n-learn-series-spring-3/
LOCATION:Austin County Courthouse (basement meeting room)\, 1 E Main Street\, Bellville\, TX\, 77418\, United States
CATEGORIES:Community Events
ATTACH;FMTTYPE=image/jpeg:https://ktex.com/wp-content/uploads/2023/12/ac-lunch-learn-series-24.jpg
END:VEVENT
BEGIN:VEVENT
DTSTART;VALUE=DATE:20240319
DTEND;VALUE=DATE:20240320
DTSTAMP:20260419T210731
CREATED:20240226T203757Z
LAST-MODIFIED:20240228T150545Z
UID:45933-1710806400-1710892799@ktex.com
SUMMARY:State of the Community Event
DESCRIPTION:Register online or by email dawn@brenhamtexas.com or stop by the Chamber office. \nWe are honored to include the following speakers \nMayor of Brenham: Atwood Kenjura \nWashington County Judge: John Durrenberger \nWashington County EMS: Kevin Deramus \nBrenham ISD Superintendent: Clay Gillentine \nBurton ISD Superintendent: Edna Kennedy \nLunch included and catered for by Smitty’s Cafe and Bakery
URL:https://ktex.com/event/state-of-the-community-event/
LOCATION:Washington County Expo\, 1305 E. Blue Bell Rd.\, Brenham\, TX\, 77833\, United States
CATEGORIES:Community Events
ATTACH;FMTTYPE=image/jpeg:https://ktex.com/wp-content/uploads/2024/02/state-of-community-mar-19.jpg
END:VEVENT
BEGIN:VEVENT
DTSTART;VALUE=DATE:20240319
DTEND;VALUE=DATE:20240320
DTSTAMP:20260419T210731
CREATED:20240311T185624Z
LAST-MODIFIED:20240311T185624Z
UID:46096-1710806400-1710892799@ktex.com
SUMMARY:Navasota ISD Pre-UIL Concert
DESCRIPTION:
URL:https://ktex.com/event/navasota-isd-pre-uil-concert/
LOCATION:Brosig Auditorium\, 100 Brosig Street\, Navasota\, TX\, 77868\, United States
CATEGORIES:Community Events
ATTACH;FMTTYPE=image/png:https://ktex.com/wp-content/uploads/2024/03/nisd-pre-uil-concert.png
END:VEVENT
BEGIN:VEVENT
DTSTART;TZID=America/Chicago:20240319T100000
DTEND;TZID=America/Chicago:20240319T143000
DTSTAMP:20260419T210731
CREATED:20240315T194945Z
LAST-MODIFIED:20240315T195745Z
UID:46226-1710842400-1710858600@ktex.com
SUMMARY:Blood Drive-Donor Coach at Germania Insurance
DESCRIPTION:The Gulf Coast Regional Blood Center will host a blood drive at Germania Insurance\, 507 Hwy 290E\, Brenham on Tuesday Mach 19\, from 10:00AM to 2:30 PM in the donor coach\, donors can sign up on line with sponsor code: 4146 or call the Brenham office (979)836-5224 * Appointments are preferred. Walk-ins welcomed.
URL:https://ktex.com/event/blood-drive-donor-coach-at-germania-insurance/
LOCATION:Germania Insurance\, 507 Hwy 290 E\, Brenham\, TX\, 77833\, United States
CATEGORIES:Community Events
ATTACH;FMTTYPE=image/png:https://ktex.com/wp-content/uploads/2024/03/blood-drive-mar-19.png
END:VEVENT
BEGIN:VEVENT
DTSTART;VALUE=DATE:20240321
DTEND;VALUE=DATE:20240322
DTSTAMP:20260419T210731
CREATED:20240312T140320Z
LAST-MODIFIED:20240312T140320Z
UID:46123-1710979200-1711065599@ktex.com
SUMMARY:Friends of Bluebonnet Opry
DESCRIPTION:
URL:https://ktex.com/event/friends-of-bluebonnet-opry-4/
LOCATION:Silver Wings Ballroom\, 4100 State Highway 105\, Brenham\, TX\, 77833\, United States
CATEGORIES:Community Events
ATTACH;FMTTYPE=image/png:https://ktex.com/wp-content/uploads/2024/03/friends-of-bluebonnet-opry-march.png
END:VEVENT
BEGIN:VEVENT
DTSTART;VALUE=DATE:20240321
DTEND;VALUE=DATE:20240322
DTSTAMP:20260419T210731
CREATED:20240312T191031Z
LAST-MODIFIED:20240312T191031Z
UID:46157-1710979200-1711065599@ktex.com
SUMMARY:Round Top Spring Antique Show
DESCRIPTION:Shop til you drop with the best antiques you can find! Celebrate shopping with KTEX 106 at the Round Top Spring Antique Show! Catch Courtney in the KTEX Country Cruiser with her wallet empty and bags full!
URL:https://ktex.com/event/round-top-spring-antique-show/
LOCATION:Stone Cellar\, 550 N Washington St \, Round Top
CATEGORIES:KTEX on the Road
END:VEVENT
BEGIN:VEVENT
DTSTART;TZID=America/Chicago:20240321T160000
DTEND;TZID=America/Chicago:20240321T180000
DTSTAMP:20260419T210731
CREATED:20240312T193523Z
LAST-MODIFIED:20240312T193523Z
UID:46170-1711036800-1711044000@ktex.com
SUMMARY:Washington County Chamber Connect After Four Event
DESCRIPTION:
URL:https://ktex.com/event/washington-county-chamber-connect-after-four-event-3/
LOCATION:Texas Farm Credit\, 1301 Hwy 290 E\, Brenham\, TX\, 77833\, United States
CATEGORIES:Community Events
ATTACH;FMTTYPE=image/jpeg:https://ktex.com/wp-content/uploads/2024/03/connect-after-four-mar-21.jpg
END:VEVENT
BEGIN:VEVENT
DTSTART;TZID=America/Chicago:20240321T170000
DTEND;TZID=America/Chicago:20240321T183000
DTSTAMP:20260419T210731
CREATED:20231114T191441Z
LAST-MODIFIED:20231114T191441Z
UID:44098-1711040400-1711045800@ktex.com
SUMMARY:Burton Community Center Drive-Thru Meals
DESCRIPTION:
URL:https://ktex.com/event/burton-community-center-drive-thru-meals-5/
LOCATION:TX
CATEGORIES:Community Events
ATTACH;FMTTYPE=image/jpeg:https://ktex.com/wp-content/uploads/2023/11/burton-comm-drive-thru-nov-thru-mar.jpg
END:VEVENT
BEGIN:VEVENT
DTSTART;VALUE=DATE:20240322
DTEND;VALUE=DATE:20240323
DTSTAMP:20260419T210731
CREATED:20240208T201123Z
LAST-MODIFIED:20240305T164518Z
UID:45592-1711065600-1711151999@ktex.com
SUMMARY:Brazos County Youth Livestock Show Ag-U-Cate
DESCRIPTION:Eilish will be at the Ag-YOU-Cate for the Brazos County Youth Livestock Show! Ag-YOU-Cate’s purpose is to introduce agriculture through interactive workshops in an effort to educate future generations about the agricultural roots of consumer products. She’ll be there in the KTEX Country Cruiser!
URL:https://ktex.com/event/brazos-county-youth-livestock-show-ag-u-cate/
LOCATION:Brazos County Expo Complex\, 5827 Leonard Rd.\, Bryan\, TX\, 77807\, United States
CATEGORIES:KTEX on the Road
END:VEVENT
BEGIN:VEVENT
DTSTART;VALUE=DATE:20240322
DTEND;VALUE=DATE:20240323
DTSTAMP:20260419T210731
CREATED:20240319T200259Z
LAST-MODIFIED:20240319T200259Z
UID:46266-1711065600-1711151999@ktex.com
SUMMARY:Chick Church
DESCRIPTION:
URL:https://ktex.com/event/chick-church/
LOCATION:Crave Fitness Studio\, 1801 South Blue Bell Road\, Brenham\, TX\, 77833\, United States
CATEGORIES:Community Events
ATTACH;FMTTYPE=image/png:https://ktex.com/wp-content/uploads/2024/03/chick-church-march.png
END:VEVENT
BEGIN:VEVENT
DTSTART;VALUE=DATE:20240322
DTEND;VALUE=DATE:20240323
DTSTAMP:20260419T210731
CREATED:20240320T141719Z
LAST-MODIFIED:20240320T141719Z
UID:46294-1711065600-1711151999@ktex.com
SUMMARY:Cubettes hosting Youth Night
DESCRIPTION:
URL:https://ktex.com/event/cubettes-hosting-youth-night/
LOCATION:TX
CATEGORIES:Community Events
ATTACH;FMTTYPE=image/jpeg:https://ktex.com/wp-content/uploads/2024/03/youth-night-mar-22.jpg
END:VEVENT
BEGIN:VEVENT
DTSTART;TZID=America/Chicago:20240322T170000
DTEND;TZID=America/Chicago:20240322T190000
DTSTAMP:20260419T210731
CREATED:20240213T151058Z
LAST-MODIFIED:20240213T151058Z
UID:45685-1711126800-1711134000@ktex.com
SUMMARY:Fish Fry C.H.A.M.P.
DESCRIPTION:
URL:https://ktex.com/event/fish-fry-c-h-a-m-p-6/
LOCATION:Sealy American Legion Hall\, 1630 Meyer Street\, Sealy\, TX\, 77474\, United States
CATEGORIES:Community Events
ATTACH;FMTTYPE=image/jpeg:https://ktex.com/wp-content/uploads/2024/02/fish-fry-champ.jpg
END:VEVENT
BEGIN:VEVENT
DTSTART;TZID=America/Chicago:20240322T173000
DTEND;TZID=America/Chicago:20240322T193000
DTSTAMP:20260419T210731
CREATED:20240216T180456Z
LAST-MODIFIED:20240216T180456Z
UID:45794-1711128600-1711135800@ktex.com
SUMMARY:Brenham Fire Department Fish Fry
DESCRIPTION:
URL:https://ktex.com/event/brenham-fire-department-fish-fry/
LOCATION:Brenham Fire Department Training Center\, 1101 Hwy 290 West\, Brenham\, TX\, 77833\, United States
CATEGORIES:Community Events
ATTACH;FMTTYPE=image/jpeg:https://ktex.com/wp-content/uploads/2024/02/brenham-fire-fish-fry-mar-24.jpg
END:VEVENT
BEGIN:VEVENT
DTSTART;TZID=America/Chicago:20240322T173000
DTEND;TZID=America/Chicago:20240322T200000
DTSTAMP:20260419T210731
CREATED:20240201T154141Z
LAST-MODIFIED:20240201T154141Z
UID:45450-1711128600-1711137600@ktex.com
SUMMARY:Frelsburg KC Fish Fry
DESCRIPTION:
URL:https://ktex.com/event/frelsburg-kc-fish-fry-6/
LOCATION:Sts. Peter & Paul Diamond Center (Frelsburg)\, 1031 Church Lane\, New Ulm\, TX\, 78950\, United States
CATEGORIES:Community Events
ATTACH;FMTTYPE=image/jpeg:https://ktex.com/wp-content/uploads/2024/02/frelsburg-kc-fish-fry-feb.jpg
END:VEVENT
BEGIN:VEVENT
DTSTART;VALUE=DATE:20240323
DTEND;VALUE=DATE:20240325
DTSTAMP:20260419T210731
CREATED:20240215T203008Z
LAST-MODIFIED:20240215T203008Z
UID:45775-1711152000-1711324799@ktex.com
SUMMARY:Elk 979 Sweetheart Garage Sale
DESCRIPTION:
URL:https://ktex.com/event/elk-979-sweetheart-garage-sale/
LOCATION:Brenham Elks Lodge 979\, 400 East Germania St.\, Brenham\, 77833
CATEGORIES:Community Events
ATTACH;FMTTYPE=image/jpeg:https://ktex.com/wp-content/uploads/2024/02/elk-979-sweetheart-gs.jpg
END:VEVENT
BEGIN:VEVENT
DTSTART;TZID=America/Chicago:20240323T060000
DTEND;TZID=America/Chicago:20240323T120000
DTSTAMP:20260419T210731
CREATED:20231208T152319Z
LAST-MODIFIED:20231208T152319Z
UID:44484-1711173600-1711195200@ktex.com
SUMMARY:Blue Bell Fun Run
DESCRIPTION:The course starts and finishes at Brenham High School on FM 2935 off of Loop 577 on the north side of town in scenic and historic Washington County. The Trestle Trail guides runners down paved\, winding roads taking you through Brenham’s beautiful countryside — rolling hills covered in Bluebonnets. \nIt’s fun for kids and adults alike with individual and team events in both the 5K and 10K. And for those that desire an even greater challenge\, a half marathon route is part of our event schedule (limited spots available). Even the friends and family that are on hand to support the runners get the Blue Bell Ice Cream! \nAll Parking is at Washington County Fairgrounds on Blue Bell Rd. Shuttles bring participants and guests to Brenham High School where you will be directed to start lines.
URL:https://ktex.com/event/blue-bell-fun-run/
LOCATION:Brenham High School\, 525 A H Ehrig Drive\, Brenham\, TX\, 77833\, United States
CATEGORIES:Community Events
ATTACH;FMTTYPE=image/png:https://ktex.com/wp-content/uploads/2023/12/bluebell-fun-run-24.png
END:VEVENT
BEGIN:VEVENT
DTSTART;TZID=America/Chicago:20240323T080000
DTEND;TZID=America/Chicago:20240323T130000
DTSTAMP:20260419T210731
CREATED:20240219T175619Z
LAST-MODIFIED:20240219T175619Z
UID:45824-1711180800-1711198800@ktex.com
SUMMARY:Spring Plant Sale (Brazos County)
DESCRIPTION:
URL:https://ktex.com/event/spring-plant-sale-brazos-county/
LOCATION:Brazos County Extension Office\, 4153 County Park Court\, Bryan\, TX\, 77802\, United States
CATEGORIES:Community Events
ATTACH;FMTTYPE=image/jpeg:https://ktex.com/wp-content/uploads/2024/02/2024-spring-plant-sale-mar.jpg
END:VEVENT
BEGIN:VEVENT
DTSTART;TZID=America/Chicago:20240323T100000
DTEND;TZID=America/Chicago:20240323T120000
DTSTAMP:20260419T210731
CREATED:20240305T164840Z
LAST-MODIFIED:20240312T190812Z
UID:46028-1711188000-1711195200@ktex.com
SUMMARY:WC Tractor New Holland
DESCRIPTION:Rev up your tractors and head to WC Tractor New Holland in Brenham to spin the wagon wheel of prizes while you shop for all your ag needs! Catch Eilish and Cowboy  Dave there in the KTEX Country Cruiser!
URL:https://ktex.com/event/wc-tractor-new-holland/
LOCATION:WC Tractor – Brenham\, 5435 HWY 290 E\, Brenham\, TX\, 77833\, United States
CATEGORIES:KTEX on the Road
END:VEVENT
BEGIN:VEVENT
DTSTART;TZID=America/Chicago:20240323T100000
DTEND;TZID=America/Chicago:20240323T130000
DTSTAMP:20260419T210731
CREATED:20240312T151900Z
LAST-MODIFIED:20240312T151900Z
UID:46141-1711188000-1711198800@ktex.com
SUMMARY:Hildebrandt Meat Market's Annual Egg Drop
DESCRIPTION:
URL:https://ktex.com/event/hildebrandt-meat-markets-annual-egg-drop/
LOCATION:Lexington City Park\, 9035 US-77\, Lexington\, TX\, 78947\, United States
CATEGORIES:Community Events
ATTACH;FMTTYPE=image/jpeg:https://ktex.com/wp-content/uploads/2024/03/hildebrandt-market-egg-drop.jpg
END:VEVENT
BEGIN:VEVENT
DTSTART;TZID=America/Chicago:20240323T100000
DTEND;TZID=America/Chicago:20240323T160000
DTSTAMP:20260419T210731
CREATED:20240312T192819Z
LAST-MODIFIED:20240312T192819Z
UID:46162-1711188000-1711209600@ktex.com
SUMMARY:Independence Historical Society-Tours of Historic Texas Buildings
DESCRIPTION:
URL:https://ktex.com/event/independence-historical-society-tours-of-historic-texas-buildings/
LOCATION:TX
CATEGORIES:Community Events
ATTACH;FMTTYPE=image/png:https://ktex.com/wp-content/uploads/2024/03/indep-hist-society-tours-march.png
END:VEVENT
END:VCALENDAR