BEGIN:VCALENDAR
VERSION:2.0
PRODID:-//KTEX 106.1 - ECPv6.15.20//NONSGML v1.0//EN
CALSCALE:GREGORIAN
METHOD:PUBLISH
X-WR-CALNAME:KTEX 106.1
X-ORIGINAL-URL:https://ktex.com
X-WR-CALDESC:Events for KTEX 106.1
REFRESH-INTERVAL;VALUE=DURATION:PT1H
X-Robots-Tag:noindex
X-PUBLISHED-TTL:PT1H
BEGIN:VTIMEZONE
TZID:America/Chicago
BEGIN:DAYLIGHT
TZOFFSETFROM:-0600
TZOFFSETTO:-0500
TZNAME:CDT
DTSTART:20230312T080000
END:DAYLIGHT
BEGIN:STANDARD
TZOFFSETFROM:-0500
TZOFFSETTO:-0600
TZNAME:CST
DTSTART:20231105T070000
END:STANDARD
BEGIN:DAYLIGHT
TZOFFSETFROM:-0600
TZOFFSETTO:-0500
TZNAME:CDT
DTSTART:20240310T080000
END:DAYLIGHT
BEGIN:STANDARD
TZOFFSETFROM:-0500
TZOFFSETTO:-0600
TZNAME:CST
DTSTART:20241103T070000
END:STANDARD
BEGIN:DAYLIGHT
TZOFFSETFROM:-0600
TZOFFSETTO:-0500
TZNAME:CDT
DTSTART:20250309T080000
END:DAYLIGHT
BEGIN:STANDARD
TZOFFSETFROM:-0500
TZOFFSETTO:-0600
TZNAME:CST
DTSTART:20251102T070000
END:STANDARD
END:VTIMEZONE
BEGIN:VEVENT
DTSTART;VALUE=DATE:20240220
DTEND;VALUE=DATE:20240221
DTSTAMP:20260419T210510
CREATED:20240214T223320Z
LAST-MODIFIED:20240214T223320Z
UID:45714-1708387200-1708473599@ktex.com
SUMMARY:Chamber Ribbon Cutting-Anniversary Celebration - Argent Court
DESCRIPTION:
URL:https://ktex.com/event/chamber-ribbon-cutting-anniversary-celebration-argent-court/
LOCATION:Argent Court\, 2815 Victory Ln\, Brenham\, 77833
CATEGORIES:Community Events
ATTACH;FMTTYPE=image/jpeg:https://ktex.com/wp-content/uploads/2024/02/ribbon-cut-feb-20.jpg
END:VEVENT
BEGIN:VEVENT
DTSTART;VALUE=DATE:20240220
DTEND;VALUE=DATE:20240221
DTSTAMP:20260419T210510
CREATED:20240219T162810Z
LAST-MODIFIED:20240219T162810Z
UID:45813-1708387200-1708473599@ktex.com
SUMMARY:Cubs Send-Off
DESCRIPTION:
URL:https://ktex.com/event/cubs-send-off/
LOCATION:Brenham High School\, 525 A H Ehrig Drive\, Brenham\, TX\, 77833\, United States
CATEGORIES:Community Events
ATTACH;FMTTYPE=image/jpeg:https://ktex.com/wp-content/uploads/2024/02/cubs-send-off-feb-20.jpg
END:VEVENT
BEGIN:VEVENT
DTSTART;VALUE=DATE:20240221
DTEND;VALUE=DATE:20240222
DTSTAMP:20260419T210510
CREATED:20240209T144034Z
LAST-MODIFIED:20240209T144034Z
UID:45624-1708473600-1708559999@ktex.com
SUMMARY:Washington County Students Travel Opportunity
DESCRIPTION:In the Summer of 2026 students and families will have the opportunity to travel to Athens\, Florence\, Rome\, and Barcelona on a tour of the BEST the Mediterranean has to offer. There will be an informational session on February 21st at 6pm in the BHS Cafeteria for all who are interested. To get more information and RSVP for the meeting\, please use the following link: https://bit.ly/47k5lb9
URL:https://ktex.com/event/washington-county-students-travel-opportunity/
LOCATION:Brenham High School Cafeteria\, 525 A H Ehrig Drive\, Brenham\, TX\, 77833\, United States
CATEGORIES:Community Events
ATTACH;FMTTYPE=image/png:https://ktex.com/wp-content/uploads/2024/02/brenham-takes-europe.png
END:VEVENT
BEGIN:VEVENT
DTSTART;VALUE=DATE:20240221
DTEND;VALUE=DATE:20240222
DTSTAMP:20260419T210510
CREATED:20240209T224247Z
LAST-MODIFIED:20240209T224247Z
UID:45633-1708473600-1708559999@ktex.com
SUMMARY:Washington County A&M Club Quarterly Club Luncheon
DESCRIPTION:
URL:https://ktex.com/event/washington-county-am-club-quarterly-club-luncheon/
LOCATION:Cannery Kitchen\, 314 East Alamo Street\, Brenham\, TX\, 77833\, United States
CATEGORIES:Community Events
ATTACH;FMTTYPE=image/png:https://ktex.com/wp-content/uploads/2024/02/tamu-quarter-club-luncheon.png
END:VEVENT
BEGIN:VEVENT
DTSTART;VALUE=DATE:20240221
DTEND;VALUE=DATE:20240302
DTSTAMP:20260419T210510
CREATED:20240221T145011Z
LAST-MODIFIED:20240221T145011Z
UID:45841-1708473600-1709337599@ktex.com
SUMMARY:Spring Eggs Art Walk
DESCRIPTION:Registration deadline:  Friday\, March 1st 
URL:https://ktex.com/event/spring-eggs-art-walk/
CATEGORIES:Community Events
ATTACH;FMTTYPE=image/jpeg:https://ktex.com/wp-content/uploads/2024/02/spring-eggs-art-walk.jpg
END:VEVENT
BEGIN:VEVENT
DTSTART;VALUE=DATE:20240222
DTEND;VALUE=DATE:20240223
DTSTAMP:20260419T210510
CREATED:20240131T145331Z
LAST-MODIFIED:20240131T145331Z
UID:45423-1708560000-1708646399@ktex.com
SUMMARY:Heart of Acara Foundation presents "Plates With a Purpose" Luncheon
DESCRIPTION:Join Heart of Acara Foundation for\nPLATES WITH A PURPOSE\nPlease join us on February 22\, 2024\nPebble Creek Country Club\n11:00 am – 1:00 pm\nKeynote speaker will be New York Times Best Seller Melanie Shankle\nDetails at Heart of Acara Foundation.org
URL:https://ktex.com/event/heart-of-acara-foundation-presents-plates-with-a-purpose-luncheon/
LOCATION:Pebble Creek Country Club\, 4500 Pebble Creek Pkwy\, College Station\, TX\, 77845\, United States
CATEGORIES:Community Events
ATTACH;FMTTYPE=image/png:https://ktex.com/wp-content/uploads/2024/01/heart-of-acara-foundation.png
END:VEVENT
BEGIN:VEVENT
DTSTART;VALUE=DATE:20240222
DTEND;VALUE=DATE:20240223
DTSTAMP:20260419T210510
CREATED:20240219T215303Z
LAST-MODIFIED:20240219T215303Z
UID:45830-1708560000-1708646399@ktex.com
SUMMARY:Bellville Chamber of Commerce Ribbon Cutting-Secure Storage Co\, LLC
DESCRIPTION:
URL:https://ktex.com/event/bellville-chamber-of-commerce-ribbon-cutting-secure-storage-co-llc/
LOCATION:Secure Storage Co\, LLC\, 4432 Hwy 36 N\, Bellville\, TX\, 77418\, United States
CATEGORIES:Community Events
ATTACH;FMTTYPE=image/png:https://ktex.com/wp-content/uploads/2024/02/ribbon-cut-feb-22.png
END:VEVENT
BEGIN:VEVENT
DTSTART;VALUE=DATE:20240223
DTEND;VALUE=DATE:20240224
DTSTAMP:20260419T210510
CREATED:20240125T224608Z
LAST-MODIFIED:20240125T224608Z
UID:45369-1708646400-1708732799@ktex.com
SUMMARY:Burton VFD Fish Fry
DESCRIPTION:
URL:https://ktex.com/event/burton-vfd-fish-fry-2/
CATEGORIES:Community Events
ATTACH;FMTTYPE=image/jpeg:https://ktex.com/wp-content/uploads/2024/01/burton-vfd-fish-fry-feb.jpg
END:VEVENT
BEGIN:VEVENT
DTSTART;VALUE=DATE:20240223
DTEND;VALUE=DATE:20240225
DTSTAMP:20260419T210510
CREATED:20240126T214449Z
LAST-MODIFIED:20240126T214449Z
UID:45384-1708646400-1708819199@ktex.com
SUMMARY:Best Little Quilt Show in Texas (LaGrange)
DESCRIPTION:
URL:https://ktex.com/event/best-little-quilt-show-in-texas-lagrange/
LOCATION:LaGrange Community Center (KC Hall)\, 190 S. Brown Street\, La Grange\, TX\, 78945\, United States
CATEGORIES:Community Events
ATTACH;FMTTYPE=image/png:https://ktex.com/wp-content/uploads/2024/01/best-little-qult-show-feb.png
END:VEVENT
BEGIN:VEVENT
DTSTART;TZID=America/Chicago:20240223T170000
DTEND;TZID=America/Chicago:20240223T190000
DTSTAMP:20260419T210510
CREATED:20240213T150549Z
LAST-MODIFIED:20240213T150549Z
UID:45677-1708707600-1708714800@ktex.com
SUMMARY:Fish Fry C.H.A.M.P.
DESCRIPTION:
URL:https://ktex.com/event/fish-fry-c-h-a-m-p-2/
LOCATION:Sealy American Legion Hall\, 1630 Meyer Street\, Sealy\, TX\, 77474\, United States
CATEGORIES:Community Events
ATTACH;FMTTYPE=image/jpeg:https://ktex.com/wp-content/uploads/2024/02/fish-fry-champ.jpg
END:VEVENT
BEGIN:VEVENT
DTSTART;TZID=America/Chicago:20240223T173000
DTEND;TZID=America/Chicago:20240223T200000
DTSTAMP:20260419T210510
CREATED:20240201T153458Z
LAST-MODIFIED:20240201T153458Z
UID:45442-1708709400-1708718400@ktex.com
SUMMARY:Frelsburg KC Fish Fry
DESCRIPTION:
URL:https://ktex.com/event/frelsburg-kc-fish-fry-2/
LOCATION:Sts. Peter & Paul Diamond Center (Frelsburg)\, 1031 Church Lane\, New Ulm\, TX\, 78950\, United States
CATEGORIES:Community Events
ATTACH;FMTTYPE=image/jpeg:https://ktex.com/wp-content/uploads/2024/02/frelsburg-kc-fish-fry-feb.jpg
END:VEVENT
BEGIN:VEVENT
DTSTART;VALUE=DATE:20240224
DTEND;VALUE=DATE:20240225
DTSTAMP:20260419T210510
CREATED:20240117T191102Z
LAST-MODIFIED:20240117T191102Z
UID:45197-1708732800-1708819199@ktex.com
SUMMARY:Western Dance (Snook)
DESCRIPTION:
URL:https://ktex.com/event/western-dance-snook/
CATEGORIES:Community Events
ATTACH;FMTTYPE=image/jpeg:https://ktex.com/wp-content/uploads/2024/01/western-dance-snook.jpg
END:VEVENT
BEGIN:VEVENT
DTSTART;VALUE=DATE:20240224
DTEND;VALUE=DATE:20240225
DTSTAMP:20260419T210510
CREATED:20240130T225344Z
LAST-MODIFIED:20240130T225344Z
UID:45420-1708732800-1708819199@ktex.com
SUMMARY:Nicholson Lake Road RV Park Annual Chili Cook-Off
DESCRIPTION:
URL:https://ktex.com/event/nicholson-lake-road-rv-park-annual-chili-cook-off/
LOCATION:Nicholson Lake Road RV Park\, 4200 Nicholson Lake Road\, Chappell Hill\, TX\, 77426\, United States
CATEGORIES:Community Events
ATTACH;FMTTYPE=image/jpeg:https://ktex.com/wp-content/uploads/2024/01/nicholson-lake-rv-chili-cook-off.jpg
END:VEVENT
BEGIN:VEVENT
DTSTART;VALUE=DATE:20240224
DTEND;VALUE=DATE:20240225
DTSTAMP:20260419T210510
CREATED:20240207T181019Z
LAST-MODIFIED:20240207T181019Z
UID:45536-1708732800-1708819199@ktex.com
SUMMARY:Private Film Screening of "Who Said You Can't"
DESCRIPTION:
URL:https://ktex.com/event/private-film-screening-of-who-said-you-cant/
LOCATION:Navasota Public Library\, 1411 E Washington Ave\, Navasota\, TX\, 77868\, United States
CATEGORIES:Community Events
ATTACH;FMTTYPE=image/jpeg:https://ktex.com/wp-content/uploads/2024/02/who-said.jpg
END:VEVENT
BEGIN:VEVENT
DTSTART;VALUE=DATE:20240224
DTEND;VALUE=DATE:20240225
DTSTAMP:20260419T210510
CREATED:20240212T223448Z
LAST-MODIFIED:20240212T223448Z
UID:45656-1708732800-1708819199@ktex.com
SUMMARY:Lee County Little League Crawfish Boil
DESCRIPTION:
URL:https://ktex.com/event/lee-county-little-league-crawfish-boil/
LOCATION:The Silos on 77\, 1031 CR 223\, Giddings\, TX\, 78942\, United States
CATEGORIES:Community Events
ATTACH;FMTTYPE=image/png:https://ktex.com/wp-content/uploads/2024/02/crawfish-boil-the-silos.png
END:VEVENT
BEGIN:VEVENT
DTSTART;VALUE=DATE:20240224
DTEND;VALUE=DATE:20240225
DTSTAMP:20260419T210510
CREATED:20240214T223947Z
LAST-MODIFIED:20240214T223947Z
UID:45717-1708732800-1708819199@ktex.com
SUMMARY:Chamber Ribbon Cutting-Bridge Ministry of Burton Texas (furniture building)
DESCRIPTION:
URL:https://ktex.com/event/chamber-ribbon-cutting-bridge-ministry-of-burton-texas-furniture-building/
LOCATION:Bridge Ministry of Burton Texas (furniture building at Corner Shoppe)\, 307 North Brazos St.\, Burton\, TX\, 77835\, United States
CATEGORIES:Community Events
ATTACH;FMTTYPE=image/jpeg:https://ktex.com/wp-content/uploads/2024/02/ribbon-cut-feb-24.jpg
END:VEVENT
BEGIN:VEVENT
DTSTART;TZID=America/Chicago:20240224T090000
DTEND;TZID=America/Chicago:20240224T130000
DTSTAMP:20260419T210510
CREATED:20240215T203149Z
LAST-MODIFIED:20240215T203149Z
UID:45778-1708765200-1708779600@ktex.com
SUMMARY:Special Olympics Basketball Skills Event
DESCRIPTION:
URL:https://ktex.com/event/special-olympics-basketball-skills-event/
LOCATION:Early Childhood Learning Center\, 304 Kerr St.\, Brenham\, TX\, 77833\, United States
CATEGORIES:Community Events
ATTACH;FMTTYPE=image/jpeg:https://ktex.com/wp-content/uploads/2024/02/special-olympics-BB.jpg
END:VEVENT
BEGIN:VEVENT
DTSTART;VALUE=DATE:20240225
DTEND;VALUE=DATE:20240226
DTSTAMP:20260419T210510
CREATED:20240208T185708Z
LAST-MODIFIED:20240208T185708Z
UID:45583-1708819200-1708905599@ktex.com
SUMMARY:Black History Program at New Beginning MBC
DESCRIPTION:
URL:https://ktex.com/event/black-history-program-at-new-beginning-mbc/
LOCATION:New Beginning Missionary Baptist Church\, 2105 FM 2935\, Brenham\, TX\, 77833\, United States
CATEGORIES:Community Events
ATTACH;FMTTYPE=image/png:https://ktex.com/wp-content/uploads/2024/02/black-history-pgm-new-beginning-e1707418602644.png
END:VEVENT
BEGIN:VEVENT
DTSTART;VALUE=DATE:20240225
DTEND;VALUE=DATE:20240226
DTSTAMP:20260419T210510
CREATED:20240212T143432Z
LAST-MODIFIED:20240212T143432Z
UID:45639-1708819200-1708905599@ktex.com
SUMMARY:Sunday Morning Sunshine 40th Radio Anniversary Celebration
DESCRIPTION:
URL:https://ktex.com/event/sunday-morning-sunshine-40th-radio-anniversary-celebration/
LOCATION:Back to God Revival Holiness Church (Bellville)\, 957 West Austin Street\, Bellville\, TX\, 77418\, United States
CATEGORIES:Community Events
ATTACH;FMTTYPE=image/jpeg:https://ktex.com/wp-content/uploads/2024/02/smss-radio-anniversary.jpg
END:VEVENT
BEGIN:VEVENT
DTSTART;VALUE=DATE:20240225
DTEND;VALUE=DATE:20240226
DTSTAMP:20260419T210510
CREATED:20240221T190318Z
LAST-MODIFIED:20240221T190318Z
UID:45849-1708819200-1708905599@ktex.com
SUMMARY:New Life COG observes Black History Month
DESCRIPTION:
URL:https://ktex.com/event/new-life-cog-observes-black-history-month/
LOCATION:New Life Church of God\, Brenham\, 1990 FM389\, Brenham\, TX\, 77833\, United States
CATEGORIES:Community Events
ATTACH;FMTTYPE=image/jpeg:https://ktex.com/wp-content/uploads/2024/02/black-history-pgm-new-life.jpg
END:VEVENT
BEGIN:VEVENT
DTSTART;TZID=America/Chicago:20240225T110000
DTEND;TZID=America/Chicago:20240225T130000
DTSTAMP:20260419T210510
CREATED:20240125T150241Z
LAST-MODIFIED:20240125T150241Z
UID:45360-1708858800-1708866000@ktex.com
SUMMARY:Columbus VFD Fundraiser
DESCRIPTION:
URL:https://ktex.com/event/columbus-vfd-fundraiser/
LOCATION:Columbus Hall\, 3845 I-10\, Columbus\, TX\, 78934\, United States
CATEGORIES:Community Events
ATTACH;FMTTYPE=image/jpeg:https://ktex.com/wp-content/uploads/2024/01/columbus-vfd.jpg
END:VEVENT
BEGIN:VEVENT
DTSTART;TZID=America/Chicago:20240225T110000
DTEND;TZID=America/Chicago:20240225T140000
DTSTAMP:20260419T210510
CREATED:20240215T224922Z
LAST-MODIFIED:20240219T143554Z
UID:45789-1708858800-1708869600@ktex.com
SUMMARY:CANCELED-Brenham Elks #979 Gumbo Fundraiser
DESCRIPTION:EVENT CANCELED
URL:https://ktex.com/event/brenham-elks979-gumbo-fundraiser/
LOCATION:Brenham Elks Lodge 979\, 400 East Germania St.\, Brenham\, 77833
CATEGORIES:Community Events
ATTACH;FMTTYPE=image/jpeg:https://ktex.com/wp-content/uploads/2024/02/elks-gumbo-drive-24.jpg
END:VEVENT
BEGIN:VEVENT
DTSTART;TZID=America/Chicago:20240225T120000
DTEND;TZID=America/Chicago:20240225T160000
DTSTAMP:20260419T210510
CREATED:20231229T194229Z
LAST-MODIFIED:20231229T194229Z
UID:44745-1708862400-1708876800@ktex.com
SUMMARY:Wedding Association of the Brazos Valley Spring Wedding Show
DESCRIPTION:Create your dream wedding with the perfect team\, all in one spot!! The WABV Spring Wedding Show is the place to be for brides and grooms to be! Eilish is a hopeless romantic so you know she can’t miss this. She’ll be there in the KTEX Country Cruiser!
URL:https://ktex.com/event/wedding-association-of-the-brazos-valley-spring-wedding-show/
LOCATION:Brazos County Expo\, 5827 Leonard Rd\, Bryan\, TX\, 77807\, United States
CATEGORIES:KTEX on the Road
END:VEVENT
BEGIN:VEVENT
DTSTART;VALUE=DATE:20240226
DTEND;VALUE=DATE:20240227
DTSTAMP:20260419T210510
CREATED:20231220T160316Z
LAST-MODIFIED:20231220T160316Z
UID:44624-1708905600-1708991999@ktex.com
SUMMARY:Texas Farm Bureau Scholarships Now Open
DESCRIPTION:
URL:https://ktex.com/event/texas-farm-bureau-scholarships-now-open-3/
CATEGORIES:Community Events
ATTACH;FMTTYPE=image/jpeg:https://ktex.com/wp-content/uploads/2023/12/tx-farm-bureau-scholarships.jpg
END:VEVENT
BEGIN:VEVENT
DTSTART;VALUE=DATE:20240226
DTEND;VALUE=DATE:20240227
DTSTAMP:20260419T210510
CREATED:20240219T210225Z
LAST-MODIFIED:20240219T210225Z
UID:45828-1708905600-1708991999@ktex.com
SUMMARY:Washington County Ladies Lions Club Meeting
DESCRIPTION:The Washington County Ladies Lions Club will meet Monday\, February 26\, at noon\, at the Cannery Kitchen. The featured speaker on finance\, Medicaid and retirement will be Lion Janna Alsobrook.  The public is invited to attend\, RSVP is not required\, lunch will be available.
URL:https://ktex.com/event/washington-county-ladies-lions-club-meeting-9/
LOCATION:Cannery Kitchen\, 314 East Alamo Street\, Brenham\, TX\, 77833\, United States
CATEGORIES:Community Events
ATTACH;FMTTYPE=image/jpeg:https://ktex.com/wp-content/uploads/2023/11/wc-ladies-lions-banner.jpg
END:VEVENT
BEGIN:VEVENT
DTSTART;VALUE=DATE:20240226
DTEND;VALUE=DATE:20240227
DTSTAMP:20260419T210510
CREATED:20240222T145312Z
LAST-MODIFIED:20240222T145312Z
UID:45866-1708905600-1708991999@ktex.com
SUMMARY:Ribbon Cutting-Trailmasters Clearing & Mulching
DESCRIPTION:
URL:https://ktex.com/event/ribbon-cutting-trailmasters-clearing-mulching/
LOCATION:Trailmasters Clearing & Mulching\, 1405 W. Main St.\, Brenham\, TX\, 77833\, United States
CATEGORIES:Community Events
ATTACH;FMTTYPE=image/jpeg:https://ktex.com/wp-content/uploads/2024/02/ribbon-cut-feb-26.jpg
END:VEVENT
BEGIN:VEVENT
DTSTART;TZID=America/Chicago:20240226T180000
DTEND;TZID=America/Chicago:20240226T193000
DTSTAMP:20260419T210510
CREATED:20231227T150121Z
LAST-MODIFIED:20240124T155112Z
UID:44701-1708970400-1708975800@ktex.com
SUMMARY:James Emerson Dennis Jr. Memorial Black History Series
DESCRIPTION:
URL:https://ktex.com/event/james-emerson-dennis-jr-memorial-black-history-forum-4/
LOCATION:Cannery Kitchen\, 314 East Alamo Street\, Brenham\, TX\, 77833\, United States
CATEGORIES:Community Events
ATTACH;FMTTYPE=image/jpeg:https://ktex.com/wp-content/uploads/2023/12/feb-26.jpg
END:VEVENT
BEGIN:VEVENT
DTSTART;VALUE=DATE:20240227
DTEND;VALUE=DATE:20240228
DTSTAMP:20260419T210510
CREATED:20240223T215555Z
LAST-MODIFIED:20240223T215555Z
UID:45889-1708992000-1709078399@ktex.com
SUMMARY:Brenham JH Pre-UIL Band Concert
DESCRIPTION:Tuesday\, February 27th\, JH Pre-UIL Band Concert \n     6:00pm BHS Auditorium \n  \nTuesday\, March 26th\, HS Pre-UIL Band and Choir Concert. \n6:00pm BHS Auditorium \n  \nThursday\, May 9\, HS Spring Band Concerts \n6:00PM at Festival Institute in Round Top \n  \nTuesday\, May 21\, JH Spring Band Concerts \n6:00pm BHS Auditorium
URL:https://ktex.com/event/brenham-jh-pre-uil-band-concert/
LOCATION:Brenham High School Auditorium\, 525 A H Ehrig Drive\, Brenham\, TX\, 77833\, United States
CATEGORIES:Community Events
ATTACH;FMTTYPE=image/jpeg:https://ktex.com/wp-content/uploads/2024/02/BISD-logo.jpg
END:VEVENT
BEGIN:VEVENT
DTSTART;TZID=America/Chicago:20240227T130000
DTEND;TZID=America/Chicago:20240227T190000
DTSTAMP:20260419T210510
CREATED:20240212T223704Z
LAST-MODIFIED:20240212T223704Z
UID:45659-1709038800-1709060400@ktex.com
SUMMARY:Blood Drive (Bellville)
DESCRIPTION:
URL:https://ktex.com/event/blood-drive-bellville-2/
LOCATION:Concordia Hall\, 952 South Tesch St.\, Bellville\, TX\, 77418\, United States
CATEGORIES:Community Events
ATTACH;FMTTYPE=image/jpeg:https://ktex.com/wp-content/uploads/2024/02/blood-drive-feb-27.jpg
END:VEVENT
BEGIN:VEVENT
DTSTART;TZID=America/Chicago:20240228T170000
DTEND;TZID=America/Chicago:20240228T190000
DTSTAMP:20260419T210510
CREATED:20240208T205351Z
LAST-MODIFIED:20240208T205351Z
UID:45602-1709139600-1709146800@ktex.com
SUMMARY:Bellville Chamber presents After Hours Mixer
DESCRIPTION:
URL:https://ktex.com/event/bellville-chamber-presents-after-hours-mixer/
LOCATION:High Noon Saloon\, 3161 Farm to Market 529 Rd\, Bellville\, 77418\, United States
CATEGORIES:Community Events
ATTACH;FMTTYPE=image/png:https://ktex.com/wp-content/uploads/2024/02/bellville-after-hrs-mixer-feb.png
END:VEVENT
END:VCALENDAR