BEGIN:VCALENDAR
VERSION:2.0
PRODID:-//KTEX 106.1 - ECPv6.15.20//NONSGML v1.0//EN
CALSCALE:GREGORIAN
METHOD:PUBLISH
X-ORIGINAL-URL:https://ktex.com
X-WR-CALDESC:Events for KTEX 106.1
REFRESH-INTERVAL;VALUE=DURATION:PT1H
X-Robots-Tag:noindex
X-PUBLISHED-TTL:PT1H
BEGIN:VTIMEZONE
TZID:America/Chicago
BEGIN:DAYLIGHT
TZOFFSETFROM:-0600
TZOFFSETTO:-0500
TZNAME:CDT
DTSTART:20220313T080000
END:DAYLIGHT
BEGIN:STANDARD
TZOFFSETFROM:-0500
TZOFFSETTO:-0600
TZNAME:CST
DTSTART:20221106T070000
END:STANDARD
BEGIN:DAYLIGHT
TZOFFSETFROM:-0600
TZOFFSETTO:-0500
TZNAME:CDT
DTSTART:20230312T080000
END:DAYLIGHT
BEGIN:STANDARD
TZOFFSETFROM:-0500
TZOFFSETTO:-0600
TZNAME:CST
DTSTART:20231105T070000
END:STANDARD
BEGIN:DAYLIGHT
TZOFFSETFROM:-0600
TZOFFSETTO:-0500
TZNAME:CDT
DTSTART:20240310T080000
END:DAYLIGHT
BEGIN:STANDARD
TZOFFSETFROM:-0500
TZOFFSETTO:-0600
TZNAME:CST
DTSTART:20241103T070000
END:STANDARD
END:VTIMEZONE
BEGIN:VEVENT
DTSTART;VALUE=DATE:20231017
DTEND;VALUE=DATE:20231120
DTSTAMP:20260421T040503
CREATED:20231017T191236Z
LAST-MODIFIED:20231017T191236Z
UID:43391-1697500800-1700438399@ktex.com
SUMMARY:Brenham Youth Basketball Registration Open Now
DESCRIPTION:
URL:https://ktex.com/event/brenham-youth-basketball-registration-open-now/
LOCATION:TX
CATEGORIES:Community Events
ATTACH;FMTTYPE=image/jpeg:https://ktex.com/wp-content/uploads/2023/10/brenham-youth-bb.jpg
END:VEVENT
BEGIN:VEVENT
DTSTART;VALUE=DATE:20231101
DTEND;VALUE=DATE:20231211
DTSTAMP:20260421T040503
CREATED:20231101T140654Z
LAST-MODIFIED:20231101T140654Z
UID:43687-1698796800-1702252799@ktex.com
SUMMARY:Toys for Tots Drop off location
DESCRIPTION:It’s a magical time of the year!!  #CSB Brenham branch is a drop off location for the Toys for Tots Washington County TX drive! All donations collected will stay within Washington County for our local kids. Any donations are greatly appreciated and we personally thank you for spreading Christmas cheer!\nFor more info check out https://www.toysfortots.org/
URL:https://ktex.com/event/toys-for-tots-drop-off-location/
LOCATION:Citizen’s State Bank (Brenham)\, 2007 S. Day Street\, Brenham\, TX\, 77833\, United States
CATEGORIES:Community Events
ATTACH;FMTTYPE=image/jpeg:https://ktex.com/wp-content/uploads/2023/11/toys-for-tots-csb.jpg
END:VEVENT
BEGIN:VEVENT
DTSTART;VALUE=DATE:20231108
DTEND;VALUE=DATE:20231215
DTSTAMP:20260421T040503
CREATED:20231108T194214Z
LAST-MODIFIED:20231108T194214Z
UID:44030-1699401600-1702598399@ktex.com
SUMMARY:Evvaylois Academy School of Beauty Fundraiser
DESCRIPTION:
URL:https://ktex.com/event/evvaylois-academy-school-of-beauty-fundraiser/
LOCATION:Evvaylois Academy School of Beauty\, 2244 S. Market\, Brenham\, TX\, 77833\, United States
CATEGORIES:Community Events
ATTACH;FMTTYPE=image/jpeg:https://ktex.com/wp-content/uploads/2023/11/evvaylois-fundraiser-e1699472518147.jpg
END:VEVENT
BEGIN:VEVENT
DTSTART;VALUE=DATE:20231110
DTEND;VALUE=DATE:20231112
DTSTAMP:20260421T040503
CREATED:20231026T194117Z
LAST-MODIFIED:20231026T194117Z
UID:43601-1699574400-1699747199@ktex.com
SUMMARY:heART fest
DESCRIPTION:Held every fall at St. Peter’s Episcopal Church\, the 14th fine art sale will feature over 25 artists in a variety of mediums including mixed media watercolor\, oil and acrylic artists\, jewelers\, potters\, printmaking\, stained glass\, woodworkers and found art. The event\, which first started as a way for congregation members to showcase their talents has quickly become a yearly staple featuring art from a variety of community artists.  This year\, the two-day event will open with a free reception on Friday\, Nov. 10 from 5 to 8 p.m. and will continue with sales on Saturday\, Nov. 11 from 10 a.m. to 3 p.m.  The church invites guests from all over the Brazos Valley to attend this free event.
URL:https://ktex.com/event/heart-fest/
LOCATION:St. Peter’s Episcopal Church (Brenham)\, 2310 Airline Dr.\, Brenham\, TX\, 77833\, United States
CATEGORIES:Community Events
ATTACH;FMTTYPE=image/png:https://ktex.com/wp-content/uploads/2023/10/heART-fest.png
END:VEVENT
BEGIN:VEVENT
DTSTART;VALUE=DATE:20231111
DTEND;VALUE=DATE:20231112
DTSTAMP:20260421T040503
CREATED:20231023T141655Z
LAST-MODIFIED:20231023T141655Z
UID:43473-1699660800-1699747199@ktex.com
SUMMARY:Sigma Chi Chi Professional Women's Club Harvest Luncheon
DESCRIPTION:Harvest Luncheon\, Saturday\, November 11\, 2023\, 12 Noon at New Life Church of God\nTickets $15 each or Reserved table for 8 for $125\nto purchase tickets contact\nJanis Miles\, 832 868-7266\nCheryl Dabera\, 979 836-7134
URL:https://ktex.com/event/sigma-chi-chi-professional-womens-club-harvest-luncheon/
LOCATION:New Life Church of God\, Brenham\, 1990 FM389\, Brenham\, TX\, 77833\, United States
CATEGORIES:Community Events
ATTACH;FMTTYPE=image/png:https://ktex.com/wp-content/uploads/2023/10/sigma-chi-chi-luncheon.png
END:VEVENT
BEGIN:VEVENT
DTSTART;VALUE=DATE:20231111
DTEND;VALUE=DATE:20231112
DTSTAMP:20260421T040503
CREATED:20231026T173506Z
LAST-MODIFIED:20231026T173506Z
UID:43586-1699660800-1699747199@ktex.com
SUMMARY:Washington County VA Program and BBQ
DESCRIPTION:On Veterans Day\, Saturday\, November 11\, WCVA will host a Veterans Day program at the American Legion Post 48. The program will begin at 11:00 a m. – tickets for the BBQ chicken/pork sausage meal are available for drive-thru and dine in. Tickets are $15 and are available at Dan’s Meat Market\, Felder’s Buy & Bye\, K&M Grocery\, Quick-Mart and Robert’s Service Station. Tickets are also available from local veterans.
URL:https://ktex.com/event/washington-county-va-program-and-bbq/
LOCATION:American Legion Hall Brenham\, 903 North Park\, Brenham\, TX\, 77833\, United States
CATEGORIES:Community Events
ATTACH;FMTTYPE=image/jpeg:https://ktex.com/wp-content/uploads/2023/10/veterans-day-nov-11.jpg
END:VEVENT
BEGIN:VEVENT
DTSTART;VALUE=DATE:20231111
DTEND;VALUE=DATE:20231112
DTSTAMP:20260421T040503
CREATED:20231030T182732Z
LAST-MODIFIED:20231030T182732Z
UID:43671-1699660800-1699747199@ktex.com
SUMMARY:Veteran's Day Breakfast
DESCRIPTION:On Veterans Day\, Saturday\, November 11\, James F. Dillon VFW Post 7104 will sponsor a Veteran’s Day breakfast at the Post home\, doors will open at 6:00 a m and breakfast will start at 7:00. All veterans and their guests are invited.
URL:https://ktex.com/event/veterans-day-breakfast/
LOCATION:James F. Dillion VFW Post 7104\, 1200 East Tom Green Street\, Brenham\, TX\, 77833\, United States
CATEGORIES:Community Events
ATTACH;FMTTYPE=image/jpeg:https://ktex.com/wp-content/uploads/2023/10/vfw-1.jpg
END:VEVENT
BEGIN:VEVENT
DTSTART;TZID=America/Chicago:20231111T073000
DTEND;TZID=America/Chicago:20231111T090000
DTSTAMP:20260421T040503
CREATED:20231107T165334Z
LAST-MODIFIED:20231107T165334Z
UID:43981-1699687800-1699693200@ktex.com
SUMMARY:American Legion Post (Shelby) Veterans Breakfast
DESCRIPTION:
URL:https://ktex.com/event/american-legion-post-shelby-veterans-breakfast/
LOCATION:American Legion Hall\, Shelby\, 4019 FM 1457\, Shelby\, TX\, United States
CATEGORIES:Community Events
ATTACH;FMTTYPE=image/png:https://ktex.com/wp-content/uploads/2023/11/veterans-breakfast-shelby.png
END:VEVENT
BEGIN:VEVENT
DTSTART;TZID=America/Chicago:20231111T080000
DTEND;TZID=America/Chicago:20231111T100000
DTSTAMP:20260421T040503
CREATED:20231107T192732Z
LAST-MODIFIED:20231107T192732Z
UID:43984-1699689600-1699696800@ktex.com
SUMMARY:American Legion Pancake Breakfast (Bellville)
DESCRIPTION:
URL:https://ktex.com/event/american-legion-pancake-breakfast-bellville/
LOCATION:American Legion Hall\, Bellville\, 988 E. Main Street\, Bellville\, TX\, 77418\, United States
CATEGORIES:Community Events
ATTACH;FMTTYPE=image/png:https://ktex.com/wp-content/uploads/2023/11/pancake-breakfast-bellville.png
END:VEVENT
BEGIN:VEVENT
DTSTART;TZID=America/Chicago:20231111T090000
DTEND;TZID=America/Chicago:20231111T130000
DTSTAMP:20260421T040503
CREATED:20230623T202851Z
LAST-MODIFIED:20230623T202851Z
UID:35471-1699693200-1699707600@ktex.com
SUMMARY:Downtown Giddings Street Market Days
DESCRIPTION:Giddings Street Market Days\, to be held the second Saturday of each month from July to November\, taking place from 9 a.m. to 1 p.m.  The market will be stationed in the parking lot area off of Burleson Street\, between Main Street and Railroad Row.  Vendors selling goods like clothing\, accessories\, jams and jellies\, cheeses\, microgreens\, dog treats and cultural items.
URL:https://ktex.com/event/downtown-giddings-street-market-days-5/
LOCATION:TX
CATEGORIES:Community Events
ATTACH;FMTTYPE=image/gif:https://ktex.com/wp-content/uploads/2023/06/giddings-tx.gif
END:VEVENT
BEGIN:VEVENT
DTSTART;TZID=America/Chicago:20231111T090000
DTEND;TZID=America/Chicago:20231111T130000
DTSTAMP:20260421T040503
CREATED:20231106T224101Z
LAST-MODIFIED:20231106T224101Z
UID:43965-1699693200-1699707600@ktex.com
SUMMARY:Navasota Farmer's Market
DESCRIPTION:
URL:https://ktex.com/event/navasota-farmers-market-4/
LOCATION:Navasota Public Library\, 1411 E Washington Ave\, Navasota\, TX\, 77868\, United States
CATEGORIES:Community Events
ATTACH;FMTTYPE=image/png:https://ktex.com/wp-content/uploads/2023/11/Summer-Farmers-Market-Instagram-Post-1-002.png
END:VEVENT
BEGIN:VEVENT
DTSTART;TZID=America/Chicago:20231111T090000
DTEND;TZID=America/Chicago:20231111T140000
DTSTAMP:20260421T040503
CREATED:20231106T204225Z
LAST-MODIFIED:20231106T204225Z
UID:43943-1699693200-1699711200@ktex.com
SUMMARY:FORD DRIVE 4 UR SCHOOL
DESCRIPTION:
URL:https://ktex.com/event/ford-drive-4-ur-school/
LOCATION:Brenham Middle School Cafeteria\, 1600 South Blue Bell Rd.\, Brenham\, 77833
CATEGORIES:Community Events
ATTACH;FMTTYPE=image/png:https://ktex.com/wp-content/uploads/2023/11/test-dr-nov.png
END:VEVENT
BEGIN:VEVENT
DTSTART;TZID=America/Chicago:20231111T150000
DTEND;TZID=America/Chicago:20231111T200000
DTSTAMP:20260421T040503
CREATED:20231019T204648Z
LAST-MODIFIED:20231019T204648Z
UID:43451-1699714800-1699732800@ktex.com
SUMMARY:Reds\, Wheats & Blues Festival
DESCRIPTION:
URL:https://ktex.com/event/reds-wheats-blues-festival/
LOCATION:VFW Hall Navasota\, 1575 W. Washington Ave\, Navasota\, TX\, 77868\, United States
CATEGORIES:Community Events
ATTACH;FMTTYPE=image/jpeg:https://ktex.com/wp-content/uploads/2023/10/reds-wheat-blues-festival.jpg
END:VEVENT
BEGIN:VEVENT
DTSTART;TZID=America/Chicago:20231111T180000
DTEND;TZID=America/Chicago:20231111T230000
DTSTAMP:20260421T040503
CREATED:20231102T144313Z
LAST-MODIFIED:20231102T144313Z
UID:43704-1699725600-1699743600@ktex.com
SUMMARY:Big Star Texas Night (Burton)
DESCRIPTION:13th annual\nBig Star Texas Night\nNovember 11\, 2023 \nLooking for a night out with great Texas music in an awesome Texas Dance Hall?  The Burton Area Chamber of Commerce along with Burton Friends & Neighbors is hosting the 13th annual “Big Star Texas Night” on November 11\, 2023\, at the historic La Bahia Turn Verein and Dance Hall at 550 Hwy 237 Burton\, TX from 6-11pm.  Sean Orr & Texas Gold band along with JAKE HOOKER and The Outsiders will have you out of your seats and kicking up your heels.  There will also be silent and live auctions and of course a mouthwatering meal.   And once again we will have dance lessons starting at 6pm (included in price of your ticket)! Don’t miss out on this great night of FUN.   \nVIP Tables for 8 are $500 so email info@burtontexas.org today to reserve yours!\nIn Advance individual tickets include food/drinks\, and are $40\, $20 kids 10 and under. There will be a $2 service charge per ticket if you purchase online with credit card.\nTickets can be purchased locally at the Texas Cotton Gin Museum after October 1st\, 307 N Main St. Burton\, TX.\nFor more information call 979-251-4078 or email info@burtontexas.org
URL:https://ktex.com/event/big-star-texas-night-burton/
LOCATION:La Bahia Turn Verein and Dance Hall\, 550 Highway 237\, Burton\, TX\, 77835\, United States
CATEGORIES:Community Events
ATTACH;FMTTYPE=image/jpeg:https://ktex.com/wp-content/uploads/2023/11/big-star-tx-night-23.jpg
END:VEVENT
END:VCALENDAR