BEGIN:VCALENDAR
VERSION:2.0
PRODID:-//KTEX 106.1 - ECPv6.15.20//NONSGML v1.0//EN
CALSCALE:GREGORIAN
METHOD:PUBLISH
X-ORIGINAL-URL:https://ktex.com
X-WR-CALDESC:Events for KTEX 106.1
REFRESH-INTERVAL;VALUE=DURATION:PT1H
X-Robots-Tag:noindex
X-PUBLISHED-TTL:PT1H
BEGIN:VTIMEZONE
TZID:America/Chicago
BEGIN:DAYLIGHT
TZOFFSETFROM:-0600
TZOFFSETTO:-0500
TZNAME:CDT
DTSTART:20220313T080000
END:DAYLIGHT
BEGIN:STANDARD
TZOFFSETFROM:-0500
TZOFFSETTO:-0600
TZNAME:CST
DTSTART:20221106T070000
END:STANDARD
BEGIN:DAYLIGHT
TZOFFSETFROM:-0600
TZOFFSETTO:-0500
TZNAME:CDT
DTSTART:20230312T080000
END:DAYLIGHT
BEGIN:STANDARD
TZOFFSETFROM:-0500
TZOFFSETTO:-0600
TZNAME:CST
DTSTART:20231105T070000
END:STANDARD
BEGIN:DAYLIGHT
TZOFFSETFROM:-0600
TZOFFSETTO:-0500
TZNAME:CDT
DTSTART:20240310T080000
END:DAYLIGHT
BEGIN:STANDARD
TZOFFSETFROM:-0500
TZOFFSETTO:-0600
TZNAME:CST
DTSTART:20241103T070000
END:STANDARD
END:VTIMEZONE
BEGIN:VEVENT
DTSTART;VALUE=DATE:20231017
DTEND;VALUE=DATE:20231120
DTSTAMP:20260421T055603
CREATED:20231017T191236Z
LAST-MODIFIED:20231017T191236Z
UID:43391-1697500800-1700438399@ktex.com
SUMMARY:Brenham Youth Basketball Registration Open Now
DESCRIPTION:
URL:https://ktex.com/event/brenham-youth-basketball-registration-open-now/
LOCATION:TX
CATEGORIES:Community Events
ATTACH;FMTTYPE=image/jpeg:https://ktex.com/wp-content/uploads/2023/10/brenham-youth-bb.jpg
END:VEVENT
BEGIN:VEVENT
DTSTART;VALUE=DATE:20231026
DTEND;VALUE=DATE:20231030
DTSTAMP:20260421T055603
CREATED:20231006T140435Z
LAST-MODIFIED:20231006T140435Z
UID:43267-1698278400-1698623999@ktex.com
SUMMARY:Lanterns & Legends Event
DESCRIPTION:The theme for this year’s Lanterns & Legends event is Faces Behind the Facades and will feature historical Navasota residents whose names appear on the building facades in historic downtown Navasota. Lanterns & Legends is written by local residents\, Mavis and Gary Anderson and Mark Taylor\, and directed by Joyce Yorek. The event features live actors who bring to life historic residents from Navasota’s past.\nFeatured residents this year will include J.T. Lott\, Dr. Alfred Ketchum\, Maurine Chinski\, Mattie Bookman Craig\, and other last names from yesteryear that are still visible downtown\, revealing the faces and stories behind those names on the building facades.\nPerformances Dates\nOctober 26th – 28th & 29th at Oakland Cemetery\nIndoor Performance\nSunday\, October 29th at 2pm at Sunny Furman Theatre\nThe indoor version is created for those who have mobility issues.  You will still experience the History and meet the Characters without all the walking.
URL:https://ktex.com/event/lanterns-legends-event/
LOCATION:TX
CATEGORIES:Community Events
ATTACH;FMTTYPE=image/jpeg:https://ktex.com/wp-content/uploads/2023/10/navasota-ta-oct.jpg
END:VEVENT
BEGIN:VEVENT
DTSTART;TZID=America/Chicago:20231029T110000
DTEND;TZID=America/Chicago:20231029T170000
DTSTAMP:20260421T055603
CREATED:20230821T141240Z
LAST-MODIFIED:20230821T141240Z
UID:42125-1698577200-1698598800@ktex.com
SUMMARY:Willkommen!  Oktoberfest
DESCRIPTION:
URL:https://ktex.com/event/willkommen-oktoberfest/
LOCATION:American Legion Hall Brenham\, 903 North Park\, Brenham\, TX\, 77833\, United States
CATEGORIES:Community Events
ATTACH;FMTTYPE=image/jpeg:https://ktex.com/wp-content/uploads/2023/08/oktoberfest-oct-23.jpg
END:VEVENT
BEGIN:VEVENT
DTSTART;TZID=America/Chicago:20231029T130000
DTEND;TZID=America/Chicago:20231029T160000
DTSTAMP:20260421T055603
CREATED:20231018T164927Z
LAST-MODIFIED:20231018T164927Z
UID:43413-1698584400-1698595200@ktex.com
SUMMARY:Trick or Treat on Main Street-Chappell Hill
DESCRIPTION:Downtown Chappell Hill Main St. 3rd Annual Trick or Treat Trail on Sunday\, October 29th\, from 1P – 4P. Fun for family and kids as each store will be giving candy away to trick or treaters. Wear you scary or funny costumes\, there will a costume contest\, judged by age category. Prizes for the winners of each category. There will be face painting\, candy\, games and shopping. Let’s Make Halloween Spooky Again. So bring your kiddos to downtown Chappell Hill to collect those goodies!! Register for the costume contest at The Rock Store\, (5070 Main St\,) before 3PM for the costume contest!
URL:https://ktex.com/event/trick-or-treat-on-main-street-chappell-hill/
LOCATION:Downtown Chappell Hill
CATEGORIES:Community Events
ATTACH;FMTTYPE=image/jpeg:https://ktex.com/wp-content/uploads/2023/10/ch-trick-or-treat.jpg
END:VEVENT
BEGIN:VEVENT
DTSTART;TZID=America/Chicago:20231029T130000
DTEND;TZID=America/Chicago:20231029T160000
DTSTAMP:20260421T055603
CREATED:20231024T142410Z
LAST-MODIFIED:20231024T142410Z
UID:43567-1698584400-1698595200@ktex.com
SUMMARY:VFW sponsored Variety Shoot
DESCRIPTION:
URL:https://ktex.com/event/vfw-sponsored-variety-shoot/
LOCATION:Bellville VFW Hall\, 4041 Hwy. 36 North\, Bellville\, TX\, 77418\, United States
CATEGORIES:Community Events
ATTACH;FMTTYPE=image/png:https://ktex.com/wp-content/uploads/2023/10/vfw-variety-shoot-oct.png
END:VEVENT
BEGIN:VEVENT
DTSTART;TZID=America/Chicago:20231029T160000
DTEND;TZID=America/Chicago:20231029T180000
DTSTAMP:20260421T055603
CREATED:20231020T180534Z
LAST-MODIFIED:20231020T180534Z
UID:43469-1698595200-1698602400@ktex.com
SUMMARY:Trunk or Treat Event at St. Paul's (Brenham)
DESCRIPTION:
URL:https://ktex.com/event/trunk-or-treat-event-at-st-pauls-brenham/
LOCATION:St. Paul’s parking lot\, 305 W. 3rd Street\, Brenham\, TX\, 77833\, United States
CATEGORIES:Community Events
ATTACH;FMTTYPE=image/jpeg:https://ktex.com/wp-content/uploads/2023/10/trunk-or-treat-st-pauls.jpg
END:VEVENT
BEGIN:VEVENT
DTSTART;TZID=America/Chicago:20231029T180000
DTEND;TZID=America/Chicago:20231029T200000
DTSTAMP:20260421T055603
CREATED:20230828T213939Z
LAST-MODIFIED:20230828T213939Z
UID:42366-1698602400-1698609600@ktex.com
SUMMARY:Brenham Church of Christ Fall Festival
DESCRIPTION:
URL:https://ktex.com/event/brenham-church-of-christ-fall-festival/
LOCATION:TX
CATEGORIES:Community Events
ATTACH;FMTTYPE=image/jpeg:https://ktex.com/wp-content/uploads/2023/08/brenham-church-of-christ-fall-fest-oct.jpg
END:VEVENT
END:VCALENDAR