BEGIN:VCALENDAR
VERSION:2.0
PRODID:-//KTEX 106.1 - ECPv6.15.20//NONSGML v1.0//EN
CALSCALE:GREGORIAN
METHOD:PUBLISH
X-ORIGINAL-URL:https://ktex.com
X-WR-CALDESC:Events for KTEX 106.1
REFRESH-INTERVAL;VALUE=DURATION:PT1H
X-Robots-Tag:noindex
X-PUBLISHED-TTL:PT1H
BEGIN:VTIMEZONE
TZID:America/Chicago
BEGIN:DAYLIGHT
TZOFFSETFROM:-0600
TZOFFSETTO:-0500
TZNAME:CDT
DTSTART:20220313T080000
END:DAYLIGHT
BEGIN:STANDARD
TZOFFSETFROM:-0500
TZOFFSETTO:-0600
TZNAME:CST
DTSTART:20221106T070000
END:STANDARD
BEGIN:DAYLIGHT
TZOFFSETFROM:-0600
TZOFFSETTO:-0500
TZNAME:CDT
DTSTART:20230312T080000
END:DAYLIGHT
BEGIN:STANDARD
TZOFFSETFROM:-0500
TZOFFSETTO:-0600
TZNAME:CST
DTSTART:20231105T070000
END:STANDARD
BEGIN:DAYLIGHT
TZOFFSETFROM:-0600
TZOFFSETTO:-0500
TZNAME:CDT
DTSTART:20240310T080000
END:DAYLIGHT
BEGIN:STANDARD
TZOFFSETFROM:-0500
TZOFFSETTO:-0600
TZNAME:CST
DTSTART:20241103T070000
END:STANDARD
END:VTIMEZONE
BEGIN:VEVENT
DTSTART;VALUE=DATE:20231017
DTEND;VALUE=DATE:20231120
DTSTAMP:20260421T074325
CREATED:20231017T191236Z
LAST-MODIFIED:20231017T191236Z
UID:43391-1697500800-1700438399@ktex.com
SUMMARY:Brenham Youth Basketball Registration Open Now
DESCRIPTION:
URL:https://ktex.com/event/brenham-youth-basketball-registration-open-now/
LOCATION:TX
CATEGORIES:Community Events
ATTACH;FMTTYPE=image/jpeg:https://ktex.com/wp-content/uploads/2023/10/brenham-youth-bb.jpg
END:VEVENT
BEGIN:VEVENT
DTSTART;VALUE=DATE:20231026
DTEND;VALUE=DATE:20231030
DTSTAMP:20260421T074325
CREATED:20231006T140435Z
LAST-MODIFIED:20231006T140435Z
UID:43267-1698278400-1698623999@ktex.com
SUMMARY:Lanterns & Legends Event
DESCRIPTION:The theme for this year’s Lanterns & Legends event is Faces Behind the Facades and will feature historical Navasota residents whose names appear on the building facades in historic downtown Navasota. Lanterns & Legends is written by local residents\, Mavis and Gary Anderson and Mark Taylor\, and directed by Joyce Yorek. The event features live actors who bring to life historic residents from Navasota’s past.\nFeatured residents this year will include J.T. Lott\, Dr. Alfred Ketchum\, Maurine Chinski\, Mattie Bookman Craig\, and other last names from yesteryear that are still visible downtown\, revealing the faces and stories behind those names on the building facades.\nPerformances Dates\nOctober 26th – 28th & 29th at Oakland Cemetery\nIndoor Performance\nSunday\, October 29th at 2pm at Sunny Furman Theatre\nThe indoor version is created for those who have mobility issues.  You will still experience the History and meet the Characters without all the walking.
URL:https://ktex.com/event/lanterns-legends-event/
LOCATION:TX
CATEGORIES:Community Events
ATTACH;FMTTYPE=image/jpeg:https://ktex.com/wp-content/uploads/2023/10/navasota-ta-oct.jpg
END:VEVENT
BEGIN:VEVENT
DTSTART;VALUE=DATE:20231027
DTEND;VALUE=DATE:20231028
DTSTAMP:20260421T074325
CREATED:20230802T183944Z
LAST-MODIFIED:20230802T183944Z
UID:41930-1698364800-1698451199@ktex.com
SUMMARY:South Central Texas Cow-Calf Clinic
DESCRIPTION:
URL:https://ktex.com/event/south-central-texas-cow-calf-clinic/
LOCATION:Washington County Expo Grounds\, 1305 East Blue Bell Road\, Brenham\, TX\, 77833\, United States
CATEGORIES:Community Events
ATTACH;FMTTYPE=image/png:https://ktex.com/wp-content/uploads/2023/08/cow-calf-clinic-2023.png
END:VEVENT
BEGIN:VEVENT
DTSTART;VALUE=DATE:20231027
DTEND;VALUE=DATE:20231028
DTSTAMP:20260421T074325
CREATED:20231016T205636Z
LAST-MODIFIED:20231016T205636Z
UID:43358-1698364800-1698451199@ktex.com
SUMMARY:Dinner Show at Hummingbird Hill
DESCRIPTION:
URL:https://ktex.com/event/dinner-show-at-hummingbird-hill/
LOCATION:Hummingbird Hill\, 6005 Langhorn Rd.\, Chappell Hill\, TX\, 77426\, United States
CATEGORIES:Community Events
ATTACH;FMTTYPE=image/jpeg:https://ktex.com/wp-content/uploads/2023/10/curtis-grimes.jpg
END:VEVENT
BEGIN:VEVENT
DTSTART;TZID=America/Chicago:20231027T170000
DTEND;TZID=America/Chicago:20231027T190000
DTSTAMP:20260421T074325
CREATED:20231016T205817Z
LAST-MODIFIED:20231016T205817Z
UID:43361-1698426000-1698433200@ktex.com
SUMMARY:Lee County Telecommunications presents Trunk or Treat
DESCRIPTION:
URL:https://ktex.com/event/lee-county-telecommunications-presents-trunk-or-treat/
LOCATION:Lee County Sheriff’s Office\, 2122 FM 448\, Giddings\, TX\, 78942\, United States
CATEGORIES:Community Events
ATTACH;FMTTYPE=image/jpeg:https://ktex.com/wp-content/uploads/2023/10/lee-co-trunk-or-treat.jpg
END:VEVENT
BEGIN:VEVENT
DTSTART;TZID=America/Chicago:20231027T193000
DTEND;TZID=America/Chicago:20231027T223000
DTSTAMP:20260421T074325
CREATED:20231005T194221Z
LAST-MODIFIED:20231005T195417Z
UID:43254-1698435000-1698445800@ktex.com
SUMMARY:Friday Face-Off: Caldwell vs Giddings
DESCRIPTION:The Friday night lights are shining on Troy as he heads to Hornet Stadium as they go head to head against the Giddings Buffaloes! He’s have some merch thanks to our sponsors – Citizens State Bank\, WC Tractor\, BASF – Catalyst Metals\, and MasFajitas!
URL:https://ktex.com/event/friday-face-off-giddings-vs-caldwell/
LOCATION:Caldwell High School\, 550 Co Rd 307\, Caldwell
CATEGORIES:KTEX on the Road
END:VEVENT
END:VCALENDAR