BEGIN:VCALENDAR
VERSION:2.0
PRODID:-//KTEX 106.1 - ECPv6.15.20//NONSGML v1.0//EN
CALSCALE:GREGORIAN
METHOD:PUBLISH
X-ORIGINAL-URL:https://ktex.com
X-WR-CALDESC:Events for KTEX 106.1
REFRESH-INTERVAL;VALUE=DURATION:PT1H
X-Robots-Tag:noindex
X-PUBLISHED-TTL:PT1H
BEGIN:VTIMEZONE
TZID:America/Chicago
BEGIN:DAYLIGHT
TZOFFSETFROM:-0600
TZOFFSETTO:-0500
TZNAME:CDT
DTSTART:20220313T080000
END:DAYLIGHT
BEGIN:STANDARD
TZOFFSETFROM:-0500
TZOFFSETTO:-0600
TZNAME:CST
DTSTART:20221106T070000
END:STANDARD
BEGIN:DAYLIGHT
TZOFFSETFROM:-0600
TZOFFSETTO:-0500
TZNAME:CDT
DTSTART:20230312T080000
END:DAYLIGHT
BEGIN:STANDARD
TZOFFSETFROM:-0500
TZOFFSETTO:-0600
TZNAME:CST
DTSTART:20231105T070000
END:STANDARD
BEGIN:DAYLIGHT
TZOFFSETFROM:-0600
TZOFFSETTO:-0500
TZNAME:CDT
DTSTART:20240310T080000
END:DAYLIGHT
BEGIN:STANDARD
TZOFFSETFROM:-0500
TZOFFSETTO:-0600
TZNAME:CST
DTSTART:20241103T070000
END:STANDARD
END:VTIMEZONE
BEGIN:VEVENT
DTSTART;VALUE=DATE:20231002
DTEND;VALUE=DATE:20231020
DTSTAMP:20260421T103231
CREATED:20231016T210334Z
LAST-MODIFIED:20231016T210334Z
UID:43371-1696204800-1697759999@ktex.com
SUMMARY:FBCS Annual Poinsettia Fundraiser
DESCRIPTION:
URL:https://ktex.com/event/fbcs-annual-poinsettia-fundraiser/
LOCATION:TX
CATEGORIES:Community Events
ATTACH;FMTTYPE=image/jpeg:https://ktex.com/wp-content/uploads/2023/10/fbcs-poinsettia-fundraiser.jpg
END:VEVENT
BEGIN:VEVENT
DTSTART;VALUE=DATE:20231017
DTEND;VALUE=DATE:20231018
DTSTAMP:20260421T103231
CREATED:20230126T161922Z
LAST-MODIFIED:20230126T161922Z
UID:32568-1697500800-1697587199@ktex.com
SUMMARY:Lunch N Learn Series-Austin County
DESCRIPTION:
URL:https://ktex.com/event/lunch-n-learn-series-austin-county-6/
LOCATION:Austin County AgriLife Extension Office\, 20 S Holland St. \, Bellville\, TX\, 77418\, United States
CATEGORIES:Community Events
ATTACH;FMTTYPE=image/jpeg:https://ktex.com/wp-content/uploads/2023/01/ac-lunch-n-learn-series-bluebonnet-master-gardener-assoc.jpg
END:VEVENT
BEGIN:VEVENT
DTSTART;VALUE=DATE:20231017
DTEND;VALUE=DATE:20231018
DTSTAMP:20260421T103231
CREATED:20230825T133402Z
LAST-MODIFIED:20230825T133402Z
UID:42228-1697500800-1697587199@ktex.com
SUMMARY:Ladies Shrimp Dinner
DESCRIPTION:
URL:https://ktex.com/event/ladies-shrimp-dinner/
LOCATION:Brenham Elks Lodge 979\, 400 East Germania St.\, Brenham\, 77833
CATEGORIES:Community Events
ATTACH;FMTTYPE=image/jpeg:https://ktex.com/wp-content/uploads/2023/08/ladies-shrimp-dinner.jpg
END:VEVENT
BEGIN:VEVENT
DTSTART;VALUE=DATE:20231017
DTEND;VALUE=DATE:20231018
DTSTAMP:20260421T103231
CREATED:20230831T140653Z
LAST-MODIFIED:20230831T140653Z
UID:42449-1697500800-1697587199@ktex.com
SUMMARY:Legacy registered for Brazos Valley Gives
DESCRIPTION:Calling all Legacy Christian School supporters and friends! \nWe are thrilled to announce that Legacy has officially registered for Brazos Valley Gives—an incredible opportunity to make a lasting impact on our local community. \nWhat is Brazos Valley Gives\, you ask? It’s a month-long initiative led by the Community Foundation of the Brazos Valley\, uniting our community for a common goal: strengthening nonprofits\, empowering donors\, and fostering community growth. And guess what? You can be a part of this movement with as little as $10! \nMark your calendars for the 3rd Tuesday of October. For 18 hours straight\, the power of online giving will be harnessed to support the causes we care about in 7 Brazos Valley counties. \nHere’s where you come in. As proud supporters of Legacy\, we invite you to join us in this wonderful endeavor. Your contribution—no matter the size—will make a significant difference in the lives of those we serve through education\, inspiration\, and faith-driven values. \nReady to take action? Follow these simple steps: \n1) Circle October 17th on your calendar. \n2) Stay tuned for updates as we gear up for the big day! \n3) When the time comes\, visit https://www.brazosvalleygives.org/legacybrenham and show your love for Legacy Christian School. \nThank you for your unwavering support. We couldn’t do it without each and every one of you. Let’s make a positive impact\, one gift at a time! \n#LegacyChristianSchool #BrazosValleyGives #CommunityChampions
URL:https://ktex.com/event/legacy-registered-for-brazos-valley-gives/
LOCATION:TX
CATEGORIES:Community Events
ATTACH;FMTTYPE=image/jpeg:https://ktex.com/wp-content/uploads/2023/08/bv-gives-legacy-christian-center.jpg
END:VEVENT
BEGIN:VEVENT
DTSTART;VALUE=DATE:20231017
DTEND;VALUE=DATE:20231018
DTSTAMP:20260421T103231
CREATED:20230911T180928Z
LAST-MODIFIED:20230911T180928Z
UID:42706-1697500800-1697587199@ktex.com
SUMMARY:National Night Out-Navasota
DESCRIPTION:
URL:https://ktex.com/event/national-night-out-navasota/
LOCATION:TX
CATEGORIES:Community Events
ATTACH;FMTTYPE=image/jpeg:https://ktex.com/wp-content/uploads/2023/09/nno-navasota.jpg
END:VEVENT
BEGIN:VEVENT
DTSTART;VALUE=DATE:20231017
DTEND;VALUE=DATE:20231120
DTSTAMP:20260421T103231
CREATED:20231017T191236Z
LAST-MODIFIED:20231017T191236Z
UID:43391-1697500800-1700438399@ktex.com
SUMMARY:Brenham Youth Basketball Registration Open Now
DESCRIPTION:
URL:https://ktex.com/event/brenham-youth-basketball-registration-open-now/
LOCATION:TX
CATEGORIES:Community Events
ATTACH;FMTTYPE=image/jpeg:https://ktex.com/wp-content/uploads/2023/10/brenham-youth-bb.jpg
END:VEVENT
BEGIN:VEVENT
DTSTART;TZID=America/Chicago:20231017T163000
DTEND;TZID=America/Chicago:20231017T183000
DTSTAMP:20260421T103231
CREATED:20230925T133018Z
LAST-MODIFIED:20230925T133018Z
UID:42955-1697560200-1697567400@ktex.com
SUMMARY:Brenham Evening Lions Club BBQ Fundraiser
DESCRIPTION:
URL:https://ktex.com/event/brenham-evening-lions-club-bbq-fundraiser/
LOCATION:Jackson Street Park Pavilion\, 904 West Mansfield St.\, Brenham\, TX\, 77833\, United States
CATEGORIES:Community Events
ATTACH;FMTTYPE=image/jpeg:https://ktex.com/wp-content/uploads/2023/09/brenham-evening-lions-bbq-oct.jpg
END:VEVENT
BEGIN:VEVENT
DTSTART;TZID=America/Chicago:20231017T180000
DTEND;TZID=America/Chicago:20231017T200000
DTSTAMP:20260421T103231
CREATED:20231005T141947Z
LAST-MODIFIED:20231005T141947Z
UID:43237-1697565600-1697572800@ktex.com
SUMMARY:ARTS for Rural Texas-Fayetteville Music Series
DESCRIPTION:
URL:https://ktex.com/event/arts-for-rural-texas-fayetteville-music-series-2/
LOCATION:Downtown Fayetteville\, Fayetteville\, TX\, 78940\, United States
CATEGORIES:Community Events
ATTACH;FMTTYPE=image/jpeg:https://ktex.com/wp-content/uploads/2023/10/arts-for-rural-tx-fayetteville.jpg
END:VEVENT
END:VCALENDAR