BEGIN:VCALENDAR
VERSION:2.0
PRODID:-//KTEX 106.1 - ECPv6.15.20//NONSGML v1.0//EN
CALSCALE:GREGORIAN
METHOD:PUBLISH
X-WR-CALNAME:KTEX 106.1
X-ORIGINAL-URL:https://ktex.com
X-WR-CALDESC:Events for KTEX 106.1
REFRESH-INTERVAL;VALUE=DURATION:PT1H
X-Robots-Tag:noindex
X-PUBLISHED-TTL:PT1H
BEGIN:VTIMEZONE
TZID:America/Chicago
BEGIN:DAYLIGHT
TZOFFSETFROM:-0600
TZOFFSETTO:-0500
TZNAME:CDT
DTSTART:20220313T080000
END:DAYLIGHT
BEGIN:STANDARD
TZOFFSETFROM:-0500
TZOFFSETTO:-0600
TZNAME:CST
DTSTART:20221106T070000
END:STANDARD
BEGIN:DAYLIGHT
TZOFFSETFROM:-0600
TZOFFSETTO:-0500
TZNAME:CDT
DTSTART:20230312T080000
END:DAYLIGHT
BEGIN:STANDARD
TZOFFSETFROM:-0500
TZOFFSETTO:-0600
TZNAME:CST
DTSTART:20231105T070000
END:STANDARD
BEGIN:DAYLIGHT
TZOFFSETFROM:-0600
TZOFFSETTO:-0500
TZNAME:CDT
DTSTART:20240310T080000
END:DAYLIGHT
BEGIN:STANDARD
TZOFFSETFROM:-0500
TZOFFSETTO:-0600
TZNAME:CST
DTSTART:20241103T070000
END:STANDARD
END:VTIMEZONE
BEGIN:VEVENT
DTSTART;VALUE=DATE:20231002
DTEND;VALUE=DATE:20231020
DTSTAMP:20260421T074255
CREATED:20231016T210334Z
LAST-MODIFIED:20231016T210334Z
UID:43371-1696204800-1697759999@ktex.com
SUMMARY:FBCS Annual Poinsettia Fundraiser
DESCRIPTION:
URL:https://ktex.com/event/fbcs-annual-poinsettia-fundraiser/
LOCATION:TX
CATEGORIES:Community Events
ATTACH;FMTTYPE=image/jpeg:https://ktex.com/wp-content/uploads/2023/10/fbcs-poinsettia-fundraiser.jpg
END:VEVENT
BEGIN:VEVENT
DTSTART;VALUE=DATE:20231006
DTEND;VALUE=DATE:20231016
DTSTAMP:20260421T074255
CREATED:20230724T143422Z
LAST-MODIFIED:20230724T143422Z
UID:41690-1696550400-1697414399@ktex.com
SUMMARY:Austin County Fair
DESCRIPTION:
URL:https://ktex.com/event/austin-county-fair/
LOCATION:Austin County Fairgrounds\, 1076 East Hill\, Bellville\, TX\, 77418\, United States
CATEGORIES:Community Events
ATTACH;FMTTYPE=image/jpeg:https://ktex.com/wp-content/uploads/2023/07/austin-co-fair-2023.jpg
END:VEVENT
BEGIN:VEVENT
DTSTART;VALUE=DATE:20231014
DTEND;VALUE=DATE:20231016
DTSTAMP:20260421T074255
CREATED:20230926T185103Z
LAST-MODIFIED:20230926T185103Z
UID:43021-1697241600-1697414399@ktex.com
SUMMARY:Chappell Hill Historical Society Annual Scarecrow Festival
DESCRIPTION:Annual Scarecrow Festival!​  Saturday & Sunday October 14th & 15th\, Sat 9am-6pm\, Sun 10am-5pm.\nQuestions and Festival information\, Please call Chappell Hill Historical Society:  979-836-6033
URL:https://ktex.com/event/chappell-hill-historical-society-annual-scarecrow-festival/
LOCATION:Downtown Chappell Hill
CATEGORIES:Community Events
ATTACH;FMTTYPE=image/jpeg:https://ktex.com/wp-content/uploads/2023/09/ch-scarecrow-festival-oct-14-15.jpg
END:VEVENT
BEGIN:VEVENT
DTSTART;VALUE=DATE:20231014
DTEND;VALUE=DATE:20231016
DTSTAMP:20260421T074255
CREATED:20230927T134103Z
LAST-MODIFIED:20230927T134103Z
UID:43062-1697241600-1697414399@ktex.com
SUMMARY:Scarecrow Festival FREE Pet Adoptions
DESCRIPTION:Come shop for a new pet and so many other goodies your heart desires! We will be offering free adoptions- the animals come spayed/neutered\, vaccinated and microchipped.
URL:https://ktex.com/event/scarecrow-festival-free-pet-adoptions/
LOCATION:Downtown Chappell Hill
CATEGORIES:Community Events
ATTACH;FMTTYPE=image/jpeg:https://ktex.com/wp-content/uploads/2023/09/scarecrow-fest-dog-adoption.jpg
END:VEVENT
BEGIN:VEVENT
DTSTART;VALUE=DATE:20231015
DTEND;VALUE=DATE:20231016
DTSTAMP:20260421T074255
CREATED:20230728T141925Z
LAST-MODIFIED:20230728T141925Z
UID:41756-1697328000-1697414399@ktex.com
SUMMARY:ACF Texas Non-Commercial Wine Show
DESCRIPTION:
URL:https://ktex.com/event/acf-texas-non-commercial-wine-show/
LOCATION:TX
CATEGORIES:Community Events
ATTACH;FMTTYPE=image/png:https://ktex.com/wp-content/uploads/2023/07/2023-Wine-Show-Flier-002.png
END:VEVENT
BEGIN:VEVENT
DTSTART;TZID=America/Chicago:20231015T110000
DTEND;TZID=America/Chicago:20231015T130000
DTSTAMP:20260421T074255
CREATED:20230921T171146Z
LAST-MODIFIED:20230921T171146Z
UID:42904-1697367600-1697374800@ktex.com
SUMMARY:Gay Hill-Mound Hill-Cedar Hill VFD Ladies Auxiliary Fundraiser
DESCRIPTION:
URL:https://ktex.com/event/gay-hill-mound-hill-cedar-hill-vfd-ladies-auxiliary-fundraiser/
LOCATION:Gay Hill Fire Station\, 7500 Old Gay Hill Road\, Brenham\, TX\, 77833\, United States
CATEGORIES:Community Events
ATTACH;FMTTYPE=image/jpeg:https://ktex.com/wp-content/uploads/2023/09/GH-MD-CH-VFD-bbq-meal-oct.jpg
END:VEVENT
END:VCALENDAR