BEGIN:VCALENDAR
VERSION:2.0
PRODID:-//KTEX 106.1 - ECPv6.15.20//NONSGML v1.0//EN
CALSCALE:GREGORIAN
METHOD:PUBLISH
X-WR-CALNAME:KTEX 106.1
X-ORIGINAL-URL:https://ktex.com
X-WR-CALDESC:Events for KTEX 106.1
REFRESH-INTERVAL;VALUE=DURATION:PT1H
X-Robots-Tag:noindex
X-PUBLISHED-TTL:PT1H
BEGIN:VTIMEZONE
TZID:America/Chicago
BEGIN:DAYLIGHT
TZOFFSETFROM:-0600
TZOFFSETTO:-0500
TZNAME:CDT
DTSTART:20220313T080000
END:DAYLIGHT
BEGIN:STANDARD
TZOFFSETFROM:-0500
TZOFFSETTO:-0600
TZNAME:CST
DTSTART:20221106T070000
END:STANDARD
BEGIN:DAYLIGHT
TZOFFSETFROM:-0600
TZOFFSETTO:-0500
TZNAME:CDT
DTSTART:20230312T080000
END:DAYLIGHT
BEGIN:STANDARD
TZOFFSETFROM:-0500
TZOFFSETTO:-0600
TZNAME:CST
DTSTART:20231105T070000
END:STANDARD
BEGIN:DAYLIGHT
TZOFFSETFROM:-0600
TZOFFSETTO:-0500
TZNAME:CDT
DTSTART:20240310T080000
END:DAYLIGHT
BEGIN:STANDARD
TZOFFSETFROM:-0500
TZOFFSETTO:-0600
TZNAME:CST
DTSTART:20241103T070000
END:STANDARD
END:VTIMEZONE
BEGIN:VEVENT
DTSTART;VALUE=DATE:20231002
DTEND;VALUE=DATE:20231020
DTSTAMP:20260421T074258
CREATED:20231016T210334Z
LAST-MODIFIED:20231016T210334Z
UID:43371-1696204800-1697759999@ktex.com
SUMMARY:FBCS Annual Poinsettia Fundraiser
DESCRIPTION:
URL:https://ktex.com/event/fbcs-annual-poinsettia-fundraiser/
LOCATION:TX
CATEGORIES:Community Events
ATTACH;FMTTYPE=image/jpeg:https://ktex.com/wp-content/uploads/2023/10/fbcs-poinsettia-fundraiser.jpg
END:VEVENT
BEGIN:VEVENT
DTSTART;VALUE=DATE:20231006
DTEND;VALUE=DATE:20231016
DTSTAMP:20260421T074258
CREATED:20230724T143422Z
LAST-MODIFIED:20230724T143422Z
UID:41690-1696550400-1697414399@ktex.com
SUMMARY:Austin County Fair
DESCRIPTION:
URL:https://ktex.com/event/austin-county-fair/
LOCATION:Austin County Fairgrounds\, 1076 East Hill\, Bellville\, TX\, 77418\, United States
CATEGORIES:Community Events
ATTACH;FMTTYPE=image/jpeg:https://ktex.com/wp-content/uploads/2023/07/austin-co-fair-2023.jpg
END:VEVENT
BEGIN:VEVENT
DTSTART;VALUE=DATE:20231013
DTEND;VALUE=DATE:20231015
DTSTAMP:20260421T074258
CREATED:20230926T134705Z
LAST-MODIFIED:20230926T134705Z
UID:42990-1697155200-1697327999@ktex.com
SUMMARY:Brenham Elks Lodge Cook-Off
DESCRIPTION:
URL:https://ktex.com/event/brenham-elks-lodge-cook-off/
LOCATION:Brenham Elks Lodge 979\, 400 East Germania St.\, Brenham\, 77833
CATEGORIES:Community Events
ATTACH;FMTTYPE=image/jpeg:https://ktex.com/wp-content/uploads/2023/09/elks-lodge-cook-off-oct.jpg
END:VEVENT
BEGIN:VEVENT
DTSTART;TZID=America/Chicago:20231013T100000
DTEND;TZID=America/Chicago:20231013T170000
DTSTAMP:20260421T074258
CREATED:20230929T163231Z
LAST-MODIFIED:20230929T163231Z
UID:43134-1697191200-1697216400@ktex.com
SUMMARY:Austin County Fair - Livestock Auction
DESCRIPTION:Dean is back at the Austin County Fair for to see the sale! Catch him broadcasting live from the livestock auction at the Austin County Fairgrounds!
URL:https://ktex.com/event/austin-county-fair-livestock-auction/
LOCATION:Austin County Fairgrounds\, 1076 East Hill\, Bellville\, TX\, 77418\, United States
CATEGORIES:KTEX on the Road
END:VEVENT
BEGIN:VEVENT
DTSTART;TZID=America/Chicago:20231013T190000
DTEND;TZID=America/Chicago:20231013T220000
DTSTAMP:20260421T074258
CREATED:20231003T204753Z
LAST-MODIFIED:20231003T205045Z
UID:43200-1697223600-1697234400@ktex.com
SUMMARY:Friday Face-Off: Snook vs Somerville
DESCRIPTION:Eilish is back to the football fields on Friday the 13th! She’s cheering on the Snook Blue Jays as they take on the Burton Panthers at 7! Thanks to our sponsors for sending her out – Citizens State Bank and J&J Packing!
URL:https://ktex.com/event/friday-face-off-snook-vs-somerville/
LOCATION:Snook High School\, 10110 FM2155\, Somerville\, TX\, 77879\, United States
CATEGORIES:KTEX on the Road
END:VEVENT
BEGIN:VEVENT
DTSTART;TZID=America/Chicago:20231013T200000
DTEND;TZID=America/Chicago:20231013T233000
DTSTAMP:20260421T074258
CREATED:20230929T163508Z
LAST-MODIFIED:20230929T163508Z
UID:43136-1697227200-1697239800@ktex.com
SUMMARY:Austin County Fair - Friday Night
DESCRIPTION:Courtney can’t say no to some good ol’ country music! She’ll be at the Austin County Fair front row for the the wild entertainment! Wade Bowen hits the stage at 8pm and Pat Green at 10pm! Look for her in the KTEX Country Cruiser!
URL:https://ktex.com/event/austin-county-fair-friday-night/
LOCATION:Austin County Fairgrounds\, 1076 East Hill\, Bellville\, TX\, 77418\, United States
CATEGORIES:KTEX on the Road
END:VEVENT
END:VCALENDAR