BEGIN:VCALENDAR
VERSION:2.0
PRODID:-//KTEX 106.1 - ECPv6.15.20//NONSGML v1.0//EN
CALSCALE:GREGORIAN
METHOD:PUBLISH
X-ORIGINAL-URL:https://ktex.com
X-WR-CALDESC:Events for KTEX 106.1
REFRESH-INTERVAL;VALUE=DURATION:PT1H
X-Robots-Tag:noindex
X-PUBLISHED-TTL:PT1H
BEGIN:VTIMEZONE
TZID:America/Chicago
BEGIN:DAYLIGHT
TZOFFSETFROM:-0600
TZOFFSETTO:-0500
TZNAME:CDT
DTSTART:20220313T080000
END:DAYLIGHT
BEGIN:STANDARD
TZOFFSETFROM:-0500
TZOFFSETTO:-0600
TZNAME:CST
DTSTART:20221106T070000
END:STANDARD
BEGIN:DAYLIGHT
TZOFFSETFROM:-0600
TZOFFSETTO:-0500
TZNAME:CDT
DTSTART:20230312T080000
END:DAYLIGHT
BEGIN:STANDARD
TZOFFSETFROM:-0500
TZOFFSETTO:-0600
TZNAME:CST
DTSTART:20231105T070000
END:STANDARD
BEGIN:DAYLIGHT
TZOFFSETFROM:-0600
TZOFFSETTO:-0500
TZNAME:CDT
DTSTART:20240310T080000
END:DAYLIGHT
BEGIN:STANDARD
TZOFFSETFROM:-0500
TZOFFSETTO:-0600
TZNAME:CST
DTSTART:20241103T070000
END:STANDARD
END:VTIMEZONE
BEGIN:VEVENT
DTSTART;VALUE=DATE:20231002
DTEND;VALUE=DATE:20231020
DTSTAMP:20260421T101302
CREATED:20231016T210334Z
LAST-MODIFIED:20231016T210334Z
UID:43371-1696204800-1697759999@ktex.com
SUMMARY:FBCS Annual Poinsettia Fundraiser
DESCRIPTION:
URL:https://ktex.com/event/fbcs-annual-poinsettia-fundraiser/
LOCATION:TX
CATEGORIES:Community Events
ATTACH;FMTTYPE=image/jpeg:https://ktex.com/wp-content/uploads/2023/10/fbcs-poinsettia-fundraiser.jpg
END:VEVENT
BEGIN:VEVENT
DTSTART;VALUE=DATE:20231006
DTEND;VALUE=DATE:20231016
DTSTAMP:20260421T101302
CREATED:20230724T143422Z
LAST-MODIFIED:20230724T143422Z
UID:41690-1696550400-1697414399@ktex.com
SUMMARY:Austin County Fair
DESCRIPTION:
URL:https://ktex.com/event/austin-county-fair/
LOCATION:Austin County Fairgrounds\, 1076 East Hill\, Bellville\, TX\, 77418\, United States
CATEGORIES:Community Events
ATTACH;FMTTYPE=image/jpeg:https://ktex.com/wp-content/uploads/2023/07/austin-co-fair-2023.jpg
END:VEVENT
BEGIN:VEVENT
DTSTART;VALUE=DATE:20231012
DTEND;VALUE=DATE:20231013
DTSTAMP:20260421T101302
CREATED:20230922T202425Z
LAST-MODIFIED:20230922T202425Z
UID:42951-1697068800-1697155199@ktex.com
SUMMARY:Ribbon Cutting-Watermark Veterinary Hospital
DESCRIPTION:Washington County Chamber Ribbon Cutting for Watermark Veterinary Hospital is Thursday\, October 12\, at 10:30am
URL:https://ktex.com/event/ribbon-cutting-watermark-veterinary-hospital/
LOCATION:Watermark Veterinary Hospital\, 4511 Hwy 290 W\, Brenham\, TX\, 77833\, United States
CATEGORIES:Community Events
ATTACH;FMTTYPE=image/jpeg:https://ktex.com/wp-content/uploads/2023/09/coc-washington-county-ribbon-cutting.jpg
END:VEVENT
BEGIN:VEVENT
DTSTART;TZID=America/Chicago:20231012T103000
DTEND;TZID=America/Chicago:20231012T113000
DTSTAMP:20260421T101302
CREATED:20230929T162444Z
LAST-MODIFIED:20230929T162444Z
UID:43130-1697106600-1697110200@ktex.com
SUMMARY:Austin County Fair Parade
DESCRIPTION:What could make a Thursday even better? A parade! Dean Dillon is loading up the KTEX Country Cruiser to ride down the streets of Bellville for the annual Austin County Fair Parade! Heads up though\, the parade route will now end at Bellville High School!
URL:https://ktex.com/event/austin-county-fair-parade/
LOCATION:Downtown Bellville\, Bellville\, TX\, United States
CATEGORIES:KTEX on the Road
END:VEVENT
BEGIN:VEVENT
DTSTART;TZID=America/Chicago:20231012T140000
DTEND;TZID=America/Chicago:20231012T180000
DTSTAMP:20260421T101302
CREATED:20230929T162912Z
LAST-MODIFIED:20230929T162912Z
UID:43132-1697119200-1697133600@ktex.com
SUMMARY:Austin County Fair - Armed Forces Day with the Drive Home
DESCRIPTION:The Drive Home is coming at you live from the Austin County Fair! Catch Dean there from 2:00 to 6:00 as he broadcasts his show live! While you’re there\, spin the Wagon Wheel of Prizes!
URL:https://ktex.com/event/austin-county-fair-armed-forces-day-with-the-drive-home/
LOCATION:Austin County Fairgrounds\, 1076 East Hill\, Bellville\, TX\, 77418\, United States
CATEGORIES:KTEX on the Road
END:VEVENT
END:VCALENDAR