BEGIN:VCALENDAR
VERSION:2.0
PRODID:-//KTEX 106.1 - ECPv6.15.20//NONSGML v1.0//EN
CALSCALE:GREGORIAN
METHOD:PUBLISH
X-ORIGINAL-URL:https://ktex.com
X-WR-CALDESC:Events for KTEX 106.1
REFRESH-INTERVAL;VALUE=DURATION:PT1H
X-Robots-Tag:noindex
X-PUBLISHED-TTL:PT1H
BEGIN:VTIMEZONE
TZID:America/Chicago
BEGIN:DAYLIGHT
TZOFFSETFROM:-0600
TZOFFSETTO:-0500
TZNAME:CDT
DTSTART:20220313T080000
END:DAYLIGHT
BEGIN:STANDARD
TZOFFSETFROM:-0500
TZOFFSETTO:-0600
TZNAME:CST
DTSTART:20221106T070000
END:STANDARD
BEGIN:DAYLIGHT
TZOFFSETFROM:-0600
TZOFFSETTO:-0500
TZNAME:CDT
DTSTART:20230312T080000
END:DAYLIGHT
BEGIN:STANDARD
TZOFFSETFROM:-0500
TZOFFSETTO:-0600
TZNAME:CST
DTSTART:20231105T070000
END:STANDARD
BEGIN:DAYLIGHT
TZOFFSETFROM:-0600
TZOFFSETTO:-0500
TZNAME:CDT
DTSTART:20240310T080000
END:DAYLIGHT
BEGIN:STANDARD
TZOFFSETFROM:-0500
TZOFFSETTO:-0600
TZNAME:CST
DTSTART:20241103T070000
END:STANDARD
END:VTIMEZONE
BEGIN:VEVENT
DTSTART;VALUE=DATE:20230901
DTEND;VALUE=DATE:20230930
DTSTAMP:20260421T074436
CREATED:20230830T194527Z
LAST-MODIFIED:20230830T194527Z
UID:42439-1693526400-1696031999@ktex.com
SUMMARY:Baby Item Drive
DESCRIPTION:New & Gently Used items accepted!\nNew Items: Diapers\, Wipes\, Bottles\, Baby Lotion\, Baby Soap\, Pacifiers\, Washcloths\, Baby Blankets\, Infant Clothes\, Gift Cards & etc.\nGently Used: Baby Clothing\, Wearable Wraps/covers\, Baby Bedding and etc.\n(Large items Brenham Pregnancy Center is accepting) \nIf you’re interested in this Baby Shower Event here is a link to the event! https://facebook.com/events/s/brenham-moms-community-baby-sh/1006515207171618/ \n 
URL:https://ktex.com/event/baby-item-drive/
LOCATION:TX
CATEGORIES:Community Events
ATTACH;FMTTYPE=image/jpeg:https://ktex.com/wp-content/uploads/2023/08/baby-item-drive.jpg
END:VEVENT
BEGIN:VEVENT
DTSTART;VALUE=DATE:20230912
DTEND;VALUE=DATE:20231001
DTSTAMP:20260421T074436
CREATED:20230912T132925Z
LAST-MODIFIED:20230912T132925Z
UID:42712-1694476800-1696118399@ktex.com
SUMMARY:Painted Cub Paws are Back
DESCRIPTION:
URL:https://ktex.com/event/painted-cub-paws-are-back/
LOCATION:TX
CATEGORIES:Community Events
ATTACH;FMTTYPE=image/jpeg:https://ktex.com/wp-content/uploads/2023/09/cub-paws-painted.jpg
END:VEVENT
BEGIN:VEVENT
DTSTART;VALUE=DATE:20230914
DTEND;VALUE=DATE:20231001
DTSTAMP:20260421T074436
CREATED:20230914T134428Z
LAST-MODIFIED:20230914T134428Z
UID:42765-1694649600-1696118399@ktex.com
SUMMARY:Fortnightly Club of Brenham Seeking Club Memorabilia
DESCRIPTION:The Fortnightly Club of Brenham is preparing a permanent display in the Nancy Carol Roberts Library showcasing the history of the Library and The Fortnightly Club of Brenham\, which founded the Library.  Anyone with Club memorabilia (awards\, recognition\, cups\, etc. from events such as the Christmas Decorating Contest\, pre 1980) is urged to contact Renee Mueller at renee_mueller@hotmail.com
URL:https://ktex.com/event/fortnightly-club-of-brenham-seeking-club-memorabilia/
LOCATION:TX
CATEGORIES:Community Events
ATTACH;FMTTYPE=image/jpeg:https://ktex.com/wp-content/uploads/2023/09/fortnightly-club-of-brenham-Picture1-1.jpg
END:VEVENT
BEGIN:VEVENT
DTSTART;VALUE=DATE:20230921
DTEND;VALUE=DATE:20231011
DTSTAMP:20260421T074436
CREATED:20230921T210658Z
LAST-MODIFIED:20230921T210658Z
UID:42920-1695254400-1696982399@ktex.com
SUMMARY:The Pilot Club of Brenham Fundraiser
DESCRIPTION:The Pilot Club of Brenham is proud to announce that they are assuming the popular local fundraiser from the Bosom Buddies “Butter Braid Braided Pastries and Rolls”. The sale will run until October 10th and your delicious frozen pastries will be delivered on November 2nd just in time for the Holidays.  Featuring a variety of flavors to choose from. The cost is $17 each with the exception of the Four Cheese & Herb\, Caramel Rolls\, & Cinnamon Rolls which are $18 each. Please text 979-451-9579 or 512-981-9855 to order. Thank you for supporting Pilot Club of Brenham!
URL:https://ktex.com/event/the-pilot-club-of-brenham-fundraiser/
LOCATION:TX
CATEGORIES:Community Events
ATTACH;FMTTYPE=image/jpeg:https://ktex.com/wp-content/uploads/2023/09/butter-braids-pilot-club.jpg
END:VEVENT
BEGIN:VEVENT
DTSTART;VALUE=DATE:20230924
DTEND;VALUE=DATE:20230925
DTSTAMP:20260421T074436
CREATED:20230830T144707Z
LAST-MODIFIED:20230830T144707Z
UID:42423-1695513600-1695599999@ktex.com
SUMMARY:50th Kulhanek Family Reunion
DESCRIPTION:The 50th Kulhanek Family Reunion will be held on Sunday\, September 24\, 2023 beginning with a 10:00 am Memorial Mass at St. John the Baptist Catholic Church in Fayetteville.  After mass the family will gather at Heh\, Remember When (3031 FM-1291\, Ste 200\, in Fayetteville) for lunch and fellowship.  Bring your favorite dish to share for a potluck luncheon which will begin at 12:30 pm * bread\, tea\, and fruit punch will be provided.  Cash bar will also be available.  Planned activities include the Traditional Guessing Game\, door prizes\, silent auction and prize drawings.  New this year is a 50/50 drawing!  The family encourages and appreciate monetary gifts and donation for all activities.  Live entertainment by the Lost Cause Band!  For more information\, please contact Karen Kulhanek on Facebook or at karen.kulhanek77@gmail.com\n 
URL:https://ktex.com/event/50th-kulhanek-family-reunion/
LOCATION:TX
CATEGORIES:Community Events
ATTACH;FMTTYPE=image/jpeg:https://ktex.com/wp-content/uploads/2023/08/save-the-date.jpg
END:VEVENT
BEGIN:VEVENT
DTSTART;VALUE=DATE:20230924
DTEND;VALUE=DATE:20231001
DTSTAMP:20260421T074436
CREATED:20230808T193444Z
LAST-MODIFIED:20230808T193444Z
UID:41985-1695513600-1696118399@ktex.com
SUMMARY:Burleson County Fair
DESCRIPTION:MEMBERSHIP TICKETS available from Queen Contestants through Saturday\, September 23rd\, Fair Queen Ticket Sales stop at 4PM on Saturday\, September 23rd.  Tickets available Sunday\, September 24th at SPJST Gate. \nA CARNIVAL IS COMING TO THE FAIR – Sam’s Amusements & Carnivals\, Inc. * Carnival Hours are Wednesday – Saturday\, Opens at 6:00PM \nSHUTTLE BUS stops downtown at the Courthouse.  The bus will drop you off at the fairgrounds.  This is a FREE service.\nWed. – Fri.\, – September 27-29 * 5:30PM – 12 Midnight\nSat. September 30 * 5:30PM – 1:00AM \nNO PETS ALLOWED on fairgrounds\, except to assist the handicapped or participate in Saturday morning pet show. \nENTERTAINMENT\nThurs.\, Sept. 28 * Exhibitor Appreciation Night\, 5:00-8:00PM *\nJamie Jennings Band\nFri.\, Sept. 29 * 7:00-10:00PM * Crossroads Band\n10:30PM-12AM * Shenandoah\nSat.\, Sept. 30 * 9:00-10:30PM * Black Hawk\n11:00PM-1:00AM * Stoney LaRue
URL:https://ktex.com/event/burleson-county-fair/
LOCATION:Burleson County Fairgounds\, 905 TX-36\, Caldwell\, TX\, 77836\, United States
CATEGORIES:Community Events
ATTACH;FMTTYPE=image/jpeg:https://ktex.com/wp-content/uploads/2023/08/burleson-county-fair-2023.jpg
END:VEVENT
BEGIN:VEVENT
DTSTART;TZID=America/Chicago:20230924T110000
DTEND;TZID=America/Chicago:20230924T130000
DTSTAMP:20260421T074436
CREATED:20230913T180812Z
LAST-MODIFIED:20230913T180812Z
UID:42758-1695553200-1695560400@ktex.com
SUMMARY:St. Paul's Community Weekend Block Party
DESCRIPTION:
URL:https://ktex.com/event/st-pauls-community-weekend-block-party/
LOCATION:St. Paul’s Evangelical Lutheran Church (Brenham)\, 305 W. 3rd Street\, Brenham\, TX\, 77833\, United States
CATEGORIES:Community Events
ATTACH;FMTTYPE=image/jpeg:https://ktex.com/wp-content/uploads/2023/09/st-pauls-block-party-sept.jpg
END:VEVENT
BEGIN:VEVENT
DTSTART;TZID=America/Chicago:20230924T130000
DTEND;TZID=America/Chicago:20230924T160000
DTSTAMP:20260421T074436
CREATED:20230912T200606Z
LAST-MODIFIED:20230912T200606Z
UID:42729-1695560400-1695571200@ktex.com
SUMMARY:VFW Variety Shoot
DESCRIPTION:
URL:https://ktex.com/event/vfw-variety-shoot/
LOCATION:Bellville VFW Hall\, 4041 Hwy. 36 North\, Bellville\, TX\, 77418\, United States
CATEGORIES:Community Events
ATTACH;FMTTYPE=image/png:https://ktex.com/wp-content/uploads/2023/09/vfw-variety-shoot-sept.png
END:VEVENT
BEGIN:VEVENT
DTSTART;TZID=America/Chicago:20230924T150000
DTEND;TZID=America/Chicago:20230924T163000
DTSTAMP:20260421T074436
CREATED:20230919T143226Z
LAST-MODIFIED:20230919T143226Z
UID:42839-1695567600-1695573000@ktex.com
SUMMARY:Souls Chapel AME Church Celebrates Rev. Graves & Family
DESCRIPTION:Souls Chapel African Methodist Episcopal Church in Washington will celebrate Rev. Patricia Graves & Bro. Herman Graves 20th Year of Leadership at Souls Chapel on Sunday\, September 24\, starting at 3:00PM
URL:https://ktex.com/event/souls-chapel-ame-church-celebrates-rev-graves-family/
LOCATION:Souls Chapel A.M.E. Church (Washington)\, 13579 Whitman Road\, Washington\, TX\, 77880\, United States
CATEGORIES:Community Events
ATTACH;FMTTYPE=image/jpeg:https://ktex.com/wp-content/uploads/2023/09/souls-chapel-amec-Washington.jpg
END:VEVENT
END:VCALENDAR