BEGIN:VCALENDAR
VERSION:2.0
PRODID:-//KTEX 106.1 - ECPv6.15.20//NONSGML v1.0//EN
CALSCALE:GREGORIAN
METHOD:PUBLISH
X-WR-CALNAME:KTEX 106.1
X-ORIGINAL-URL:https://ktex.com
X-WR-CALDESC:Events for KTEX 106.1
REFRESH-INTERVAL;VALUE=DURATION:PT1H
X-Robots-Tag:noindex
X-PUBLISHED-TTL:PT1H
BEGIN:VTIMEZONE
TZID:America/Chicago
BEGIN:DAYLIGHT
TZOFFSETFROM:-0600
TZOFFSETTO:-0500
TZNAME:CDT
DTSTART:20220313T080000
END:DAYLIGHT
BEGIN:STANDARD
TZOFFSETFROM:-0500
TZOFFSETTO:-0600
TZNAME:CST
DTSTART:20221106T070000
END:STANDARD
BEGIN:DAYLIGHT
TZOFFSETFROM:-0600
TZOFFSETTO:-0500
TZNAME:CDT
DTSTART:20230312T080000
END:DAYLIGHT
BEGIN:STANDARD
TZOFFSETFROM:-0500
TZOFFSETTO:-0600
TZNAME:CST
DTSTART:20231105T070000
END:STANDARD
BEGIN:DAYLIGHT
TZOFFSETFROM:-0600
TZOFFSETTO:-0500
TZNAME:CDT
DTSTART:20240310T080000
END:DAYLIGHT
BEGIN:STANDARD
TZOFFSETFROM:-0500
TZOFFSETTO:-0600
TZNAME:CST
DTSTART:20241103T070000
END:STANDARD
END:VTIMEZONE
BEGIN:VEVENT
DTSTART;VALUE=DATE:20230803
DTEND;VALUE=DATE:20230920
DTSTAMP:20260421T074248
CREATED:20230802T183410Z
LAST-MODIFIED:20230802T183410Z
UID:41924-1691020800-1695167999@ktex.com
SUMMARY:Fall Plant Sale
DESCRIPTION:
URL:https://ktex.com/event/fall-plant-sale/
LOCATION:Texas A&M AgriLife Extension (Washington County)\, 1305 East Blue Bell Road\, Brenham\, TX\, 77833\, United States
CATEGORIES:Community Events
ATTACH;FMTTYPE=image/png:https://ktex.com/wp-content/uploads/2023/08/fall-plant-sale.png
END:VEVENT
BEGIN:VEVENT
DTSTART;VALUE=DATE:20230901
DTEND;VALUE=DATE:20230919
DTSTAMP:20260421T074248
CREATED:20230825T134909Z
LAST-MODIFIED:20230825T134909Z
UID:42231-1693526400-1695081599@ktex.com
SUMMARY:Washington County Fair Country Creation News
DESCRIPTION:Country Creation Exhibits will be in the EXPO EVENT CENTER for the 2023 Washington County Fair.  All residents of the county are invited and encouraged to participate.\nArt\, Alternative Foods\, Canned Products\, Creative Arts and Crafts\, Designer Craftsman\, Machine Sewn\, Needlework\, Photography and Quilt exhibits are to be entered Thursday September 14th from 3 until 7 pm.  School Art check-in is September 14th from 4 to 5 pm.\nCheck-in time for Baked\, Confections\, Floral and Vegetables is Monday September 18th from 7:30 to 9:00 am.\nBoth Adult and Youth Division Catalogues can be found on-line at:   washingtoncofair.com/p/thefair/country-creations\nYouth exhibitors must be registered online in the ShoWorks system by 6 p.m. September 4th.\nAdult exhibitors can obtain an exhibitor number for $2. when they check-in.
URL:https://ktex.com/event/washington-county-fair-country-creation-news/
LOCATION:TX
CATEGORIES:Community Events
ATTACH;FMTTYPE=image/jpeg:https://ktex.com/wp-content/uploads/2023/08/wcf-event-center.jpg
END:VEVENT
BEGIN:VEVENT
DTSTART;VALUE=DATE:20230901
DTEND;VALUE=DATE:20230930
DTSTAMP:20260421T074248
CREATED:20230830T194527Z
LAST-MODIFIED:20230830T194527Z
UID:42439-1693526400-1696031999@ktex.com
SUMMARY:Baby Item Drive
DESCRIPTION:New & Gently Used items accepted!\nNew Items: Diapers\, Wipes\, Bottles\, Baby Lotion\, Baby Soap\, Pacifiers\, Washcloths\, Baby Blankets\, Infant Clothes\, Gift Cards & etc.\nGently Used: Baby Clothing\, Wearable Wraps/covers\, Baby Bedding and etc.\n(Large items Brenham Pregnancy Center is accepting) \nIf you’re interested in this Baby Shower Event here is a link to the event! https://facebook.com/events/s/brenham-moms-community-baby-sh/1006515207171618/ \n 
URL:https://ktex.com/event/baby-item-drive/
LOCATION:TX
CATEGORIES:Community Events
ATTACH;FMTTYPE=image/jpeg:https://ktex.com/wp-content/uploads/2023/08/baby-item-drive.jpg
END:VEVENT
BEGIN:VEVENT
DTSTART;VALUE=DATE:20230912
DTEND;VALUE=DATE:20231001
DTSTAMP:20260421T074248
CREATED:20230912T132925Z
LAST-MODIFIED:20230912T132925Z
UID:42712-1694476800-1696118399@ktex.com
SUMMARY:Painted Cub Paws are Back
DESCRIPTION:
URL:https://ktex.com/event/painted-cub-paws-are-back/
LOCATION:TX
CATEGORIES:Community Events
ATTACH;FMTTYPE=image/jpeg:https://ktex.com/wp-content/uploads/2023/09/cub-paws-painted.jpg
END:VEVENT
BEGIN:VEVENT
DTSTART;VALUE=DATE:20230914
DTEND;VALUE=DATE:20230917
DTSTAMP:20260421T074248
CREATED:20230905T210731Z
LAST-MODIFIED:20230905T210731Z
UID:42525-1694649600-1694908799@ktex.com
SUMMARY:Colorado County Fair & Rodeo Texas Entertainment
DESCRIPTION:Complete list of activities and events at WWW.COLORADOCOUNTYFAIR.ORG
URL:https://ktex.com/event/colorado-county-fair-rodeo-texas-entertainment/
LOCATION:Colorado County Fairgrounds\, 1146 Crossroads Blvd\, Columbus\, TX\, 78934\, United States
CATEGORIES:Community Events
ATTACH;FMTTYPE=image/jpeg:https://ktex.com/wp-content/uploads/2023/09/colorado-county-fair-2023.jpg
END:VEVENT
BEGIN:VEVENT
DTSTART;VALUE=DATE:20230914
DTEND;VALUE=DATE:20231001
DTSTAMP:20260421T074248
CREATED:20230914T134428Z
LAST-MODIFIED:20230914T134428Z
UID:42765-1694649600-1696118399@ktex.com
SUMMARY:Fortnightly Club of Brenham Seeking Club Memorabilia
DESCRIPTION:The Fortnightly Club of Brenham is preparing a permanent display in the Nancy Carol Roberts Library showcasing the history of the Library and The Fortnightly Club of Brenham\, which founded the Library.  Anyone with Club memorabilia (awards\, recognition\, cups\, etc. from events such as the Christmas Decorating Contest\, pre 1980) is urged to contact Renee Mueller at renee_mueller@hotmail.com
URL:https://ktex.com/event/fortnightly-club-of-brenham-seeking-club-memorabilia/
LOCATION:TX
CATEGORIES:Community Events
ATTACH;FMTTYPE=image/jpeg:https://ktex.com/wp-content/uploads/2023/09/fortnightly-club-of-brenham-Picture1-1.jpg
END:VEVENT
BEGIN:VEVENT
DTSTART;VALUE=DATE:20230915
DTEND;VALUE=DATE:20230916
DTSTAMP:20260421T074248
CREATED:20230815T193959Z
LAST-MODIFIED:20230815T193959Z
UID:42105-1694736000-1694822399@ktex.com
SUMMARY:Sealy Chamber of Commerce Golf Tournament
DESCRIPTION:
URL:https://ktex.com/event/sealy-chamber-of-commerce-golf-tournament/
LOCATION:Stephen F. Austin Golf Course\, 130 Park Road 38\, Sealy\, TX\, United States
CATEGORIES:Community Events
ATTACH;FMTTYPE=image/png:https://ktex.com/wp-content/uploads/2023/08/sealy-chamber-golf-tournament.png
END:VEVENT
BEGIN:VEVENT
DTSTART;VALUE=DATE:20230915
DTEND;VALUE=DATE:20230917
DTSTAMP:20260421T074248
CREATED:20230808T213537Z
LAST-MODIFIED:20230808T213537Z
UID:41996-1694736000-1694908799@ktex.com
SUMMARY:Washington County Fair BBQ Cookoff
DESCRIPTION:
URL:https://ktex.com/event/washington-county-fair-bbq-cookoff/
LOCATION:Washington County Expo\, 1305 E. Blue Bell Rd.\, Brenham\, TX\, 77833\, United States
CATEGORIES:Community Events
ATTACH;FMTTYPE=image/jpeg:https://ktex.com/wp-content/uploads/2023/08/wcf-bbq.jpg
END:VEVENT
BEGIN:VEVENT
DTSTART;VALUE=DATE:20230915
DTEND;VALUE=DATE:20230917
DTSTAMP:20260421T074248
CREATED:20230911T140305Z
LAST-MODIFIED:20230911T140305Z
UID:42666-1694736000-1694908799@ktex.com
SUMMARY:Washington County Fair Game Day Tournaments
DESCRIPTION:
URL:https://ktex.com/event/washington-county-fair-game-day-tournaments/
LOCATION:TX
CATEGORIES:Community Events
ATTACH;FMTTYPE=image/jpeg:https://ktex.com/wp-content/uploads/2023/09/wcf-game-day.jpg
END:VEVENT
BEGIN:VEVENT
DTSTART;TZID=America/Chicago:20230915T160000
DTEND;TZID=America/Chicago:20230915T170000
DTSTAMP:20260421T074248
CREATED:20230907T135001Z
LAST-MODIFIED:20230907T135001Z
UID:42534-1694793600-1694797200@ktex.com
SUMMARY:Fortnightly Club of Brenham Yearbooks Distribution
DESCRIPTION:Members of The Fortnightly Club of Brenham can pick up their 2023 – 2024 yearbooks at the Nancy Carol Roberts Library on Friday\, September 15th from 4:00 – 5:00 p.m.  After that date\, the yearbooks can be picked up at the Blinn Foundation office\, 706 College Ave. from 8:00 a.m. – 5 p.m.
URL:https://ktex.com/event/fortnightly-club-of-brenham-yearbooks-distribution/
LOCATION:Nancy Carol Roberts Memorial Library\, 100 Martin Luther King Jr. Parkway\, Brenham\, Texas\, 77833
CATEGORIES:Community Events
ATTACH;FMTTYPE=image/jpeg:https://ktex.com/wp-content/uploads/2023/09/fortnightly-club-of-brenham-Picture1.jpg
END:VEVENT
BEGIN:VEVENT
DTSTART;TZID=America/Chicago:20230915T190000
DTEND;TZID=America/Chicago:20230915T223000
DTSTAMP:20260421T074248
CREATED:20230828T153202Z
LAST-MODIFIED:20230829T153537Z
UID:42255-1694804400-1694817000@ktex.com
SUMMARY:Friday Face-Off: Navasota Rattlers vs Huffman Falcons
DESCRIPTION:Trailboss Troy is hard at work on his Homecoming mum for Navasota Homecoming! The Rattlers will face off with the Huffman Falcons! Kickoff is at 7pm at Rattler Stadium! Thanks to our sponsors – Citizens State Bank\, Classic Rock Coffee\, Midsouth Electric Co – Op\, and Lone Star Roofing!
URL:https://ktex.com/event/friday-face-off-3/
LOCATION:Rattler Stadium\, 9238 Highway 90 S\,  Navasota \, 77868
CATEGORIES:KTEX on the Road
END:VEVENT
END:VCALENDAR